{"text_format":"1","workbook":"xlsx","n_sheets":10,"sheets":["Instructions and Version Notes","Input - Output","Unprotected Output","SPDs","Additional TCS","CRI-Calculator","CRI-TCS","CIE1931 1-nm","Reference","CCT-Duv computation"],"not_rendered":{"charts":7,"images":9,"macros":1,"external_links":0,"defined_names":0,"comments":2,"pivot_tables":0},"unopened":[],"bounds":{"document_bytes":16777216,"sheet_cells":100000,"rows_first":2000,"rows_last":500,"rows_between":2000,"halvings":0,"cell_chars":16384,"cell_head_chars":4096},"cells_cut":0,"cells_raw":0,"read":"whole","date_system":"1900"}

{"sheet":"Instructions and Version Notes","index":0,"n_rows":34,"n_cols":2,"rows_kept":34,"cut":false,"hidden":false,"merged":[]}
[]
[null,"Software tool for calculating CRI and associated CRI-based colour rendition properties"]
[]
[null,"Version………...: 1.1 (separate unprotected sheet with output data has been added, together with R9 and C9 values)"]
[null,"Release date..: January 2020"]
[null,"Release Notes: This initial version of the calculation tool has implemented the CRI-related equations specified in CIE 13.3:1995\n                         \"Method of Measuring and Specifying Colour Rendering Properties of Light Sources\" as well as for the\n                          Associated CRI-based colour rendition properties as defined in GLA publication \"Application of CIE 13.3-1995\n                          with Associated CRI-based Colour Rendition Properties\", dd. December 2018."]
[null,"This tool is copyrighted by the Global Lighting Association (GLA); http://www.globallightingassociation.org/"]
[null,"For questions and feedback, please contact the secretariat of the GLA:  bdouglas@lightingcouncil.com.au"]
[]
[null,"Purpose and background information:"]
[null,"This Excel tool can be used for calculating the CIE general Colour Rendering Index (Ra) and the 14 special Colour Rendering\nIndex values (R1-R14) as specified in CIE 13.3-1995."]
[null,"The tool also calculates a Colour Gamut Index (Ga) based on the same eight CIE 1964 uniform scale coordinates (U*,V*) as used for\ncalculating Ra. Ga represents the change in gamut area for the test source in comparison to the reference illuminant (having the same\nCCT as the test source). Ga will be less than 100 if the colour gamut of the test source is smaller, or Ga is greater than 100 if the colour\ngamut of the test source is larger than the colour gamut for the reference illuminant (based on the first eight TCS)."]
[null,"The colour-shift graphic shows the colour shifts for the first eight CRI colours, where the arrows indicate the direction\nof the colour shift from the reference illuminant. The background colour of the colour-shift graphic roughly indicates\nthe colour of the test-colour samples and their shifts in CIE 1964 (U*-V*) uniform scale diagram."]
[null,"The tool also provides the Chroma Indices (Ci) and Hue-angle changes (Dhi) for all individual test-colour samples."]
[null,"- Sheet \"Input-Output\" shows the results of the calculations.\n'- Sheet \"Unprotected Output\" is unprotected and can be used to copy data to another document\n- Sheet \"SPDs\" includes some sample spectra and in this sheet the spectra of measured light sources can be entered\n- Sheet \"Additional TCS\" includes the spectral radiance factors of the East-Asian Skin complexion, but this one can be\n                                         replaced with a user defined Test-Colour Sample (wavelength range 360nm-830nm with 1nm increments)"]
[]
[null,"There are 7 cells in sheet \"Input-Output\", which can be adjusted:"]
[null,"1) Cell B3:  With this cell, one of the example or user-entered SPDs, within the range specified with cells B1 and B2,\n                  can be selected from sheet \"SPDs\", OR enter 0 to process the SPD data entered in cells A10:B480"]
[null,"2) Cell B4:  With this cell, the first SPD in sheet \"SPDs\" is selected for batch processing (can be any number, but it must be\n                  within the range indicated with cells B1 and B2)"]
[null,"2) Cell B5:  With this cell, the last SPD in sheet \"SPDs\" is selected for batch processing (can be any number, but it must be\n                  within the range indicated with cells B1 and B2)"]
[null,"4) Cell B6:  With this cell, the SPDs in the range defined with cells B4 and B5 will be processed and output pdf files will be generated"]
[null,"5) Cell B7:  With this cell, the calculated values, as visible, will be written to a pdf document"]
[null,"6) Cell B8:  With this cell, the TCS numbers can be added or removed from the colour-shift graphic"]
[null,"7) Cell D6:  With this cell, the additional TCS (#15) can be added or removed from the (CRI, Chroma-index, and Hue-angle changes)\n                     graphs"]
[]
[null,"A few macros have been implemented to\n  1) detect a change in the cells\n  2) automatically copy the SPD data from the \"SPDs\" sheet to the \"Input - Output\" sheet\n  3) automatically calculate the CCT and Duv\n  4) automatically start the calculations and to store the values to the SPDs sheet\n  5) automatically adjust the colours and scales of the graphics\n  6) maintain a correct formatting of the cells for the input data\n  7) automatically write the output to a pdf file"]
[null,"The program does not work when macros have been disabled!"]
[]
[null,"If macros are disabled, please try:"]
[null,"File --> Options --> Trust Center --> Trust Center Settings --> Macro Settings ==> Select \"Disable all macros with notification\" --> Press OK"]
[null,"After that, close Excel file and reopen the Excel program again"]
[]
[null,"Last saved by:"]
[null,"Kees Teunissen ; date / time: 2020-01-08 / 10:27:33"]

{"sheet":"Input - Output","index":1,"n_rows":493,"n_cols":10,"rows_kept":493,"cut":false,"hidden":false,"merged":[[14,10,17,10],[14,3,17,3],[9,5,9,9],[10,5,10,9],[14,4,14,5],[13,3,13,10],[15,4,15,5],[16,4,16,5],[17,4,17,5],[9,10,11,10],[12,3,12,10],[18,4,18,5],[19,4,19,5],[42,4,43,6],[42,8,43,8],[0,2,0,6],[2,2,4,2],[2,3,4,3],[11,5,11,8],[2,4,2,9],[3,4,3,9],[4,4,4,9],[5,4,5,9],[8,4,8,9],[1,2,1,6]]}
["SPD 1",{"$f":"SPDs!B6","v":1},{"$f":"_xlfn.CONCAT(\"  Available WL ranges before SPD#s: \",SPDs!SI10)","v":"  Available WL ranges before SPD#s: 1,6,25,29"},null,null,null,null,14,null,"Yes"]
["SPD n",{"$f":"SPDs!C6","v":29},{"$f":"IF(B3>0,_xlfn.CONCAT(\"  Selected WL range (#\",TEXT(SPDs!SL6,\"#\"),\"): \",SPDs!K6),\"Results will not be copied to the SPDs sheet; Carefully check cells A10:B480\")","v":"  Selected WL range (#6): 380 nm - 780 nm, 5 nm WL increments"},null,null,null,null,15,null,"No"]
["SPD-select",21,"SPD-valid?",{"$f":"IF(AND(SPDs!F6,B488),\"Y\",\"N\")","v":"Y"},{"$f":"D484","v":""}]
["SPD-start",1,null,null,{"$f":"D485","v":""}]
["SPD-end",1,null,null,{"$f":"IF(SPDs!B5,\"\",\"No SPD data available!\")","v":""}]
["Compute SPDs?","No","#TCS: ",14]
["Print values?","No"]
["Plot numbers?","Yes"]
["wavelength","SPD",null,null,"Output of GLA Calculation Tool for CIE 13.3 CRI and Associated CRI-based Colour Rendition Properties   "]
[380,4.6791664506120041,null,null,"Test Source: ","Illuminant E (Equi-Energy Illuminant)"]
[385,4.6791664506120041,null,null,"Notes: ","Normalized to Y=100"]
[390,4.6791664506120041,null,null,"Date / Time:  ","2020-01-08T10:24:09",null,null,null,43838.433437500003]
[395,4.6791664506120041]
[400,4.6791664506120041]
[405,4.6791664506120041,null,null,"Correlated Colour Temperature (Tcp) in K ",null,{"$f":"'CIE1931 1-nm'!J5","v":5455},null,"CIE1931 chromaticity coordinate, x",{"$f":"ROUND('CIE1931 1-nm'!H5,4)","v":0.33329999999999999}]
[410,4.6791664506120041,null,null,"Distance to Blackbody Locus (Duv)   ",null,{"$f":"'CIE1931 1-nm'!K5","v":-4.4000000000000003E-3},null,"CIE1931 chromaticity coordinate, y",{"$f":"ROUND('CIE1931 1-nm'!I5,4)","v":0.33329999999999999}]
[415,4.6791664506120041,null,null,"General Colour Rendering Index (Ra)  ",null,{"$f":"'CRI-Calculator'!Q27","v":95},null,"CIE1976 chromaticity coordinate, u'",{"$f":"ROUND('CRI-Calculator'!Q14,4)","v":0.21049999999999999}]
[420,4.6791664506120041,null,null,"Red Rendering Index (R9)  ",null,{"$f":"'CRI-Calculator'!J27","v":82},null,"CIE1976 chromaticity coordinate, v'",{"$f":"ROUND(1.5*'CRI-Calculator'!Q15,4)","v":0.47370000000000001}]
[425,4.6791664506120041,null,null,"Colour Gamut Index (Ga)  ",null,{"$f":"'CRI-Calculator'!R27","v":106}]
[430,4.6791664506120041,null,null,"Red Chroma Index (C9)  ",null,{"$f":"'CRI-Calculator'!J40","v":103}]
[435,4.6791664506120041]
[440,4.6791664506120041]
[445,4.6791664506120041]
[450,4.6791664506120041]
[455,4.6791664506120041]
[460,4.6791664506120041]
[465,4.6791664506120041]
[470,4.6791664506120041]
[475,4.6791664506120041]
[480,4.6791664506120041]
[485,4.6791664506120041]
[490,4.6791664506120041]
[495,4.6791664506120041]
[500,4.6791664506120041]
[505,4.6791664506120041]
[510,4.6791664506120041]
[515,4.6791664506120041]
[520,4.6791664506120041]
[525,4.6791664506120041]
[530,4.6791664506120041]
[535,4.6791664506120041]
[540,4.6791664506120041]
[545,4.6791664506120041,null,null,"Two-dimensional Ra-Ga Graphic",null,null,null,"                         Colour-shift graphic"]
[550,4.6791664506120041]
[555,4.6791664506120041]
[560,4.6791664506120041]
[565,4.6791664506120041]
[570,4.6791664506120041]
[575,4.6791664506120041]
[580,4.6791664506120041]
[585,4.6791664506120041]
[590,4.6791664506120041]
[595,4.6791664506120041]
[600,4.6791664506120041]
[605,4.6791664506120041]
[610,4.6791664506120041]
[615,4.6791664506120041]
[620,4.6791664506120041]
[625,4.6791664506120041]
[630,4.6791664506120041]
[635,4.6791664506120041]
[640,4.6791664506120041]
[645,4.6791664506120041]
[650,4.6791664506120041]
[655,4.6791664506120041]
[660,4.6791664506120041]
[665,4.6791664506120041]
[670,4.6791664506120041]
[675,4.6791664506120041]
[680,4.6791664506120041]
[685,4.6791664506120041]
[690,4.6791664506120041]
[695,4.6791664506120041]
[700,4.6791664506120041]
[705,4.6791664506120041]
[710,4.6791664506120041]
[715,4.6791664506120041]
[720,4.6791664506120041]
[725,4.6791664506120041]
[730,4.6791664506120041]
[735,4.6791664506120041]
[740,4.6791664506120041]
[745,4.6791664506120041]
[750,4.6791664506120041]
[755,4.6791664506120041]
[760,4.6791664506120041]
[765,4.6791664506120041]
[770,4.6791664506120041]
[775,4.6791664506120041]
[780,4.6791664506120041]
[null,0]
[null,0]
[null,0]
[null,0]
[null,0]
[null,0]
[null,0]
[null,0]
[null,0]
[null,0]
[null,0]
[null,0]
[null,0]
[null,0]
[null,0]
[null,0]
[null,0]
[null,0]
[null,0]
[null,0]
[null,0]
[null,0]
[null,0]
[null,0]
[null,0]
[null,0]
[null,0]
[null,0]
[null,0]
[null,0]
[null,0]
[null,0]
[null,0]
[null,0]
[null,0]
[null,0]
[null,0]
[null,0]
[null,0]
[null,0]
[null,0]
[null,0]
[null,0]
[null,0]
[null,0]
[null,0]
[null,0]
[null,0]
[null,0]
[null,0]
[null,0]
[null,0]
[null,0]
[null,0]
[null,0]
[null,0]
[null,0]
[null,0]
[null,0]
[null,0]
[null,0]
[null,0]
[null,0]
[null,0]
[null,0]
[null,0]
[null,0]
[null,0]
[null,0]
[null,0]
[null,0]
[null,0]
[null,0]
[null,0]
[null,0]
[null,0]
[null,0]
[null,0]
[null,0]
[null,0]
[null,0]
[null,0]
[null,0]
[null,0]
[null,0]
[null,0]
[null,0]
[null,0]
[null,0]
[null,0]
[null,0]
[null,0]
[null,0]
[null,0]
[null,0]
[null,0]
[null,0]
[null,0]
[null,0]
[null,0]
[null,0]
[null,0]
[null,0]
[null,0]
[null,0]
[null,0]
[null,0]
[null,0]
[null,0]
[null,0]
[null,0]
[null,0]
[null,0]
[null,0]
[null,0]
[null,0]
[null,0]
[null,0]
[null,0]
[null,0]
[null,0]
[null,0]
[null,0]
[null,0]
[null,0]
[null,0]
[null,0]
[null,0]
[null,0]
[null,0]
[null,0]
[null,0]
[null,0]
[null,0]
[null,0]
[null,0]
[null,0]
[null,0]
[null,0]
[null,0]
[null,0]
[null,0]
[null,0]
[null,0]
[null,0]
[null,0]
[null,0]
[null,0]
[null,0]
[null,0]
[null,0]
[null,0]
[null,0]
[null,0]
[null,0]
[null,0]
[null,0]
[null,0]
[null,0]
[null,0]
[null,0]
[null,0]
[null,0]
[null,0]
[null,0]
[null,0]
[null,0]
[null,0]
[null,0]
[null,0]
[null,0]
[null,0]
[null,0]
[null,0]
[null,0]
[null,0]
[null,0]
[null,0]
[null,0]
[null,0]
[null,0]
[null,0]
[null,0]
[null,0]
[null,0]
[null,0]
[null,0]
[null,0]
[null,0]
[null,0]
[null,0]
[null,0]
[null,0]
[null,0]
[null,0]
[null,0]
[null,0]
[null,0]
[null,0]
[null,0]
[null,0]
[null,0]
[null,0]
[null,0]
[null,0]
[null,0]
[null,0]
[null,0]
[null,0]
[null,0]
[null,0]
[null,0]
[null,0]
[null,0]
[null,0]
[null,0]
[null,0]
[null,0]
[null,0]
[null,0]
[null,0]
[null,0]
[null,0]
[null,0]
[null,0]
[null,0]
[null,0]
[null,0]
[null,0]
[null,0]
[null,0]
[null,0]
[null,0]
[null,0]
[null,0]
[null,0]
[null,0]
[null,0]
[null,0]
[null,0]
[null,0]
[null,0]
[null,0]
[null,0]
[null,0]
[null,0]
[null,0]
[null,0]
[null,0]
[null,0]
[null,0]
[null,0]
[null,0]
[null,0]
[null,0]
[null,0]
[null,0]
[null,0]
[null,0]
[null,0]
[null,0]
[null,0]
[null,0]
[null,0]
[null,0]
[null,0]
[null,0]
[null,0]
[null,0]
[null,0]
[null,0]
[null,0]
[null,0]
[null,0]
[null,0]
[null,0]
[null,0]
[null,0]
[null,0]
[null,0]
[null,0]
[null,0]
[null,0]
[null,0]
[null,0]
[null,0]
[null,0]
[null,0]
[null,0]
[null,0]
[null,0]
[null,0]
[null,0]
[null,0]
[null,0]
[null,0]
[null,0]
[null,0]
[null,0]
[null,0]
[null,0]
[null,0]
[null,0]
[null,0]
[null,0]
[null,0]
[null,0]
[null,0]
[null,0]
[null,0]
[null,0]
[null,0]
[null,0]
[null,0]
[null,0]
[null,0]
[null,0]
[null,0]
[null,0]
[null,0]
[null,0]
[null,0]
[null,0]
[null,0]
[null,0]
[null,0]
[null,0]
[null,0]
[null,0]
[null,0]
[null,0]
[null,0]
[null,0]
[null,0]
[null,0]
[null,0]
[null,0]
[null,0]
[null,0]
[null,0]
[null,0]
[null,0]
[null,0]
[null,0]
[null,0]
[null,0]
[null,0]
[null,0]
[null,0]
[null,0]
[null,0]
[null,0]
[null,0]
[null,0]
[null,0]
[null,0]
[null,0]
[null,0]
[null,0]
[null,0]
[null,0]
[null,0]
[null,0]
[null,0]
[null,0]
[null,0]
[null,0]
[null,0]
[null,0]
[null,0]
[null,0]
[null,0]
[null,0]
[null,0]
[null,0]
[null,0]
[null,0]
[null,0]
[null,0]
[null,0]
[null,0]
[null,0]
[null,0]
[null,0]
[null,0]
[null,0]
[null,0]
[null,0]
[null,0]
[null,0]
[]
["min",{"$f":"IF(B492>299,IF(B492<360,360,B492),C487)","v":380},{"$f":"IF(AND(B482<=380,B482<>0),IFERROR(MATCH(380,A10:A480,1),0),0)","v":1},{"$f":"IF(B488,400/(C483-C482),0)","v":5}]
["max",{"$f":"IF(B493>830,830,B493)","v":780},{"$f":"IF(B483>=780,IFERROR(MATCH(780.1,A10:A480,1),0),0)","v":81}]
["Match 380",{"$f":"IFERROR(MATCH(C484,A10:A480,1),0)","v":1},{"$f":"IF(B482<360,360,B482)","v":380},{"$f":"IF(OR(C482=0,C484=0),\"Minimum wavelength shall be <= 380\",D490)","v":""}]
["Match 780",{"$f":"IFERROR(MATCH(C485,A10:A480,1),0)","v":81},{"$f":"IF(B483>830,830,B483)","v":780},{"$f":"IF(OR(C483=0,C485=0),\"Maximum wavelength shall be >= 780\",\"\")","v":""}]
["Match 0",{"$f":"IFERROR(MATCH(C486,A10:A480,1)+1,1)","v":1},1,{"$f":"IFERROR(B486,0)","v":1}]
["Index 0",{"$f":"IFERROR(INDEX(A10:A480,B486),0)","v":380},{"$f":"IF(OR(D487>380,D487=0),0,IF(B487<380,380,D487))","v":380},{"$f":"IFERROR(B487,0)","v":380}]
["RangeOK",{"$f":"IF(OR(C482=0,C483=0,B490=FALSE),FALSE,TRUE)","v":true}]
[]
["WL Order OK?",{"$f":"AND(INDEX(A:A,C492):INDEX(A:A,C493-1)<=INDEX(A:A,C492+1):INDEX(A:A,C493))","v":true},null,{"$f":"IF(B490,\"\",\"Wavelength range shall be in ascending order\")","v":""}]
[]
["min(A5:A475)",{"$f":"MIN(A10:A480)","v":380},{"$f":"B484+D492","v":10},{"$f":"MATCH(A9,$A:$A,0)","v":9}]
["max(A5:A475)",{"$f":"MAX(A10:A480)","v":780},{"$f":"B485+D492","v":90}]

{"sheet":"Unprotected Output","index":2,"n_rows":36,"n_cols":8,"rows_kept":36,"cut":false,"hidden":false,"merged":[[5,1,5,8],[6,1,6,8],[7,1,10,1],[7,2,7,3],[7,8,10,8],[8,2,8,3],[9,2,9,3],[1,2,1,7],[2,3,2,7],[2,8,4,8],[3,3,3,7],[4,3,4,6],[11,2,11,3],[12,2,12,3],[35,2,36,4],[35,6,36,6],[10,2,10,3]]}
[]
[null,null,"Output of GLA Calculation Tool for CIE 13.3 CRI and Associated CRI-based Colour Rendition Properties   "]
[null,null,"Test Source: ","Illuminant E (Equi-Energy Illuminant)"]
[null,null,"Notes: ","Normalized to Y=100"]
[null,null,"Date / Time:  ","2020-01-08T10:24:09",null,null,null,43838.433437500003]
[]
[]
[null,null,"Correlated Colour Temperature (Tcp) in K ",null,5455,null,"CIE1931 chromaticity coordinate, x",0.33329999999999999]
[null,null,"Distance to Blackbody Locus (Duv)   ",null,-4.4000000000000003E-3,null,"CIE1931 chromaticity coordinate, y",0.33329999999999999]
[null,null,"General Colour Rendering Index (Ra)  ",null,95,null,"CIE1976 chromaticity coordinate, u'",0.21049999999999999]
[null,null,"Red Rendering Index (R9)  ",null,82,null,"CIE1976 chromaticity coordinate, v'",0.47370000000000001]
[null,null,"Colour Gamut Index (Ga)  ",null,106]
[null,null,"Red Chroma Index (C9)  ",null,103]
[]
[]
[]
[]
[]
[]
[]
[]
[]
[]
[]
[]
[]
[]
[]
[]
[]
[]
[]
[]
[]
[]
[null,null,"Two-dimensional Ra-Ga Graphic",null,null,null,"                         Colour-shift graphic"]

{"sheet":"SPDs","index":3,"n_rows":523,"n_cols":507,"rows_kept":139,"cut":true,"hidden":false,"merged":[[5,3,5,4],[6,30,6,502],[6,2,6,29]],"bounds":{"rows_first":62,"rows_last":15,"rows_between":62,"halvings":5}}
["SDP#",{"$f":"IF('Input - Output'!B3>0,'Input - Output'!B3,1)","v":21},null,1,2,3,4,5,6,7,8,9,10,11,12,13,14,15,16,17,18,19,20,21,22,23,24,25,26,27,28,29,30,31,32,33,34,35,36,37,38,39,40,41,42,43,44,45,46,47,48,49,50,51,52,53,54,55,56,57,58,59,60,61,62,63,64,65,66,67,68,69,70,71,72,73,74,75,76,77,78,79,80,81,82,83,84,85,86,87,88,89,90,91,92,93,94,95,96,97,98,99,100,101,102,103,104,105,106,107,108,109,110,111,112,113,114,115,116,117,118,119,120,121,122,123,124,125,126,127,128,129,130,131,132,133,134,135,136,137,138,139,140,141,142,143,144,145,146,147,148,149,150,151,152,153,154,155,156,157,158,159,160,161,162,163,164,165,166,167,168,169,170,171,172,173,174,175,176,177,178,179,180,181,182,183,184,185,186,187,188,189,190,191,192,193,194,195,196,197,198,199,200,201,202,203,204,205,206,207,208,209,210,211,212,213,214,215,216,217,218,219,220,221,222,223,224,225,226,227,228,229,230,231,232,233,234,235,236,237,238,239,240,241,242,243,244,245,246,247,248,249,250,251,252,253,254,255,256,257,258,259,260,261,262,263,264,265,266,267,268,269,270,271,272,273,274,275,276,277,278,279,280,281,282,283,284,285,286,287,288,289,290,291,292,293,294,295,296,297,298,299,300,301,302,303,304,305,306,307,308,309,310,311,312,313,314,315,316,317,318,319,320,321,322,323,324,325,326,327,328,329,330,331,332,333,334,335,336,337,338,339,340,341,342,343,344,345,346,347,348,349,350,351,352,353,354,355,356,357,358,359,360,361,362,363,364,365,366,367,368,369,370,371,372,373,374,375,376,377,378,379,380,381,382,383,384,385,386,387,388,389,390,391,392,393,394,395,396,397,398,399,400,401,402,403,404,405,406,407,408,409,410,411,412,413,414,415,416,417,418,419,420,421,422,423,424,425,426,427,428,429,430,431,432,433,434,435,436,437,438,439,440,441,442,443,444,445,446,447,448,449,450,451,452,453,454,455,456,457,458,459,460,461,462,463,464,465,466,467,468,469,470,471,472,473,474,475,476,477,478,479,480,481,482,483,484,485,486,487,488,489,490,491,492,493,494,495,496,497,498,499,500]
["WLmin",{"$f":"MIN(A11:A481)","v":380},{"$f":"MIN(C11:C481)","v":360},{"$f":"MIN(D11:D481)","v":6.1446199999999997},46.418199999999999,0.93583085412542999,0,{"$f":"MIN(H11:H481)","v":380},0.27,0.81,0.09,1.8,3.46,0,0,1.62,37,1.4,0.39,3.15,2.7488949999999999E-3,2.8253359999999999E-3,33,4.6791664506120041,1.4396733015463708E-4,0,380,1.4396733015463708E-4,0.93583515267439432,0,380,1,0,0,0,0,0,0,0,0,0,0,0,0,0,0,0,0,0,0,0,0,0,0,0,0,0,0,0,0,0,0,0,0,0,0,0,0,0,0,0,{"$f":"MIN(BT11:BT481)","v":0},0,0,0,0,0,0,0,0,0,0,0,0,0,0,0,0,0,0,0,0,0,0,0,0,0,0,0,0,0,0,0,0,0,0,0,0,0,0,0,0,0,0,0,0,0,0,0,0,0,0,0,0,0,0,0,0,0,0,0,0,0,0,0,{"$f":"MIN(EF11:EF481)","v":0},0,0,0,0,0,0,0,0,0,0,0,0,0,0,0,0,0,0,0,0,0,0,0,0,0,0,0,0,0,0,0,0,0,0,0,0,0,0,0,0,0,0,0,0,0,0,0,0,0,0,0,0,0,0,0,0,0,0,0,0,0,0,0,{"$f":"MIN(GR11:GR481)","v":0},0,0,0,0,0,0,0,0,0,0,0,0,0,0,0,0,0,0,0,0,0,0,0,0,0,0,0,0,0,0,0,0,0,0,0,0,0,0,0,0,0,0,0,0,0,0,0,0,0,0,0,0,0,0,0,0,0,0,0,0,0,0,0,{"$f":"MIN(JD11:JD481)","v":0},0,0,0,0,0,0,0,0,0,0,0,0,0,0,0,0,0,0,0,0,0,0,0,0,0,0,0,0,0,0,0,0,0,0,0,0,0,0,0,0,0,0,0,0,0,0,0,0,0,0,0,0,0,0,0,0,0,0,0,0,0,0,0,{"$f":"MIN(LP11:LP481)","v":0},0,0,0,0,0,0,0,0,0,0,0,0,0,0,0,0,0,0,0,0,0,0,0,0,0,0,0,0,0,0,0,0,0,0,0,0,0,0,0,0,0,0,0,0,0,0,0,0,0,0,0,0,0,0,0,0,0,0,0,0,0,0,0,{"$f":"MIN(OB11:OB481)","v":0},0,0,0,0,0,0,0,0,0,0,0,0,0,0,0,0,0,0,0,0,0,0,0,0,0,0,0,0,0,0,0,0,0,0,0,0,0,0,0,0,0,0,0,0,0,0,0,0,0,0,0,0,0,0,0,0,0,0,0,0,0,0,0,{"$f":"MIN(QN11:QN481)","v":0},0,0,0,0,0,0,0,0,0,0,0,0,0,0,0,0,0,0,0,0,0,0,0,0,0,0,0,0,0,0,0,0,0,0,0,0,0,0,0,0,0,0,0,0,0,0,{"$f":"MIN(SI11:SI481)","v":0}]
["WLmax",{"$f":"MAX(A11:A481)","v":780},{"$f":"MAX(C11:C481)","v":830},{"$f":"MAX(D11:D481)","v":261.60199999999998},117.812,0.93583085412543043,0,{"$f":"MAX(H11:H481)","v":780},34.979999999999997,44.14,72.84,262.66000000000003,192.77,427.27,100,183.53,1417,334.84,166.12,175.18,20.996950349999999,32.341863959999998,124.09,4.6791664506120041,0.99971044499709616,0,780,1,0.93583515267439432,0,780,1,0,0,0,0,0,0,0,0,0,0,0,0,0,0,0,0,0,0,0,0,0,0,0,0,0,0,0,0,0,0,0,0,0,0,0,0,0,0,0,{"$f":"MAX(BT11:BT481)","v":0},0,0,0,0,0,0,0,0,0,0,0,0,0,0,0,0,0,0,0,0,0,0,0,0,0,0,0,0,0,0,0,0,0,0,0,0,0,0,0,0,0,0,0,0,0,0,0,0,0,0,0,0,0,0,0,0,0,0,0,0,0,0,0,{"$f":"MAX(EF11:EF481)","v":0},0,0,0,0,0,0,0,0,0,0,0,0,0,0,0,0,0,0,0,0,0,0,0,0,0,0,0,0,0,0,0,0,0,0,0,0,0,0,0,0,0,0,0,0,0,0,0,0,0,0,0,0,0,0,0,0,0,0,0,0,0,0,0,{"$f":"MAX(GR11:GR481)","v":0},0,0,0,0,0,0,0,0,0,0,0,0,0,0,0,0,0,0,0,0,0,0,0,0,0,0,0,0,0,0,0,0,0,0,0,0,0,0,0,0,0,0,0,0,0,0,0,0,0,0,0,0,0,0,0,0,0,0,0,0,0,0,0,{"$f":"MAX(JD11:JD481)","v":0},0,0,0,0,0,0,0,0,0,0,0,0,0,0,0,0,0,0,0,0,0,0,0,0,0,0,0,0,0,0,0,0,0,0,0,0,0,0,0,0,0,0,0,0,0,0,0,0,0,0,0,0,0,0,0,0,0,0,0,0,0,0,0,{"$f":"MAX(LP11:LP481)","v":0},0,0,0,0,0,0,0,0,0,0,0,0,0,0,0,0,0,0,0,0,0,0,0,0,0,0,0,0,0,0,0,0,0,0,0,0,0,0,0,0,0,0,0,0,0,0,0,0,0,0,0,0,0,0,0,0,0,0,0,0,0,0,0,{"$f":"MAX(OB11:OB481)","v":0},0,0,0,0,0,0,0,0,0,0,0,0,0,0,0,0,0,0,0,0,0,0,0,0,0,0,0,0,0,0,0,0,0,0,0,0,0,0,0,0,0,0,0,0,0,0,0,0,0,0,0,0,0,0,0,0,0,0,0,0,0,0,0,{"$f":"MAX(QN11:QN481)","v":0},0,0,0,0,0,0,0,0,0,0,0,0,0,0,0,0,0,0,0,0,0,0,0,0,0,0,0,0,0,0,0,0,0,0,0,0,0,0,0,0,0,0,0,0,0,0,{"$f":"MAX(SI11:SI481)","v":0}]
["WL#",{"$f":"SL6","v":6},{"$f":"IF(OR(AND(C2=0,C3=0),C10<>\"\"),0,1)","v":0},{"$f":"IF(OR(AND(D2=0,D3=0),D10<>C10),0,1)","v":1},{"$f":"IF(OR(AND(E2=0,E3=0),E10<>D10),0,1)","v":1},1,0,0,1,{"$f":"IF(OR(AND(J2=0,J3=0),J10<>I10),0,1)","v":1},{"$f":"IF(OR(AND(K2=0,K3=0),K10<>J10),0,1)","v":1},{"$f":"IF(OR(AND(L2=0,L3=0),L10<>K10),0,1)","v":1},{"$f":"IF(OR(AND(M2=0,M3=0),M10<>L10),0,1)","v":1},1,{"$f":"IF(OR(AND(O2=0,O3=0),O10<>N10),0,1)","v":1},{"$f":"IF(OR(AND(P2=0,P3=0),P10<>O10),0,1)","v":1},{"$f":"IF(OR(AND(Q2=0,Q3=0),Q10<>P10),0,1)","v":1},{"$f":"IF(OR(AND(R2=0,R3=0),R10<>Q10),0,1)","v":1},1,{"$f":"IF(OR(AND(T2=0,T3=0),T10<>S10),0,1)","v":1},{"$f":"IF(OR(AND(U2=0,U3=0),U10<>T10),0,1)","v":1},{"$f":"IF(OR(AND(V2=0,V3=0),V10<>U10),0,1)","v":1},{"$f":"IF(OR(AND(W2=0,W3=0),W10<>V10),0,1)","v":1},1,{"$f":"IF(OR(AND(Y2=0,Y3=0),Y10<>X10),0,1)","v":1},{"$f":"IF(OR(AND(Z2=0,Z3=0),Z10<>Y10),0,1)","v":0},{"$f":"IF(OR(AND(AA2=0,AA3=0),AA10<>Z10),0,1)","v":0},{"$f":"IF(OR(AND(AB2=0,AB3=0),AB10<>AA10),0,1)","v":1},1,{"$f":"IF(OR(AND(AD2=0,AD3=0),AD10<>AC10),0,1)","v":0},{"$f":"IF(OR(AND(AE2=0,AE3=0),AE10<>AD10),0,1)","v":0},{"$f":"IF(OR(AND(AF2=0,AF3=0),AF10<>AE10),0,1)","v":1},{"$f":"IF(OR(AND(AG2=0,AG3=0),AG10<>AF10),0,1)","v":0},0,{"$f":"IF(OR(AND(AI2=0,AI3=0),AI10<>AH10),0,1)","v":0},{"$f":"IF(OR(AND(AJ2=0,AJ3=0),AJ10<>AI10),0,1)","v":0},{"$f":"IF(OR(AND(AK2=0,AK3=0),AK10<>AJ10),0,1)","v":0},{"$f":"IF(OR(AND(AL2=0,AL3=0),AL10<>AK10),0,1)","v":0},0,{"$f":"IF(OR(AND(AN2=0,AN3=0),AN10<>AM10),0,1)","v":0},{"$f":"IF(OR(AND(AO2=0,AO3=0),AO10<>AN10),0,1)","v":0},{"$f":"IF(OR(AND(AP2=0,AP3=0),AP10<>AO10),0,1)","v":0},{"$f":"IF(OR(AND(AQ2=0,AQ3=0),AQ10<>AP10),0,1)","v":0},0,{"$f":"IF(OR(AND(AS2=0,AS3=0),AS10<>AR10),0,1)","v":0},{"$f":"IF(OR(AND(AT2=0,AT3=0),AT10<>AS10),0,1)","v":0},{"$f":"IF(OR(AND(AU2=0,AU3=0),AU10<>AT10),0,1)","v":0},{"$f":"IF(OR(AND(AV2=0,AV3=0),AV10<>AU10),0,1)","v":0},0,{"$f":"IF(OR(AND(AX2=0,AX3=0),AX10<>AW10),0,1)","v":0},{"$f":"IF(OR(AND(AY2=0,AY3=0),AY10<>AX10),0,1)","v":0},{"$f":"IF(OR(AND(AZ2=0,AZ3=0),AZ10<>AY10),0,1)","v":0},{"$f":"IF(OR(AND(BA2=0,BA3=0),BA10<>AZ10),0,1)","v":0},0,{"$f":"IF(OR(AND(BC2=0,BC3=0),BC10<>BB10),0,1)","v":0},{"$f":"IF(OR(AND(BD2=0,BD3=0),BD10<>BC10),0,1)","v":0},{"$f":"IF(OR(AND(BE2=0,BE3=0),BE10<>BD10),0,1)","v":0},{"$f":"IF(OR(AND(BF2=0,BF3=0),BF10<>BE10),0,1)","v":0},0,{"$f":"IF(OR(AND(BH2=0,BH3=0),BH10<>BG10),0,1)","v":0},{"$f":"IF(OR(AND(BI2=0,BI3=0),BI10<>BH10),0,1)","v":0},{"$f":"IF(OR(AND(BJ2=0,BJ3=0),BJ10<>BI10),0,1)","v":0},{"$f":"IF(OR(AND(BK2=0,BK3=0),BK10<>BJ10),0,1)","v":0},0,{"$f":"IF(OR(AND(BM2=0,BM3=0),BM10<>BL10),0,1)","v":0},{"$f":"IF(OR(AND(BN2=0,BN3=0),BN10<>BM10),0,1)","v":0},{"$f":"IF(OR(AND(BO2=0,BO3=0),BO10<>BN10),0,1)","v":0},{"$f":"IF(OR(AND(BP2=0,BP3=0),BP10<>BO10),0,1)","v":0},0,{"$f":"IF(OR(AND(BR2=0,BR3=0),BR10<>BQ10),0,1)","v":0},{"$f":"IF(OR(AND(BS2=0,BS3=0),BS10<>BR10),0,1)","v":0},{"$f":"IF(OR(AND(BT2=0,BT3=0),BT10<>BS10),0,1)","v":0},{"$f":"IF(OR(AND(BU2=0,BU3=0),BU10<>BT10),0,1)","v":0},0,{"$f":"IF(OR(AND(BW2=0,BW3=0),BW10<>BV10),0,1)","v":0},{"$f":"IF(OR(AND(BX2=0,BX3=0),BX10<>BW10),0,1)","v":0},{"$f":"IF(OR(AND(BY2=0,BY3=0),BY10<>BX10),0,1)","v":0},{"$f":"IF(OR(AND(BZ2=0,BZ3=0),BZ10<>BY10),0,1)","v":0},0,{"$f":"IF(OR(AND(CB2=0,CB3=0),CB10<>CA10),0,1)","v":0},{"$f":"IF(OR(AND(CC2=0,CC3=0),CC10<>CB10),0,1)","v":0},{"$f":"IF(OR(AND(CD2=0,CD3=0),CD10<>CC10),0,1)","v":0},{"$f":"IF(OR(AND(CE2=0,CE3=0),CE10<>CD10),0,1)","v":0},0,{"$f":"IF(OR(AND(CG2=0,CG3=0),CG10<>CF10),0,1)","v":0},{"$f":"IF(OR(AND(CH2=0,CH3=0),CH10<>CG10),0,1)","v":0},{"$f":"IF(OR(AND(CI2=0,CI3=0),CI10<>CH10),0,1)","v":0},{"$f":"IF(OR(AND(CJ2=0,CJ3=0),CJ10<>CI10),0,1)","v":0},0,{"$f":"IF(OR(AND(CL2=0,CL3=0),CL10<>CK10),0,1)","v":0},{"$f":"IF(OR(AND(CM2=0,CM3=0),CM10<>CL10),0,1)","v":0},{"$f":"IF(OR(AND(CN2=0,CN3=0),CN10<>CM10),0,1)","v":0},{"$f":"IF(OR(AND(CO2=0,CO3=0),CO10<>CN10),0,1)","v":0},0,{"$f":"IF(OR(AND(CQ2=0,CQ3=0),CQ10<>CP10),0,1)","v":0},{"$f":"IF(OR(AND(CR2=0,CR3=0),CR10<>CQ10),0,1)","v":0},{"$f":"IF(OR(AND(CS2=0,CS3=0),CS10<>CR10),0,1)","v":0},{"$f":"IF(OR(AND(CT2=0,CT3=0),CT10<>CS10),0,1)","v":0},0,{"$f":"IF(OR(AND(CV2=0,CV3=0),CV10<>CU10),0,1)","v":0},{"$f":"IF(OR(AND(CW2=0,CW3=0),CW10<>CV10),0,1)","v":0},{"$f":"IF(OR(AND(CX2=0,CX3=0),CX10<>CW10),0,1)","v":0},{"$f":"IF(OR(AND(CY2=0,CY3=0),CY10<>CX10),0,1)","v":0},0,{"$f":"IF(OR(AND(DA2=0,DA3=0),DA10<>CZ10),0,1)","v":0},{"$f":"IF(OR(AND(DB2=0,DB3=0),DB10<>DA10),0,1)","v":0},{"$f":"IF(OR(AND(DC2=0,DC3=0),DC10<>DB10),0,1)","v":0},{"$f":"IF(OR(AND(DD2=0,DD3=0),DD10<>DC10),0,1)","v":0},0,{"$f":"IF(OR(AND(DF2=0,DF3=0),DF10<>DE10),0,1)","v":0},{"$f":"IF(OR(AND(DG2=0,DG3=0),DG10<>DF10),0,1)","v":0},{"$f":"IF(OR(AND(DH2=0,DH3=0),DH10<>DG10),0,1)","v":0},{"$f":"IF(OR(AND(DI2=0,DI3=0),DI10<>DH10),0,1)","v":0},0,{"$f":"IF(OR(AND(DK2=0,DK3=0),DK10<>DJ10),0,1)","v":0},{"$f":"IF(OR(AND(DL2=0,DL3=0),DL10<>DK10),0,1)","v":0},{"$f":"IF(OR(AND(DM2=0,DM3=0),DM10<>DL10),0,1)","v":0},{"$f":"IF(OR(AND(DN2=0,DN3=0),DN10<>DM10),0,1)","v":0},0,{"$f":"IF(OR(AND(DP2=0,DP3=0),DP10<>DO10),0,1)","v":0},{"$f":"IF(OR(AND(DQ2=0,DQ3=0),DQ10<>DP10),0,1)","v":0},{"$f":"IF(OR(AND(DR2=0,DR3=0),DR10<>DQ10),0,1)","v":0},{"$f":"IF(OR(AND(DS2=0,DS3=0),DS10<>DR10),0,1)","v":0},0,{"$f":"IF(OR(AND(DU2=0,DU3=0),DU10<>DT10),0,1)","v":0},{"$f":"IF(OR(AND(DV2=0,DV3=0),DV10<>DU10),0,1)","v":0},{"$f":"IF(OR(AND(DW2=0,DW3=0),DW10<>DV10),0,1)","v":0},{"$f":"IF(OR(AND(DX2=0,DX3=0),DX10<>DW10),0,1)","v":0},0,{"$f":"IF(OR(AND(DZ2=0,DZ3=0),DZ10<>DY10),0,1)","v":0},{"$f":"IF(OR(AND(EA2=0,EA3=0),EA10<>DZ10),0,1)","v":0},{"$f":"IF(OR(AND(EB2=0,EB3=0),EB10<>EA10),0,1)","v":0},{"$f":"IF(OR(AND(EC2=0,EC3=0),EC10<>EB10),0,1)","v":0},0,{"$f":"IF(OR(AND(EE2=0,EE3=0),EE10<>ED10),0,1)","v":0},{"$f":"IF(OR(AND(EF2=0,EF3=0),EF10<>EE10),0,1)","v":0},{"$f":"IF(OR(AND(EG2=0,EG3=0),EG10<>EF10),0,1)","v":0},{"$f":"IF(OR(AND(EH2=0,EH3=0),EH10<>EG10),0,1)","v":0},0,{"$f":"IF(OR(AND(EJ2=0,EJ3=0),EJ10<>EI10),0,1)","v":0},{"$f":"IF(OR(AND(EK2=0,EK3=0),EK10<>EJ10),0,1)","v":0},{"$f":"IF(OR(AND(EL2=0,EL3=0),EL10<>EK10),0,1)","v":0},{"$f":"IF(OR(AND(EM2=0,EM3=0),EM10<>EL10),0,1)","v":0},0,{"$f":"IF(OR(AND(EO2=0,EO3=0),EO10<>EN10),0,1)","v":0},{"$f":"IF(OR(AND(EP2=0,EP3=0),EP10<>EO10),0,1)","v":0},{"$f":"IF(OR(AND(EQ2=0,EQ3=0),EQ10<>EP10),0,1)","v":0},{"$f":"IF(OR(AND(ER2=0,ER3=0),ER10<>EQ10),0,1)","v":0},0,{"$f":"IF(OR(AND(ET2=0,ET3=0),ET10<>ES10),0,1)","v":0},{"$f":"IF(OR(AND(EU2=0,EU3=0),EU10<>ET10),0,1)","v":0},{"$f":"IF(OR(AND(EV2=0,EV3=0),EV10<>EU10),0,1)","v":0},{"$f":"IF(OR(AND(EW2=0,EW3=0),EW10<>EV10),0,1)","v":0},0,{"$f":"IF(OR(AND(EY2=0,EY3=0),EY10<>EX10),0,1)","v":0},{"$f":"IF(OR(AND(EZ2=0,EZ3=0),EZ10<>EY10),0,1)","v":0},{"$f":"IF(OR(AND(FA2=0,FA3=0),FA10<>EZ10),0,1)","v":0},{"$f":"IF(OR(AND(FB2=0,FB3=0),FB10<>FA10),0,1)","v":0},0,{"$f":"IF(OR(AND(FD2=0,FD3=0),FD10<>FC10),0,1)","v":0},{"$f":"IF(OR(AND(FE2=0,FE3=0),FE10<>FD10),0,1)","v":0},{"$f":"IF(OR(AND(FF2=0,FF3=0),FF10<>FE10),0,1)","v":0},{"$f":"IF(OR(AND(FG2=0,FG3=0),FG10<>FF10),0,1)","v":0},0,{"$f":"IF(OR(AND(FI2=0,FI3=0),FI10<>FH10),0,1)","v":0},{"$f":"IF(OR(AND(FJ2=0,FJ3=0),FJ10<>FI10),0,1)","v":0},{"$f":"IF(OR(AND(FK2=0,FK3=0),FK10<>FJ10),0,1)","v":0},{"$f":"IF(OR(AND(FL2=0,FL3=0),FL10<>FK10),0,1)","v":0},0,{"$f":"IF(OR(AND(FN2=0,FN3=0),FN10<>FM10),0,1)","v":0},{"$f":"IF(OR(AND(FO2=0,FO3=0),FO10<>FN10),0,1)","v":0},{"$f":"IF(OR(AND(FP2=0,FP3=0),FP10<>FO10),0,1)","v":0},{"$f":"IF(OR(AND(FQ2=0,FQ3=0),FQ10<>FP10),0,1)","v":0},0,{"$f":"IF(OR(AND(FS2=0,FS3=0),FS10<>FR10),0,1)","v":0},{"$f":"IF(OR(AND(FT2=0,FT3=0),FT10<>FS10),0,1)","v":0},{"$f":"IF(OR(AND(FU2=0,FU3=0),FU10<>FT10),0,1)","v":0},{"$f":"IF(OR(AND(FV2=0,FV3=0),FV10<>FU10),0,1)","v":0},0,{"$f":"IF(OR(AND(FX2=0,FX3=0),FX10<>FW10),0,1)","v":0},{"$f":"IF(OR(AND(FY2=0,FY3=0),FY10<>FX10),0,1)","v":0},{"$f":"IF(OR(AND(FZ2=0,FZ3=0),FZ10<>FY10),0,1)","v":0},{"$f":"IF(OR(AND(GA2=0,GA3=0),GA10<>FZ10),0,1)","v":0},0,{"$f":"IF(OR(AND(GC2=0,GC3=0),GC10<>GB10),0,1)","v":0},{"$f":"IF(OR(AND(GD2=0,GD3=0),GD10<>GC10),0,1)","v":0},{"$f":"IF(OR(AND(GE2=0,GE3=0),GE10<>GD10),0,1)","v":0},{"$f":"IF(OR(AND(GF2=0,GF3=0),GF10<>GE10),0,1)","v":0},0,{"$f":"IF(OR(AND(GH2=0,GH3=0),GH10<>GG10),0,1)","v":0},{"$f":"IF(OR(AND(GI2=0,GI3=0),GI10<>GH10),0,1)","v":0},{"$f":"IF(OR(AND(GJ2=0,GJ3=0),GJ10<>GI10),0,1)","v":0},{"$f":"IF(OR(AND(GK2=0,GK3=0),GK10<>GJ10),0,1)","v":0},0,{"$f":"IF(OR(AND(GM2=0,GM3=0),GM10<>GL10),0,1)","v":0},{"$f":"IF(OR(AND(GN2=0,GN3=0),GN10<>GM10),0,1)","v":0},{"$f":"IF(OR(AND(GO2=0,GO3=0),GO10<>GN10),0,1)","v":0},{"$f":"IF(OR(AND(GP2=0,GP3=0),GP10<>GO10),0,1)","v":0},0,{"$f":"IF(OR(AND(GR2=0,GR3=0),GR10<>GQ10),0,1)","v":0},{"$f":"IF(OR(AND(GS2=0,GS3=0),GS10<>GR10),0,1)","v":0},{"$f":"IF(OR(AND(GT2=0,GT3=0),GT10<>GS10),0,1)","v":0},{"$f":"IF(OR(AND(GU2=0,GU3=0),GU10<>GT10),0,1)","v":0},0,{"$f":"IF(OR(AND(GW2=0,GW3=0),GW10<>GV10),0,1)","v":0},{"$f":"IF(OR(AND(GX2=0,GX3=0),GX10<>GW10),0,1)","v":0},{"$f":"IF(OR(AND(GY2=0,GY3=0),GY10<>GX10),0,1)","v":0},{"$f":"IF(OR(AND(GZ2=0,GZ3=0),GZ10<>GY10),0,1)","v":0},0,{"$f":"IF(OR(AND(HB2=0,HB3=0),HB10<>HA10),0,1)","v":0},{"$f":"IF(OR(AND(HC2=0,HC3=0),HC10<>HB10),0,1)","v":0},{"$f":"IF(OR(AND(HD2=0,HD3=0),HD10<>HC10),0,1)","v":0},{"$f":"IF(OR(AND(HE2=0,HE3=0),HE10<>HD10),0,1)","v":0},0,{"$f":"IF(OR(AND(HG2=0,HG3=0),HG10<>HF10),0,1)","v":0},{"$f":"IF(OR(AND(HH2=0,HH3=0),HH10<>HG10),0,1)","v":0},{"$f":"IF(OR(AND(HI2=0,HI3=0),HI10<>HH10),0,1)","v":0},{"$f":"IF(OR(AND(HJ2=0,HJ3=0),HJ10<>HI10),0,1)","v":0},0,{"$f":"IF(OR(AND(HL2=0,HL3=0),HL10<>HK10),0,1)","v":0},{"$f":"IF(OR(AND(HM2=0,HM3=0),HM10<>HL10),0,1)","v":0},{"$f":"IF(OR(AND(HN2=0,HN3=0),HN10<>HM10),0,1)","v":0},{"$f":"IF(OR(AND(HO2=0,HO3=0),HO10<>HN10),0,1)","v":0},0,{"$f":"IF(OR(AND(HQ2=0,HQ3=0),HQ10<>HP10),0,1)","v":0},{"$f":"IF(OR(AND(HR2=0,HR3=0),HR10<>HQ10),0,1)","v":0},{"$f":"IF(OR(AND(HS2=0,HS3=0),HS10<>HR10),0,1)","v":0},{"$f":"IF(OR(AND(HT2=0,HT3=0),HT10<>HS10),0,1)","v":0},0,{"$f":"IF(OR(AND(HV2=0,HV3=0),HV10<>HU10),0,1)","v":0},{"$f":"IF(OR(AND(HW2=0,HW3=0),HW10<>HV10),0,1)","v":0},{"$f":"IF(OR(AND(HX2=0,HX3=0),HX10<>HW10),0,1)","v":0},{"$f":"IF(OR(AND(HY2=0,HY3=0),HY10<>HX10),0,1)","v":0},0,{"$f":"IF(OR(AND(IA2=0,IA3=0),IA10<>HZ10),0,1)","v":0},{"$f":"IF(OR(AND(IB2=0,IB3=0),IB10<>IA10),0,1)","v":0},{"$f":"IF(OR(AND(IC2=0,IC3=0),IC10<>IB10),0,1)","v":0},{"$f":"IF(OR(AND(ID2=0,ID3=0),ID10<>IC10),0,1)","v":0},0,{"$f":"IF(OR(AND(IF2=0,IF3=0),IF10<>IE10),0,1)","v":0},{"$f":"IF(OR(AND(IG2=0,IG3=0),IG10<>IF10),0,1)","v":0},{"$f":"IF(OR(AND(IH2=0,IH3=0),IH10<>IG10),0,1)","v":0},{"$f":"IF(OR(AND(II2=0,II3=0),II10<>IH10),0,1)","v":0},0,{"$f":"IF(OR(AND(IK2=0,IK3=0),IK10<>IJ10),0,1)","v":0},{"$f":"IF(OR(AND(IL2=0,IL3=0),IL10<>IK10),0,1)","v":0},{"$f":"IF(OR(AND(IM2=0,IM3=0),IM10<>IL10),0,1)","v":0},{"$f":"IF(OR(AND(IN2=0,IN3=0),IN10<>IM10),0,1)","v":0},0,{"$f":"IF(OR(AND(IP2=0,IP3=0),IP10<>IO10),0,1)","v":0},{"$f":"IF(OR(AND(IQ2=0,IQ3=0),IQ10<>IP10),0,1)","v":0},{"$f":"IF(OR(AND(IR2=0,IR3=0),IR10<>IQ10),0,1)","v":0},{"$f":"IF(OR(AND(IS2=0,IS3=0),IS10<>IR10),0,1)","v":0},0,{"$f":"IF(OR(AND(IU2=0,IU3=0),IU10<>IT10),0,1)","v":0},{"$f":"IF(OR(AND(IV2=0,IV3=0),IV10<>IU10),0,1)","v":0},{"$f":"IF(OR(AND(IW2=0,IW3=0),IW10<>IV10),0,1)","v":0},{"$f":"IF(OR(AND(IX2=0,IX3=0),IX10<>IW10),0,1)","v":0},0,{"$f":"IF(OR(AND(IZ2=0,IZ3=0),IZ10<>IY10),0,1)","v":0},{"$f":"IF(OR(AND(JA2=0,JA3=0),JA10<>IZ10),0,1)","v":0},{"$f":"IF(OR(AND(JB2=0,JB3=0),JB10<>JA10),0,1)","v":0},{"$f":"IF(OR(AND(JC2=0,JC3=0),JC10<>JB10),0,1)","v":0},0,{"$f":"IF(OR(AND(JE2=0,JE3=0),JE10<>JD10),0,1)","v":0},{"$f":"IF(OR(AND(JF2=0,JF3=0),JF10<>JE10),0,1)","v":0},{"$f":"IF(OR(AND(JG2=0,JG3=0),JG10<>JF10),0,1)","v":0},{"$f":"IF(OR(AND(JH2=0,JH3=0),JH10<>JG10),0,1)","v":0},0,{"$f":"IF(OR(AND(JJ2=0,JJ3=0),JJ10<>JI10),0,1)","v":0},{"$f":"IF(OR(AND(JK2=0,JK3=0),JK10<>JJ10),0,1)","v":0},{"$f":"IF(OR(AND(JL2=0,JL3=0),JL10<>JK10),0,1)","v":0},{"$f":"IF(OR(AND(JM2=0,JM3=0),JM10<>JL10),0,1)","v":0},0,{"$f":"IF(OR(AND(JO2=0,JO3=0),JO10<>JN10),0,1)","v":0},{"$f":"IF(OR(AND(JP2=0,JP3=0),JP10<>JO10),0,1)","v":0},{"$f":"IF(OR(AND(JQ2=0,JQ3=0),JQ10<>JP10),0,1)","v":0},{"$f":"IF(OR(AND(JR2=0,JR3=0),JR10<>JQ10),0,1)","v":0},0,{"$f":"IF(OR(AND(JT2=0,JT3=0),JT10<>JS10),0,1)","v":0},{"$f":"IF(OR(AND(JU2=0,JU3=0),JU10<>JT10),0,1)","v":0},{"$f":"IF(OR(AND(JV2=0,JV3=0),JV10<>JU10),0,1)","v":0},{"$f":"IF(OR(AND(JW2=0,JW3=0),JW10<>JV10),0,1)","v":0},0,{"$f":"IF(OR(AND(JY2=0,JY3=0),JY10<>JX10),0,1)","v":0},{"$f":"IF(OR(AND(JZ2=0,JZ3=0),JZ10<>JY10),0,1)","v":0},{"$f":"IF(OR(AND(KA2=0,KA3=0),KA10<>JZ10),0,1)","v":0},{"$f":"IF(OR(AND(KB2=0,KB3=0),KB10<>KA10),0,1)","v":0},0,{"$f":"IF(OR(AND(KD2=0,KD3=0),KD10<>KC10),0,1)","v":0},{"$f":"IF(OR(AND(KE2=0,KE3=0),KE10<>KD10),0,1)","v":0},{"$f":"IF(OR(AND(KF2=0,KF3=0),KF10<>KE10),0,1)","v":0},{"$f":"IF(OR(AND(KG2=0,KG3=0),KG10<>KF10),0,1)","v":0},0,{"$f":"IF(OR(AND(KI2=0,KI3=0),KI10<>KH10),0,1)","v":0},{"$f":"IF(OR(AND(KJ2=0,KJ3=0),KJ10<>KI10),0,1)","v":0},{"$f":"IF(OR(AND(KK2=0,KK3=0),KK10<>KJ10),0,1)","v":0},{"$f":"IF(OR(AND(KL2=0,KL3=0),KL10<>KK10),0,1)","v":0},0,{"$f":"IF(OR(AND(KN2=0,KN3=0),KN10<>KM10),0,1)","v":0},{"$f":"IF(OR(AND(KO2=0,KO3=0),KO10<>KN10),0,1)","v":0},{"$f":"IF(OR(AND(KP2=0,KP3=0),KP10<>KO10),0,1)","v":0},{"$f":"IF(OR(AND(KQ2=0,KQ3=0),KQ10<>KP10),0,1)","v":0},0,{"$f":"IF(OR(AND(KS2=0,KS3=0),KS10<>KR10),0,1)","v":0},{"$f":"IF(OR(AND(KT2=0,KT3=0),KT10<>KS10),0,1)","v":0},{"$f":"IF(OR(AND(KU2=0,KU3=0),KU10<>KT10),0,1)","v":0},{"$f":"IF(OR(AND(KV2=0,KV3=0),KV10<>KU10),0,1)","v":0},0,{"$f":"IF(OR(AND(KX2=0,KX3=0),KX10<>KW10),0,1)","v":0},{"$f":"IF(OR(AND(KY2=0,KY3=0),KY10<>KX10),0,1)","v":0},{"$f":"IF(OR(AND(KZ2=0,KZ3=0),KZ10<>KY10),0,1)","v":0},{"$f":"IF(OR(AND(LA2=0,LA3=0),LA10<>KZ10),0,1)","v":0},0,{"$f":"IF(OR(AND(LC2=0,LC3=0),LC10<>LB10),0,1)","v":0},{"$f":"IF(OR(AND(LD2=0,LD3=0),LD10<>LC10),0,1)","v":0},{"$f":"IF(OR(AND(LE2=0,LE3=0),LE10<>LD10),0,1)","v":0},{"$f":"IF(OR(AND(LF2=0,LF3=0),LF10<>LE10),0,1)","v":0},0,{"$f":"IF(OR(AND(LH2=0,LH3=0),LH10<>LG10),0,1)","v":0},{"$f":"IF(OR(AND(LI2=0,LI3=0),LI10<>LH10),0,1)","v":0},{"$f":"IF(OR(AND(LJ2=0,LJ3=0),LJ10<>LI10),0,1)","v":0},{"$f":"IF(OR(AND(LK2=0,LK3=0),LK10<>LJ10),0,1)","v":0},0,{"$f":"IF(OR(AND(LM2=0,LM3=0),LM10<>LL10),0,1)","v":0},{"$f":"IF(OR(AND(LN2=0,LN3=0),LN10<>LM10),0,1)","v":0},{"$f":"IF(OR(AND(LO2=0,LO3=0),LO10<>LN10),0,1)","v":0},{"$f":"IF(OR(AND(LP2=0,LP3=0),LP10<>LO10),0,1)","v":0},0,{"$f":"IF(OR(AND(LR2=0,LR3=0),LR10<>LQ10),0,1)","v":0},{"$f":"IF(OR(AND(LS2=0,LS3=0),LS10<>LR10),0,1)","v":0},{"$f":"IF(OR(AND(LT2=0,LT3=0),LT10<>LS10),0,1)","v":0},{"$f":"IF(OR(AND(LU2=0,LU3=0),LU10<>LT10),0,1)","v":0},0,{"$f":"IF(OR(AND(LW2=0,LW3=0),LW10<>LV10),0,1)","v":0},{"$f":"IF(OR(AND(LX2=0,LX3=0),LX10<>LW10),0,1)","v":0},{"$f":"IF(OR(AND(LY2=0,LY3=0),LY10<>LX10),0,1)","v":0},{"$f":"IF(OR(AND(LZ2=0,LZ3=0),LZ10<>LY10),0,1)","v":0},0,{"$f":"IF(OR(AND(MB2=0,MB3=0),MB10<>MA10),0,1)","v":0},{"$f":"IF(OR(AND(MC2=0,MC3=0),MC10<>MB10),0,1)","v":0},{"$f":"IF(OR(AND(MD2=0,MD3=0),MD10<>MC10),0,1)","v":0},{"$f":"IF(OR(AND(ME2=0,ME3=0),ME10<>MD10),0,1)","v":0},0,{"$f":"IF(OR(AND(MG2=0,MG3=0),MG10<>MF10),0,1)","v":0},{"$f":"IF(OR(AND(MH2=0,MH3=0),MH10<>MG10),0,1)","v":0},{"$f":"IF(OR(AND(MI2=0,MI3=0),MI10<>MH10),0,1)","v":0},{"$f":"IF(OR(AND(MJ2=0,MJ3=0),MJ10<>MI10),0,1)","v":0},0,{"$f":"IF(OR(AND(ML2=0,ML3=0),ML10<>MK10),0,1)","v":0},{"$f":"IF(OR(AND(MM2=0,MM3=0),MM10<>ML10),0,1)","v":0},{"$f":"IF(OR(AND(MN2=0,MN3=0),MN10<>MM10),0,1)","v":0},{"$f":"IF(OR(AND(MO2=0,MO3=0),MO10<>MN10),0,1)","v":0},0,{"$f":"IF(OR(AND(MQ2=0,MQ3=0),MQ10<>MP10),0,1)","v":0},{"$f":"IF(OR(AND(MR2=0,MR3=0),MR10<>MQ10),0,1)","v":0},{"$f":"IF(OR(AND(MS2=0,MS3=0),MS10<>MR10),0,1)","v":0},{"$f":"IF(OR(AND(MT2=0,MT3=0),MT10<>MS10),0,1)","v":0},0,{"$f":"IF(OR(AND(MV2=0,MV3=0),MV10<>MU10),0,1)","v":0},{"$f":"IF(OR(AND(MW2=0,MW3=0),MW10<>MV10),0,1)","v":0},{"$f":"IF(OR(AND(MX2=0,MX3=0),MX10<>MW10),0,1)","v":0},{"$f":"IF(OR(AND(MY2=0,MY3=0),MY10<>MX10),0,1)","v":0},0,{"$f":"IF(OR(AND(NA2=0,NA3=0),NA10<>MZ10),0,1)","v":0},{"$f":"IF(OR(AND(NB2=0,NB3=0),NB10<>NA10),0,1)","v":0},{"$f":"IF(OR(AND(NC2=0,NC3=0),NC10<>NB10),0,1)","v":0},{"$f":"IF(OR(AND(ND2=0,ND3=0),ND10<>NC10),0,1)","v":0},0,{"$f":"IF(OR(AND(NF2=0,NF3=0),NF10<>NE10),0,1)","v":0},{"$f":"IF(OR(AND(NG2=0,NG3=0),NG10<>NF10),0,1)","v":0},{"$f":"IF(OR(AND(NH2=0,NH3=0),NH10<>NG10),0,1)","v":0},{"$f":"IF(OR(AND(NI2=0,NI3=0),NI10<>NH10),0,1)","v":0},0,{"$f":"IF(OR(AND(NK2=0,NK3=0),NK10<>NJ10),0,1)","v":0},{"$f":"IF(OR(AND(NL2=0,NL3=0),NL10<>NK10),0,1)","v":0},{"$f":"IF(OR(AND(NM2=0,NM3=0),NM10<>NL10),0,1)","v":0},{"$f":"IF(OR(AND(NN2=0,NN3=0),NN10<>NM10),0,1)","v":0},0,{"$f":"IF(OR(AND(NP2=0,NP3=0),NP10<>NO10),0,1)","v":0},{"$f":"IF(OR(AND(NQ2=0,NQ3=0),NQ10<>NP10),0,1)","v":0},{"$f":"IF(OR(AND(NR2=0,NR3=0),NR10<>NQ10),0,1)","v":0},{"$f":"IF(OR(AND(NS2=0,NS3=0),NS10<>NR10),0,1)","v":0},0,{"$f":"IF(OR(AND(NU2=0,NU3=0),NU10<>NT10),0,1)","v":0},{"$f":"IF(OR(AND(NV2=0,NV3=0),NV10<>NU10),0,1)","v":0},{"$f":"IF(OR(AND(NW2=0,NW3=0),NW10<>NV10),0,1)","v":0},{"$f":"IF(OR(AND(NX2=0,NX3=0),NX10<>NW10),0,1)","v":0},0,{"$f":"IF(OR(AND(NZ2=0,NZ3=0),NZ10<>NY10),0,1)","v":0},{"$f":"IF(OR(AND(OA2=0,OA3=0),OA10<>NZ10),0,1)","v":0},{"$f":"IF(OR(AND(OB2=0,OB3=0),OB10<>OA10),0,1)","v":0},{"$f":"IF(OR(AND(OC2=0,OC3=0),OC10<>OB10),0,1)","v":0},0,{"$f":"IF(OR(AND(OE2=0,OE3=0),OE10<>OD10),0,1)","v":0},{"$f":"IF(OR(AND(OF2=0,OF3=0),OF10<>OE10),0,1)","v":0},{"$f":"IF(OR(AND(OG2=0,OG3=0),OG10<>OF10),0,1)","v":0},{"$f":"IF(OR(AND(OH2=0,OH3=0),OH10<>OG10),0,1)","v":0},0,{"$f":"IF(OR(AND(OJ2=0,OJ3=0),OJ10<>OI10),0,1)","v":0},{"$f":"IF(OR(AND(OK2=0,OK3=0),OK10<>OJ10),0,1)","v":0},{"$f":"IF(OR(AND(OL2=0,OL3=0),OL10<>OK10),0,1)","v":0},{"$f":"IF(OR(AND(OM2=0,OM3=0),OM10<>OL10),0,1)","v":0},0,{"$f":"IF(OR(AND(OO2=0,OO3=0),OO10<>ON10),0,1)","v":0},{"$f":"IF(OR(AND(OP2=0,OP3=0),OP10<>OO10),0,1)","v":0},{"$f":"IF(OR(AND(OQ2=0,OQ3=0),OQ10<>OP10),0,1)","v":0},{"$f":"IF(OR(AND(OR2=0,OR3=0),OR10<>OQ10),0,1)","v":0},0,{"$f":"IF(OR(AND(OT2=0,OT3=0),OT10<>OS10),0,1)","v":0},{"$f":"IF(OR(AND(OU2=0,OU3=0),OU10<>OT10),0,1)","v":0},{"$f":"IF(OR(AND(OV2=0,OV3=0),OV10<>OU10),0,1)","v":0},{"$f":"IF(OR(AND(OW2=0,OW3=0),OW10<>OV10),0,1)","v":0},0,{"$f":"IF(OR(AND(OY2=0,OY3=0),OY10<>OX10),0,1)","v":0},{"$f":"IF(OR(AND(OZ2=0,OZ3=0),OZ10<>OY10),0,1)","v":0},{"$f":"IF(OR(AND(PA2=0,PA3=0),PA10<>OZ10),0,1)","v":0},{"$f":"IF(OR(AND(PB2=0,PB3=0),PB10<>PA10),0,1)","v":0},0,{"$f":"IF(OR(AND(PD2=0,PD3=0),PD10<>PC10),0,1)","v":0},{"$f":"IF(OR(AND(PE2=0,PE3=0),PE10<>PD10),0,1)","v":0},{"$f":"IF(OR(AND(PF2=0,PF3=0),PF10<>PE10),0,1)","v":0},{"$f":"IF(OR(AND(PG2=0,PG3=0),PG10<>PF10),0,1)","v":0},0,{"$f":"IF(OR(AND(PI2=0,PI3=0),PI10<>PH10),0,1)","v":0},{"$f":"IF(OR(AND(PJ2=0,PJ3=0),PJ10<>PI10),0,1)","v":0},{"$f":"IF(OR(AND(PK2=0,PK3=0),PK10<>PJ10),0,1)","v":0},{"$f":"IF(OR(AND(PL2=0,PL3=0),PL10<>PK10),0,1)","v":0},0,{"$f":"IF(OR(AND(PN2=0,PN3=0),PN10<>PM10),0,1)","v":0},{"$f":"IF(OR(AND(PO2=0,PO3=0),PO10<>PN10),0,1)","v":0},{"$f":"IF(OR(AND(PP2=0,PP3=0),PP10<>PO10),0,1)","v":0},{"$f":"IF(OR(AND(PQ2=0,PQ3=0),PQ10<>PP10),0,1)","v":0},0,{"$f":"IF(OR(AND(PS2=0,PS3=0),PS10<>PR10),0,1)","v":0},{"$f":"IF(OR(AND(PT2=0,PT3=0),PT10<>PS10),0,1)","v":0},{"$f":"IF(OR(AND(PU2=0,PU3=0),PU10<>PT10),0,1)","v":0},{"$f":"IF(OR(AND(PV2=0,PV3=0),PV10<>PU10),0,1)","v":0},0,{"$f":"IF(OR(AND(PX2=0,PX3=0),PX10<>PW10),0,1)","v":0},{"$f":"IF(OR(AND(PY2=0,PY3=0),PY10<>PX10),0,1)","v":0},{"$f":"IF(OR(AND(PZ2=0,PZ3=0),PZ10<>PY10),0,1)","v":0},{"$f":"IF(OR(AND(QA2=0,QA3=0),QA10<>PZ10),0,1)","v":0},0,{"$f":"IF(OR(AND(QC2=0,QC3=0),QC10<>QB10),0,1)","v":0},{"$f":"IF(OR(AND(QD2=0,QD3=0),QD10<>QC10),0,1)","v":0},{"$f":"IF(OR(AND(QE2=0,QE3=0),QE10<>QD10),0,1)","v":0},{"$f":"IF(OR(AND(QF2=0,QF3=0),QF10<>QE10),0,1)","v":0},0,{"$f":"IF(OR(AND(QH2=0,QH3=0),QH10<>QG10),0,1)","v":0},{"$f":"IF(OR(AND(QI2=0,QI3=0),QI10<>QH10),0,1)","v":0},{"$f":"IF(OR(AND(QJ2=0,QJ3=0),QJ10<>QI10),0,1)","v":0},{"$f":"IF(OR(AND(QK2=0,QK3=0),QK10<>QJ10),0,1)","v":0},0,{"$f":"IF(OR(AND(QM2=0,QM3=0),QM10<>QL10),0,1)","v":0},{"$f":"IF(OR(AND(QN2=0,QN3=0),QN10<>QM10),0,1)","v":0},{"$f":"IF(OR(AND(QO2=0,QO3=0),QO10<>QN10),0,1)","v":0},{"$f":"IF(OR(AND(QP2=0,QP3=0),QP10<>QO10),0,1)","v":0},0,{"$f":"IF(OR(AND(QR2=0,QR3=0),QR10<>QQ10),0,1)","v":0},{"$f":"IF(OR(AND(QS2=0,QS3=0),QS10<>QR10),0,1)","v":0},{"$f":"IF(OR(AND(QT2=0,QT3=0),QT10<>QS10),0,1)","v":0},{"$f":"IF(OR(AND(QU2=0,QU3=0),QU10<>QT10),0,1)","v":0},0,{"$f":"IF(OR(AND(QW2=0,QW3=0),QW10<>QV10),0,1)","v":0},{"$f":"IF(OR(AND(QX2=0,QX3=0),QX10<>QW10),0,1)","v":0},{"$f":"IF(OR(AND(QY2=0,QY3=0),QY10<>QX10),0,1)","v":0},{"$f":"IF(OR(AND(QZ2=0,QZ3=0),QZ10<>QY10),0,1)","v":0},0,{"$f":"IF(OR(AND(RB2=0,RB3=0),RB10<>RA10),0,1)","v":0},{"$f":"IF(OR(AND(RC2=0,RC3=0),RC10<>RB10),0,1)","v":0},{"$f":"IF(OR(AND(RD2=0,RD3=0),RD10<>RC10),0,1)","v":0},{"$f":"IF(OR(AND(RE2=0,RE3=0),RE10<>RD10),0,1)","v":0},0,{"$f":"IF(OR(AND(RG2=0,RG3=0),RG10<>RF10),0,1)","v":0},{"$f":"IF(OR(AND(RH2=0,RH3=0),RH10<>RG10),0,1)","v":0},{"$f":"IF(OR(AND(RI2=0,RI3=0),RI10<>RH10),0,1)","v":0},{"$f":"IF(OR(AND(RJ2=0,RJ3=0),RJ10<>RI10),0,1)","v":0},0,{"$f":"IF(OR(AND(RL2=0,RL3=0),RL10<>RK10),0,1)","v":0},{"$f":"IF(OR(AND(RM2=0,RM3=0),RM10<>RL10),0,1)","v":0},{"$f":"IF(OR(AND(RN2=0,RN3=0),RN10<>RM10),0,1)","v":0},{"$f":"IF(OR(AND(RO2=0,RO3=0),RO10<>RN10),0,1)","v":0},0,{"$f":"IF(OR(AND(RQ2=0,RQ3=0),RQ10<>RP10),0,1)","v":0},{"$f":"IF(OR(AND(RR2=0,RR3=0),RR10<>RQ10),0,1)","v":0},{"$f":"IF(OR(AND(RS2=0,RS3=0),RS10<>RR10),0,1)","v":0},{"$f":"IF(OR(AND(RT2=0,RT3=0),RT10<>RS10),0,1)","v":0},0,{"$f":"IF(OR(AND(RV2=0,RV3=0),RV10<>RU10),0,1)","v":0},{"$f":"IF(OR(AND(RW2=0,RW3=0),RW10<>RV10),0,1)","v":0},{"$f":"IF(OR(AND(RX2=0,RX3=0),RX10<>RW10),0,1)","v":0},{"$f":"IF(OR(AND(RY2=0,RY3=0),RY10<>RX10),0,1)","v":0},0,{"$f":"IF(OR(AND(SA2=0,SA3=0),SA10<>RZ10),0,1)","v":0},{"$f":"IF(OR(AND(SB2=0,SB3=0),SB10<>SA10),0,1)","v":0},{"$f":"IF(OR(AND(SC2=0,SC3=0),SC10<>SB10),0,1)","v":0},{"$f":"IF(OR(AND(SD2=0,SD3=0),SD10<>SC10),0,1)","v":0},0,{"$f":"IF(OR(AND(SF2=0,SF3=0),SF10<>SE10),0,1)","v":0},{"$f":"IF(OR(AND(SG2=0,SG3=0),SG10<>SF10),0,1)","v":0},{"$f":"IF(OR(AND(SH2=0,SH3=0),SH10<>SG10),0,1)","v":0},{"$f":"IF(OR(AND(SI2=0,SI3=0),SI10<>SH10),0,1)","v":0}]
["SPDavailable",{"$f":"INDEX(D4:SI4,$B$1)","v":1},{"$f":"IF(C4,C1,\"\")","v":""},{"$f":"IF(D4,D1,\"\")","v":1},2,3,"","",6,7,8,9,10,11,12,13,14,15,16,17,18,19,20,21,22,"","",25,26,"","",29,"","","","","","","","","","","","","","","","","","","","","","","","","","","","","","","","","","","",{"$f":"IF(BP4,BP1,\"\")","v":""},"","","","","","","","","","","","","","","","","","","","","","","","","","","","","","","","","","","","","","","","","","","","","","","","","","","","","","","","","","","","","","","",{"$f":"IF(EB4,EB1,\"\")","v":""},"","","","","","","","","","","","","","","","","","","","","","","","","","","","","","","","","","","","","","","","","","","","","","","","","","","","","","","","","","","","","","","",{"$f":"IF(GN4,GN1,\"\")","v":""},"","","","","","","","","","","","","","","","","","","","","","","","","","","","","","","","","","","","","","","","","","","","","","","","","","","","","","","","","","","","","","","",{"$f":"IF(IZ4,IZ1,\"\")","v":""},"","","","","","","","","","","","","","","","","","","","","","","","","","","","","","","","","","","","","","","","","","","","","","","","","","","","","","","","","","","","","","","",{"$f":"IF(LL4,LL1,\"\")","v":""},"","","","","","","","","","","","","","","","","","","","","","","","","","","","","","","","","","","","","","","","","","","","","","","","","","","","","","","","","","","","","","","",{"$f":"IF(NX4,NX1,\"\")","v":""},"","","","","","","","","","","","","","","","","","","","","","","","","","","","","","","","","","","","","","","","","","","","","","","","","","","","","","","","","","","","","","","",{"$f":"IF(QJ4,QJ1,\"\")","v":""},"","","","","","","","","","","","","","","","","","","","","","","","","","","","","","","","","","","","","","","","","","","","","","","","","","",""]
["#SPDs",{"$f":"MIN(D5:SI5)","v":1},{"$f":"MAX(D5:SI5)","v":29},"Data Valid",null,{"$f":"IF(AND(B2>=360,B2<=380,B3>=780,B3<=830,B5>0),1,0)","v":1},null,{"$f":"MATCH(B2,A11:A481)","v":1},{"$f":"MATCH(B3,A11:A481)","v":81},{"$f":"(B3-B2)/(I6-H6)","v":5},{"$f":"_xlfn.CONCAT(TEXT(B2,\"#\"),\" nm - \",TEXT(B3,\"#\"),\" nm, \",TEXT(J6,\"#\"),\" nm WL increments\")","v":"380 nm - 780 nm, 5 nm WL increments"},null,null,null,null,null,null,null,null,null,null,null,null,null,null,null,null,null,null,null,{"$f":"IF(OR(AE2<360,AE2>380,AE3<780,AE3>830),\"Error in wavelength range, please check!\",\"\")","v":""},null,null,null,null,null,null,null,null,null,null,null,null,null,null,null,null,null,null,null,null,null,null,null,null,null,null,null,null,null,null,null,null,null,null,null,null,null,null,null,null,null,null,null,null,null,null,null,null,null,null,null,null,null,null,null,null,null,null,null,null,null,null,null,null,null,null,null,null,null,null,null,null,null,null,null,null,null,null,null,null,null,null,null,null,null,null,null,null,null,null,null,null,null,null,null,null,null,null,null,null,null,null,null,null,null,null,null,null,null,null,null,null,null,null,null,null,null,null,null,null,null,null,null,null,null,null,null,null,null,null,null,null,null,null,null,null,null,null,null,null,null,null,null,null,null,null,null,null,null,null,null,null,null,null,null,null,null,null,null,null,null,null,null,null,null,null,null,null,null,null,null,null,null,null,null,null,null,null,null,null,null,null,null,null,null,null,null,null,null,null,null,null,null,null,null,null,null,null,null,null,null,null,null,null,null,null,null,null,null,null,null,null,null,null,null,null,null,null,null,null,null,null,null,null,null,null,null,null,null,null,null,null,null,null,null,null,null,null,null,null,null,null,null,null,null,null,null,null,null,null,null,null,null,null,null,null,null,null,null,null,null,null,null,null,null,null,null,null,null,null,null,null,null,null,null,null,null,null,null,null,null,null,null,null,null,null,null,null,null,null,null,null,null,null,null,null,null,null,null,null,null,null,null,null,null,null,null,null,null,null,null,null,null,null,null,null,null,null,null,null,null,null,null,null,null,null,null,null,null,null,null,null,null,null,null,null,null,null,null,null,null,null,null,null,null,null,null,null,null,null,null,null,null,null,null,null,null,null,null,null,null,null,null,null,null,null,null,null,null,null,null,null,null,null,null,null,null,null,null,null,null,null,null,null,null,null,null,null,null,null,null,null,null,null,null,null,null,null,null,null,null,null,null,null,null,null,null,null,null,null,null,null,null,null,null,null,null,null,null,null,null,null,null,null,null,null,null,null,null,null,null,null,null,null,null,null,null,null,null,null,null,null,null,null,null,null,null,null,null,null,null,null,null,null,null,null,null,null,null,null,null,null,null,null,null,null,null,null,null,null,null,null,"last WL position",{"$f":"_xlfn.NUMBERVALUE(TRIM(RIGHT(SUBSTITUTE(SI10,\",\",REPT(\" \",LEN(SI10))),LEN(SI10))))","v":29},{"$f":"IF(SM6>0,INDEX(SL7:SL481,SM6),1)+1","v":6},{"$f":"MATCH(1,SM7:SM481,0)-1","v":2}]
[null,null,"CIE-defined example spectra with different wavelength ranges and sampling intervals (columns C, H & AA). From column AE, user measured spectra shall be entered together with the wavelength range (the wavelength range should precede the SPD data)",null,null,null,null,null,null,null,null,null,null,null,null,null,null,null,null,null,null,null,null,null,null,null,null,null,null,null,"  User-provided SPD data within the wavelength range as specified in the cells always immediately preceding the SPD data (e.g. cells AE11-AE481)",null,null,null,null,null,null,null,null,null,null,null,null,null,null,null,null,null,null,null,null,null,null,null,null,null,null,null,null,null,null,null,null,null,null,null,null,null,null,null,null,null,null,null,null,null,null,null,null,null,null,null,null,null,null,null,null,null,null,null,null,null,null,null,null,null,null,null,null,null,null,null,null,null,null,null,null,null,null,null,null,null,null,null,null,null,null,null,null,null,null,null,null,null,null,null,null,null,null,null,null,null,null,null,null,null,null,null,null,null,null,null,null,null,null,null,null,null,null,null,null,null,null,null,null,null,null,null,null,null,null,null,null,null,null,null,null,null,null,null,null,null,null,null,null,null,null,null,null,null,null,null,null,null,null,null,null,null,null,null,null,null,null,null,null,null,null,null,null,null,null,null,null,null,null,null,null,null,null,null,null,null,null,null,null,null,null,null,null,null,null,null,null,null,null,null,null,null,null,null,null,null,null,null,null,null,null,null,null,null,null,null,null,null,null,null,null,null,null,null,null,null,null,null,null,null,null,null,null,null,null,null,null,null,null,null,null,null,null,null,null,null,null,null,null,null,null,null,null,null,null,null,null,null,null,null,null,null,null,null,null,null,null,null,null,null,null,null,null,null,null,null,null,null,null,null,null,null,null,null,null,null,null,null,null,null,null,null,null,null,null,null,null,null,null,null,null,null,null,null,null,null,null,null,null,null,null,null,null,null,null,null,null,null,null,null,null,null,null,null,null,null,null,null,null,null,null,null,null,null,null,null,null,null,null,null,null,null,null,null,null,null,null,null,null,null,null,null,null,null,null,null,null,null,null,null,null,null,null,null,null,null,null,null,null,null,null,null,null,null,null,null,null,null,null,null,null,null,null,null,null,null,null,null,null,null,null,null,null,null,null,null,null,null,null,null,null,null,null,null,null,null,null,null,null,null,null,null,null,null,null,null,null,null,null,null,null,null,null,null,null,null,null,null,null,null,null,null,null,null,null,null,null,null,null,null,null,null,null,null,null,null,null,null,null,null,null,null,null,null,null,null,null,null,null,null,null,null,null,null,null,null,null,null,null,null,null,null,null,null,null,null,null,{"$f":"IFERROR(FIND(\",\",$SI$10,SK7),0)","v":2},1,{"$f":"_xlfn.NUMBERVALUE(LEFT(SI10,SJ7-1))-1","v":0},{"$f":"IF(OR($B$1<SL7,SL7=$SK$6),1,0)","v":0}]
["SPD-name",{"$f":"INDEX(D8:SJ8,$B$1)","v":"Illuminant E (Equi-Energy Illuminant)"},"l, nm","CIE Standard Illuminant A","CIE Standard Illuminant D65","Illuminant E (or Equi-Energy Spectrum)",null,"l, nm","FL2*","FL7*","FL11*","FL3.3","FL3.4","FL3.7","FL3.10","FL3.12","FL3.15","HP1","HP2","HP3","LED-B1 ","LED-B5","Illuminant C","Illuminant E (Equi-Energy Illuminant)","Example (CIE 224) LED spectrum",null,"l, nm","Example (CIE 224) LED spectrum","EES: Illuminant E (Equi-Energy Spectrum)",null,"l, nm","Test",null,null,null,null,null,null,null,null,null,null,null,null,null,null,null,null,null,null,null,null,null,null,null,null,null,null,null,null,null,null,null,null,null,null,null,null,null,null,null,null,null,null,null,null,null,null,null,null,null,null,null,null,null,null,null,null,null,null,null,null,null,null,null,null,null,null,null,null,null,null,null,null,null,null,null,null,null,null,null,null,null,null,null,null,null,null,null,null,null,null,null,null,null,null,null,null,null,null,null,null,null,null,null,null,null,null,null,null,null,null,null,null,null,null,null,null,null,null,null,null,null,null,null,null,null,null,null,null,null,null,null,null,null,null,null,null,null,null,null,null,null,null,null,null,null,null,null,null,null,null,null,null,null,null,null,null,null,null,null,null,null,null,null,null,null,null,null,null,null,null,null,null,null,null,null,null,null,null,null,null,null,null,null,null,null,null,null,null,null,null,null,null,null,null,null,null,null,null,null,null,null,null,null,null,null,null,null,null,null,null,null,null,null,null,null,null,null,null,null,null,null,null,null,null,null,null,null,null,null,null,null,null,null,null,null,null,null,null,null,null,null,null,null,null,null,null,null,null,null,null,null,null,null,null,null,null,null,null,null,null,null,null,null,null,null,null,null,null,null,null,null,null,null,null,null,null,null,null,null,null,null,null,null,null,null,null,null,null,null,null,null,null,null,null,null,null,null,null,null,null,null,null,null,null,null,null,null,null,null,null,null,null,null,null,null,null,null,null,null,null,null,null,null,null,null,null,null,null,null,null,null,null,null,null,null,null,null,null,null,null,null,null,null,null,null,null,null,null,null,null,null,null,null,null,null,null,null,null,null,null,null,null,null,null,null,null,null,null,null,null,null,null,null,null,null,null,null,null,null,null,null,null,null,null,null,null,null,null,null,null,null,null,null,null,null,null,null,null,null,null,null,null,null,null,null,null,null,null,null,null,null,null,null,null,null,null,null,null,null,null,null,null,null,null,null,null,null,null,null,null,null,null,null,null,null,null,null,null,null,null,null,null,null,null,null,null,null,null,null,null,null,null,null,null,null,null,null,null,null,null,null,null,null,null,null,null,null,null,null,null,null,4,{"$f":"IF(SJ7>0,SJ7+1,SK7)","v":3},{"$f":"IF(SJ7=0,$SK$6,_xlfn.NUMBERVALUE(IF(SJ8>0,MID($SI$10,SJ7+1,SJ8-SJ7-1),$SK$6))-1)","v":5},{"$f":"IF(OR($B$1<=SL8,SL8=$SK$6),1,0)","v":0}]
["SPD-notes",{"$f":"INDEX(D9:SJ9,$B$1)","v":"Normalized to Y=100"},"default","Table 1 in ISO 11664-2:2007(E) / CIE S 014-2/E:2006","Table 1 in ISO 11664-2:2007(E) / CIE S 014-2/E:2006","Normalized to Y=100",null,null,"Tables 10.1 & 13.1 - Standard Fluorescent lamp in CIE publication 015-2018 \"Colorimetry\"","Tables 10.1 & 13.1 - Broad-Band Fluorescent lamp in CIE publication 015-2018 \"Colorimetry\"","Tables 10.1 & 13.1 - Narrow-Band Fluorescent lamp in CIE publication 015-2018 \"Colorimetry\"","Tables 10.2 & 13.2 - Standard Halophosphate Fluorescent lamp in CIE publication 015-2018 \"Colorimetry\"","Tables 10.2 & 13.2 - DeLuxe-type Fluorescent lamp in CIE publication 015-2018 \"Colorimetry\"","Tables 10.2 & 13.2 - Three-band Fluorescent lamp in CIE publication 015-2018 \"Colorimetry\"","Tables 10.3 & 13.3 - Three-band Fluorescent lamp in CIE publication 015-2018 \"Colorimetry\"","Tables 10.3 & 13.3 - Multi-band Fluorescent lamp in CIE publication 015-2018 \"Colorimetry\"","Tables 10.3 & 13.3 - D65 simulator Fluorescent lamp in CIE publication 015-2018 \"Colorimetry\"","Tables 11 & 14 - Standard High Pressure sodium lamp in CIE publication 015-2018 \"Colorimetry\"","Tables 11 & 14 - Colour enhanced high pressure sodium lamp in CIE publication 015-2018 \"Colorimetry\"","Tables 11 & 14 - High pressure metal halide lamp in CIE publication 015-2018 \"Colorimetry\"","Tables 12.1 & 15 - Phosphor-type LED (2 733 K) in CIE publication 015-2018 \"Colorimetry\"","Tables 12.1 & 15 - Phosphor-type LED (6 598 K) in CIE publication 015-2018 \"Colorimetry\"","Tables 5 & 9.1 - Relative spectral power distribution of CIE illuminant C in CIE publication 015-2018 \"Colorimetry\"","Normalized to Y=100","From CIE 2017 Colour Fidelity Index Calculator 5 nm - V.3 (2017-07-15).xlsx",null,null,"From CIE 2017 Colour Fidelity Index Calculator 1 nm - V.3(2017-07-15).xlsx","Normalized to Y=100",null,null,"EES",null,null,null,null,null,null,null,null,null,null,null,null,null,null,null,null,null,null,null,null,null,null,null,null,null,null,null,null,null,null,null,null,null,null,null,null,null,null,null,null,null,null,null,null,null,null,null,null,null,null,null,null,null,null,null,null,null,null,null,null,null,null,null,null,null,null,null,null,null,null,null,null,null,null,null,null,null,null,null,null,null,null,null,null,null,null,null,null,null,null,null,null,null,null,null,null,null,null,null,null,null,null,null,null,null,null,null,null,null,null,null,null,null,null,null,null,null,null,null,null,null,null,null,null,null,null,null,null,null,null,null,null,null,null,null,null,null,null,null,null,null,null,null,null,null,null,null,null,null,null,null,null,null,null,null,null,null,null,null,null,null,null,null,null,null,null,null,null,null,null,null,null,null,null,null,null,null,null,null,null,null,null,null,null,null,null,null,null,null,null,null,null,null,null,null,null,null,null,null,null,null,null,null,null,null,null,null,null,null,null,null,null,null,null,null,null,null,null,null,null,null,null,null,null,null,null,null,null,null,null,null,null,null,null,null,null,null,null,null,null,null,null,null,null,null,null,null,null,null,null,null,null,null,null,null,null,null,null,null,null,null,null,null,null,null,null,null,null,null,null,null,null,null,null,null,null,null,null,null,null,null,null,null,null,null,null,null,null,null,null,null,null,null,null,null,null,null,null,null,null,null,null,null,null,null,null,null,null,null,null,null,null,null,null,null,null,null,null,null,null,null,null,null,null,null,null,null,null,null,null,null,null,null,null,null,null,null,null,null,null,null,null,null,null,null,null,null,null,null,null,null,null,null,null,null,null,null,null,null,null,null,null,null,null,null,null,null,null,null,null,null,null,null,null,null,null,null,null,null,null,null,null,null,null,null,null,null,null,null,null,null,null,null,null,null,null,null,null,null,null,null,null,null,null,null,null,null,null,null,null,null,null,null,null,null,null,null,null,null,null,null,null,null,null,null,null,null,null,null,null,null,null,null,null,null,null,null,null,null,null,null,null,null,null,null,null,null,null,null,null,null,null,null,null,null,null,null,null,null,null,null,null,null,null,null,null,null,null,null,null,null,7,5,24,1]
["WL","SPD-selected",1,{"$f":"IF(AND(D2<=380,D2>=360,D3>=780,D3<=830,(D3-D2)/5>=80),_xlfn.CONCAT(C10,\",\",TEXT(D1+1,\"#\")),C10)","v":1},{"$f":"IF(AND(E2<=380,E2>=360,E3>=780,E3<=830,(E3-E2)/5>=80),_xlfn.CONCAT(D10,\",\",TEXT(E1+1,\"#\")),D10)","v":1},1,1,"1,6","1,6","1,6","1,6","1,6","1,6","1,6","1,6","1,6","1,6","1,6","1,6","1,6","1,6","1,6","1,6","1,6","1,6","1,6","1,6,25","1,6,25","1,6,25","1,6,25","1,6,25,29","1,6,25,29","1,6,25,29","1,6,25,29","1,6,25,29","1,6,25,29","1,6,25,29","1,6,25,29","1,6,25,29","1,6,25,29","1,6,25,29","1,6,25,29","1,6,25,29","1,6,25,29","1,6,25,29","1,6,25,29","1,6,25,29","1,6,25,29","1,6,25,29","1,6,25,29","1,6,25,29","1,6,25,29","1,6,25,29","1,6,25,29","1,6,25,29","1,6,25,29","1,6,25,29","1,6,25,29","1,6,25,29","1,6,25,29","1,6,25,29","1,6,25,29","1,6,25,29","1,6,25,29","1,6,25,29","1,6,25,29","1,6,25,29","1,6,25,29",{"$f":"IF(AND(BQ2<=380,BQ2>=360,BQ3>=780,BQ3<=830,(BQ3-BQ2)/5>=80),_xlfn.CONCAT(BP10,\",\",TEXT(BQ1+1,\"#\")),BP10)","v":"1,6,25,29"},"1,6,25,29","1,6,25,29","1,6,25,29","1,6,25,29","1,6,25,29","1,6,25,29","1,6,25,29","1,6,25,29","1,6,25,29","1,6,25,29","1,6,25,29","1,6,25,29","1,6,25,29","1,6,25,29","1,6,25,29","1,6,25,29","1,6,25,29","1,6,25,29","1,6,25,29","1,6,25,29","1,6,25,29","1,6,25,29","1,6,25,29","1,6,25,29","1,6,25,29","1,6,25,29","1,6,25,29","1,6,25,29","1,6,25,29","1,6,25,29","1,6,25,29","1,6,25,29","1,6,25,29","1,6,25,29","1,6,25,29","1,6,25,29","1,6,25,29","1,6,25,29","1,6,25,29","1,6,25,29","1,6,25,29","1,6,25,29","1,6,25,29","1,6,25,29","1,6,25,29","1,6,25,29","1,6,25,29","1,6,25,29","1,6,25,29","1,6,25,29","1,6,25,29","1,6,25,29","1,6,25,29","1,6,25,29","1,6,25,29","1,6,25,29","1,6,25,29","1,6,25,29","1,6,25,29","1,6,25,29","1,6,25,29","1,6,25,29","1,6,25,29",{"$f":"IF(AND(EC2<=380,EC2>=360,EC3>=780,EC3<=830,(EC3-EC2)/5>=80),_xlfn.CONCAT(EB10,\",\",TEXT(EC1+1,\"#\")),EB10)","v":"1,6,25,29"},"1,6,25,29","1,6,25,29","1,6,25,29","1,6,25,29","1,6,25,29","1,6,25,29","1,6,25,29","1,6,25,29","1,6,25,29","1,6,25,29","1,6,25,29","1,6,25,29","1,6,25,29","1,6,25,29","1,6,25,29","1,6,25,29","1,6,25,29","1,6,25,29","1,6,25,29","1,6,25,29","1,6,25,29","1,6,25,29","1,6,25,29","1,6,25,29","1,6,25,29","1,6,25,29","1,6,25,29","1,6,25,29","1,6,25,29","1,6,25,29","1,6,25,29","1,6,25,29","1,6,25,29","1,6,25,29","1,6,25,29","1,6,25,29","1,6,25,29","1,6,25,29","1,6,25,29","1,6,25,29","1,6,25,29","1,6,25,29","1,6,25,29","1,6,25,29","1,6,25,29","1,6,25,29","1,6,25,29","1,6,25,29","1,6,25,29","1,6,25,29","1,6,25,29","1,6,25,29","1,6,25,29","1,6,25,29","1,6,25,29","1,6,25,29","1,6,25,29","1,6,25,29","1,6,25,29","1,6,25,29","1,6,25,29","1,6,25,29","1,6,25,29",{"$f":"IF(AND(GO2<=380,GO2>=360,GO3>=780,GO3<=830,(GO3-GO2)/5>=80),_xlfn.CONCAT(GN10,\",\",TEXT(GO1+1,\"#\")),GN10)","v":"1,6,25,29"},"1,6,25,29","1,6,25,29","1,6,25,29","1,6,25,29","1,6,25,29","1,6,25,29","1,6,25,29","1,6,25,29","1,6,25,29","1,6,25,29","1,6,25,29","1,6,25,29","1,6,25,29","1,6,25,29","1,6,25,29","1,6,25,29","1,6,25,29","1,6,25,29","1,6,25,29","1,6,25,29","1,6,25,29","1,6,25,29","1,6,25,29","1,6,25,29","1,6,25,29","1,6,25,29","1,6,25,29","1,6,25,29","1,6,25,29","1,6,25,29","1,6,25,29","1,6,25,29","1,6,25,29","1,6,25,29","1,6,25,29","1,6,25,29","1,6,25,29","1,6,25,29","1,6,25,29","1,6,25,29","1,6,25,29","1,6,25,29","1,6,25,29","1,6,25,29","1,6,25,29","1,6,25,29","1,6,25,29","1,6,25,29","1,6,25,29","1,6,25,29","1,6,25,29","1,6,25,29","1,6,25,29","1,6,25,29","1,6,25,29","1,6,25,29","1,6,25,29","1,6,25,29","1,6,25,29","1,6,25,29","1,6,25,29","1,6,25,29","1,6,25,29",{"$f":"IF(AND(JA2<=380,JA2>=360,JA3>=780,JA3<=830,(JA3-JA2)/5>=80),_xlfn.CONCAT(IZ10,\",\",TEXT(JA1+1,\"#\")),IZ10)","v":"1,6,25,29"},"1,6,25,29","1,6,25,29","1,6,25,29","1,6,25,29","1,6,25,29","1,6,25,29","1,6,25,29","1,6,25,29","1,6,25,29","1,6,25,29","1,6,25,29","1,6,25,29","1,6,25,29","1,6,25,29","1,6,25,29","1,6,25,29","1,6,25,29","1,6,25,29","1,6,25,29","1,6,25,29","1,6,25,29","1,6,25,29","1,6,25,29","1,6,25,29","1,6,25,29","1,6,25,29","1,6,25,29","1,6,25,29","1,6,25,29","1,6,25,29","1,6,25,29","1,6,25,29","1,6,25,29","1,6,25,29","1,6,25,29","1,6,25,29","1,6,25,29","1,6,25,29","1,6,25,29","1,6,25,29","1,6,25,29","1,6,25,29","1,6,25,29","1,6,25,29","1,6,25,29","1,6,25,29","1,6,25,29","1,6,25,29","1,6,25,29","1,6,25,29","1,6,25,29","1,6,25,29","1,6,25,29","1,6,25,29","1,6,25,29","1,6,25,29","1,6,25,29","1,6,25,29","1,6,25,29","1,6,25,29","1,6,25,29","1,6,25,29","1,6,25,29",{"$f":"IF(AND(LM2<=380,LM2>=360,LM3>=780,LM3<=830,(LM3-LM2)/5>=80),_xlfn.CONCAT(LL10,\",\",TEXT(LM1+1,\"#\")),LL10)","v":"1,6,25,29"},"1,6,25,29","1,6,25,29","1,6,25,29","1,6,25,29","1,6,25,29","1,6,25,29","1,6,25,29","1,6,25,29","1,6,25,29","1,6,25,29","1,6,25,29","1,6,25,29","1,6,25,29","1,6,25,29","1,6,25,29","1,6,25,29","1,6,25,29","1,6,25,29","1,6,25,29","1,6,25,29","1,6,25,29","1,6,25,29","1,6,25,29","1,6,25,29","1,6,25,29","1,6,25,29","1,6,25,29","1,6,25,29","1,6,25,29","1,6,25,29","1,6,25,29","1,6,25,29","1,6,25,29","1,6,25,29","1,6,25,29","1,6,25,29","1,6,25,29","1,6,25,29","1,6,25,29","1,6,25,29","1,6,25,29","1,6,25,29","1,6,25,29","1,6,25,29","1,6,25,29","1,6,25,29","1,6,25,29","1,6,25,29","1,6,25,29","1,6,25,29","1,6,25,29","1,6,25,29","1,6,25,29","1,6,25,29","1,6,25,29","1,6,25,29","1,6,25,29","1,6,25,29","1,6,25,29","1,6,25,29","1,6,25,29","1,6,25,29","1,6,25,29",{"$f":"IF(AND(NY2<=380,NY2>=360,NY3>=780,NY3<=830,(NY3-NY2)/5>=80),_xlfn.CONCAT(NX10,\",\",TEXT(NY1+1,\"#\")),NX10)","v":"1,6,25,29"},"1,6,25,29","1,6,25,29","1,6,25,29","1,6,25,29","1,6,25,29","1,6,25,29","1,6,25,29","1,6,25,29","1,6,25,29","1,6,25,29","1,6,25,29","1,6,25,29","1,6,25,29","1,6,25,29","1,6,25,29","1,6,25,29","1,6,25,29","1,6,25,29","1,6,25,29","1,6,25,29","1,6,25,29","1,6,25,29","1,6,25,29","1,6,25,29","1,6,25,29","1,6,25,29","1,6,25,29","1,6,25,29","1,6,25,29","1,6,25,29","1,6,25,29","1,6,25,29","1,6,25,29","1,6,25,29","1,6,25,29","1,6,25,29","1,6,25,29","1,6,25,29","1,6,25,29","1,6,25,29","1,6,25,29","1,6,25,29","1,6,25,29","1,6,25,29","1,6,25,29","1,6,25,29","1,6,25,29","1,6,25,29","1,6,25,29","1,6,25,29","1,6,25,29","1,6,25,29","1,6,25,29","1,6,25,29","1,6,25,29","1,6,25,29","1,6,25,29","1,6,25,29","1,6,25,29","1,6,25,29","1,6,25,29","1,6,25,29","1,6,25,29",{"$f":"IF(AND(QK2<=380,QK2>=360,QK3>=780,QK3<=830,(QK3-QK2)/5>=80),_xlfn.CONCAT(QJ10,\",\",TEXT(QK1+1,\"#\")),QJ10)","v":"1,6,25,29"},"1,6,25,29","1,6,25,29","1,6,25,29","1,6,25,29","1,6,25,29","1,6,25,29","1,6,25,29","1,6,25,29","1,6,25,29","1,6,25,29","1,6,25,29","1,6,25,29","1,6,25,29","1,6,25,29","1,6,25,29","1,6,25,29","1,6,25,29","1,6,25,29","1,6,25,29","1,6,25,29","1,6,25,29","1,6,25,29","1,6,25,29","1,6,25,29","1,6,25,29","1,6,25,29","1,6,25,29","1,6,25,29","1,6,25,29","1,6,25,29","1,6,25,29","1,6,25,29","1,6,25,29","1,6,25,29","1,6,25,29","1,6,25,29","1,6,25,29","1,6,25,29","1,6,25,29","1,6,25,29","1,6,25,29","1,6,25,29","1,6,25,29","1,6,25,29","1,6,25,29","1,6,25,29","1,6,25,29","1,6,25,29","1,6,25,29","1,6,25,29",{"$f":"IFERROR(FIND(\",\",$SI$10,SK10),0)","v":0},8,28,1]
[{"$f":"IF(AND(INDEX(C11:SI11,$B$4)>=360,INDEX(C11:SI11,$B$4)<=830),INDEX(C11:SI11,$B$4),\"\")","v":380},{"$f":"IF($F$6,INDEX(D11:SI11,$B$1),\"\")","v":4.6791664506120041},360,6.1446199999999997,46.638300000000001,0.93583085412543043,null,380,1.18,2.56,0.91,8.94,3.46,3.79,0.25,1.62,300,1.9,2.64,3.15,2.7488949999999999E-3,2.8253359999999999E-3,33,4.6791664506120041,1.4396733015463708E-4,null,380,1.4396733015463708E-4,0.93583515267439432,null,380,1,null,null,null,null,null,null,null,null,null,null,null,null,null,null,null,null,null,null,null,null,null,null,null,null,null,null,null,null,null,null,null,null,null,null,null,null,null,null,null,null,null,null,null,null,null,null,null,null,null,null,null,null,null,null,null,null,null,null,null,null,null,null,null,null,null,null,null,null,null,null,null,null,null,null,null,null,null,null,null,null,null,null,null,null,null,null,null,null,null,null,null,null,null,null,null,null,null,null,null,null,null,null,null,null,null,null,null,null,null,null,null,null,null,null,null,null,null,null,null,null,null,null,null,null,null,null,null,null,null,null,null,null,null,null,null,null,null,null,null,null,null,null,null,null,null,null,null,null,null,null,null,null,null,null,null,null,null,null,null,null,null,null,null,null,null,null,null,null,null,null,null,null,null,null,null,null,null,null,null,null,null,null,null,null,null,null,null,null,null,null,null,null,null,null,null,null,null,null,null,null,null,null,null,null,null,null,null,null,null,null,null,null,null,null,null,null,null,null,null,null,null,null,null,null,null,null,null,null,null,null,null,null,null,null,null,null,null,null,null,null,null,null,null,null,null,null,null,null,null,null,null,null,null,null,null,null,null,null,null,null,null,null,null,null,null,null,null,null,null,null,null,null,null,null,null,null,null,null,null,null,null,null,null,null,null,null,null,null,null,null,null,null,null,null,null,null,null,null,null,null,null,null,null,null,null,null,null,null,null,null,null,null,null,null,null,null,null,null,null,null,null,null,null,null,null,null,null,null,null,null,null,null,null,null,null,null,null,null,null,null,null,null,null,null,null,null,null,null,null,null,null,null,null,null,null,null,null,null,null,null,null,null,null,null,null,null,null,null,null,null,null,null,null,null,null,null,null,null,null,null,null,null,null,null,null,null,null,null,null,null,null,null,null,null,null,null,null,null,null,null,null,null,null,null,null,null,null,null,null,null,null,null,null,null,null,null,null,null,null,null,null,null,null,null,null,null,null,null,null,null,null,null,null,null,null,null,null,null,null,null,null,null,null,null,null,null,null,null,null,null,null,null,null,null,null,null,null,null,null,null,null,null,null,null,null,null,null,null,null,null,null,{"$f":"IFERROR(FIND(\",\",$SI$10,SK11),0)","v":0},{"$f":"IF(SJ10>0,SJ10+1,SK10)","v":8},29,1]
[{"$f":"IF(AND(INDEX(C12:SI12,$B$4)>=360,INDEX(C12:SI12,$B$4)<=830),INDEX(C12:SI12,$B$4),\"\")","v":385},{"$f":"IF($F$6,INDEX(D12:SI12,$B$1),\"\")","v":4.6791664506120041},361,6.29955,47.183399999999999,0.93583085412543043,null,385,1.48,3.18,0.63,11.21,3.86,2.56,0,2.06,286,2.2000000000000002,2.77,7.49,5.3248289999999997E-3,6.3094780000000003E-3,39.92,4.6791664506120041,2.9298082863773311E-4,null,381,1.6595068286461028E-4,0.93583515267439432,null,381,1,null,null,null,null,null,null,null,null,null,null,null,null,null,null,null,null,null,null,null,null,null,null,null,null,null,null,null,null,null,null,null,null,null,null,null,null,null,null,null,null,null,null,null,null,null,null,null,null,null,null,null,null,null,null,null,null,null,null,null,null,null,null,null,null,null,null,null,null,null,null,null,null,null,null,null,null,null,null,null,null,null,null,null,null,null,null,null,null,null,null,null,null,null,null,null,null,null,null,null,null,null,null,null,null,null,null,null,null,null,null,null,null,null,null,null,null,null,null,null,null,null,null,null,null,null,null,null,null,null,null,null,null,null,null,null,null,null,null,null,null,null,null,null,null,null,null,null,null,null,null,null,null,null,null,null,null,null,null,null,null,null,null,null,null,null,null,null,null,null,null,null,null,null,null,null,null,null,null,null,null,null,null,null,null,null,null,null,null,null,null,null,null,null,null,null,null,null,null,null,null,null,null,null,null,null,null,null,null,null,null,null,null,null,null,null,null,null,null,null,null,null,null,null,null,null,null,null,null,null,null,null,null,null,null,null,null,null,null,null,null,null,null,null,null,null,null,null,null,null,null,null,null,null,null,null,null,null,null,null,null,null,null,null,null,null,null,null,null,null,null,null,null,null,null,null,null,null,null,null,null,null,null,null,null,null,null,null,null,null,null,null,null,null,null,null,null,null,null,null,null,null,null,null,null,null,null,null,null,null,null,null,null,null,null,null,null,null,null,null,null,null,null,null,null,null,null,null,null,null,null,null,null,null,null,null,null,null,null,null,null,null,null,null,null,null,null,null,null,null,null,null,null,null,null,null,null,null,null,null,null,null,null,null,null,null,null,null,null,null,null,null,null,null,null,null,null,null,null,null,null,null,null,null,null,null,null,null,null,null,null,null,null,null,null,null,null,null,null,null,null,null,null,null,null,null,null,null,null,null,null,null,null,null,null,null,null,null,null,null,null,null,null,null,null,null,null,null,null,null,null,null,null,null,null,null,null,null,null,null,null,null,null,null,null,null,null,null,null,null,null,null,null,null,null,null,null,null,null,null,null,null,null,null,null,null,null,null,null,null,null,null,{"$f":"IFERROR(FIND(\",\",$SI$10,SK12),0)","v":0},{"$f":"IF(SJ11>0,SJ11+1,SK11)","v":8},29,1]
[390,4.6791664506120041,362,6.4572399999999996,47.728499999999997,0.93583085412542999,null,390,1.84,3.84,0.46,14.08,4.41,1.91,0,2.71,268,2.5,3.42,10.87,1.0314601E-2,1.4090142E-2,47.4,4.6791664506120041,5.9622971368804355E-4,null,382,1.9129081545904547E-4,0.93583515267439432,null,382,1,null,null,null,null,null,null,null,null,null,null,null,null,null,null,null,null,null,null,null,null,null,null,null,null,null,null,null,null,null,null,null,null,null,null,null,null,null,null,null,null,null,null,null,null,null,null,null,null,null,null,null,null,null,null,null,null,null,null,null,null,null,null,null,null,null,null,null,null,null,null,null,null,null,null,null,null,null,null,null,null,null,null,null,null,null,null,null,null,null,null,null,null,null,null,null,null,null,null,null,null,null,null,null,null,null,null,null,null,null,null,null,null,null,null,null,null,null,null,null,null,null,null,null,null,null,null,null,null,null,null,null,null,null,null,null,null,null,null,null,null,null,null,null,null,null,null,null,null,null,null,null,null,null,null,null,null,null,null,null,null,null,null,null,null,null,null,null,null,null,null,null,null,null,null,null,null,null,null,null,null,null,null,null,null,null,null,null,null,null,null,null,null,null,null,null,null,null,null,null,null,null,null,null,null,null,null,null,null,null,null,null,null,null,null,null,null,null,null,null,null,null,null,null,null,null,null,null,null,null,null,null,null,null,null,null,null,null,null,null,null,null,null,null,null,null,null,null,null,null,null,null,null,null,null,null,null,null,null,null,null,null,null,null,null,null,null,null,null,null,null,null,null,null,null,null,null,null,null,null,null,null,null,null,null,null,null,null,null,null,null,null,null,null,null,null,null,null,null,null,null,null,null,null,null,null,null,null,null,null,null,null,null,null,null,null,null,null,null,null,null,null,null,null,null,null,null,null,null,null,null,null,null,null,null,null,null,null,null,null,null,null,null,null,null,null,null,null,null,null,null,null,null,null,null,null,null,null,null,null,null,null,null,null,null,null,null,null,null,null,null,null,null,null,null,null,null,null,null,null,null,null,null,null,null,null,null,null,null,null,null,null,null,null,null,null,null,null,null,null,null,null,null,null,null,null,null,null,null,null,null,null,null,null,null,null,null,null,null,null,null,null,null,null,null,null,null,null,null,null,null,null,null,null,null,null,null,null,null,null,null,null,null,null,null,null,null,null,null,null,null,null,null,null,null,null,null,null,null,null,null,null,null,null,null,null,null,null,null,null,null,null,0,8,29,1]
[395,4.6791664506120041,363,6.6177400000000004,48.273499999999999,0.93583085412542999,null,395,2.15,4.53,0.37,16.48,4.51,1.42,0,3.11,244,2.7,3.68,12.57,1.9980107E-2,3.1465488E-2,55.17,4.6791664506120041,1.2133506306679959E-3,null,383,2.2050029365953855E-4,0.93583515267439432,null,383,1,null,null,null,null,null,null,null,null,null,null,null,null,null,null,null,null,null,null,null,null,null,null,null,null,null,null,null,null,null,null,null,null,null,null,null,null,null,null,null,null,null,null,null,null,null,null,null,null,null,null,null,null,null,null,null,null,null,null,null,null,null,null,null,null,null,null,null,null,null,null,null,null,null,null,null,null,null,null,null,null,null,null,null,null,null,null,null,null,null,null,null,null,null,null,null,null,null,null,null,null,null,null,null,null,null,null,null,null,null,null,null,null,null,null,null,null,null,null,null,null,null,null,null,null,null,null,null,null,null,null,null,null,null,null,null,null,null,null,null,null,null,null,null,null,null,null,null,null,null,null,null,null,null,null,null,null,null,null,null,null,null,null,null,null,null,null,null,null,null,null,null,null,null,null,null,null,null,null,null,null,null,null,null,null,null,null,null,null,null,null,null,null,null,null,null,null,null,null,null,null,null,null,null,null,null,null,null,null,null,null,null,null,null,null,null,null,null,null,null,null,null,null,null,null,null,null,null,null,null,null,null,null,null,null,null,null,null,null,null,null,null,null,null,null,null,null,null,null,null,null,null,null,null,null,null,null,null,null,null,null,null,null,null,null,null,null,null,null,null,null,null,null,null,null,null,null,null,null,null,null,null,null,null,null,null,null,null,null,null,null,null,null,null,null,null,null,null,null,null,null,null,null,null,null,null,null,null,null,null,null,null,null,null,null,null,null,null,null,null,null,null,null,null,null,null,null,null,null,null,null,null,null,null,null,null,null,null,null,null,null,null,null,null,null,null,null,null,null,null,null,null,null,null,null,null,null,null,null,null,null,null,null,null,null,null,null,null,null,null,null,null,null,null,null,null,null,null,null,null,null,null,null,null,null,null,null,null,null,null,null,null,null,null,null,null,null,null,null,null,null,null,null,null,null,null,null,null,null,null,null,null,null,null,null,null,null,null,null,null,null,null,null,null,null,null,null,null,null,null,null,null,null,null,null,null,null,null,null,null,null,null,null,null,null,null,null,null,null,null,null,null,null,null,null,null,null,null,null,null,null,null,null,null,null,null,null,null,null,null,null,null,0,8,29,1]
[400,4.6791664506120041,364,6.7810499999999996,48.818600000000004,0.93583085412542999,null,400,3.44,6.15,1.29,19.63,4.8600000000000003,1.51,0.69,3.67,304,3.1,4.33,12.97,3.8702634E-2,7.0266323000000006E-2,63.3,4.6791664506120041,2.4691959067545187E-3,null,384,2.5416994887962326E-4,0.93583515267439432,null,384,1,null,null,null,null,null,null,null,null,null,null,null,null,null,null,null,null,null,null,null,null,null,null,null,null,null,null,null,null,null,null,null,null,null,null,null,null,null,null,null,null,null,null,null,null,null,null,null,null,null,null,null,null,null,null,null,null,null,null,null,null,null,null,null,null,null,null,null,null,null,null,null,null,null,null,null,null,null,null,null,null,null,null,null,null,null,null,null,null,null,null,null,null,null,null,null,null,null,null,null,null,null,null,null,null,null,null,null,null,null,null,null,null,null,null,null,null,null,null,null,null,null,null,null,null,null,null,null,null,null,null,null,null,null,null,null,null,null,null,null,null,null,null,null,null,null,null,null,null,null,null,null,null,null,null,null,null,null,null,null,null,null,null,null,null,null,null,null,null,null,null,null,null,null,null,null,null,null,null,null,null,null,null,null,null,null,null,null,null,null,null,null,null,null,null,null,null,null,null,null,null,null,null,null,null,null,null,null,null,null,null,null,null,null,null,null,null,null,null,null,null,null,null,null,null,null,null,null,null,null,null,null,null,null,null,null,null,null,null,null,null,null,null,null,null,null,null,null,null,null,null,null,null,null,null,null,null,null,null,null,null,null,null,null,null,null,null,null,null,null,null,null,null,null,null,null,null,null,null,null,null,null,null,null,null,null,null,null,null,null,null,null,null,null,null,null,null,null,null,null,null,null,null,null,null,null,null,null,null,null,null,null,null,null,null,null,null,null,null,null,null,null,null,null,null,null,null,null,null,null,null,null,null,null,null,null,null,null,null,null,null,null,null,null,null,null,null,null,null,null,null,null,null,null,null,null,null,null,null,null,null,null,null,null,null,null,null,null,null,null,null,null,null,null,null,null,null,null,null,null,null,null,null,null,null,null,null,null,null,null,null,null,null,null,null,null,null,null,null,null,null,null,null,null,null,null,null,null,null,null,null,null,null,null,null,null,null,null,null,null,null,null,null,null,null,null,null,null,null,null,null,null,null,null,null,null,null,null,null,null,null,null,null,null,null,null,null,null,null,null,null,null,null,null,null,null,null,null,null,null,null,null,null,null,null,null,null,null,null,null,null,null,0,8,29,1]
[405,4.6791664506120041,365,6.9471999999999996,49.363700000000001,0.93583085412542999,null,405,15.69,19.37,12.68,116.33,71.22,73.64,21.24,74.599999999999994,581,4.3,5.5,21.29,7.4968360999999997E-2,0.156908255,71.81,4.6791664506120041,5.0247875255440971E-3,null,385,2.9298082863773311E-4,0.93583515267439432,null,385,1,null,null,null,null,null,null,null,null,null,null,null,null,null,null,null,null,null,null,null,null,null,null,null,null,null,null,null,null,null,null,null,null,null,null,null,null,null,null,null,null,null,null,null,null,null,null,null,null,null,null,null,null,null,null,null,null,null,null,null,null,null,null,null,null,null,null,null,null,null,null,null,null,null,null,null,null,null,null,null,null,null,null,null,null,null,null,null,null,null,null,null,null,null,null,null,null,null,null,null,null,null,null,null,null,null,null,null,null,null,null,null,null,null,null,null,null,null,null,null,null,null,null,null,null,null,null,null,null,null,null,null,null,null,null,null,null,null,null,null,null,null,null,null,null,null,null,null,null,null,null,null,null,null,null,null,null,null,null,null,null,null,null,null,null,null,null,null,null,null,null,null,null,null,null,null,null,null,null,null,null,null,null,null,null,null,null,null,null,null,null,null,null,null,null,null,null,null,null,null,null,null,null,null,null,null,null,null,null,null,null,null,null,null,null,null,null,null,null,null,null,null,null,null,null,null,null,null,null,null,null,null,null,null,null,null,null,null,null,null,null,null,null,null,null,null,null,null,null,null,null,null,null,null,null,null,null,null,null,null,null,null,null,null,null,null,null,null,null,null,null,null,null,null,null,null,null,null,null,null,null,null,null,null,null,null,null,null,null,null,null,null,null,null,null,null,null,null,null,null,null,null,null,null,null,null,null,null,null,null,null,null,null,null,null,null,null,null,null,null,null,null,null,null,null,null,null,null,null,null,null,null,null,null,null,null,null,null,null,null,null,null,null,null,null,null,null,null,null,null,null,null,null,null,null,null,null,null,null,null,null,null,null,null,null,null,null,null,null,null,null,null,null,null,null,null,null,null,null,null,null,null,null,null,null,null,null,null,null,null,null,null,null,null,null,null,null,null,null,null,null,null,null,null,null,null,null,null,null,null,null,null,null,null,null,null,null,null,null,null,null,null,null,null,null,null,null,null,null,null,null,null,null,null,null,null,null,null,null,null,null,null,null,null,null,null,null,null,null,null,null,null,null,null,null,null,null,null,null,null,null,null,null,null,null,null,null,null,null,null,null,null,0,8,29,1]
[410,4.6791664506120041,366,7.1162099999999997,49.908799999999999,0.93583085412542999,null,410,3.85,7.37,1.59,32.07,8.7200000000000006,7.37,2.1800000000000002,8.8800000000000008,225,3.8,5.94,26.29,0.14521297999999999,0.35035850600000001,80.599999999999994,4.6791664506120041,1.0225050476327571E-2,null,386,3.3771797158851452E-4,0.93583515267439432,null,386,1,null,null,null,null,null,null,null,null,null,null,null,null,null,null,null,null,null,null,null,null,null,null,null,null,null,null,null,null,null,null,null,null,null,null,null,null,null,null,null,null,null,null,null,null,null,null,null,null,null,null,null,null,null,null,null,null,null,null,null,null,null,null,null,null,null,null,null,null,null,null,null,null,null,null,null,null,null,null,null,null,null,null,null,null,null,null,null,null,null,null,null,null,null,null,null,null,null,null,null,null,null,null,null,null,null,null,null,null,null,null,null,null,null,null,null,null,null,null,null,null,null,null,null,null,null,null,null,null,null,null,null,null,null,null,null,null,null,null,null,null,null,null,null,null,null,null,null,null,null,null,null,null,null,null,null,null,null,null,null,null,null,null,null,null,null,null,null,null,null,null,null,null,null,null,null,null,null,null,null,null,null,null,null,null,null,null,null,null,null,null,null,null,null,null,null,null,null,null,null,null,null,null,null,null,null,null,null,null,null,null,null,null,null,null,null,null,null,null,null,null,null,null,null,null,null,null,null,null,null,null,null,null,null,null,null,null,null,null,null,null,null,null,null,null,null,null,null,null,null,null,null,null,null,null,null,null,null,null,null,null,null,null,null,null,null,null,null,null,null,null,null,null,null,null,null,null,null,null,null,null,null,null,null,null,null,null,null,null,null,null,null,null,null,null,null,null,null,null,null,null,null,null,null,null,null,null,null,null,null,null,null,null,null,null,null,null,null,null,null,null,null,null,null,null,null,null,null,null,null,null,null,null,null,null,null,null,null,null,null,null,null,null,null,null,null,null,null,null,null,null,null,null,null,null,null,null,null,null,null,null,null,null,null,null,null,null,null,null,null,null,null,null,null,null,null,null,null,null,null,null,null,null,null,null,null,null,null,null,null,null,null,null,null,null,null,null,null,null,null,null,null,null,null,null,null,null,null,null,null,null,null,null,null,null,null,null,null,null,null,null,null,null,null,null,null,null,null,null,null,null,null,null,null,null,null,null,null,null,null,null,null,null,null,null,null,null,null,null,null,null,null,null,null,null,null,null,null,null,null,null,null,null,null,null,null,null,null,null,null,null,null,0,8,29,1]
[415,4.6791664506120041,367,7.2881099999999996,50.453899999999997,0.93583085412542999,null,415,3.74,7.05,1.79,29.72,5.36,4.6900000000000004,1.86,4.7699999999999996,155,4.2,7.2,30.18,0.28296378599999999,0.78060296200000001,89.53,4.6791664506120041,2.0818698098575044E-2,null,387,3.8928628572878289E-4,0.93583515267439432,null,387,1,null,null,null,null,null,null,null,null,null,null,null,null,null,null,null,null,null,null,null,null,null,null,null,null,null,null,null,null,null,null,null,null,null,null,null,null,null,null,null,null,null,null,null,null,null,null,null,null,null,null,null,null,null,null,null,null,null,null,null,null,null,null,null,null,null,null,null,null,null,null,null,null,null,null,null,null,null,null,null,null,null,null,null,null,null,null,null,null,null,null,null,null,null,null,null,null,null,null,null,null,null,null,null,null,null,null,null,null,null,null,null,null,null,null,null,null,null,null,null,null,null,null,null,null,null,null,null,null,null,null,null,null,null,null,null,null,null,null,null,null,null,null,null,null,null,null,null,null,null,null,null,null,null,null,null,null,null,null,null,null,null,null,null,null,null,null,null,null,null,null,null,null,null,null,null,null,null,null,null,null,null,null,null,null,null,null,null,null,null,null,null,null,null,null,null,null,null,null,null,null,null,null,null,null,null,null,null,null,null,null,null,null,null,null,null,null,null,null,null,null,null,null,null,null,null,null,null,null,null,null,null,null,null,null,null,null,null,null,null,null,null,null,null,null,null,null,null,null,null,null,null,null,null,null,null,null,null,null,null,null,null,null,null,null,null,null,null,null,null,null,null,null,null,null,null,null,null,null,null,null,null,null,null,null,null,null,null,null,null,null,null,null,null,null,null,null,null,null,null,null,null,null,null,null,null,null,null,null,null,null,null,null,null,null,null,null,null,null,null,null,null,null,null,null,null,null,null,null,null,null,null,null,null,null,null,null,null,null,null,null,null,null,null,null,null,null,null,null,null,null,null,null,null,null,null,null,null,null,null,null,null,null,null,null,null,null,null,null,null,null,null,null,null,null,null,null,null,null,null,null,null,null,null,null,null,null,null,null,null,null,null,null,null,null,null,null,null,null,null,null,null,null,null,null,null,null,null,null,null,null,null,null,null,null,null,null,null,null,null,null,null,null,null,null,null,null,null,null,null,null,null,null,null,null,null,null,null,null,null,null,null,null,null,null,null,null,null,null,null,null,null,null,null,null,null,null,null,null,null,null,null,null,null,null,null,null,null,null,null,null,null,0,8,29,1]
[420,4.6791664506120041,368,7.4629200000000004,50.998899999999999,0.93583085412542999,null,420,4.1900000000000004,7.71,2.46,33.39,5.61,5.33,3.1,4.72,152,4.8,9.02,43.06,0.52586451700000003,1.6746734139999999,98.1,4.6791664506120041,4.2146731809576989E-2,null,388,4.487288508502864E-4,0.93583515267439432,null,388,1,null,null,null,null,null,null,null,null,null,null,null,null,null,null,null,null,null,null,null,null,null,null,null,null,null,null,null,null,null,null,null,null,null,null,null,null,null,null,null,null,null,null,null,null,null,null,null,null,null,null,null,null,null,null,null,null,null,null,null,null,null,null,null,null,null,null,null,null,null,null,null,null,null,null,null,null,null,null,null,null,null,null,null,null,null,null,null,null,null,null,null,null,null,null,null,null,null,null,null,null,null,null,null,null,null,null,null,null,null,null,null,null,null,null,null,null,null,null,null,null,null,null,null,null,null,null,null,null,null,null,null,null,null,null,null,null,null,null,null,null,null,null,null,null,null,null,null,null,null,null,null,null,null,null,null,null,null,null,null,null,null,null,null,null,null,null,null,null,null,null,null,null,null,null,null,null,null,null,null,null,null,null,null,null,null,null,null,null,null,null,null,null,null,null,null,null,null,null,null,null,null,null,null,null,null,null,null,null,null,null,null,null,null,null,null,null,null,null,null,null,null,null,null,null,null,null,null,null,null,null,null,null,null,null,null,null,null,null,null,null,null,null,null,null,null,null,null,null,null,null,null,null,null,null,null,null,null,null,null,null,null,null,null,null,null,null,null,null,null,null,null,null,null,null,null,null,null,null,null,null,null,null,null,null,null,null,null,null,null,null,null,null,null,null,null,null,null,null,null,null,null,null,null,null,null,null,null,null,null,null,null,null,null,null,null,null,null,null,null,null,null,null,null,null,null,null,null,null,null,null,null,null,null,null,null,null,null,null,null,null,null,null,null,null,null,null,null,null,null,null,null,null,null,null,null,null,null,null,null,null,null,null,null,null,null,null,null,null,null,null,null,null,null,null,null,null,null,null,null,null,null,null,null,null,null,null,null,null,null,null,null,null,null,null,null,null,null,null,null,null,null,null,null,null,null,null,null,null,null,null,null,null,null,null,null,null,null,null,null,null,null,null,null,null,null,null,null,null,null,null,null,null,null,null,null,null,null,null,null,null,null,null,null,null,null,null,null,null,null,null,null,null,null,null,null,null,null,null,null,null,null,null,null,null,null,null,null,null,null,null,null,0,8,29,1]
[425,4.6791664506120041,369,7.6406599999999996,51.543999999999997,0.93583085412542999,null,425,4.62,8.41,3.33,36.94,5.91,6.75,5,4.72,170,5.19,10.27,29.58,0.91968225999999997,3.2958153860000001,105.8,4.6791664506120041,8.039641379122503E-2,null,389,5.1724801531293949E-4,0.93583515267439432,null,389,1,null,null,null,null,null,null,null,null,null,null,null,null,null,null,null,null,null,null,null,null,null,null,null,null,null,null,null,null,null,null,null,null,null,null,null,null,null,null,null,null,null,null,null,null,null,null,null,null,null,null,null,null,null,null,null,null,null,null,null,null,null,null,null,null,null,null,null,null,null,null,null,null,null,null,null,null,null,null,null,null,null,null,null,null,null,null,null,null,null,null,null,null,null,null,null,null,null,null,null,null,null,null,null,null,null,null,null,null,null,null,null,null,null,null,null,null,null,null,null,null,null,null,null,null,null,null,null,null,null,null,null,null,null,null,null,null,null,null,null,null,null,null,null,null,null,null,null,null,null,null,null,null,null,null,null,null,null,null,null,null,null,null,null,null,null,null,null,null,null,null,null,null,null,null,null,null,null,null,null,null,null,null,null,null,null,null,null,null,null,null,null,null,null,null,null,null,null,null,null,null,null,null,null,null,null,null,null,null,null,null,null,null,null,null,null,null,null,null,null,null,null,null,null,null,null,null,null,null,null,null,null,null,null,null,null,null,null,null,null,null,null,null,null,null,null,null,null,null,null,null,null,null,null,null,null,null,null,null,null,null,null,null,null,null,null,null,null,null,null,null,null,null,null,null,null,null,null,null,null,null,null,null,null,null,null,null,null,null,null,null,null,null,null,null,null,null,null,null,null,null,null,null,null,null,null,null,null,null,null,null,null,null,null,null,null,null,null,null,null,null,null,null,null,null,null,null,null,null,null,null,null,null,null,null,null,null,null,null,null,null,null,null,null,null,null,null,null,null,null,null,null,null,null,null,null,null,null,null,null,null,null,null,null,null,null,null,null,null,null,null,null,null,null,null,null,null,null,null,null,null,null,null,null,null,null,null,null,null,null,null,null,null,null,null,null,null,null,null,null,null,null,null,null,null,null,null,null,null,null,null,null,null,null,null,null,null,null,null,null,null,null,null,null,null,null,null,null,null,null,null,null,null,null,null,null,null,null,null,null,null,null,null,null,null,null,null,null,null,null,null,null,null,null,null,null,null,null,null,null,null,null,null,null,null,null,null,null,null,null,null,null,0,8,29,1]
[430,4.6791664506120041,370,7.8213499999999998,52.089100000000002,0.93583085412542999,null,430,5.0599999999999996,9.15,4.49,40.33,6.42,8.51,7.03,4.9400000000000004,295,5.89,12.48,23.18,1.538681532,5.9403099629999998,112.4,4.6791664506120041,0.14048172445388457,null,390,5.9622971368804355E-4,0.93583515267439432,null,390,1,null,null,null,null,null,null,null,null,null,null,null,null,null,null,null,null,null,null,null,null,null,null,null,null,null,null,null,null,null,null,null,null,null,null,null,null,null,null,null,null,null,null,null,null,null,null,null,null,null,null,null,null,null,null,null,null,null,null,null,null,null,null,null,null,null,null,null,null,null,null,null,null,null,null,null,null,null,null,null,null,null,null,null,null,null,null,null,null,null,null,null,null,null,null,null,null,null,null,null,null,null,null,null,null,null,null,null,null,null,null,null,null,null,null,null,null,null,null,null,null,null,null,null,null,null,null,null,null,null,null,null,null,null,null,null,null,null,null,null,null,null,null,null,null,null,null,null,null,null,null,null,null,null,null,null,null,null,null,null,null,null,null,null,null,null,null,null,null,null,null,null,null,null,null,null,null,null,null,null,null,null,null,null,null,null,null,null,null,null,null,null,null,null,null,null,null,null,null,null,null,null,null,null,null,null,null,null,null,null,null,null,null,null,null,null,null,null,null,null,null,null,null,null,null,null,null,null,null,null,null,null,null,null,null,null,null,null,null,null,null,null,null,null,null,null,null,null,null,null,null,null,null,null,null,null,null,null,null,null,null,null,null,null,null,null,null,null,null,null,null,null,null,null,null,null,null,null,null,null,null,null,null,null,null,null,null,null,null,null,null,null,null,null,null,null,null,null,null,null,null,null,null,null,null,null,null,null,null,null,null,null,null,null,null,null,null,null,null,null,null,null,null,null,null,null,null,null,null,null,null,null,null,null,null,null,null,null,null,null,null,null,null,null,null,null,null,null,null,null,null,null,null,null,null,null,null,null,null,null,null,null,null,null,null,null,null,null,null,null,null,null,null,null,null,null,null,null,null,null,null,null,null,null,null,null,null,null,null,null,null,null,null,null,null,null,null,null,null,null,null,null,null,null,null,null,null,null,null,null,null,null,null,null,null,null,null,null,null,null,null,null,null,null,null,null,null,null,null,null,null,null,null,null,null,null,null,null,null,null,null,null,null,null,null,null,null,null,null,null,null,null,null,null,null,null,null,null,null,null,null,null,null,null,null,null,null,null,null,null,null,null,0,8,29,1]
[435,4.6791664506120041,371,8.0050100000000004,51.877699999999997,0.93583085412542999,null,435,34.979999999999997,44.14,33.94,262.66000000000003,192.77,181.81,45.08,150.29,1417,7.39,16.82,35.28,2.5196055240000002,9.9212190020000008,117.75,4.6791664506120041,0.22511129351896264,null,391,6.8727149690929186E-4,0.93583515267439432,null,391,1,null,null,null,null,null,null,null,null,null,null,null,null,null,null,null,null,null,null,null,null,null,null,null,null,null,null,null,null,null,null,null,null,null,null,null,null,null,null,null,null,null,null,null,null,null,null,null,null,null,null,null,null,null,null,null,null,null,null,null,null,null,null,null,null,null,null,null,null,null,null,null,null,null,null,null,null,null,null,null,null,null,null,null,null,null,null,null,null,null,null,null,null,null,null,null,null,null,null,null,null,null,null,null,null,null,null,null,null,null,null,null,null,null,null,null,null,null,null,null,null,null,null,null,null,null,null,null,null,null,null,null,null,null,null,null,null,null,null,null,null,null,null,null,null,null,null,null,null,null,null,null,null,null,null,null,null,null,null,null,null,null,null,null,null,null,null,null,null,null,null,null,null,null,null,null,null,null,null,null,null,null,null,null,null,null,null,null,null,null,null,null,null,null,null,null,null,null,null,null,null,null,null,null,null,null,null,null,null,null,null,null,null,null,null,null,null,null,null,null,null,null,null,null,null,null,null,null,null,null,null,null,null,null,null,null,null,null,null,null,null,null,null,null,null,null,null,null,null,null,null,null,null,null,null,null,null,null,null,null,null,null,null,null,null,null,null,null,null,null,null,null,null,null,null,null,null,null,null,null,null,null,null,null,null,null,null,null,null,null,null,null,null,null,null,null,null,null,null,null,null,null,null,null,null,null,null,null,null,null,null,null,null,null,null,null,null,null,null,null,null,null,null,null,null,null,null,null,null,null,null,null,null,null,null,null,null,null,null,null,null,null,null,null,null,null,null,null,null,null,null,null,null,null,null,null,null,null,null,null,null,null,null,null,null,null,null,null,null,null,null,null,null,null,null,null,null,null,null,null,null,null,null,null,null,null,null,null,null,null,null,null,null,null,null,null,null,null,null,null,null,null,null,null,null,null,null,null,null,null,null,null,null,null,null,null,null,null,null,null,null,null,null,null,null,null,null,null,null,null,null,null,null,null,null,null,null,null,null,null,null,null,null,null,null,null,null,null,null,null,null,null,null,null,null,null,null,null,null,null,null,null,null,null,null,null,null,null,null,null,null,null,0,8,29,1]
[440,4.6791664506120041,372,8.1916700000000002,51.666400000000003,0.93583085412542999,null,440,11.81,17.52,12.13,46.87,7.77,11.71,16.78,6.08,607,7.89,16.04,26.29,4.1593516729999997,16.148253919999998,121.5,4.6791664506120041,0.33740617451674543,null,392,7.9221484158212892E-4,0.93583515267439432,null,392,1,null,null,null,null,null,null,null,null,null,null,null,null,null,null,null,null,null,null,null,null,null,null,null,null,null,null,null,null,null,null,null,null,null,null,null,null,null,null,null,null,null,null,null,null,null,null,null,null,null,null,null,null,null,null,null,null,null,null,null,null,null,null,null,null,null,null,null,null,null,null,null,null,null,null,null,null,null,null,null,null,null,null,null,null,null,null,null,null,null,null,null,null,null,null,null,null,null,null,null,null,null,null,null,null,null,null,null,null,null,null,null,null,null,null,null,null,null,null,null,null,null,null,null,null,null,null,null,null,null,null,null,null,null,null,null,null,null,null,null,null,null,null,null,null,null,null,null,null,null,null,null,null,null,null,null,null,null,null,null,null,null,null,null,null,null,null,null,null,null,null,null,null,null,null,null,null,null,null,null,null,null,null,null,null,null,null,null,null,null,null,null,null,null,null,null,null,null,null,null,null,null,null,null,null,null,null,null,null,null,null,null,null,null,null,null,null,null,null,null,null,null,null,null,null,null,null,null,null,null,null,null,null,null,null,null,null,null,null,null,null,null,null,null,null,null,null,null,null,null,null,null,null,null,null,null,null,null,null,null,null,null,null,null,null,null,null,null,null,null,null,null,null,null,null,null,null,null,null,null,null,null,null,null,null,null,null,null,null,null,null,null,null,null,null,null,null,null,null,null,null,null,null,null,null,null,null,null,null,null,null,null,null,null,null,null,null,null,null,null,null,null,null,null,null,null,null,null,null,null,null,null,null,null,null,null,null,null,null,null,null,null,null,null,null,null,null,null,null,null,null,null,null,null,null,null,null,null,null,null,null,null,null,null,null,null,null,null,null,null,null,null,null,null,null,null,null,null,null,null,null,null,null,null,null,null,null,null,null,null,null,null,null,null,null,null,null,null,null,null,null,null,null,null,null,null,null,null,null,null,null,null,null,null,null,null,null,null,null,null,null,null,null,null,null,null,null,null,null,null,null,null,null,null,null,null,null,null,null,null,null,null,null,null,null,null,null,null,null,null,null,null,null,null,null,null,null,null,null,null,null,null,null,null,null,null,null,null,null,null,null,null,0,8,29,1]
[445,4.6791664506120041,373,8.3813399999999998,51.454999999999998,0.93583085412542999,null,445,6.27,11.35,6.95,49.79,8.3699999999999992,11.96,12.28,7.13,343,5.69,15.26,24.29,6.3903127670000002,25.154324249999998,123.45,4.6791664506120041,0.47852976897591343,null,393,9.1318239154925148E-4,0.93583515267439432,null,393,1,null,null,null,null,null,null,null,null,null,null,null,null,null,null,null,null,null,null,null,null,null,null,null,null,null,null,null,null,null,null,null,null,null,null,null,null,null,null,null,null,null,null,null,null,null,null,null,null,null,null,null,null,null,null,null,null,null,null,null,null,null,null,null,null,null,null,null,null,null,null,null,null,null,null,null,null,null,null,null,null,null,null,null,null,null,null,null,null,null,null,null,null,null,null,null,null,null,null,null,null,null,null,null,null,null,null,null,null,null,null,null,null,null,null,null,null,null,null,null,null,null,null,null,null,null,null,null,null,null,null,null,null,null,null,null,null,null,null,null,null,null,null,null,null,null,null,null,null,null,null,null,null,null,null,null,null,null,null,null,null,null,null,null,null,null,null,null,null,null,null,null,null,null,null,null,null,null,null,null,null,null,null,null,null,null,null,null,null,null,null,null,null,null,null,null,null,null,null,null,null,null,null,null,null,null,null,null,null,null,null,null,null,null,null,null,null,null,null,null,null,null,null,null,null,null,null,null,null,null,null,null,null,null,null,null,null,null,null,null,null,null,null,null,null,null,null,null,null,null,null,null,null,null,null,null,null,null,null,null,null,null,null,null,null,null,null,null,null,null,null,null,null,null,null,null,null,null,null,null,null,null,null,null,null,null,null,null,null,null,null,null,null,null,null,null,null,null,null,null,null,null,null,null,null,null,null,null,null,null,null,null,null,null,null,null,null,null,null,null,null,null,null,null,null,null,null,null,null,null,null,null,null,null,null,null,null,null,null,null,null,null,null,null,null,null,null,null,null,null,null,null,null,null,null,null,null,null,null,null,null,null,null,null,null,null,null,null,null,null,null,null,null,null,null,null,null,null,null,null,null,null,null,null,null,null,null,null,null,null,null,null,null,null,null,null,null,null,null,null,null,null,null,null,null,null,null,null,null,null,null,null,null,null,null,null,null,null,null,null,null,null,null,null,null,null,null,null,null,null,null,null,null,null,null,null,null,null,null,null,null,null,null,null,null,null,null,null,null,null,null,null,null,null,null,null,null,null,null,null,null,null,null,null,null,null,null,null,null,null,null,null,0,8,29,1]
[450,4.6791664506120041,374,8.5740400000000001,51.243699999999997,0.93583085412542999,null,450,6.63,12,7.19,52.46,9.2200000000000006,12.18,13.31,9.1,386,12.89,22.58,22.91,7.8915999530000001,32.341863959999998,124,4.6791664506120041,0.60427348282747406,null,394,1.052620884432164E-3,0.93583515267439432,null,394,1,null,null,null,null,null,null,null,null,null,null,null,null,null,null,null,null,null,null,null,null,null,null,null,null,null,null,null,null,null,null,null,null,null,null,null,null,null,null,null,null,null,null,null,null,null,null,null,null,null,null,null,null,null,null,null,null,null,null,null,null,null,null,null,null,null,null,null,null,null,null,null,null,null,null,null,null,null,null,null,null,null,null,null,null,null,null,null,null,null,null,null,null,null,null,null,null,null,null,null,null,null,null,null,null,null,null,null,null,null,null,null,null,null,null,null,null,null,null,null,null,null,null,null,null,null,null,null,null,null,null,null,null,null,null,null,null,null,null,null,null,null,null,null,null,null,null,null,null,null,null,null,null,null,null,null,null,null,null,null,null,null,null,null,null,null,null,null,null,null,null,null,null,null,null,null,null,null,null,null,null,null,null,null,null,null,null,null,null,null,null,null,null,null,null,null,null,null,null,null,null,null,null,null,null,null,null,null,null,null,null,null,null,null,null,null,null,null,null,null,null,null,null,null,null,null,null,null,null,null,null,null,null,null,null,null,null,null,null,null,null,null,null,null,null,null,null,null,null,null,null,null,null,null,null,null,null,null,null,null,null,null,null,null,null,null,null,null,null,null,null,null,null,null,null,null,null,null,null,null,null,null,null,null,null,null,null,null,null,null,null,null,null,null,null,null,null,null,null,null,null,null,null,null,null,null,null,null,null,null,null,null,null,null,null,null,null,null,null,null,null,null,null,null,null,null,null,null,null,null,null,null,null,null,null,null,null,null,null,null,null,null,null,null,null,null,null,null,null,null,null,null,null,null,null,null,null,null,null,null,null,null,null,null,null,null,null,null,null,null,null,null,null,null,null,null,null,null,null,null,null,null,null,null,null,null,null,null,null,null,null,null,null,null,null,null,null,null,null,null,null,null,null,null,null,null,null,null,null,null,null,null,null,null,null,null,null,null,null,null,null,null,null,null,null,null,null,null,null,null,null,null,null,null,null,null,null,null,null,null,null,null,null,null,null,null,null,null,null,null,null,null,null,null,null,null,null,null,null,null,null,null,null,null,null,null,null,null,null,null,null,null,0,8,29,1]
[455,4.6791664506120041,375,8.7698,51.032299999999999,0.93583085412542999,null,455,6.93,12.58,7.12,54.81,10.18,11.9,13.66,11.76,430,6.69,20.07,26.2,7.5661171319999996,31.17858223,123.6,4.6791664506120041,0.63265966426374187,null,395,1.2133506306679959E-3,0.93583515267439432,null,395,1,null,null,null,null,null,null,null,null,null,null,null,null,null,null,null,null,null,null,null,null,null,null,null,null,null,null,null,null,null,null,null,null,null,null,null,null,null,null,null,null,null,null,null,null,null,null,null,null,null,null,null,null,null,null,null,null,null,null,null,null,null,null,null,null,null,null,null,null,null,null,null,null,null,null,null,null,null,null,null,null,null,null,null,null,null,null,null,null,null,null,null,null,null,null,null,null,null,null,null,null,null,null,null,null,null,null,null,null,null,null,null,null,null,null,null,null,null,null,null,null,null,null,null,null,null,null,null,null,null,null,null,null,null,null,null,null,null,null,null,null,null,null,null,null,null,null,null,null,null,null,null,null,null,null,null,null,null,null,null,null,null,null,null,null,null,null,null,null,null,null,null,null,null,null,null,null,null,null,null,null,null,null,null,null,null,null,null,null,null,null,null,null,null,null,null,null,null,null,null,null,null,null,null,null,null,null,null,null,null,null,null,null,null,null,null,null,null,null,null,null,null,null,null,null,null,null,null,null,null,null,null,null,null,null,null,null,null,null,null,null,null,null,null,null,null,null,null,null,null,null,null,null,null,null,null,null,null,null,null,null,null,null,null,null,null,null,null,null,null,null,null,null,null,null,null,null,null,null,null,null,null,null,null,null,null,null,null,null,null,null,null,null,null,null,null,null,null,null,null,null,null,null,null,null,null,null,null,null,null,null,null,null,null,null,null,null,null,null,null,null,null,null,null,null,null,null,null,null,null,null,null,null,null,null,null,null,null,null,null,null,null,null,null,null,null,null,null,null,null,null,null,null,null,null,null,null,null,null,null,null,null,null,null,null,null,null,null,null,null,null,null,null,null,null,null,null,null,null,null,null,null,null,null,null,null,null,null,null,null,null,null,null,null,null,null,null,null,null,null,null,null,null,null,null,null,null,null,null,null,null,null,null,null,null,null,null,null,null,null,null,null,null,null,null,null,null,null,null,null,null,null,null,null,null,null,null,null,null,null,null,null,null,null,null,null,null,null,null,null,null,null,null,null,null,null,null,null,null,null,null,null,null,null,null,null,null,null,null,null,null,null,0,8,29,1]
[460,4.6791664506120041,376,8.9686400000000006,50.820900000000002,0.93583085412542999,null,460,7.19,13.08,6.72,56.81,11.18,11.16,13.69,14.96,469,4.3,15.13,29.31,6.250842435,23.45907265,123.1,4.6791664506120041,0.55097702240760138,null,396,1.3986225448446986E-3,0.93583515267439432,null,396,1,null,null,null,null,null,null,null,null,null,null,null,null,null,null,null,null,null,null,null,null,null,null,null,null,null,null,null,null,null,null,null,null,null,null,null,null,null,null,null,null,null,null,null,null,null,null,null,null,null,null,null,null,null,null,null,null,null,null,null,null,null,null,null,null,null,null,null,null,null,null,null,null,null,null,null,null,null,null,null,null,null,null,null,null,null,null,null,null,null,null,null,null,null,null,null,null,null,null,null,null,null,null,null,null,null,null,null,null,null,null,null,null,null,null,null,null,null,null,null,null,null,null,null,null,null,null,null,null,null,null,null,null,null,null,null,null,null,null,null,null,null,null,null,null,null,null,null,null,null,null,null,null,null,null,null,null,null,null,null,null,null,null,null,null,null,null,null,null,null,null,null,null,null,null,null,null,null,null,null,null,null,null,null,null,null,null,null,null,null,null,null,null,null,null,null,null,null,null,null,null,null,null,null,null,null,null,null,null,null,null,null,null,null,null,null,null,null,null,null,null,null,null,null,null,null,null,null,null,null,null,null,null,null,null,null,null,null,null,null,null,null,null,null,null,null,null,null,null,null,null,null,null,null,null,null,null,null,null,null,null,null,null,null,null,null,null,null,null,null,null,null,null,null,null,null,null,null,null,null,null,null,null,null,null,null,null,null,null,null,null,null,null,null,null,null,null,null,null,null,null,null,null,null,null,null,null,null,null,null,null,null,null,null,null,null,null,null,null,null,null,null,null,null,null,null,null,null,null,null,null,null,null,null,null,null,null,null,null,null,null,null,null,null,null,null,null,null,null,null,null,null,null,null,null,null,null,null,null,null,null,null,null,null,null,null,null,null,null,null,null,null,null,null,null,null,null,null,null,null,null,null,null,null,null,null,null,null,null,null,null,null,null,null,null,null,null,null,null,null,null,null,null,null,null,null,null,null,null,null,null,null,null,null,null,null,null,null,null,null,null,null,null,null,null,null,null,null,null,null,null,null,null,null,null,null,null,null,null,null,null,null,null,null,null,null,null,null,null,null,null,null,null,null,null,null,null,null,null,null,null,null,null,null,null,null,null,null,null,null,null,null,0,8,29,1]
[465,4.6791664506120041,377,9.17056,50.6096,0.93583085412542999,null,465,7.4,13.45,6.13,58.44,12.28,11.22,13.13,18.54,502,20.78,25.27,25.3,5.1576777820000004,16.39122295,123.3,4.6791664506120041,0.43601979858474216,null,397,1.6121838815599293E-3,0.93583515267439432,null,397,1,null,null,null,null,null,null,null,null,null,null,null,null,null,null,null,null,null,null,null,null,null,null,null,null,null,null,null,null,null,null,null,null,null,null,null,null,null,null,null,null,null,null,null,null,null,null,null,null,null,null,null,null,null,null,null,null,null,null,null,null,null,null,null,null,null,null,null,null,null,null,null,null,null,null,null,null,null,null,null,null,null,null,null,null,null,null,null,null,null,null,null,null,null,null,null,null,null,null,null,null,null,null,null,null,null,null,null,null,null,null,null,null,null,null,null,null,null,null,null,null,null,null,null,null,null,null,null,null,null,null,null,null,null,null,null,null,null,null,null,null,null,null,null,null,null,null,null,null,null,null,null,null,null,null,null,null,null,null,null,null,null,null,null,null,null,null,null,null,null,null,null,null,null,null,null,null,null,null,null,null,null,null,null,null,null,null,null,null,null,null,null,null,null,null,null,null,null,null,null,null,null,null,null,null,null,null,null,null,null,null,null,null,null,null,null,null,null,null,null,null,null,null,null,null,null,null,null,null,null,null,null,null,null,null,null,null,null,null,null,null,null,null,null,null,null,null,null,null,null,null,null,null,null,null,null,null,null,null,null,null,null,null,null,null,null,null,null,null,null,null,null,null,null,null,null,null,null,null,null,null,null,null,null,null,null,null,null,null,null,null,null,null,null,null,null,null,null,null,null,null,null,null,null,null,null,null,null,null,null,null,null,null,null,null,null,null,null,null,null,null,null,null,null,null,null,null,null,null,null,null,null,null,null,null,null,null,null,null,null,null,null,null,null,null,null,null,null,null,null,null,null,null,null,null,null,null,null,null,null,null,null,null,null,null,null,null,null,null,null,null,null,null,null,null,null,null,null,null,null,null,null,null,null,null,null,null,null,null,null,null,null,null,null,null,null,null,null,null,null,null,null,null,null,null,null,null,null,null,null,null,null,null,null,null,null,null,null,null,null,null,null,null,null,null,null,null,null,null,null,null,null,null,null,null,null,null,null,null,null,null,null,null,null,null,null,null,null,null,null,null,null,null,null,null,null,null,null,null,null,null,null,null,null,null,null,null,null,null,null,null,null,0,8,29,1]
[470,4.6791664506120041,378,9.37561,50.398200000000003,0.93583085412542999,null,470,7.54,13.71,5.46,59.52,13.38,9.83,12.28,22.48,531,12.99,28.04,28.14,4.3680783769999998,12.08052206,123.8,4.6791664506120041,0.34580834841474994,null,398,1.8583540036455921E-3,0.93583515267439432,null,398,1,null,null,null,null,null,null,null,null,null,null,null,null,null,null,null,null,null,null,null,null,null,null,null,null,null,null,null,null,null,null,null,null,null,null,null,null,null,null,null,null,null,null,null,null,null,null,null,null,null,null,null,null,null,null,null,null,null,null,null,null,null,null,null,null,null,null,null,null,null,null,null,null,null,null,null,null,null,null,null,null,null,null,null,null,null,null,null,null,null,null,null,null,null,null,null,null,null,null,null,null,null,null,null,null,null,null,null,null,null,null,null,null,null,null,null,null,null,null,null,null,null,null,null,null,null,null,null,null,null,null,null,null,null,null,null,null,null,null,null,null,null,null,null,null,null,null,null,null,null,null,null,null,null,null,null,null,null,null,null,null,null,null,null,null,null,null,null,null,null,null,null,null,null,null,null,null,null,null,null,null,null,null,null,null,null,null,null,null,null,null,null,null,null,null,null,null,null,null,null,null,null,null,null,null,null,null,null,null,null,null,null,null,null,null,null,null,null,null,null,null,null,null,null,null,null,null,null,null,null,null,null,null,null,null,null,null,null,null,null,null,null,null,null,null,null,null,null,null,null,null,null,null,null,null,null,null,null,null,null,null,null,null,null,null,null,null,null,null,null,null,null,null,null,null,null,null,null,null,null,null,null,null,null,null,null,null,null,null,null,null,null,null,null,null,null,null,null,null,null,null,null,null,null,null,null,null,null,null,null,null,null,null,null,null,null,null,null,null,null,null,null,null,null,null,null,null,null,null,null,null,null,null,null,null,null,null,null,null,null,null,null,null,null,null,null,null,null,null,null,null,null,null,null,null,null,null,null,null,null,null,null,null,null,null,null,null,null,null,null,null,null,null,null,null,null,null,null,null,null,null,null,null,null,null,null,null,null,null,null,null,null,null,null,null,null,null,null,null,null,null,null,null,null,null,null,null,null,null,null,null,null,null,null,null,null,null,null,null,null,null,null,null,null,null,null,null,null,null,null,null,null,null,null,null,null,null,null,null,null,null,null,null,null,null,null,null,null,null,null,null,null,null,null,null,null,null,null,null,null,null,null,null,null,null,null,null,null,null,null,null,null,0,{"$f":"IF(SJ28>0,SJ28+1,SK28)","v":8},29,1]
[475,4.6791664506120041,379,9.5837800000000009,50.186900000000001,0.93583085412542999,null,475,7.62,13.88,4.79,60.12,14.54,8.94,11.42,26.76,552,6.69,15.99,24.05,3.8353074010000001,9.0802006810000009,124.09,4.6791664506120041,0.28159764333004855,null,399,2.1421117129257813E-3,0.93583515267439432,null,399,1,null,null,null,null,null,null,null,null,null,null,null,null,null,null,null,null,null,null,null,null,null,null,null,null,null,null,null,null,null,null,null,null,null,null,null,null,null,null,null,null,null,null,null,null,null,null,null,null,null,null,null,null,null,null,null,null,null,null,null,null,null,null,null,null,null,null,null,null,null,null,null,null,null,null,null,null,null,null,null,null,null,null,null,null,null,null,null,null,null,null,null,null,null,null,null,null,null,null,null,null,null,null,null,null,null,null,null,null,null,null,null,null,null,null,null,null,null,null,null,null,null,null,null,null,null,null,null,null,null,null,null,null,null,null,null,null,null,null,null,null,null,null,null,null,null,null,null,null,null,null,null,null,null,null,null,null,null,null,null,null,null,null,null,null,null,null,null,null,null,null,null,null,null,null,null,null,null,null,null,null,null,null,null,null,null,null,null,null,null,null,null,null,null,null,null,null,null,null,null,null,null,null,null,null,null,null,null,null,null,null,null,null,null,null,null,null,null,null,null,null,null,null,null,null,null,null,null,null,null,null,null,null,null,null,null,null,null,null,null,null,null,null,null,null,null,null,null,null,null,null,null,null,null,null,null,null,null,null,null,null,null,null,null,null,null,null,null,null,null,null,null,null,null,null,null,null,null,null,null,null,null,null,null,null,null,null,null,null,null,null,null,null,null,null,null,null,null,null,null,null,null,null,null,null,null,null,null,null,null,null,null,null,null,null,null,null,null,null,null,null,null,null,null,null,null,null,null,null,null,null,null,null,null,null,null,null,null,null,null,null,null,null,null,null,null,null,null,null,null,null,null,null,null,null,null,null,null,null,null,null,null,null,null,null,null,null,null,null,null,null,null,null,null,null,null,null,null,null,null,null,null,null,null,null,null,null,null,null,null,null,null,null,null,null,null,null,null,null,null,null,null,null,null,null,null,null,null,null,null,null,null,null,null,null,null,null,null,null,null,null,null,null,null,null,null,null,null,null,null,null,null,null,null,null,null,null,null,null,null,null,null,null,null,null,null,null,null,null,null,null,null,null,null,null,null,null,null,null,null,null,null,null,null,null,null,null,null,null,null,null,null,0,8,29,1]
[480,4.6791664506120041,380,9.7950999999999997,49.975499999999997,0.93583085412542999,null,480,7.65,13.95,5.66,60.24,15.74,12.08,11.66,31.66,567,1.4,10.4,21.82,3.7013034710000001,7.2116038700000002,123.9,4.6791664506120041,0.23681945074928368,null,400,2.4691959067545187E-3,0.93583515267439432,null,400,1,null,null,null,null,null,null,null,null,null,null,null,null,null,null,null,null,null,null,null,null,null,null,null,null,null,null,null,null,null,null,null,null,null,null,null,null,null,null,null,null,null,null,null,null,null,null,null,null,null,null,null,null,null,null,null,null,null,null,null,null,null,null,null,null,null,null,null,null,null,null,null,null,null,null,null,null,null,null,null,null,null,null,null,null,null,null,null,null,null,null,null,null,null,null,null,null,null,null,null,null,null,null,null,null,null,null,null,null,null,null,null,null,null,null,null,null,null,null,null,null,null,null,null,null,null,null,null,null,null,null,null,null,null,null,null,null,null,null,null,null,null,null,null,null,null,null,null,null,null,null,null,null,null,null,null,null,null,null,null,null,null,null,null,null,null,null,null,null,null,null,null,null,null,null,null,null,null,null,null,null,null,null,null,null,null,null,null,null,null,null,null,null,null,null,null,null,null,null,null,null,null,null,null,null,null,null,null,null,null,null,null,null,null,null,null,null,null,null,null,null,null,null,null,null,null,null,null,null,null,null,null,null,null,null,null,null,null,null,null,null,null,null,null,null,null,null,null,null,null,null,null,null,null,null,null,null,null,null,null,null,null,null,null,null,null,null,null,null,null,null,null,null,null,null,null,null,null,null,null,null,null,null,null,null,null,null,null,null,null,null,null,null,null,null,null,null,null,null,null,null,null,null,null,null,null,null,null,null,null,null,null,null,null,null,null,null,null,null,null,null,null,null,null,null,null,null,null,null,null,null,null,null,null,null,null,null,null,null,null,null,null,null,null,null,null,null,null,null,null,null,null,null,null,null,null,null,null,null,null,null,null,null,null,null,null,null,null,null,null,null,null,null,null,null,null,null,null,null,null,null,null,null,null,null,null,null,null,null,null,null,null,null,null,null,null,null,null,null,null,null,null,null,null,null,null,null,null,null,null,null,null,null,null,null,null,null,null,null,null,null,null,null,null,null,null,null,null,null,null,null,null,null,null,null,null,null,null,null,null,null,null,null,null,null,null,null,null,null,null,null,null,null,null,null,null,null,null,null,null,null,null,null,null,null,null,null,null,null,null,null,null,0,8,29,1]
[485,4.6791664506120041,381,10.009600000000001,50.442799999999998,0.93583085412542999,null,485,7.62,13.93,14.29,59.88,17.09,52.56,22.04,40.93,572,1.5,11.1,20.51,3.881165277,6.477890886,122.92,4.6791664506120041,0.21285578658667853,null,401,2.8462215920598624E-3,0.93583515267439432,null,401,1,null,null,null,null,null,null,null,null,null,null,null,null,null,null,null,null,null,null,null,null,null,null,null,null,null,null,null,null,null,null,null,null,null,null,null,null,null,null,null,null,null,null,null,null,null,null,null,null,null,null,null,null,null,null,null,null,null,null,null,null,null,null,null,null,null,null,null,null,null,null,null,null,null,null,null,null,null,null,null,null,null,null,null,null,null,null,null,null,null,null,null,null,null,null,null,null,null,null,null,null,null,null,null,null,null,null,null,null,null,null,null,null,null,null,null,null,null,null,null,null,null,null,null,null,null,null,null,null,null,null,null,null,null,null,null,null,null,null,null,null,null,null,null,null,null,null,null,null,null,null,null,null,null,null,null,null,null,null,null,null,null,null,null,null,null,null,null,null,null,null,null,null,null,null,null,null,null,null,null,null,null,null,null,null,null,null,null,null,null,null,null,null,null,null,null,null,null,null,null,null,null,null,null,null,null,null,null,null,null,null,null,null,null,null,null,null,null,null,null,null,null,null,null,null,null,null,null,null,null,null,null,null,null,null,null,null,null,null,null,null,null,null,null,null,null,null,null,null,null,null,null,null,null,null,null,null,null,null,null,null,null,null,null,null,null,null,null,null,null,null,null,null,null,null,null,null,null,null,null,null,null,null,null,null,null,null,null,null,null,null,null,null,null,null,null,null,null,null,null,null,null,null,null,null,null,null,null,null,null,null,null,null,null,null,null,null,null,null,null,null,null,null,null,null,null,null,null,null,null,null,null,null,null,null,null,null,null,null,null,null,null,null,null,null,null,null,null,null,null,null,null,null,null,null,null,null,null,null,null,null,null,null,null,null,null,null,null,null,null,null,null,null,null,null,null,null,null,null,null,null,null,null,null,null,null,null,null,null,null,null,null,null,null,null,null,null,null,null,null,null,null,null,null,null,null,null,null,null,null,null,null,null,null,null,null,null,null,null,null,null,null,null,null,null,null,null,null,null,null,null,null,null,null,null,null,null,null,null,null,null,null,null,null,null,null,null,null,null,null,null,null,null,null,null,null,null,null,null,null,null,null,null,null,null,null,null,null,null,null,null,null,0,8,29,1]
[{"$f":"IF(AND(INDEX(C33:SI33,$B$4)>=360,INDEX(C33:SI33,$B$4)<=830),INDEX(C33:SI33,$B$4),\"\")","v":490},{"$f":"IF($F$6,INDEX(D33:SI33,$B$1),\"\")","v":4.6791664506120041},382,10.2273,50.91,0.93583085412542999,null,490,7.62,13.82,14.96,59.88,19.600000000000001,55.42,26.17,45.83,575,3.2,13.44,23.05,4.2577888140000004,6.4888240780000004,120.7,4.6791664506120041,0.20993174034645679,null,402,3.2808135978477392E-3,0.93583515267439432,null,402,1,null,null,null,null,null,null,null,null,null,null,null,null,null,null,null,null,null,null,null,null,null,null,null,null,null,null,null,null,null,null,null,null,null,null,null,null,null,null,null,null,null,null,null,null,null,null,null,null,null,null,null,null,null,null,null,null,null,null,null,null,null,null,null,null,null,null,null,null,null,null,null,null,null,null,null,null,null,null,null,null,null,null,null,null,null,null,null,null,null,null,null,null,null,null,null,null,null,null,null,null,null,null,null,null,null,null,null,null,null,null,null,null,null,null,null,null,null,null,null,null,null,null,null,null,null,null,null,null,null,null,null,null,null,null,null,null,null,null,null,null,null,null,null,null,null,null,null,null,null,null,null,null,null,null,null,null,null,null,null,null,null,null,null,null,null,null,null,null,null,null,null,null,null,null,null,null,null,null,null,null,null,null,null,null,null,null,null,null,null,null,null,null,null,null,null,null,null,null,null,null,null,null,null,null,null,null,null,null,null,null,null,null,null,null,null,null,null,null,null,null,null,null,null,null,null,null,null,null,null,null,null,null,null,null,null,null,null,null,null,null,null,null,null,null,null,null,null,null,null,null,null,null,null,null,null,null,null,null,null,null,null,null,null,null,null,null,null,null,null,null,null,null,null,null,null,null,null,null,null,null,null,null,null,null,null,null,null,null,null,null,null,null,null,null,null,null,null,null,null,null,null,null,null,null,null,null,null,null,null,null,null,null,null,null,null,null,null,null,null,null,null,null,null,null,null,null,null,null,null,null,null,null,null,null,null,null,null,null,null,null,null,null,null,null,null,null,null,null,null,null,null,null,null,null,null,null,null,null,null,null,null,null,null,null,null,null,null,null,null,null,null,null,null,null,null,null,null,null,null,null,null,null,null,null,null,null,null,null,null,null,null,null,null,null,null,null,null,null,null,null,null,null,null,null,null,null,null,null,null,null,null,null,null,null,null,null,null,null,null,null,null,null,null,null,null,null,null,null,null,null,null,null,null,null,null,null,null,null,null,null,null,null,null,null,null,null,null,null,null,null,null,null,null,null,null,null,null,null,null,null,null,null,null,null,null,null,null,null,null,null,null,0,8,29,1]
[495,4.6791664506120041,383,10.4481,51.377299999999998,0.93583085412542999,null,495,7.45,13.64,8.9700000000000006,58.6,21.05,31.69,18.57,46,561,18.18,22.62,26.98,4.7873732249999996,7.0498286969999997,116.9,4.6791664506120041,0.22565961653611735,null,403,3.7817606832294894E-3,0.93583515267439432,null,403,1,null,null,null,null,null,null,null,null,null,null,null,null,null,null,null,null,null,null,null,null,null,null,null,null,null,null,null,null,null,null,null,null,null,null,null,null,null,null,null,null,null,null,null,null,null,null,null,null,null,null,null,null,null,null,null,null,null,null,null,null,null,null,null,null,null,null,null,null,null,null,null,null,null,null,null,null,null,null,null,null,null,null,null,null,null,null,null,null,null,null,null,null,null,null,null,null,null,null,null,null,null,null,null,null,null,null,null,null,null,null,null,null,null,null,null,null,null,null,null,null,null,null,null,null,null,null,null,null,null,null,null,null,null,null,null,null,null,null,null,null,null,null,null,null,null,null,null,null,null,null,null,null,null,null,null,null,null,null,null,null,null,null,null,null,null,null,null,null,null,null,null,null,null,null,null,null,null,null,null,null,null,null,null,null,null,null,null,null,null,null,null,null,null,null,null,null,null,null,null,null,null,null,null,null,null,null,null,null,null,null,null,null,null,null,null,null,null,null,null,null,null,null,null,null,null,null,null,null,null,null,null,null,null,null,null,null,null,null,null,null,null,null,null,null,null,null,null,null,null,null,null,null,null,null,null,null,null,null,null,null,null,null,null,null,null,null,null,null,null,null,null,null,null,null,null,null,null,null,null,null,null,null,null,null,null,null,null,null,null,null,null,null,null,null,null,null,null,null,null,null,null,null,null,null,null,null,null,null,null,null,null,null,null,null,null,null,null,null,null,null,null,null,null,null,null,null,null,null,null,null,null,null,null,null,null,null,null,null,null,null,null,null,null,null,null,null,null,null,null,null,null,null,null,null,null,null,null,null,null,null,null,null,null,null,null,null,null,null,null,null,null,null,null,null,null,null,null,null,null,null,null,null,null,null,null,null,null,null,null,null,null,null,null,null,null,null,null,null,null,null,null,null,null,null,null,null,null,null,null,null,null,null,null,null,null,null,null,null,null,null,null,null,null,null,null,null,null,null,null,null,null,null,null,null,null,null,null,null,null,null,null,null,null,null,null,null,null,null,null,null,null,null,null,null,null,null,null,null,null,null,null,null,null,null,null,null,null,null,null,null,null,0,8,29,1]
[500,4.6791664506120041,384,10.6722,51.8446,0.93583085412542999,null,500,7.28,13.43,4.72,57.85,23.96,16.03,11.36,45.26,548,56.24,49.71,30.96,5.4063244509999997,8.0995180290000004,112.1,4.6791664506120041,0.25998835803395759,null,404,4.3591931480849357E-3,0.93583515267439432,null,404,1,null,null,null,null,null,null,null,null,null,null,null,null,null,null,null,null,null,null,null,null,null,null,null,null,null,null,null,null,null,null,null,null,null,null,null,null,null,null,null,null,null,null,null,null,null,null,null,null,null,null,null,null,null,null,null,null,null,null,null,null,null,null,null,null,null,null,null,null,null,null,null,null,null,null,null,null,null,null,null,null,null,null,null,null,null,null,null,null,null,null,null,null,null,null,null,null,null,null,null,null,null,null,null,null,null,null,null,null,null,null,null,null,null,null,null,null,null,null,null,null,null,null,null,null,null,null,null,null,null,null,null,null,null,null,null,null,null,null,null,null,null,null,null,null,null,null,null,null,null,null,null,null,null,null,null,null,null,null,null,null,null,null,null,null,null,null,null,null,null,null,null,null,null,null,null,null,null,null,null,null,null,null,null,null,null,null,null,null,null,null,null,null,null,null,null,null,null,null,null,null,null,null,null,null,null,null,null,null,null,null,null,null,null,null,null,null,null,null,null,null,null,null,null,null,null,null,null,null,null,null,null,null,null,null,null,null,null,null,null,null,null,null,null,null,null,null,null,null,null,null,null,null,null,null,null,null,null,null,null,null,null,null,null,null,null,null,null,null,null,null,null,null,null,null,null,null,null,null,null,null,null,null,null,null,null,null,null,null,null,null,null,null,null,null,null,null,null,null,null,null,null,null,null,null,null,null,null,null,null,null,null,null,null,null,null,null,null,null,null,null,null,null,null,null,null,null,null,null,null,null,null,null,null,null,null,null,null,null,null,null,null,null,null,null,null,null,null,null,null,null,null,null,null,null,null,null,null,null,null,null,null,null,null,null,null,null,null,null,null,null,null,null,null,null,null,null,null,null,null,null,null,null,null,null,null,null,null,null,null,null,null,null,null,null,null,null,null,null,null,null,null,null,null,null,null,null,null,null,null,null,null,null,null,null,null,null,null,null,null,null,null,null,null,null,null,null,null,null,null,null,null,null,null,null,null,null,null,null,null,null,null,null,null,null,null,null,null,null,null,null,null,null,null,null,null,null,null,null,null,null,null,null,null,null,null,null,null,null,null,null,null,0,8,29,1]
[505,4.6791664506120041,385,10.8996,52.311799999999998,0.93583085412542999,null,505,7.15,13.25,2.33,56.29,27.77,6.72,6.83,43.16,527,2.9,17.21,30.72,6.0512913260000003,9.4504868050000006,106.98,4.6791664506120041,0.31084166626295961,null,405,5.0247875255440971E-3,0.93583515267439432,null,405,1,null,null,null,null,null,null,null,null,null,null,null,null,null,null,null,null,null,null,null,null,null,null,null,null,null,null,null,null,null,null,null,null,null,null,null,null,null,null,null,null,null,null,null,null,null,null,null,null,null,null,null,null,null,null,null,null,null,null,null,null,null,null,null,null,null,null,null,null,null,null,null,null,null,null,null,null,null,null,null,null,null,null,null,null,null,null,null,null,null,null,null,null,null,null,null,null,null,null,null,null,null,null,null,null,null,null,null,null,null,null,null,null,null,null,null,null,null,null,null,null,null,null,null,null,null,null,null,null,null,null,null,null,null,null,null,null,null,null,null,null,null,null,null,null,null,null,null,null,null,null,null,null,null,null,null,null,null,null,null,null,null,null,null,null,null,null,null,null,null,null,null,null,null,null,null,null,null,null,null,null,null,null,null,null,null,null,null,null,null,null,null,null,null,null,null,null,null,null,null,null,null,null,null,null,null,null,null,null,null,null,null,null,null,null,null,null,null,null,null,null,null,null,null,null,null,null,null,null,null,null,null,null,null,null,null,null,null,null,null,null,null,null,null,null,null,null,null,null,null,null,null,null,null,null,null,null,null,null,null,null,null,null,null,null,null,null,null,null,null,null,null,null,null,null,null,null,null,null,null,null,null,null,null,null,null,null,null,null,null,null,null,null,null,null,null,null,null,null,null,null,null,null,null,null,null,null,null,null,null,null,null,null,null,null,null,null,null,null,null,null,null,null,null,null,null,null,null,null,null,null,null,null,null,null,null,null,null,null,null,null,null,null,null,null,null,null,null,null,null,null,null,null,null,null,null,null,null,null,null,null,null,null,null,null,null,null,null,null,null,null,null,null,null,null,null,null,null,null,null,null,null,null,null,null,null,null,null,null,null,null,null,null,null,null,null,null,null,null,null,null,null,null,null,null,null,null,null,null,null,null,null,null,null,null,null,null,null,null,null,null,null,null,null,null,null,null,null,null,null,null,null,null,null,null,null,null,null,null,null,null,null,null,null,null,null,null,null,null,null,null,null,null,null,null,null,null,null,null,null,null,null,null,null,null,null,null,null,null,null,null,null,0,8,29,1]
[510,4.6791664506120041,386,11.1302,52.7791,0.93583085412542999,null,510,7.05,13.08,1.47,54.81,32.68,4.59,5.58,41.63,507,2.1,17.12,27.13,6.6961000359999998,10.88178529,102.3,4.6791664506120041,0.37161414710047769,null,406,5.7920024788489241E-3,0.93583515267439432,null,406,1,null,null,null,null,null,null,null,null,null,null,null,null,null,null,null,null,null,null,null,null,null,null,null,null,null,null,null,null,null,null,null,null,null,null,null,null,null,null,null,null,null,null,null,null,null,null,null,null,null,null,null,null,null,null,null,null,null,null,null,null,null,null,null,null,null,null,null,null,null,null,null,null,null,null,null,null,null,null,null,null,null,null,null,null,null,null,null,null,null,null,null,null,null,null,null,null,null,null,null,null,null,null,null,null,null,null,null,null,null,null,null,null,null,null,null,null,null,null,null,null,null,null,null,null,null,null,null,null,null,null,null,null,null,null,null,null,null,null,null,null,null,null,null,null,null,null,null,null,null,null,null,null,null,null,null,null,null,null,null,null,null,null,null,null,null,null,null,null,null,null,null,null,null,null,null,null,null,null,null,null,null,null,null,null,null,null,null,null,null,null,null,null,null,null,null,null,null,null,null,null,null,null,null,null,null,null,null,null,null,null,null,null,null,null,null,null,null,null,null,null,null,null,null,null,null,null,null,null,null,null,null,null,null,null,null,null,null,null,null,null,null,null,null,null,null,null,null,null,null,null,null,null,null,null,null,null,null,null,null,null,null,null,null,null,null,null,null,null,null,null,null,null,null,null,null,null,null,null,null,null,null,null,null,null,null,null,null,null,null,null,null,null,null,null,null,null,null,null,null,null,null,null,null,null,null,null,null,null,null,null,null,null,null,null,null,null,null,null,null,null,null,null,null,null,null,null,null,null,null,null,null,null,null,null,null,null,null,null,null,null,null,null,null,null,null,null,null,null,null,null,null,null,null,null,null,null,null,null,null,null,null,null,null,null,null,null,null,null,null,null,null,null,null,null,null,null,null,null,null,null,null,null,null,null,null,null,null,null,null,null,null,null,null,null,null,null,null,null,null,null,null,null,null,null,null,null,null,null,null,null,null,null,null,null,null,null,null,null,null,null,null,null,null,null,null,null,null,null,null,null,null,null,null,null,null,null,null,null,null,null,null,null,null,null,null,null,null,null,null,null,null,null,null,null,null,null,null,null,null,null,null,null,null,null,null,null,null,null,null,null,null,0,8,29,1]
[515,4.6791664506120041,387,11.364000000000001,53.246400000000001,0.93583085412542999,null,515,7.04,12.93,1.1000000000000001,53.42,38.29,3.67,4.88,39.75,482,13.39,27.26,29.55,7.3386503559999996,12.21782069,98.81,4.6791664506120041,0.43606391801633948,null,407,6.6763506504678577E-3,0.93583515267439432,null,407,1,null,null,null,null,null,null,null,null,null,null,null,null,null,null,null,null,null,null,null,null,null,null,null,null,null,null,null,null,null,null,null,null,null,null,null,null,null,null,null,null,null,null,null,null,null,null,null,null,null,null,null,null,null,null,null,null,null,null,null,null,null,null,null,null,null,null,null,null,null,null,null,null,null,null,null,null,null,null,null,null,null,null,null,null,null,null,null,null,null,null,null,null,null,null,null,null,null,null,null,null,null,null,null,null,null,null,null,null,null,null,null,null,null,null,null,null,null,null,null,null,null,null,null,null,null,null,null,null,null,null,null,null,null,null,null,null,null,null,null,null,null,null,null,null,null,null,null,null,null,null,null,null,null,null,null,null,null,null,null,null,null,null,null,null,null,null,null,null,null,null,null,null,null,null,null,null,null,null,null,null,null,null,null,null,null,null,null,null,null,null,null,null,null,null,null,null,null,null,null,null,null,null,null,null,null,null,null,null,null,null,null,null,null,null,null,null,null,null,null,null,null,null,null,null,null,null,null,null,null,null,null,null,null,null,null,null,null,null,null,null,null,null,null,null,null,null,null,null,null,null,null,null,null,null,null,null,null,null,null,null,null,null,null,null,null,null,null,null,null,null,null,null,null,null,null,null,null,null,null,null,null,null,null,null,null,null,null,null,null,null,null,null,null,null,null,null,null,null,null,null,null,null,null,null,null,null,null,null,null,null,null,null,null,null,null,null,null,null,null,null,null,null,null,null,null,null,null,null,null,null,null,null,null,null,null,null,null,null,null,null,null,null,null,null,null,null,null,null,null,null,null,null,null,null,null,null,null,null,null,null,null,null,null,null,null,null,null,null,null,null,null,null,null,null,null,null,null,null,null,null,null,null,null,null,null,null,null,null,null,null,null,null,null,null,null,null,null,null,null,null,null,null,null,null,null,null,null,null,null,null,null,null,null,null,null,null,null,null,null,null,null,null,null,null,null,null,null,null,null,null,null,null,null,null,null,null,null,null,null,null,null,null,null,null,null,null,null,null,null,null,null,null,null,null,null,null,null,null,null,null,null,null,null,null,null,null,null,null,null,null,null,0,8,29,1]
[520,4.6791664506120041,388,11.6012,53.713700000000003,0.93583085412542999,null,520,7.16,12.78,0.89,52.7,43.76,3.02,4.3099999999999996,37.83,461,2.1,20.02,34.22,7.9832565219999996,13.37629078,96.9,4.6791664506120041,0.49931971205704584,null,408,7.6957119307583368E-3,0.93583515267439432,null,408,1,null,null,null,null,null,null,null,null,null,null,null,null,null,null,null,null,null,null,null,null,null,null,null,null,null,null,null,null,null,null,null,null,null,null,null,null,null,null,null,null,null,null,null,null,null,null,null,null,null,null,null,null,null,null,null,null,null,null,null,null,null,null,null,null,null,null,null,null,null,null,null,null,null,null,null,null,null,null,null,null,null,null,null,null,null,null,null,null,null,null,null,null,null,null,null,null,null,null,null,null,null,null,null,null,null,null,null,null,null,null,null,null,null,null,null,null,null,null,null,null,null,null,null,null,null,null,null,null,null,null,null,null,null,null,null,null,null,null,null,null,null,null,null,null,null,null,null,null,null,null,null,null,null,null,null,null,null,null,null,null,null,null,null,null,null,null,null,null,null,null,null,null,null,null,null,null,null,null,null,null,null,null,null,null,null,null,null,null,null,null,null,null,null,null,null,null,null,null,null,null,null,null,null,null,null,null,null,null,null,null,null,null,null,null,null,null,null,null,null,null,null,null,null,null,null,null,null,null,null,null,null,null,null,null,null,null,null,null,null,null,null,null,null,null,null,null,null,null,null,null,null,null,null,null,null,null,null,null,null,null,null,null,null,null,null,null,null,null,null,null,null,null,null,null,null,null,null,null,null,null,null,null,null,null,null,null,null,null,null,null,null,null,null,null,null,null,null,null,null,null,null,null,null,null,null,null,null,null,null,null,null,null,null,null,null,null,null,null,null,null,null,null,null,null,null,null,null,null,null,null,null,null,null,null,null,null,null,null,null,null,null,null,null,null,null,null,null,null,null,null,null,null,null,null,null,null,null,null,null,null,null,null,null,null,null,null,null,null,null,null,null,null,null,null,null,null,null,null,null,null,null,null,null,null,null,null,null,null,null,null,null,null,null,null,null,null,null,null,null,null,null,null,null,null,null,null,null,null,null,null,null,null,null,null,null,null,null,null,null,null,null,null,null,null,null,null,null,null,null,null,null,null,null,null,null,null,null,null,null,null,null,null,null,null,null,null,null,null,null,null,null,null,null,null,null,null,null,null,null,null,null,null,null,null,null,null,null,null,null,null,null,0,8,29,1]
[525,4.6791664506120041,389,11.8416,54.180900000000001,0.93583085412542999,null,525,7.47,12.6,0.83,52.5,47.72,3.21,3.76,36.159999999999997,438,2,21.54,29.98,8.6371706669999995,14.29472241,96.78,4.6791664506120041,0.55895072417325298,null,409,8.8706944409168917E-3,0.93583515267439432,null,409,1,null,null,null,null,null,null,null,null,null,null,null,null,null,null,null,null,null,null,null,null,null,null,null,null,null,null,null,null,null,null,null,null,null,null,null,null,null,null,null,null,null,null,null,null,null,null,null,null,null,null,null,null,null,null,null,null,null,null,null,null,null,null,null,null,null,null,null,null,null,null,null,null,null,null,null,null,null,null,null,null,null,null,null,null,null,null,null,null,null,null,null,null,null,null,null,null,null,null,null,null,null,null,null,null,null,null,null,null,null,null,null,null,null,null,null,null,null,null,null,null,null,null,null,null,null,null,null,null,null,null,null,null,null,null,null,null,null,null,null,null,null,null,null,null,null,null,null,null,null,null,null,null,null,null,null,null,null,null,null,null,null,null,null,null,null,null,null,null,null,null,null,null,null,null,null,null,null,null,null,null,null,null,null,null,null,null,null,null,null,null,null,null,null,null,null,null,null,null,null,null,null,null,null,null,null,null,null,null,null,null,null,null,null,null,null,null,null,null,null,null,null,null,null,null,null,null,null,null,null,null,null,null,null,null,null,null,null,null,null,null,null,null,null,null,null,null,null,null,null,null,null,null,null,null,null,null,null,null,null,null,null,null,null,null,null,null,null,null,null,null,null,null,null,null,null,null,null,null,null,null,null,null,null,null,null,null,null,null,null,null,null,null,null,null,null,null,null,null,null,null,null,null,null,null,null,null,null,null,null,null,null,null,null,null,null,null,null,null,null,null,null,null,null,null,null,null,null,null,null,null,null,null,null,null,null,null,null,null,null,null,null,null,null,null,null,null,null,null,null,null,null,null,null,null,null,null,null,null,null,null,null,null,null,null,null,null,null,null,null,null,null,null,null,null,null,null,null,null,null,null,null,null,null,null,null,null,null,null,null,null,null,null,null,null,null,null,null,null,null,null,null,null,null,null,null,null,null,null,null,null,null,null,null,null,null,null,null,null,null,null,null,null,null,null,null,null,null,null,null,null,null,null,null,null,null,null,null,null,null,null,null,null,null,null,null,null,null,null,null,null,null,null,null,null,null,null,null,null,null,null,null,null,null,null,null,null,null,null,null,null,null,0,8,29,1]
[530,4.6791664506120041,390,12.0853,54.648200000000003,0.93583085412542999,null,530,8.0399999999999991,12.44,1.18,53.3,50.27,4.9000000000000004,3.61,35.25,418,2.2000000000000002,23.36,41.21,9.3147494930000008,14.983543989999999,98,4.6791664506120041,0.61231817287123225,null,410,1.0225050476327571E-2,0.93583515267439432,null,410,1,null,null,null,null,null,null,null,null,null,null,null,null,null,null,null,null,null,null,null,null,null,null,null,null,null,null,null,null,null,null,null,null,null,null,null,null,null,null,null,null,null,null,null,null,null,null,null,null,null,null,null,null,null,null,null,null,null,null,null,null,null,null,null,null,null,null,null,null,null,null,null,null,null,null,null,null,null,null,null,null,null,null,null,null,null,null,null,null,null,null,null,null,null,null,null,null,null,null,null,null,null,null,null,null,null,null,null,null,null,null,null,null,null,null,null,null,null,null,null,null,null,null,null,null,null,null,null,null,null,null,null,null,null,null,null,null,null,null,null,null,null,null,null,null,null,null,null,null,null,null,null,null,null,null,null,null,null,null,null,null,null,null,null,null,null,null,null,null,null,null,null,null,null,null,null,null,null,null,null,null,null,null,null,null,null,null,null,null,null,null,null,null,null,null,null,null,null,null,null,null,null,null,null,null,null,null,null,null,null,null,null,null,null,null,null,null,null,null,null,null,null,null,null,null,null,null,null,null,null,null,null,null,null,null,null,null,null,null,null,null,null,null,null,null,null,null,null,null,null,null,null,null,null,null,null,null,null,null,null,null,null,null,null,null,null,null,null,null,null,null,null,null,null,null,null,null,null,null,null,null,null,null,null,null,null,null,null,null,null,null,null,null,null,null,null,null,null,null,null,null,null,null,null,null,null,null,null,null,null,null,null,null,null,null,null,null,null,null,null,null,null,null,null,null,null,null,null,null,null,null,null,null,null,null,null,null,null,null,null,null,null,null,null,null,null,null,null,null,null,null,null,null,null,null,null,null,null,null,null,null,null,null,null,null,null,null,null,null,null,null,null,null,null,null,null,null,null,null,null,null,null,null,null,null,null,null,null,null,null,null,null,null,null,null,null,null,null,null,null,null,null,null,null,null,null,null,null,null,null,null,null,null,null,null,null,null,null,null,null,null,null,null,null,null,null,null,null,null,null,null,null,null,null,null,null,null,null,null,null,null,null,null,null,null,null,null,null,null,null,null,null,null,null,null,null,null,null,null,null,null,null,null,null,null,null,null,null,null,null,null,null,0,8,29,1]
[535,4.6791664506120041,391,12.3324,57.4589,0.93583085412542999,null,535,8.8800000000000008,12.33,4.9000000000000004,54.89,51.78,19.05,5.62,37.04,404,2.2999999999999998,25.66,173.14,10.01913206,15.477624049999999,99.94,4.6791664506120041,0.6584465473068688,null,411,1.1772443558854316E-2,0.93583515267439432,null,411,1,null,null,null,null,null,null,null,null,null,null,null,null,null,null,null,null,null,null,null,null,null,null,null,null,null,null,null,null,null,null,null,null,null,null,null,null,null,null,null,null,null,null,null,null,null,null,null,null,null,null,null,null,null,null,null,null,null,null,null,null,null,null,null,null,null,null,null,null,null,null,null,null,null,null,null,null,null,null,null,null,null,null,null,null,null,null,null,null,null,null,null,null,null,null,null,null,null,null,null,null,null,null,null,null,null,null,null,null,null,null,null,null,null,null,null,null,null,null,null,null,null,null,null,null,null,null,null,null,null,null,null,null,null,null,null,null,null,null,null,null,null,null,null,null,null,null,null,null,null,null,null,null,null,null,null,null,null,null,null,null,null,null,null,null,null,null,null,null,null,null,null,null,null,null,null,null,null,null,null,null,null,null,null,null,null,null,null,null,null,null,null,null,null,null,null,null,null,null,null,null,null,null,null,null,null,null,null,null,null,null,null,null,null,null,null,null,null,null,null,null,null,null,null,null,null,null,null,null,null,null,null,null,null,null,null,null,null,null,null,null,null,null,null,null,null,null,null,null,null,null,null,null,null,null,null,null,null,null,null,null,null,null,null,null,null,null,null,null,null,null,null,null,null,null,null,null,null,null,null,null,null,null,null,null,null,null,null,null,null,null,null,null,null,null,null,null,null,null,null,null,null,null,null,null,null,null,null,null,null,null,null,null,null,null,null,null,null,null,null,null,null,null,null,null,null,null,null,null,null,null,null,null,null,null,null,null,null,null,null,null,null,null,null,null,null,null,null,null,null,null,null,null,null,null,null,null,null,null,null,null,null,null,null,null,null,null,null,null,null,null,null,null,null,null,null,null,null,null,null,null,null,null,null,null,null,null,null,null,null,null,null,null,null,null,null,null,null,null,null,null,null,null,null,null,null,null,null,null,null,null,null,null,null,null,null,null,null,null,null,null,null,null,null,null,null,null,null,null,null,null,null,null,null,null,null,null,null,null,null,null,null,null,null,null,null,null,null,null,null,null,null,null,null,null,null,null,null,null,null,null,null,null,null,null,null,null,null,null,null,null,null,0,8,29,1]
[540,4.6791664506120041,392,12.582800000000001,60.269500000000001,0.93583085412542999,null,540,10.01,12.26,39.590000000000003,57.61,52.68,177.64,38.590000000000003,59.86,429,2.6,29.69,141.37,10.757363529999999,15.81091638,102.1,4.6791664506120041,0.69848180838657226,null,412,1.3515711614470918E-2,0.93583515267439432,null,412,1,null,null,null,null,null,null,null,null,null,null,null,null,null,null,null,null,null,null,null,null,null,null,null,null,null,null,null,null,null,null,null,null,null,null,null,null,null,null,null,null,null,null,null,null,null,null,null,null,null,null,null,null,null,null,null,null,null,null,null,null,null,null,null,null,null,null,null,null,null,null,null,null,null,null,null,null,null,null,null,null,null,null,null,null,null,null,null,null,null,null,null,null,null,null,null,null,null,null,null,null,null,null,null,null,null,null,null,null,null,null,null,null,null,null,null,null,null,null,null,null,null,null,null,null,null,null,null,null,null,null,null,null,null,null,null,null,null,null,null,null,null,null,null,null,null,null,null,null,null,null,null,null,null,null,null,null,null,null,null,null,null,null,null,null,null,null,null,null,null,null,null,null,null,null,null,null,null,null,null,null,null,null,null,null,null,null,null,null,null,null,null,null,null,null,null,null,null,null,null,null,null,null,null,null,null,null,null,null,null,null,null,null,null,null,null,null,null,null,null,null,null,null,null,null,null,null,null,null,null,null,null,null,null,null,null,null,null,null,null,null,null,null,null,null,null,null,null,null,null,null,null,null,null,null,null,null,null,null,null,null,null,null,null,null,null,null,null,null,null,null,null,null,null,null,null,null,null,null,null,null,null,null,null,null,null,null,null,null,null,null,null,null,null,null,null,null,null,null,null,null,null,null,null,null,null,null,null,null,null,null,null,null,null,null,null,null,null,null,null,null,null,null,null,null,null,null,null,null,null,null,null,null,null,null,null,null,null,null,null,null,null,null,null,null,null,null,null,null,null,null,null,null,null,null,null,null,null,null,null,null,null,null,null,null,null,null,null,null,null,null,null,null,null,null,null,null,null,null,null,null,null,null,null,null,null,null,null,null,null,null,null,null,null,null,null,null,null,null,null,null,null,null,null,null,null,null,null,null,null,null,null,null,null,null,null,null,null,null,null,null,null,null,null,null,null,null,null,null,null,null,null,null,null,null,null,null,null,null,null,null,null,null,null,null,null,null,null,null,null,null,null,null,null,null,null,null,null,null,null,null,null,null,null,null,null,null,null,null,null,null,null,0,8,29,1]
[545,4.6791664506120041,393,12.836600000000001,63.080199999999998,0.93583085412542999,null,545,24.88,29.52,72.84,182.75,167.36,347.34,100,183.53,1016,5.0999999999999996,43.12,64.98,11.53295136,16.005860080000001,103.95,4.6791664506120041,0.73549176277963701,null,413,1.5555374690160188E-2,0.93583515267439432,null,413,1,null,null,null,null,null,null,null,null,null,null,null,null,null,null,null,null,null,null,null,null,null,null,null,null,null,null,null,null,null,null,null,null,null,null,null,null,null,null,null,null,null,null,null,null,null,null,null,null,null,null,null,null,null,null,null,null,null,null,null,null,null,null,null,null,null,null,null,null,null,null,null,null,null,null,null,null,null,null,null,null,null,null,null,null,null,null,null,null,null,null,null,null,null,null,null,null,null,null,null,null,null,null,null,null,null,null,null,null,null,null,null,null,null,null,null,null,null,null,null,null,null,null,null,null,null,null,null,null,null,null,null,null,null,null,null,null,null,null,null,null,null,null,null,null,null,null,null,null,null,null,null,null,null,null,null,null,null,null,null,null,null,null,null,null,null,null,null,null,null,null,null,null,null,null,null,null,null,null,null,null,null,null,null,null,null,null,null,null,null,null,null,null,null,null,null,null,null,null,null,null,null,null,null,null,null,null,null,null,null,null,null,null,null,null,null,null,null,null,null,null,null,null,null,null,null,null,null,null,null,null,null,null,null,null,null,null,null,null,null,null,null,null,null,null,null,null,null,null,null,null,null,null,null,null,null,null,null,null,null,null,null,null,null,null,null,null,null,null,null,null,null,null,null,null,null,null,null,null,null,null,null,null,null,null,null,null,null,null,null,null,null,null,null,null,null,null,null,null,null,null,null,null,null,null,null,null,null,null,null,null,null,null,null,null,null,null,null,null,null,null,null,null,null,null,null,null,null,null,null,null,null,null,null,null,null,null,null,null,null,null,null,null,null,null,null,null,null,null,null,null,null,null,null,null,null,null,null,null,null,null,null,null,null,null,null,null,null,null,null,null,null,null,null,null,null,null,null,null,null,null,null,null,null,null,null,null,null,null,null,null,null,null,null,null,null,null,null,null,null,null,null,null,null,null,null,null,null,null,null,null,null,null,null,null,null,null,null,null,null,null,null,null,null,null,null,null,null,null,null,null,null,null,null,null,null,null,null,null,null,null,null,null,null,null,null,null,null,null,null,null,null,null,null,null,null,null,null,null,null,null,null,null,null,null,null,null,null,null,null,null,null,0,8,29,1]
[550,4.6791664506120041,394,13.0938,65.890900000000002,0.93583085412542999,null,550,16.64,17.05,32.61,65.27,55.29,116.8,36.54,59.03,581,11.39,98.3,33.83,12.37598745,16.104102390000001,105.2,4.6791664506120041,0.77066112125559127,null,414,1.7973616482034216E-2,0.93583515267439432,null,414,1,null,null,null,null,null,null,null,null,null,null,null,null,null,null,null,null,null,null,null,null,null,null,null,null,null,null,null,null,null,null,null,null,null,null,null,null,null,null,null,null,null,null,null,null,null,null,null,null,null,null,null,null,null,null,null,null,null,null,null,null,null,null,null,null,null,null,null,null,null,null,null,null,null,null,null,null,null,null,null,null,null,null,null,null,null,null,null,null,null,null,null,null,null,null,null,null,null,null,null,null,null,null,null,null,null,null,null,null,null,null,null,null,null,null,null,null,null,null,null,null,null,null,null,null,null,null,null,null,null,null,null,null,null,null,null,null,null,null,null,null,null,null,null,null,null,null,null,null,null,null,null,null,null,null,null,null,null,null,null,null,null,null,null,null,null,null,null,null,null,null,null,null,null,null,null,null,null,null,null,null,null,null,null,null,null,null,null,null,null,null,null,null,null,null,null,null,null,null,null,null,null,null,null,null,null,null,null,null,null,null,null,null,null,null,null,null,null,null,null,null,null,null,null,null,null,null,null,null,null,null,null,null,null,null,null,null,null,null,null,null,null,null,null,null,null,null,null,null,null,null,null,null,null,null,null,null,null,null,null,null,null,null,null,null,null,null,null,null,null,null,null,null,null,null,null,null,null,null,null,null,null,null,null,null,null,null,null,null,null,null,null,null,null,null,null,null,null,null,null,null,null,null,null,null,null,null,null,null,null,null,null,null,null,null,null,null,null,null,null,null,null,null,null,null,null,null,null,null,null,null,null,null,null,null,null,null,null,null,null,null,null,null,null,null,null,null,null,null,null,null,null,null,null,null,null,null,null,null,null,null,null,null,null,null,null,null,null,null,null,null,null,null,null,null,null,null,null,null,null,null,null,null,null,null,null,null,null,null,null,null,null,null,null,null,null,null,null,null,null,null,null,null,null,null,null,null,null,null,null,null,null,null,null,null,null,null,null,null,null,null,null,null,null,null,null,null,null,null,null,null,null,null,null,null,null,null,null,null,null,null,null,null,null,null,null,null,null,null,null,null,null,null,null,null,null,null,null,null,null,null,null,null,null,null,null,null,null,null,null,null,null,0,8,29,1]
[555,4.6791664506120041,395,13.3543,68.701499999999996,0.93583085412542999,null,555,14.59,12.44,7.52,69.41,56.94,31.87,10.57,47.93,370,15.48,125.6,34.26,13.276285850000001,16.13466669,105.67,4.6791664506120041,0.80419688981102544,null,415,2.0818698098575044E-2,0.93583515267439432,null,415,1,null,null,null,null,null,null,null,null,null,null,null,null,null,null,null,null,null,null,null,null,null,null,null,null,null,null,null,null,null,null,null,null,null,null,null,null,null,null,null,null,null,null,null,null,null,null,null,null,null,null,null,null,null,null,null,null,null,null,null,null,null,null,null,null,null,null,null,null,null,null,null,null,null,null,null,null,null,null,null,null,null,null,null,null,null,null,null,null,null,null,null,null,null,null,null,null,null,null,null,null,null,null,null,null,null,null,null,null,null,null,null,null,null,null,null,null,null,null,null,null,null,null,null,null,null,null,null,null,null,null,null,null,null,null,null,null,null,null,null,null,null,null,null,null,null,null,null,null,null,null,null,null,null,null,null,null,null,null,null,null,null,null,null,null,null,null,null,null,null,null,null,null,null,null,null,null,null,null,null,null,null,null,null,null,null,null,null,null,null,null,null,null,null,null,null,null,null,null,null,null,null,null,null,null,null,null,null,null,null,null,null,null,null,null,null,null,null,null,null,null,null,null,null,null,null,null,null,null,null,null,null,null,null,null,null,null,null,null,null,null,null,null,null,null,null,null,null,null,null,null,null,null,null,null,null,null,null,null,null,null,null,null,null,null,null,null,null,null,null,null,null,null,null,null,null,null,null,null,null,null,null,null,null,null,null,null,null,null,null,null,null,null,null,null,null,null,null,null,null,null,null,null,null,null,null,null,null,null,null,null,null,null,null,null,null,null,null,null,null,null,null,null,null,null,null,null,null,null,null,null,null,null,null,null,null,null,null,null,null,null,null,null,null,null,null,null,null,null,null,null,null,null,null,null,null,null,null,null,null,null,null,null,null,null,null,null,null,null,null,null,null,null,null,null,null,null,null,null,null,null,null,null,null,null,null,null,null,null,null,null,null,null,null,null,null,null,null,null,null,null,null,null,null,null,null,null,null,null,null,null,null,null,null,null,null,null,null,null,null,null,null,null,null,null,null,null,null,null,null,null,null,null,null,null,null,null,null,null,null,null,null,null,null,null,null,null,null,null,null,null,null,null,null,null,null,null,null,null,null,null,null,null,null,null,null,null,null,null,null,null,null,0,8,29,1]
[560,4.6791664506120041,396,13.6182,71.512200000000007,0.93583085412542999,null,560,16.16,12.58,2.83,73.28,59.3,16.37,2.98,48.67,368,20.78,134.57,33.32,14.225995709999999,16.095792459999998,105.3,4.6791664506120041,0.83622552311799836,null,416,2.4050998258166492E-2,0.93583515267439432,null,416,1,null,null,null,null,null,null,null,null,null,null,null,null,null,null,null,null,null,null,null,null,null,null,null,null,null,null,null,null,null,null,null,null,null,null,null,null,null,null,null,null,null,null,null,null,null,null,null,null,null,null,null,null,null,null,null,null,null,null,null,null,null,null,null,null,null,null,null,null,null,null,null,null,null,null,null,null,null,null,null,null,null,null,null,null,null,null,null,null,null,null,null,null,null,null,null,null,null,null,null,null,null,null,null,null,null,null,null,null,null,null,null,null,null,null,null,null,null,null,null,null,null,null,null,null,null,null,null,null,null,null,null,null,null,null,null,null,null,null,null,null,null,null,null,null,null,null,null,null,null,null,null,null,null,null,null,null,null,null,null,null,null,null,null,null,null,null,null,null,null,null,null,null,null,null,null,null,null,null,null,null,null,null,null,null,null,null,null,null,null,null,null,null,null,null,null,null,null,null,null,null,null,null,null,null,null,null,null,null,null,null,null,null,null,null,null,null,null,null,null,null,null,null,null,null,null,null,null,null,null,null,null,null,null,null,null,null,null,null,null,null,null,null,null,null,null,null,null,null,null,null,null,null,null,null,null,null,null,null,null,null,null,null,null,null,null,null,null,null,null,null,null,null,null,null,null,null,null,null,null,null,null,null,null,null,null,null,null,null,null,null,null,null,null,null,null,null,null,null,null,null,null,null,null,null,null,null,null,null,null,null,null,null,null,null,null,null,null,null,null,null,null,null,null,null,null,null,null,null,null,null,null,null,null,null,null,null,null,null,null,null,null,null,null,null,null,null,null,null,null,null,null,null,null,null,null,null,null,null,null,null,null,null,null,null,null,null,null,null,null,null,null,null,null,null,null,null,null,null,null,null,null,null,null,null,null,null,null,null,null,null,null,null,null,null,null,null,null,null,null,null,null,null,null,null,null,null,null,null,null,null,null,null,null,null,null,null,null,null,null,null,null,null,null,null,null,null,null,null,null,null,null,null,null,null,null,null,null,null,null,null,null,null,null,null,null,null,null,null,null,null,null,null,null,null,null,null,null,null,null,null,null,null,null,null,null,null,null,null,null,null,null,0,8,29,1]
[565,4.6791664506120041,397,13.8855,74.322900000000004,0.93583085412542999,null,565,17.559999999999999,12.72,1.96,76.56,62.15,14.92,2.0499999999999998,52.69,371,55.64,149.69999999999999,52.8,15.19858544,15.981005250000001,104.11,4.6791664506120041,0.86750595335138514,null,417,2.777233354967466E-2,0.93583515267439432,null,417,1,null,null,null,null,null,null,null,null,null,null,null,null,null,null,null,null,null,null,null,null,null,null,null,null,null,null,null,null,null,null,null,null,null,null,null,null,null,null,null,null,null,null,null,null,null,null,null,null,null,null,null,null,null,null,null,null,null,null,null,null,null,null,null,null,null,null,null,null,null,null,null,null,null,null,null,null,null,null,null,null,null,null,null,null,null,null,null,null,null,null,null,null,null,null,null,null,null,null,null,null,null,null,null,null,null,null,null,null,null,null,null,null,null,null,null,null,null,null,null,null,null,null,null,null,null,null,null,null,null,null,null,null,null,null,null,null,null,null,null,null,null,null,null,null,null,null,null,null,null,null,null,null,null,null,null,null,null,null,null,null,null,null,null,null,null,null,null,null,null,null,null,null,null,null,null,null,null,null,null,null,null,null,null,null,null,null,null,null,null,null,null,null,null,null,null,null,null,null,null,null,null,null,null,null,null,null,null,null,null,null,null,null,null,null,null,null,null,null,null,null,null,null,null,null,null,null,null,null,null,null,null,null,null,null,null,null,null,null,null,null,null,null,null,null,null,null,null,null,null,null,null,null,null,null,null,null,null,null,null,null,null,null,null,null,null,null,null,null,null,null,null,null,null,null,null,null,null,null,null,null,null,null,null,null,null,null,null,null,null,null,null,null,null,null,null,null,null,null,null,null,null,null,null,null,null,null,null,null,null,null,null,null,null,null,null,null,null,null,null,null,null,null,null,null,null,null,null,null,null,null,null,null,null,null,null,null,null,null,null,null,null,null,null,null,null,null,null,null,null,null,null,null,null,null,null,null,null,null,null,null,null,null,null,null,null,null,null,null,null,null,null,null,null,null,null,null,null,null,null,null,null,null,null,null,null,null,null,null,null,null,null,null,null,null,null,null,null,null,null,null,null,null,null,null,null,null,null,null,null,null,null,null,null,null,null,null,null,null,null,null,null,null,null,null,null,null,null,null,null,null,null,null,null,null,null,null,null,null,null,null,null,null,null,null,null,null,null,null,null,null,null,null,null,null,null,null,null,null,null,null,null,null,null,null,null,null,null,null,null,null,null,0,8,29,1]
[570,4.6791664506120041,398,14.1563,77.133600000000001,0.93583085412542999,null,570,18.62,12.83,1.67,78.67,65.260000000000005,14.12,1.84,57.24,377,254.03,166.12,74.290000000000006,16.199563680000001,15.77419334,102.3,4.6791664506120041,0.89760987574374007,null,418,3.1986451528067637E-2,0.93583515267439432,null,418,1,null,null,null,null,null,null,null,null,null,null,null,null,null,null,null,null,null,null,null,null,null,null,null,null,null,null,null,null,null,null,null,null,null,null,null,null,null,null,null,null,null,null,null,null,null,null,null,null,null,null,null,null,null,null,null,null,null,null,null,null,null,null,null,null,null,null,null,null,null,null,null,null,null,null,null,null,null,null,null,null,null,null,null,null,null,null,null,null,null,null,null,null,null,null,null,null,null,null,null,null,null,null,null,null,null,null,null,null,null,null,null,null,null,null,null,null,null,null,null,null,null,null,null,null,null,null,null,null,null,null,null,null,null,null,null,null,null,null,null,null,null,null,null,null,null,null,null,null,null,null,null,null,null,null,null,null,null,null,null,null,null,null,null,null,null,null,null,null,null,null,null,null,null,null,null,null,null,null,null,null,null,null,null,null,null,null,null,null,null,null,null,null,null,null,null,null,null,null,null,null,null,null,null,null,null,null,null,null,null,null,null,null,null,null,null,null,null,null,null,null,null,null,null,null,null,null,null,null,null,null,null,null,null,null,null,null,null,null,null,null,null,null,null,null,null,null,null,null,null,null,null,null,null,null,null,null,null,null,null,null,null,null,null,null,null,null,null,null,null,null,null,null,null,null,null,null,null,null,null,null,null,null,null,null,null,null,null,null,null,null,null,null,null,null,null,null,null,null,null,null,null,null,null,null,null,null,null,null,null,null,null,null,null,null,null,null,null,null,null,null,null,null,null,null,null,null,null,null,null,null,null,null,null,null,null,null,null,null,null,null,null,null,null,null,null,null,null,null,null,null,null,null,null,null,null,null,null,null,null,null,null,null,null,null,null,null,null,null,null,null,null,null,null,null,null,null,null,null,null,null,null,null,null,null,null,null,null,null,null,null,null,null,null,null,null,null,null,null,null,null,null,null,null,null,null,null,null,null,null,null,null,null,null,null,null,null,null,null,null,null,null,null,null,null,null,null,null,null,null,null,null,null,null,null,null,null,null,null,null,null,null,null,null,null,null,null,null,null,null,null,null,null,null,null,null,null,null,null,null,null,null,null,null,null,null,null,null,null,null,null,null,0,8,29,1]
[575,4.6791664506120041,399,14.430400000000001,79.944199999999995,0.93583085412542999,null,575,21.47,15.46,4.43,95.74,84.26,29.5,6.09,77.75,490,56.14,98.77,47.97,17.18946862,15.499931269999999,100.15,4.6791664506120041,0.92614862028454326,null,419,3.6754688874679121E-2,0.93583515267439432,null,419,1,null,null,null,null,null,null,null,null,null,null,null,null,null,null,null,null,null,null,null,null,null,null,null,null,null,null,null,null,null,null,null,null,null,null,null,null,null,null,null,null,null,null,null,null,null,null,null,null,null,null,null,null,null,null,null,null,null,null,null,null,null,null,null,null,null,null,null,null,null,null,null,null,null,null,null,null,null,null,null,null,null,null,null,null,null,null,null,null,null,null,null,null,null,null,null,null,null,null,null,null,null,null,null,null,null,null,null,null,null,null,null,null,null,null,null,null,null,null,null,null,null,null,null,null,null,null,null,null,null,null,null,null,null,null,null,null,null,null,null,null,null,null,null,null,null,null,null,null,null,null,null,null,null,null,null,null,null,null,null,null,null,null,null,null,null,null,null,null,null,null,null,null,null,null,null,null,null,null,null,null,null,null,null,null,null,null,null,null,null,null,null,null,null,null,null,null,null,null,null,null,null,null,null,null,null,null,null,null,null,null,null,null,null,null,null,null,null,null,null,null,null,null,null,null,null,null,null,null,null,null,null,null,null,null,null,null,null,null,null,null,null,null,null,null,null,null,null,null,null,null,null,null,null,null,null,null,null,null,null,null,null,null,null,null,null,null,null,null,null,null,null,null,null,null,null,null,null,null,null,null,null,null,null,null,null,null,null,null,null,null,null,null,null,null,null,null,null,null,null,null,null,null,null,null,null,null,null,null,null,null,null,null,null,null,null,null,null,null,null,null,null,null,null,null,null,null,null,null,null,null,null,null,null,null,null,null,null,null,null,null,null,null,null,null,null,null,null,null,null,null,null,null,null,null,null,null,null,null,null,null,null,null,null,null,null,null,null,null,null,null,null,null,null,null,null,null,null,null,null,null,null,null,null,null,null,null,null,null,null,null,null,null,null,null,null,null,null,null,null,null,null,null,null,null,null,null,null,null,null,null,null,null,null,null,null,null,null,null,null,null,null,null,null,null,null,null,null,null,null,null,null,null,null,null,null,null,null,null,null,null,null,null,null,null,null,null,null,null,null,null,null,null,null,null,null,null,null,null,null,null,null,null,null,null,null,null,null,null,null,null,null,0,8,29,1]
[580,4.6791664506120041,400,14.708,82.754900000000006,0.93583085412542999,null,580,22.79,16.75,11.28,97.22,89.22,61.4,17.27,87.81,525,111.78,30.47,49.2,18.14084707,15.15387643,97.8,4.6791664506120041,0.95163814404877634,null,420,4.2146731809576989E-2,0.93583515267439432,null,420,1,null,null,null,null,null,null,null,null,null,null,null,null,null,null,null,null,null,null,null,null,null,null,null,null,null,null,null,null,null,null,null,null,null,null,null,null,null,null,null,null,null,null,null,null,null,null,null,null,null,null,null,null,null,null,null,null,null,null,null,null,null,null,null,null,null,null,null,null,null,null,null,null,null,null,null,null,null,null,null,null,null,null,null,null,null,null,null,null,null,null,null,null,null,null,null,null,null,null,null,null,null,null,null,null,null,null,null,null,null,null,null,null,null,null,null,null,null,null,null,null,null,null,null,null,null,null,null,null,null,null,null,null,null,null,null,null,null,null,null,null,null,null,null,null,null,null,null,null,null,null,null,null,null,null,null,null,null,null,null,null,null,null,null,null,null,null,null,null,null,null,null,null,null,null,null,null,null,null,null,null,null,null,null,null,null,null,null,null,null,null,null,null,null,null,null,null,null,null,null,null,null,null,null,null,null,null,null,null,null,null,null,null,null,null,null,null,null,null,null,null,null,null,null,null,null,null,null,null,null,null,null,null,null,null,null,null,null,null,null,null,null,null,null,null,null,null,null,null,null,null,null,null,null,null,null,null,null,null,null,null,null,null,null,null,null,null,null,null,null,null,null,null,null,null,null,null,null,null,null,null,null,null,null,null,null,null,null,null,null,null,null,null,null,null,null,null,null,null,null,null,null,null,null,null,null,null,null,null,null,null,null,null,null,null,null,null,null,null,null,null,null,null,null,null,null,null,null,null,null,null,null,null,null,null,null,null,null,null,null,null,null,null,null,null,null,null,null,null,null,null,null,null,null,null,null,null,null,null,null,null,null,null,null,null,null,null,null,null,null,null,null,null,null,null,null,null,null,null,null,null,null,null,null,null,null,null,null,null,null,null,null,null,null,null,null,null,null,null,null,null,null,null,null,null,null,null,null,null,null,null,null,null,null,null,null,null,null,null,null,null,null,null,null,null,null,null,null,null,null,null,null,null,null,null,null,null,null,null,null,null,null,null,null,null,null,null,null,null,null,null,null,null,null,null,null,null,null,null,null,null,null,null,null,null,null,null,null,null,null,null,null,0,8,29,1]
[585,4.6791664506120041,401,14.989100000000001,83.628,0.93583085412542999,null,585,19.29,12.83,14.76,76.790000000000006,75.790000000000006,85.05,21.77,80.55,402,297.98,1.17,96.07,19.018581609999998,14.760580579999999,95.43,4.6791664506120041,0.97358091373391409,null,421,4.8248879744032185E-2,0.93583515267439432,null,421,1,null,null,null,null,null,null,null,null,null,null,null,null,null,null,null,null,null,null,null,null,null,null,null,null,null,null,null,null,null,null,null,null,null,null,null,null,null,null,null,null,null,null,null,null,null,null,null,null,null,null,null,null,null,null,null,null,null,null,null,null,null,null,null,null,null,null,null,null,null,null,null,null,null,null,null,null,null,null,null,null,null,null,null,null,null,null,null,null,null,null,null,null,null,null,null,null,null,null,null,null,null,null,null,null,null,null,null,null,null,null,null,null,null,null,null,null,null,null,null,null,null,null,null,null,null,null,null,null,null,null,null,null,null,null,null,null,null,null,null,null,null,null,null,null,null,null,null,null,null,null,null,null,null,null,null,null,null,null,null,null,null,null,null,null,null,null,null,null,null,null,null,null,null,null,null,null,null,null,null,null,null,null,null,null,null,null,null,null,null,null,null,null,null,null,null,null,null,null,null,null,null,null,null,null,null,null,null,null,null,null,null,null,null,null,null,null,null,null,null,null,null,null,null,null,null,null,null,null,null,null,null,null,null,null,null,null,null,null,null,null,null,null,null,null,null,null,null,null,null,null,null,null,null,null,null,null,null,null,null,null,null,null,null,null,null,null,null,null,null,null,null,null,null,null,null,null,null,null,null,null,null,null,null,null,null,null,null,null,null,null,null,null,null,null,null,null,null,null,null,null,null,null,null,null,null,null,null,null,null,null,null,null,null,null,null,null,null,null,null,null,null,null,null,null,null,null,null,null,null,null,null,null,null,null,null,null,null,null,null,null,null,null,null,null,null,null,null,null,null,null,null,null,null,null,null,null,null,null,null,null,null,null,null,null,null,null,null,null,null,null,null,null,null,null,null,null,null,null,null,null,null,null,null,null,null,null,null,null,null,null,null,null,null,null,null,null,null,null,null,null,null,null,null,null,null,null,null,null,null,null,null,null,null,null,null,null,null,null,null,null,null,null,null,null,null,null,null,null,null,null,null,null,null,null,null,null,null,null,null,null,null,null,null,null,null,null,null,null,null,null,null,null,null,null,null,null,null,null,null,null,null,null,null,null,null,null,null,null,null,null,null,0,8,29,1]
[590,4.6791664506120041,402,15.2736,84.501099999999994,0.93583085412542999,null,590,18.66,12.67,12.73,73.36,79.19,64.86,18.72,84.83,404,142.55000000000001,0.39,85.41,19.777368419999998,14.30596901,93.2,4.6791664506120041,0.98899127955690336,null,422,5.5071174289879163E-2,0.93583515267439432,null,422,1,null,null,null,null,null,null,null,null,null,null,null,null,null,null,null,null,null,null,null,null,null,null,null,null,null,null,null,null,null,null,null,null,null,null,null,null,null,null,null,null,null,null,null,null,null,null,null,null,null,null,null,null,null,null,null,null,null,null,null,null,null,null,null,null,null,null,null,null,null,null,null,null,null,null,null,null,null,null,null,null,null,null,null,null,null,null,null,null,null,null,null,null,null,null,null,null,null,null,null,null,null,null,null,null,null,null,null,null,null,null,null,null,null,null,null,null,null,null,null,null,null,null,null,null,null,null,null,null,null,null,null,null,null,null,null,null,null,null,null,null,null,null,null,null,null,null,null,null,null,null,null,null,null,null,null,null,null,null,null,null,null,null,null,null,null,null,null,null,null,null,null,null,null,null,null,null,null,null,null,null,null,null,null,null,null,null,null,null,null,null,null,null,null,null,null,null,null,null,null,null,null,null,null,null,null,null,null,null,null,null,null,null,null,null,null,null,null,null,null,null,null,null,null,null,null,null,null,null,null,null,null,null,null,null,null,null,null,null,null,null,null,null,null,null,null,null,null,null,null,null,null,null,null,null,null,null,null,null,null,null,null,null,null,null,null,null,null,null,null,null,null,null,null,null,null,null,null,null,null,null,null,null,null,null,null,null,null,null,null,null,null,null,null,null,null,null,null,null,null,null,null,null,null,null,null,null,null,null,null,null,null,null,null,null,null,null,null,null,null,null,null,null,null,null,null,null,null,null,null,null,null,null,null,null,null,null,null,null,null,null,null,null,null,null,null,null,null,null,null,null,null,null,null,null,null,null,null,null,null,null,null,null,null,null,null,null,null,null,null,null,null,null,null,null,null,null,null,null,null,null,null,null,null,null,null,null,null,null,null,null,null,null,null,null,null,null,null,null,null,null,null,null,null,null,null,null,null,null,null,null,null,null,null,null,null,null,null,null,null,null,null,null,null,null,null,null,null,null,null,null,null,null,null,null,null,null,null,null,null,null,null,null,null,null,null,null,null,null,null,null,null,null,null,null,null,null,null,null,null,null,null,null,null,null,null,null,null,null,null,null,null,0,8,29,1]
[595,4.6791664506120041,403,15.5616,85.374200000000002,0.93583085412542999,null,595,17.73,12.45,9.74,69.33,82.8,65.010000000000005,10.15,86.84,412,334.84,1.65,175.18,20.381516820000002,13.792514150000001,91.22,4.6791664506120041,0.99767166544191965,null,423,6.2728962628716467E-2,0.93583515267439432,null,423,1,null,null,null,null,null,null,null,null,null,null,null,null,null,null,null,null,null,null,null,null,null,null,null,null,null,null,null,null,null,null,null,null,null,null,null,null,null,null,null,null,null,null,null,null,null,null,null,null,null,null,null,null,null,null,null,null,null,null,null,null,null,null,null,null,null,null,null,null,null,null,null,null,null,null,null,null,null,null,null,null,null,null,null,null,null,null,null,null,null,null,null,null,null,null,null,null,null,null,null,null,null,null,null,null,null,null,null,null,null,null,null,null,null,null,null,null,null,null,null,null,null,null,null,null,null,null,null,null,null,null,null,null,null,null,null,null,null,null,null,null,null,null,null,null,null,null,null,null,null,null,null,null,null,null,null,null,null,null,null,null,null,null,null,null,null,null,null,null,null,null,null,null,null,null,null,null,null,null,null,null,null,null,null,null,null,null,null,null,null,null,null,null,null,null,null,null,null,null,null,null,null,null,null,null,null,null,null,null,null,null,null,null,null,null,null,null,null,null,null,null,null,null,null,null,null,null,null,null,null,null,null,null,null,null,null,null,null,null,null,null,null,null,null,null,null,null,null,null,null,null,null,null,null,null,null,null,null,null,null,null,null,null,null,null,null,null,null,null,null,null,null,null,null,null,null,null,null,null,null,null,null,null,null,null,null,null,null,null,null,null,null,null,null,null,null,null,null,null,null,null,null,null,null,null,null,null,null,null,null,null,null,null,null,null,null,null,null,null,null,null,null,null,null,null,null,null,null,null,null,null,null,null,null,null,null,null,null,null,null,null,null,null,null,null,null,null,null,null,null,null,null,null,null,null,null,null,null,null,null,null,null,null,null,null,null,null,null,null,null,null,null,null,null,null,null,null,null,null,null,null,null,null,null,null,null,null,null,null,null,null,null,null,null,null,null,null,null,null,null,null,null,null,null,null,null,null,null,null,null,null,null,null,null,null,null,null,null,null,null,null,null,null,null,null,null,null,null,null,null,null,null,null,null,null,null,null,null,null,null,null,null,null,null,null,null,null,null,null,null,null,null,null,null,null,null,null,null,null,null,null,null,null,null,null,null,null,null,null,null,null,null,0,8,29,1]
[600,4.6791664506120041,404,15.853,86.247299999999996,0.93583085412542999,null,600,16.54,12.19,7.33,64.23,85.76,53.17,7.26,91.44,418,189.4,21.41,153.72999999999999,20.796888339999999,13.21717299,89.7,4.6791664506120041,0.99971044499709616,null,424,7.1159895989622218E-2,0.93583515267439432,null,424,1,null,null,null,null,null,null,null,null,null,null,null,null,null,null,null,null,null,null,null,null,null,null,null,null,null,null,null,null,null,null,null,null,null,null,null,null,null,null,null,null,null,null,null,null,null,null,null,null,null,null,null,null,null,null,null,null,null,null,null,null,null,null,null,null,null,null,null,null,null,null,null,null,null,null,null,null,null,null,null,null,null,null,null,null,null,null,null,null,null,null,null,null,null,null,null,null,null,null,null,null,null,null,null,null,null,null,null,null,null,null,null,null,null,null,null,null,null,null,null,null,null,null,null,null,null,null,null,null,null,null,null,null,null,null,null,null,null,null,null,null,null,null,null,null,null,null,null,null,null,null,null,null,null,null,null,null,null,null,null,null,null,null,null,null,null,null,null,null,null,null,null,null,null,null,null,null,null,null,null,null,null,null,null,null,null,null,null,null,null,null,null,null,null,null,null,null,null,null,null,null,null,null,null,null,null,null,null,null,null,null,null,null,null,null,null,null,null,null,null,null,null,null,null,null,null,null,null,null,null,null,null,null,null,null,null,null,null,null,null,null,null,null,null,null,null,null,null,null,null,null,null,null,null,null,null,null,null,null,null,null,null,null,null,null,null,null,null,null,null,null,null,null,null,null,null,null,null,null,null,null,null,null,null,null,null,null,null,null,null,null,null,null,null,null,null,null,null,null,null,null,null,null,null,null,null,null,null,null,null,null,null,null,null,null,null,null,null,null,null,null,null,null,null,null,null,null,null,null,null,null,null,null,null,null,null,null,null,null,null,null,null,null,null,null,null,null,null,null,null,null,null,null,null,null,null,null,null,null,null,null,null,null,null,null,null,null,null,null,null,null,null,null,null,null,null,null,null,null,null,null,null,null,null,null,null,null,null,null,null,null,null,null,null,null,null,null,null,null,null,null,null,null,null,null,null,null,null,null,null,null,null,null,null,null,null,null,null,null,null,null,null,null,null,null,null,null,null,null,null,null,null,null,null,null,null,null,null,null,null,null,null,null,null,null,null,null,null,null,null,null,null,null,null,null,null,null,null,null,null,null,null,null,null,null,null,null,null,null,null,null,null,0,8,29,1]
[605,4.6791664506120041,405,16.148,87.120400000000004,0.93583085412542999,null,605,15.21,11.89,9.7200000000000006,58.92,88.62,34.22,5.17,96.51,425,117.78,76.11,120.22,20.996950349999999,12.586300639999999,88.83,4.6791664506120041,0.99249981705009171,null,425,8.039641379122503E-2,0.93583515267439432,null,425,1,null,null,null,null,null,null,null,null,null,null,null,null,null,null,null,null,null,null,null,null,null,null,null,null,null,null,null,null,null,null,null,null,null,null,null,null,null,null,null,null,null,null,null,null,null,null,null,null,null,null,null,null,null,null,null,null,null,null,null,null,null,null,null,null,null,null,null,null,null,null,null,null,null,null,null,null,null,null,null,null,null,null,null,null,null,null,null,null,null,null,null,null,null,null,null,null,null,null,null,null,null,null,null,null,null,null,null,null,null,null,null,null,null,null,null,null,null,null,null,null,null,null,null,null,null,null,null,null,null,null,null,null,null,null,null,null,null,null,null,null,null,null,null,null,null,null,null,null,null,null,null,null,null,null,null,null,null,null,null,null,null,null,null,null,null,null,null,null,null,null,null,null,null,null,null,null,null,null,null,null,null,null,null,null,null,null,null,null,null,null,null,null,null,null,null,null,null,null,null,null,null,null,null,null,null,null,null,null,null,null,null,null,null,null,null,null,null,null,null,null,null,null,null,null,null,null,null,null,null,null,null,null,null,null,null,null,null,null,null,null,null,null,null,null,null,null,null,null,null,null,null,null,null,null,null,null,null,null,null,null,null,null,null,null,null,null,null,null,null,null,null,null,null,null,null,null,null,null,null,null,null,null,null,null,null,null,null,null,null,null,null,null,null,null,null,null,null,null,null,null,null,null,null,null,null,null,null,null,null,null,null,null,null,null,null,null,null,null,null,null,null,null,null,null,null,null,null,null,null,null,null,null,null,null,null,null,null,null,null,null,null,null,null,null,null,null,null,null,null,null,null,null,null,null,null,null,null,null,null,null,null,null,null,null,null,null,null,null,null,null,null,null,null,null,null,null,null,null,null,null,null,null,null,null,null,null,null,null,null,null,null,null,null,null,null,null,null,null,null,null,null,null,null,null,null,null,null,null,null,null,null,null,null,null,null,null,null,null,null,null,null,null,null,null,null,null,null,null,null,null,null,null,null,null,null,null,null,null,null,null,null,null,null,null,null,null,null,null,null,null,null,null,null,null,null,null,null,null,null,null,null,null,null,null,null,null,null,null,null,null,null,0,8,29,1]
[610,4.6791664506120041,406,16.446400000000001,87.993600000000001,0.93583085412542999,null,610,13.8,11.6,55.27,53.38,91.12,427.27,56.66,105.25,428,79.92,126.16,98.9,20.971247770000002,11.909817240000001,88.4,4.6791664506120041,0.97762727685260553,null,426,9.0538325636400269E-2,0.93583515267439432,null,426,1,null,null,null,null,null,null,null,null,null,null,null,null,null,null,null,null,null,null,null,null,null,null,null,null,null,null,null,null,null,null,null,null,null,null,null,null,null,null,null,null,null,null,null,null,null,null,null,null,null,null,null,null,null,null,null,null,null,null,null,null,null,null,null,null,null,null,null,null,null,null,null,null,null,null,null,null,null,null,null,null,null,null,null,null,null,null,null,null,null,null,null,null,null,null,null,null,null,null,null,null,null,null,null,null,null,null,null,null,null,null,null,null,null,null,null,null,null,null,null,null,null,null,null,null,null,null,null,null,null,null,null,null,null,null,null,null,null,null,null,null,null,null,null,null,null,null,null,null,null,null,null,null,null,null,null,null,null,null,null,null,null,null,null,null,null,null,null,null,null,null,null,null,null,null,null,null,null,null,null,null,null,null,null,null,null,null,null,null,null,null,null,null,null,null,null,null,null,null,null,null,null,null,null,null,null,null,null,null,null,null,null,null,null,null,null,null,null,null,null,null,null,null,null,null,null,null,null,null,null,null,null,null,null,null,null,null,null,null,null,null,null,null,null,null,null,null,null,null,null,null,null,null,null,null,null,null,null,null,null,null,null,null,null,null,null,null,null,null,null,null,null,null,null,null,null,null,null,null,null,null,null,null,null,null,null,null,null,null,null,null,null,null,null,null,null,null,null,null,null,null,null,null,null,null,null,null,null,null,null,null,null,null,null,null,null,null,null,null,null,null,null,null,null,null,null,null,null,null,null,null,null,null,null,null,null,null,null,null,null,null,null,null,null,null,null,null,null,null,null,null,null,null,null,null,null,null,null,null,null,null,null,null,null,null,null,null,null,null,null,null,null,null,null,null,null,null,null,null,null,null,null,null,null,null,null,null,null,null,null,null,null,null,null,null,null,null,null,null,null,null,null,null,null,null,null,null,null,null,null,null,null,null,null,null,null,null,null,null,null,null,null,null,null,null,null,null,null,null,null,null,null,null,null,null,null,null,null,null,null,null,null,null,null,null,null,null,null,null,null,null,null,null,null,null,null,null,null,null,null,null,null,null,null,null,null,null,null,null,null,null,null,0,8,29,1]
[615,4.6791664506120041,407,16.7484,88.866699999999994,0.93583085412542999,null,615,12.36,11.35,42.58,47.91,93.43,201.1,49.39,106.74,432,108.09,161.96,90.22,20.70733581,11.203673459999999,88.19,4.6791664506120041,0.95710292718056567,null,427,0.10157211516246334,0.93583515267439432,null,427,1,null,null,null,null,null,null,null,null,null,null,null,null,null,null,null,null,null,null,null,null,null,null,null,null,null,null,null,null,null,null,null,null,null,null,null,null,null,null,null,null,null,null,null,null,null,null,null,null,null,null,null,null,null,null,null,null,null,null,null,null,null,null,null,null,null,null,null,null,null,null,null,null,null,null,null,null,null,null,null,null,null,null,null,null,null,null,null,null,null,null,null,null,null,null,null,null,null,null,null,null,null,null,null,null,null,null,null,null,null,null,null,null,null,null,null,null,null,null,null,null,null,null,null,null,null,null,null,null,null,null,null,null,null,null,null,null,null,null,null,null,null,null,null,null,null,null,null,null,null,null,null,null,null,null,null,null,null,null,null,null,null,null,null,null,null,null,null,null,null,null,null,null,null,null,null,null,null,null,null,null,null,null,null,null,null,null,null,null,null,null,null,null,null,null,null,null,null,null,null,null,null,null,null,null,null,null,null,null,null,null,null,null,null,null,null,null,null,null,null,null,null,null,null,null,null,null,null,null,null,null,null,null,null,null,null,null,null,null,null,null,null,null,null,null,null,null,null,null,null,null,null,null,null,null,null,null,null,null,null,null,null,null,null,null,null,null,null,null,null,null,null,null,null,null,null,null,null,null,null,null,null,null,null,null,null,null,null,null,null,null,null,null,null,null,null,null,null,null,null,null,null,null,null,null,null,null,null,null,null,null,null,null,null,null,null,null,null,null,null,null,null,null,null,null,null,null,null,null,null,null,null,null,null,null,null,null,null,null,null,null,null,null,null,null,null,null,null,null,null,null,null,null,null,null,null,null,null,null,null,null,null,null,null,null,null,null,null,null,null,null,null,null,null,null,null,null,null,null,null,null,null,null,null,null,null,null,null,null,null,null,null,null,null,null,null,null,null,null,null,null,null,null,null,null,null,null,null,null,null,null,null,null,null,null,null,null,null,null,null,null,null,null,null,null,null,null,null,null,null,null,null,null,null,null,null,null,null,null,null,null,null,null,null,null,null,null,null,null,null,null,null,null,null,null,null,null,null,null,null,null,null,null,null,null,null,null,null,null,null,null,null,0,8,29,1]
[620,4.6791664506120041,408,17.053799999999999,89.739800000000002,0.93583085412542999,null,620,10.95,11.12,13.18,42.61,96.89,58.63,18.57,108.53,433,46.85,160.06,70.069999999999993,20.225258490000002,10.467616059999999,88.1,4.6791664506120041,0.92699444845237799,null,428,0.11355188897166484,0.93583515267439432,null,428,1,null,null,null,null,null,null,null,null,null,null,null,null,null,null,null,null,null,null,null,null,null,null,null,null,null,null,null,null,null,null,null,null,null,null,null,null,null,null,null,null,null,null,null,null,null,null,null,null,null,null,null,null,null,null,null,null,null,null,null,null,null,null,null,null,null,null,null,null,null,null,null,null,null,null,null,null,null,null,null,null,null,null,null,null,null,null,null,null,null,null,null,null,null,null,null,null,null,null,null,null,null,null,null,null,null,null,null,null,null,null,null,null,null,null,null,null,null,null,null,null,null,null,null,null,null,null,null,null,null,null,null,null,null,null,null,null,null,null,null,null,null,null,null,null,null,null,null,null,null,null,null,null,null,null,null,null,null,null,null,null,null,null,null,null,null,null,null,null,null,null,null,null,null,null,null,null,null,null,null,null,null,null,null,null,null,null,null,null,null,null,null,null,null,null,null,null,null,null,null,null,null,null,null,null,null,null,null,null,null,null,null,null,null,null,null,null,null,null,null,null,null,null,null,null,null,null,null,null,null,null,null,null,null,null,null,null,null,null,null,null,null,null,null,null,null,null,null,null,null,null,null,null,null,null,null,null,null,null,null,null,null,null,null,null,null,null,null,null,null,null,null,null,null,null,null,null,null,null,null,null,null,null,null,null,null,null,null,null,null,null,null,null,null,null,null,null,null,null,null,null,null,null,null,null,null,null,null,null,null,null,null,null,null,null,null,null,null,null,null,null,null,null,null,null,null,null,null,null,null,null,null,null,null,null,null,null,null,null,null,null,null,null,null,null,null,null,null,null,null,null,null,null,null,null,null,null,null,null,null,null,null,null,null,null,null,null,null,null,null,null,null,null,null,null,null,null,null,null,null,null,null,null,null,null,null,null,null,null,null,null,null,null,null,null,null,null,null,null,null,null,null,null,null,null,null,null,null,null,null,null,null,null,null,null,null,null,null,null,null,null,null,null,null,null,null,null,null,null,null,null,null,null,null,null,null,null,null,null,null,null,null,null,null,null,null,null,null,null,null,null,null,null,null,null,null,null,null,null,null,null,null,null,null,null,null,null,null,null,null,null,null,0,8,29,1]
[625,4.6791664506120041,409,17.3628,90.612899999999996,0.93583085412542999,null,625,9.65,10.95,13.16,37.74,101.45,72.010000000000005,14.21,106.92,431,38.159999999999997,158.19,66.84,19.564090740000001,9.7297408339999993,88.06,4.6791664506120041,0.88815042302655034,null,429,0.12654287436448583,0.93583515267439432,null,429,1,null,null,null,null,null,null,null,null,null,null,null,null,null,null,null,null,null,null,null,null,null,null,null,null,null,null,null,null,null,null,null,null,null,null,null,null,null,null,null,null,null,null,null,null,null,null,null,null,null,null,null,null,null,null,null,null,null,null,null,null,null,null,null,null,null,null,null,null,null,null,null,null,null,null,null,null,null,null,null,null,null,null,null,null,null,null,null,null,null,null,null,null,null,null,null,null,null,null,null,null,null,null,null,null,null,null,null,null,null,null,null,null,null,null,null,null,null,null,null,null,null,null,null,null,null,null,null,null,null,null,null,null,null,null,null,null,null,null,null,null,null,null,null,null,null,null,null,null,null,null,null,null,null,null,null,null,null,null,null,null,null,null,null,null,null,null,null,null,null,null,null,null,null,null,null,null,null,null,null,null,null,null,null,null,null,null,null,null,null,null,null,null,null,null,null,null,null,null,null,null,null,null,null,null,null,null,null,null,null,null,null,null,null,null,null,null,null,null,null,null,null,null,null,null,null,null,null,null,null,null,null,null,null,null,null,null,null,null,null,null,null,null,null,null,null,null,null,null,null,null,null,null,null,null,null,null,null,null,null,null,null,null,null,null,null,null,null,null,null,null,null,null,null,null,null,null,null,null,null,null,null,null,null,null,null,null,null,null,null,null,null,null,null,null,null,null,null,null,null,null,null,null,null,null,null,null,null,null,null,null,null,null,null,null,null,null,null,null,null,null,null,null,null,null,null,null,null,null,null,null,null,null,null,null,null,null,null,null,null,null,null,null,null,null,null,null,null,null,null,null,null,null,null,null,null,null,null,null,null,null,null,null,null,null,null,null,null,null,null,null,null,null,null,null,null,null,null,null,null,null,null,null,null,null,null,null,null,null,null,null,null,null,null,null,null,null,null,null,null,null,null,null,null,null,null,null,null,null,null,null,null,null,null,null,null,null,null,null,null,null,null,null,null,null,null,null,null,null,null,null,null,null,null,null,null,null,null,null,null,null,null,null,null,null,null,null,null,null,null,null,null,null,null,null,null,null,null,null,null,null,null,null,null,null,null,null,null,null,null,null,null,0,8,29,1]
[630,4.6791664506120041,410,17.6753,91.486000000000004,0.93583085412542999,null,630,8.4,10.76,12.26,33.11,103.65,88.19,14.01,101.54,427,32.47,153.69,57.61,18.758536580000001,8.9958370960000007,88,4.6791664506120041,0.84397584865890107,null,430,0.14048172445388457,0.93583515267439432,null,430,1,null,null,null,null,null,null,null,null,null,null,null,null,null,null,null,null,null,null,null,null,null,null,null,null,null,null,null,null,null,null,null,null,null,null,null,null,null,null,null,null,null,null,null,null,null,null,null,null,null,null,null,null,null,null,null,null,null,null,null,null,null,null,null,null,null,null,null,null,null,null,null,null,null,null,null,null,null,null,null,null,null,null,null,null,null,null,null,null,null,null,null,null,null,null,null,null,null,null,null,null,null,null,null,null,null,null,null,null,null,null,null,null,null,null,null,null,null,null,null,null,null,null,null,null,null,null,null,null,null,null,null,null,null,null,null,null,null,null,null,null,null,null,null,null,null,null,null,null,null,null,null,null,null,null,null,null,null,null,null,null,null,null,null,null,null,null,null,null,null,null,null,null,null,null,null,null,null,null,null,null,null,null,null,null,null,null,null,null,null,null,null,null,null,null,null,null,null,null,null,null,null,null,null,null,null,null,null,null,null,null,null,null,null,null,null,null,null,null,null,null,null,null,null,null,null,null,null,null,null,null,null,null,null,null,null,null,null,null,null,null,null,null,null,null,null,null,null,null,null,null,null,null,null,null,null,null,null,null,null,null,null,null,null,null,null,null,null,null,null,null,null,null,null,null,null,null,null,null,null,null,null,null,null,null,null,null,null,null,null,null,null,null,null,null,null,null,null,null,null,null,null,null,null,null,null,null,null,null,null,null,null,null,null,null,null,null,null,null,null,null,null,null,null,null,null,null,null,null,null,null,null,null,null,null,null,null,null,null,null,null,null,null,null,null,null,null,null,null,null,null,null,null,null,null,null,null,null,null,null,null,null,null,null,null,null,null,null,null,null,null,null,null,null,null,null,null,null,null,null,null,null,null,null,null,null,null,null,null,null,null,null,null,null,null,null,null,null,null,null,null,null,null,null,null,null,null,null,null,null,null,null,null,null,null,null,null,null,null,null,null,null,null,null,null,null,null,null,null,null,null,null,null,null,null,null,null,null,null,null,null,null,null,null,null,null,null,null,null,null,null,null,null,null,null,null,null,null,null,null,null,null,null,null,null,null,null,null,null,null,null,null,0,8,29,1]
[635,4.6791664506120041,411,17.991299999999999,91.680599999999998,0.93583085412542999,null,635,7.32,10.42,5.1100000000000003,29.04,100.3,20.07,5.99,95.2,420,28.37,147.4,53.03,17.822473380000002,8.2724697470000006,87.86,4.6791664506120041,0.79876622891989113,null,431,0.15533159450826931,0.93583515267439432,null,431,1,null,null,null,null,null,null,null,null,null,null,null,null,null,null,null,null,null,null,null,null,null,null,null,null,null,null,null,null,null,null,null,null,null,null,null,null,null,null,null,null,null,null,null,null,null,null,null,null,null,null,null,null,null,null,null,null,null,null,null,null,null,null,null,null,null,null,null,null,null,null,null,null,null,null,null,null,null,null,null,null,null,null,null,null,null,null,null,null,null,null,null,null,null,null,null,null,null,null,null,null,null,null,null,null,null,null,null,null,null,null,null,null,null,null,null,null,null,null,null,null,null,null,null,null,null,null,null,null,null,null,null,null,null,null,null,null,null,null,null,null,null,null,null,null,null,null,null,null,null,null,null,null,null,null,null,null,null,null,null,null,null,null,null,null,null,null,null,null,null,null,null,null,null,null,null,null,null,null,null,null,null,null,null,null,null,null,null,null,null,null,null,null,null,null,null,null,null,null,null,null,null,null,null,null,null,null,null,null,null,null,null,null,null,null,null,null,null,null,null,null,null,null,null,null,null,null,null,null,null,null,null,null,null,null,null,null,null,null,null,null,null,null,null,null,null,null,null,null,null,null,null,null,null,null,null,null,null,null,null,null,null,null,null,null,null,null,null,null,null,null,null,null,null,null,null,null,null,null,null,null,null,null,null,null,null,null,null,null,null,null,null,null,null,null,null,null,null,null,null,null,null,null,null,null,null,null,null,null,null,null,null,null,null,null,null,null,null,null,null,null,null,null,null,null,null,null,null,null,null,null,null,null,null,null,null,null,null,null,null,null,null,null,null,null,null,null,null,null,null,null,null,null,null,null,null,null,null,null,null,null,null,null,null,null,null,null,null,null,null,null,null,null,null,null,null,null,null,null,null,null,null,null,null,null,null,null,null,null,null,null,null,null,null,null,null,null,null,null,null,null,null,null,null,null,null,null,null,null,null,null,null,null,null,null,null,null,null,null,null,null,null,null,null,null,null,null,null,null,null,null,null,null,null,null,null,null,null,null,null,null,null,null,null,null,null,null,null,null,null,null,null,null,null,null,null,null,null,null,null,null,null,null,null,null,null,null,null,null,null,null,null,0,8,29,1]
[660,4.6791664506120041,416,19.624400000000001,92.653499999999994,0.93583085412542999,null,660,3.45,9.8699999999999992,2.48,14.68,117.49,13.56,6.75,61.7,352,17.78,118.02,48.42,12.14623566,5.0789792790000003,87.9,4.6791664506120041,0.53890700305334471,null,436,0.24508247960510759,0.93583515267439432,null,436,1,null,null,null,null,null,null,null,null,null,null,null,null,null,null,null,null,null,null,null,null,null,null,null,null,null,null,null,null,null,null,null,null,null,null,null,null,null,null,null,null,null,null,null,null,null,null,null,null,null,null,null,null,null,null,null,null,null,null,null,null,null,null,null,null,null,null,null,null,null,null,null,null,null,null,null,null,null,null,null,null,null,null,null,null,null,null,null,null,null,null,null,null,null,null,null,null,null,null,null,null,null,null,null,null,null,null,null,null,null,null,null,null,null,null,null,null,null,null,null,null,null,null,null,null,null,null,null,null,null,null,null,null,null,null,null,null,null,null,null,null,null,null,null,null,null,null,null,null,null,null,null,null,null,null,null,null,null,null,null,null,null,null,null,null,null,null,null,null,null,null,null,null,null,null,null,null,null,null,null,null,null,null,null,null,null,null,null,null,null,null,null,null,null,null,null,null,null,null,null,null,null,null,null,null,null,null,null,null,null,null,null,null,null,null,null,null,null,null,null,null,null,null,null,null,null,null,null,null,null,null,null,null,null,null,null,null,null,null,null,null,null,null,null,null,null,null,null,null,null,null,null,null,null,null,null,null,null,null,null,null,null,null,null,null,null,null,null,null,null,null,null,null,null,null,null,null,null,null,null,null,null,null,null,null,null,null,null,null,null,null,null,null,null,null,null,null,null,null,null,null,null,null,null,null,null,null,null,null,null,null,null,null,null,null,null,null,null,null,null,null,null,null,null,null,null,null,null,null,null,null,null,null,null,null,null,null,null,null,null,null,null,null,null,null,null,null,null,null,null,null,null,null,null,null,null,null,null,null,null,null,null,null,null,null,null,null,null,null,null,null,null,null,null,null,null,null,null,null,null,null,null,null,null,null,null,null,null,null,null,null,null,null,null,null,null,null,null,null,null,null,null,null,null,null,null,null,null,null,null,null,null,null,null,null,null,null,null,null,null,null,null,null,null,null,null,null,null,null,null,null,null,null,null,null,null,null,null,null,null,null,null,null,null,null,null,null,null,null,null,null,null,null,null,null,null,null,null,null,null,null,null,null,null,null,null,null,null,null,null,null,null,0,8,29,1]
[685,4.6791664506120041,421,21.346499999999999,92.756799999999998,0.93583085412542999,null,685,1.64,5.41,1.94,7.86,60.15,9.9,1.54,32.93,260,9.99,90.54,34.94,7.0985992659999999,2.856964794,82.21,4.6791664506120041,0.3160976865072892,null,441,0.36371133001531736,0.93583515267439432,null,441,1,null,null,null,null,null,null,null,null,null,null,null,null,null,null,null,null,null,null,null,null,null,null,null,null,null,null,null,null,null,null,null,null,null,null,null,null,null,null,null,null,null,null,null,null,null,null,null,null,null,null,null,null,null,null,null,null,null,null,null,null,null,null,null,null,null,null,null,null,null,null,null,null,null,null,null,null,null,null,null,null,null,null,null,null,null,null,null,null,null,null,null,null,null,null,null,null,null,null,null,null,null,null,null,null,null,null,null,null,null,null,null,null,null,null,null,null,null,null,null,null,null,null,null,null,null,null,null,null,null,null,null,null,null,null,null,null,null,null,null,null,null,null,null,null,null,null,null,null,null,null,null,null,null,null,null,null,null,null,null,null,null,null,null,null,null,null,null,null,null,null,null,null,null,null,null,null,null,null,null,null,null,null,null,null,null,null,null,null,null,null,null,null,null,null,null,null,null,null,null,null,null,null,null,null,null,null,null,null,null,null,null,null,null,null,null,null,null,null,null,null,null,null,null,null,null,null,null,null,null,null,null,null,null,null,null,null,null,null,null,null,null,null,null,null,null,null,null,null,null,null,null,null,null,null,null,null,null,null,null,null,null,null,null,null,null,null,null,null,null,null,null,null,null,null,null,null,null,null,null,null,null,null,null,null,null,null,null,null,null,null,null,null,null,null,null,null,null,null,null,null,null,null,null,null,null,null,null,null,null,null,null,null,null,null,null,null,null,null,null,null,null,null,null,null,null,null,null,null,null,null,null,null,null,null,null,null,null,null,null,null,null,null,null,null,null,null,null,null,null,null,null,null,null,null,null,null,null,null,null,null,null,null,null,null,null,null,null,null,null,null,null,null,null,null,null,null,null,null,null,null,null,null,null,null,null,null,null,null,null,null,null,null,null,null,null,null,null,null,null,null,null,null,null,null,null,null,null,null,null,null,null,null,null,null,null,null,null,null,null,null,null,null,null,null,null,null,null,null,null,null,null,null,null,null,null,null,null,null,null,null,null,null,null,null,null,null,null,null,null,null,null,null,null,null,null,null,null,null,null,null,null,null,null,null,null,null,null,null,null,null,null,0,8,{"$f":"IF(SJ71=0,$SK$6,_xlfn.NUMBERVALUE(IF(SJ72>0,MID($SI$10,SJ71+1,SJ72-SJ71-1),$SK$6))-1)","v":29},{"$f":"IF(OR($B$1<=SL72,SL72=$SK$6),1,0)","v":1}]
[725,4.6791664506120041,429,24.287299999999998,87.357200000000006,0.93583085412542999,null,725,0.61,2.4700000000000002,0.27,3.67,28.77,1.6,0.04,11.28,125,5.99,69.040000000000006,17.09,2.469874619,1.0532486910000001,66.3,4.6791664506120041,0.1145449569610595,null,449,0.58464282404616807,0.93583515267439432,null,449,1,null,null,null,null,null,null,null,null,null,null,null,null,null,null,null,null,null,null,null,null,null,null,null,null,null,null,null,null,null,null,null,null,null,null,null,null,null,null,null,null,null,null,null,null,null,null,null,null,null,null,null,null,null,null,null,null,null,null,null,null,null,null,null,null,null,null,null,null,null,null,null,null,null,null,null,null,null,null,null,null,null,null,null,null,null,null,null,null,null,null,null,null,null,null,null,null,null,null,null,null,null,null,null,null,null,null,null,null,null,null,null,null,null,null,null,null,null,null,null,null,null,null,null,null,null,null,null,null,null,null,null,null,null,null,null,null,null,null,null,null,null,null,null,null,null,null,null,null,null,null,null,null,null,null,null,null,null,null,null,null,null,null,null,null,null,null,null,null,null,null,null,null,null,null,null,null,null,null,null,null,null,null,null,null,null,null,null,null,null,null,null,null,null,null,null,null,null,null,null,null,null,null,null,null,null,null,null,null,null,null,null,null,null,null,null,null,null,null,null,null,null,null,null,null,null,null,null,null,null,null,null,null,null,null,null,null,null,null,null,null,null,null,null,null,null,null,null,null,null,null,null,null,null,null,null,null,null,null,null,null,null,null,null,null,null,null,null,null,null,null,null,null,null,null,null,null,null,null,null,null,null,null,null,null,null,null,null,null,null,null,null,null,null,null,null,null,null,null,null,null,null,null,null,null,null,null,null,null,null,null,null,null,null,null,null,null,null,null,null,null,null,null,null,null,null,null,null,null,null,null,null,null,null,null,null,null,null,null,null,null,null,null,null,null,null,null,null,null,null,null,null,null,null,null,null,null,null,null,null,null,null,null,null,null,null,null,null,null,null,null,null,null,null,null,null,null,null,null,null,null,null,null,null,null,null,null,null,null,null,null,null,null,null,null,null,null,null,null,null,null,null,null,null,null,null,null,null,null,null,null,null,null,null,null,null,null,null,null,null,null,null,null,null,null,null,null,null,null,null,null,null,null,null,null,null,null,null,null,null,null,null,null,null,null,null,null,null,null,null,null,null,null,null,null,null,null,null,null,null,null,null,null,null,null,null,null,null,null,null,null,null,0,8,29,1]
[750,4.6791664506120041,434,26.241099999999999,93.955399999999997,0.93583085412542999,null,750,0.47,1.62,0.2,2.63,17.739999999999998,0.74,0.02,6.3,75,6.39,65.7,17.66,1.248852077,0.56084301700000005,59.2,4.6791664506120041,5.9345554190944054E-2,null,454,0.63713209303082563,0.93583515267439432,null,454,1,null,null,null,null,null,null,null,null,null,null,null,null,null,null,null,null,null,null,null,null,null,null,null,null,null,null,null,null,null,null,null,null,null,null,null,null,null,null,null,null,null,null,null,null,null,null,null,null,null,null,null,null,null,null,null,null,null,null,null,null,null,null,null,null,null,null,null,null,null,null,null,null,null,null,null,null,null,null,null,null,null,null,null,null,null,null,null,null,null,null,null,null,null,null,null,null,null,null,null,null,null,null,null,null,null,null,null,null,null,null,null,null,null,null,null,null,null,null,null,null,null,null,null,null,null,null,null,null,null,null,null,null,null,null,null,null,null,null,null,null,null,null,null,null,null,null,null,null,null,null,null,null,null,null,null,null,null,null,null,null,null,null,null,null,null,null,null,null,null,null,null,null,null,null,null,null,null,null,null,null,null,null,null,null,null,null,null,null,null,null,null,null,null,null,null,null,null,null,null,null,null,null,null,null,null,null,null,null,null,null,null,null,null,null,null,null,null,null,null,null,null,null,null,null,null,null,null,null,null,null,null,null,null,null,null,null,null,null,null,null,null,null,null,null,null,null,null,null,null,null,null,null,null,null,null,null,null,null,null,null,null,null,null,null,null,null,null,null,null,null,null,null,null,null,null,null,null,null,null,null,null,null,null,null,null,null,null,null,null,null,null,null,null,null,null,null,null,null,null,null,null,null,null,null,null,null,null,null,null,null,null,null,null,null,null,null,null,null,null,null,null,null,null,null,null,null,null,null,null,null,null,null,null,null,null,null,null,null,null,null,null,null,null,null,null,null,null,null,null,null,null,null,null,null,null,null,null,null,null,null,null,null,null,null,null,null,null,null,null,null,null,null,null,null,null,null,null,null,null,null,null,null,null,null,null,null,null,null,null,null,null,null,null,null,null,null,null,null,null,null,null,null,null,null,null,null,null,null,null,null,null,null,null,null,null,null,null,null,null,null,null,null,null,null,null,null,null,null,null,null,null,null,null,null,null,null,null,null,null,null,null,null,null,null,null,null,null,null,null,null,null,null,null,null,null,null,null,null,null,null,null,null,null,null,null,null,null,null,null,null,null,0,8,29,1]
["",0,442,29.551500000000001,107.294,0.93583085412542999,null,null,null,null,null,null,null,null,null,null,null,null,null,null,null,null,null,null,null,null,462,0.50415077444454837,0.93583515267439432,null,462,1,null,null,null,null,null,null,null,null,null,null,null,null,null,null,null,null,null,null,null,null,null,null,null,null,null,null,null,null,null,null,null,null,null,null,null,null,null,null,null,null,null,null,null,null,null,null,null,null,null,null,null,null,null,null,null,null,null,null,null,null,null,null,null,null,null,null,null,null,null,null,null,null,null,null,null,null,null,null,null,null,null,null,null,null,null,null,null,null,null,null,null,null,null,null,null,null,null,null,null,null,null,null,null,null,null,null,null,null,null,null,null,null,null,null,null,null,null,null,null,null,null,null,null,null,null,null,null,null,null,null,null,null,null,null,null,null,null,null,null,null,null,null,null,null,null,null,null,null,null,null,null,null,null,null,null,null,null,null,null,null,null,null,null,null,null,null,null,null,null,null,null,null,null,null,null,null,null,null,null,null,null,null,null,null,null,null,null,null,null,null,null,null,null,null,null,null,null,null,null,null,null,null,null,null,null,null,null,null,null,null,null,null,null,null,null,null,null,null,null,null,null,null,null,null,null,null,null,null,null,null,null,null,null,null,null,null,null,null,null,null,null,null,null,null,null,null,null,null,null,null,null,null,null,null,null,null,null,null,null,null,null,null,null,null,null,null,null,null,null,null,null,null,null,null,null,null,null,null,null,null,null,null,null,null,null,null,null,null,null,null,null,null,null,null,null,null,null,null,null,null,null,null,null,null,null,null,null,null,null,null,null,null,null,null,null,null,null,null,null,null,null,null,null,null,null,null,null,null,null,null,null,null,null,null,null,null,null,null,null,null,null,null,null,null,null,null,null,null,null,null,null,null,null,null,null,null,null,null,null,null,null,null,null,null,null,null,null,null,null,null,null,null,null,null,null,null,null,null,null,null,null,null,null,null,null,null,null,null,null,null,null,null,null,null,null,null,null,null,null,null,null,null,null,null,null,null,null,null,null,null,null,null,null,null,null,null,null,null,null,null,null,null,null,null,null,null,null,null,null,null,null,null,null,null,null,null,null,null,null,null,null,null,null,null,null,null,null,null,null,null,null,null,null,null,null,null,null,null,null,null,null,null,null,null,null,null,null,null,null,null,null,0,{"$f":"IF(SJ92>0,SJ92+1,SK92)","v":8},29,1]
["",0,453,34.468200000000003,117.249,0.93583085412542999,null,null,null,null,null,null,null,null,null,null,null,null,null,null,null,null,null,null,null,null,473,0.30487518034209105,0.93583515267439432,null,473,1,null,null,null,null,null,null,null,null,null,null,null,null,null,null,null,null,null,null,null,null,null,null,null,null,null,null,null,null,null,null,null,null,null,null,null,null,null,null,null,null,null,null,null,null,null,null,null,null,null,null,null,null,null,null,null,null,null,null,null,null,null,null,null,null,null,null,null,null,null,null,null,null,null,null,null,null,null,null,null,null,null,null,null,null,null,null,null,null,null,null,null,null,null,null,null,null,null,null,null,null,null,null,null,null,null,null,null,null,null,null,null,null,null,null,null,null,null,null,null,null,null,null,null,null,null,null,null,null,null,null,null,null,null,null,null,null,null,null,null,null,null,null,null,null,null,null,null,null,null,null,null,null,null,null,null,null,null,null,null,null,null,null,null,null,null,null,null,null,null,null,null,null,null,null,null,null,null,null,null,null,null,null,null,null,null,null,null,null,null,null,null,null,null,null,null,null,null,null,null,null,null,null,null,null,null,null,null,null,null,null,null,null,null,null,null,null,null,null,null,null,null,null,null,null,null,null,null,null,null,null,null,null,null,null,null,null,null,null,null,null,null,null,null,null,null,null,null,null,null,null,null,null,null,null,null,null,null,null,null,null,null,null,null,null,null,null,null,null,null,null,null,null,null,null,null,null,null,null,null,null,null,null,null,null,null,null,null,null,null,null,null,null,null,null,null,null,null,null,null,null,null,null,null,null,null,null,null,null,null,null,null,null,null,null,null,null,null,null,null,null,null,null,null,null,null,null,null,null,null,null,null,null,null,null,null,null,null,null,null,null,null,null,null,null,null,null,null,null,null,null,null,null,null,null,null,null,null,null,null,null,null,null,null,null,null,null,null,null,null,null,null,null,null,null,null,null,null,null,null,null,null,null,null,null,null,null,null,null,null,null,null,null,null,null,null,null,null,null,null,null,null,null,null,null,null,null,null,null,null,null,null,null,null,null,null,null,null,null,null,null,null,null,null,null,null,null,null,null,null,null,null,null,null,null,null,null,null,null,null,null,null,null,null,null,null,null,null,null,null,null,null,null,null,null,null,null,null,null,null,null,null,null,null,null,null,null,null,null,null,null,null,0,8,29,1]
["",0,456,35.881100000000004,117.49,0.93583085412542999,null,null,null,null,null,null,null,null,null,null,null,null,null,null,null,null,null,null,null,null,476,0.27109400339135209,0.93583515267439432,null,476,1,null,null,null,null,null,null,null,null,null,null,null,null,null,null,null,null,null,null,null,null,null,null,null,null,null,null,null,null,null,null,null,null,null,null,null,null,null,null,null,null,null,null,null,null,null,null,null,null,null,null,null,null,null,null,null,null,null,null,null,null,null,null,null,null,null,null,null,null,null,null,null,null,null,null,null,null,null,null,null,null,null,null,null,null,null,null,null,null,null,null,null,null,null,null,null,null,null,null,null,null,null,null,null,null,null,null,null,null,null,null,null,null,null,null,null,null,null,null,null,null,null,null,null,null,null,null,null,null,null,null,null,null,null,null,null,null,null,null,null,null,null,null,null,null,null,null,null,null,null,null,null,null,null,null,null,null,null,null,null,null,null,null,null,null,null,null,null,null,null,null,null,null,null,null,null,null,null,null,null,null,null,null,null,null,null,null,null,null,null,null,null,null,null,null,null,null,null,null,null,null,null,null,null,null,null,null,null,null,null,null,null,null,null,null,null,null,null,null,null,null,null,null,null,null,null,null,null,null,null,null,null,null,null,null,null,null,null,null,null,null,null,null,null,null,null,null,null,null,null,null,null,null,null,null,null,null,null,null,null,null,null,null,null,null,null,null,null,null,null,null,null,null,null,null,null,null,null,null,null,null,null,null,null,null,null,null,null,null,null,null,null,null,null,null,null,null,null,null,null,null,null,null,null,null,null,null,null,null,null,null,null,null,null,null,null,null,null,null,null,null,null,null,null,null,null,null,null,null,null,null,null,null,null,null,null,null,null,null,null,null,null,null,null,null,null,null,null,null,null,null,null,null,null,null,null,null,null,null,null,null,null,null,null,null,null,null,null,null,null,null,null,null,null,null,null,null,null,null,null,null,null,null,null,null,null,null,null,null,null,null,null,null,null,null,null,null,null,null,null,null,null,null,null,null,null,null,null,null,null,null,null,null,null,null,null,null,null,null,null,null,null,null,null,null,null,null,null,null,null,null,null,null,null,null,null,null,null,null,null,null,null,null,null,null,null,null,null,null,null,null,null,null,null,null,null,null,null,null,null,null,null,null,null,null,null,null,null,null,null,null,null,0,8,29,1]
["",0,464,39.795999999999999,116.63200000000001,0.93583085412542999,null,null,null,null,null,null,null,null,null,null,null,null,null,null,null,null,null,null,null,null,484,0.21589457805008203,0.93583515267439432,null,484,1,null,null,null,null,null,null,null,null,null,null,null,null,null,null,null,null,null,null,null,null,null,null,null,null,null,null,null,null,null,null,null,null,null,null,null,null,null,null,null,null,null,null,null,null,null,null,null,null,null,null,null,null,null,null,null,null,null,null,null,null,null,null,null,null,null,null,null,null,null,null,null,null,null,null,null,null,null,null,null,null,null,null,null,null,null,null,null,null,null,null,null,null,null,null,null,null,null,null,null,null,null,null,null,null,null,null,null,null,null,null,null,null,null,null,null,null,null,null,null,null,null,null,null,null,null,null,null,null,null,null,null,null,null,null,null,null,null,null,null,null,null,null,null,null,null,null,null,null,null,null,null,null,null,null,null,null,null,null,null,null,null,null,null,null,null,null,null,null,null,null,null,null,null,null,null,null,null,null,null,null,null,null,null,null,null,null,null,null,null,null,null,null,null,null,null,null,null,null,null,null,null,null,null,null,null,null,null,null,null,null,null,null,null,null,null,null,null,null,null,null,null,null,null,null,null,null,null,null,null,null,null,null,null,null,null,null,null,null,null,null,null,null,null,null,null,null,null,null,null,null,null,null,null,null,null,null,null,null,null,null,null,null,null,null,null,null,null,null,null,null,null,null,null,null,null,null,null,null,null,null,null,null,null,null,null,null,null,null,null,null,null,null,null,null,null,null,null,null,null,null,null,null,null,null,null,null,null,null,null,null,null,null,null,null,null,null,null,null,null,null,null,null,null,null,null,null,null,null,null,null,null,null,null,null,null,null,null,null,null,null,null,null,null,null,null,null,null,null,null,null,null,null,null,null,null,null,null,null,null,null,null,null,null,null,null,null,null,null,null,null,null,null,null,null,null,null,null,null,null,null,null,null,null,null,null,null,null,null,null,null,null,null,null,null,null,null,null,null,null,null,null,null,null,null,null,null,null,null,null,null,null,null,null,null,null,null,null,null,null,null,null,null,null,null,null,null,null,null,null,null,null,null,null,null,null,null,null,null,null,null,null,null,null,null,null,null,null,null,null,null,null,null,null,null,null,null,null,null,null,null,null,null,null,null,null,null,null,null,null,null,null,0,8,29,1]
["",0,469,42.3491,115.15600000000001,0.93583085412542999,null,null,null,null,null,null,null,null,null,null,null,null,null,null,null,null,null,null,null,null,489,0.20897523745109747,0.93583515267439432,null,489,1,null,null,null,null,null,null,null,null,null,null,null,null,null,null,null,null,null,null,null,null,null,null,null,null,null,null,null,null,null,null,null,null,null,null,null,null,null,null,null,null,null,null,null,null,null,null,null,null,null,null,null,null,null,null,null,null,null,null,null,null,null,null,null,null,null,null,null,null,null,null,null,null,null,null,null,null,null,null,null,null,null,null,null,null,null,null,null,null,null,null,null,null,null,null,null,null,null,null,null,null,null,null,null,null,null,null,null,null,null,null,null,null,null,null,null,null,null,null,null,null,null,null,null,null,null,null,null,null,null,null,null,null,null,null,null,null,null,null,null,null,null,null,null,null,null,null,null,null,null,null,null,null,null,null,null,null,null,null,null,null,null,null,null,null,null,null,null,null,null,null,null,null,null,null,null,null,null,null,null,null,null,null,null,null,null,null,null,null,null,null,null,null,null,null,null,null,null,null,null,null,null,null,null,null,null,null,null,null,null,null,null,null,null,null,null,null,null,null,null,null,null,null,null,null,null,null,null,null,null,null,null,null,null,null,null,null,null,null,null,null,null,null,null,null,null,null,null,null,null,null,null,null,null,null,null,null,null,null,null,null,null,null,null,null,null,null,null,null,null,null,null,null,null,null,null,null,null,null,null,null,null,null,null,null,null,null,null,null,null,null,null,null,null,null,null,null,null,null,null,null,null,null,null,null,null,null,null,null,null,null,null,null,null,null,null,null,null,null,null,null,null,null,null,null,null,null,null,null,null,null,null,null,null,null,null,null,null,null,null,null,null,null,null,null,null,null,null,null,null,null,null,null,null,null,null,null,null,null,null,null,null,null,null,null,null,null,null,null,null,null,null,null,null,null,null,null,null,null,null,null,null,null,null,null,null,null,null,null,null,null,null,null,null,null,null,null,null,null,null,null,null,null,null,null,null,null,null,null,null,null,null,null,null,null,null,null,null,null,null,null,null,null,null,null,null,null,null,null,null,null,null,null,null,null,null,null,null,null,null,null,null,null,null,null,null,null,null,null,null,null,null,null,null,null,null,null,null,null,null,null,null,null,null,null,null,null,null,null,null,null,null,0,8,29,1]
["",0,477,46.598300000000002,115.604,0.93583085412542999,null,null,null,null,null,null,null,null,null,null,null,null,null,null,null,null,null,null,null,null,497,0.23712466666199833,0.93583515267439432,null,497,1,null,null,null,null,null,null,null,null,null,null,null,null,null,null,null,null,null,null,null,null,null,null,null,null,null,null,null,null,null,null,null,null,null,null,null,null,null,null,null,null,null,null,null,null,null,null,null,null,null,null,null,null,null,null,null,null,null,null,null,null,null,null,null,null,null,null,null,null,null,null,null,null,null,null,null,null,null,null,null,null,null,null,null,null,null,null,null,null,null,null,null,null,null,null,null,null,null,null,null,null,null,null,null,null,null,null,null,null,null,null,null,null,null,null,null,null,null,null,null,null,null,null,null,null,null,null,null,null,null,null,null,null,null,null,null,null,null,null,null,null,null,null,null,null,null,null,null,null,null,null,null,null,null,null,null,null,null,null,null,null,null,null,null,null,null,null,null,null,null,null,null,null,null,null,null,null,null,null,null,null,null,null,null,null,null,null,null,null,null,null,null,null,null,null,null,null,null,null,null,null,null,null,null,null,null,null,null,null,null,null,null,null,null,null,null,null,null,null,null,null,null,null,null,null,null,null,null,null,null,null,null,null,null,null,null,null,null,null,null,null,null,null,null,null,null,null,null,null,null,null,null,null,null,null,null,null,null,null,null,null,null,null,null,null,null,null,null,null,null,null,null,null,null,null,null,null,null,null,null,null,null,null,null,null,null,null,null,null,null,null,null,null,null,null,null,null,null,null,null,null,null,null,null,null,null,null,null,null,null,null,null,null,null,null,null,null,null,null,null,null,null,null,null,null,null,null,null,null,null,null,null,null,null,null,null,null,null,null,null,null,null,null,null,null,null,null,null,null,null,null,null,null,null,null,null,null,null,null,null,null,null,null,null,null,null,null,null,null,null,null,null,null,null,null,null,null,null,null,null,null,null,null,null,null,null,null,null,null,null,null,null,null,null,null,null,null,null,null,null,null,null,null,null,null,null,null,null,null,null,null,null,null,null,null,null,null,null,null,null,null,null,null,null,null,null,null,null,null,null,null,null,null,null,null,null,null,null,null,null,null,null,null,null,null,null,null,null,null,null,null,null,null,null,null,null,null,null,null,null,null,null,null,null,null,null,null,null,null,null,null,null,0,8,29,1]
["",0,486,51.610399999999998,111.65600000000001,0.93583085412542999,null,null,null,null,null,null,null,null,null,null,null,null,null,null,null,null,null,null,null,null,506,0.32243872590398559,0.93583515267439432,null,506,1,null,null,null,null,null,null,null,null,null,null,null,null,null,null,null,null,null,null,null,null,null,null,null,null,null,null,null,null,null,null,null,null,null,null,null,null,null,null,null,null,null,null,null,null,null,null,null,null,null,null,null,null,null,null,null,null,null,null,null,null,null,null,null,null,null,null,null,null,null,null,null,null,null,null,null,null,null,null,null,null,null,null,null,null,null,null,null,null,null,null,null,null,null,null,null,null,null,null,null,null,null,null,null,null,null,null,null,null,null,null,null,null,null,null,null,null,null,null,null,null,null,null,null,null,null,null,null,null,null,null,null,null,null,null,null,null,null,null,null,null,null,null,null,null,null,null,null,null,null,null,null,null,null,null,null,null,null,null,null,null,null,null,null,null,null,null,null,null,null,null,null,null,null,null,null,null,null,null,null,null,null,null,null,null,null,null,null,null,null,null,null,null,null,null,null,null,null,null,null,null,null,null,null,null,null,null,null,null,null,null,null,null,null,null,null,null,null,null,null,null,null,null,null,null,null,null,null,null,null,null,null,null,null,null,null,null,null,null,null,null,null,null,null,null,null,null,null,null,null,null,null,null,null,null,null,null,null,null,null,null,null,null,null,null,null,null,null,null,null,null,null,null,null,null,null,null,null,null,null,null,null,null,null,null,null,null,null,null,null,null,null,null,null,null,null,null,null,null,null,null,null,null,null,null,null,null,null,null,null,null,null,null,null,null,null,null,null,null,null,null,null,null,null,null,null,null,null,null,null,null,null,null,null,null,null,null,null,null,null,null,null,null,null,null,null,null,null,null,null,null,null,null,null,null,null,null,null,null,null,null,null,null,null,null,null,null,null,null,null,null,null,null,null,null,null,null,null,null,null,null,null,null,null,null,null,null,null,null,null,null,null,null,null,null,null,null,null,null,null,null,null,null,null,null,null,null,null,null,null,null,null,null,null,null,null,null,null,null,null,null,null,null,null,null,null,null,null,null,null,null,null,null,null,null,null,null,null,null,null,null,null,null,null,null,null,null,null,null,null,null,null,null,null,null,null,null,null,null,null,null,null,null,null,null,null,null,null,null,null,null,null,0,8,29,1]
["",0,491,54.495800000000003,108.86499999999999,0.93583085412542999,null,null,null,null,null,null,null,null,null,null,null,null,null,null,null,null,null,null,null,null,511,0.38440893796547837,0.93583515267439432,null,511,1,null,null,null,null,null,null,null,null,null,null,null,null,null,null,null,null,null,null,null,null,null,null,null,null,null,null,null,null,null,null,null,null,null,null,null,null,null,null,null,null,null,null,null,null,null,null,null,null,null,null,null,null,null,null,null,null,null,null,null,null,null,null,null,null,null,null,null,null,null,null,null,null,null,null,null,null,null,null,null,null,null,null,null,null,null,null,null,null,null,null,null,null,null,null,null,null,null,null,null,null,null,null,null,null,null,null,null,null,null,null,null,null,null,null,null,null,null,null,null,null,null,null,null,null,null,null,null,null,null,null,null,null,null,null,null,null,null,null,null,null,null,null,null,null,null,null,null,null,null,null,null,null,null,null,null,null,null,null,null,null,null,null,null,null,null,null,null,null,null,null,null,null,null,null,null,null,null,null,null,null,null,null,null,null,null,null,null,null,null,null,null,null,null,null,null,null,null,null,null,null,null,null,null,null,null,null,null,null,null,null,null,null,null,null,null,null,null,null,null,null,null,null,null,null,null,null,null,null,null,null,null,null,null,null,null,null,null,null,null,null,null,null,null,null,null,null,null,null,null,null,null,null,null,null,null,null,null,null,null,null,null,null,null,null,null,null,null,null,null,null,null,null,null,null,null,null,null,null,null,null,null,null,null,null,null,null,null,null,null,null,null,null,null,null,null,null,null,null,null,null,null,null,null,null,null,null,null,null,null,null,null,null,null,null,null,null,null,null,null,null,null,null,null,null,null,null,null,null,null,null,null,null,null,null,null,null,null,null,null,null,null,null,null,null,null,null,null,null,null,null,null,null,null,null,null,null,null,null,null,null,null,null,null,null,null,null,null,null,null,null,null,null,null,null,null,null,null,null,null,null,null,null,null,null,null,null,null,null,null,null,null,null,null,null,null,null,null,null,null,null,null,null,null,null,null,null,null,null,null,null,null,null,null,null,null,null,null,null,null,null,null,null,null,null,null,null,null,null,null,null,null,null,null,null,null,null,null,null,null,null,null,null,null,null,null,null,null,null,null,null,null,null,null,null,null,null,null,null,null,null,null,null,null,null,null,null,null,null,null,null,null,0,8,29,1]
["",0,499,59.2545,109.3,0.93583085412542999,null,null,null,null,null,null,null,null,null,null,null,null,null,null,null,null,null,null,null,null,519,0.4868733095334879,0.93583515267439432,null,519,1,null,null,null,null,null,null,null,null,null,null,null,null,null,null,null,null,null,null,null,null,null,null,null,null,null,null,null,null,null,null,null,null,null,null,null,null,null,null,null,null,null,null,null,null,null,null,null,null,null,null,null,null,null,null,null,null,null,null,null,null,null,null,null,null,null,null,null,null,null,null,null,null,null,null,null,null,null,null,null,null,null,null,null,null,null,null,null,null,null,null,null,null,null,null,null,null,null,null,null,null,null,null,null,null,null,null,null,null,null,null,null,null,null,null,null,null,null,null,null,null,null,null,null,null,null,null,null,null,null,null,null,null,null,null,null,null,null,null,null,null,null,null,null,null,null,null,null,null,null,null,null,null,null,null,null,null,null,null,null,null,null,null,null,null,null,null,null,null,null,null,null,null,null,null,null,null,null,null,null,null,null,null,null,null,null,null,null,null,null,null,null,null,null,null,null,null,null,null,null,null,null,null,null,null,null,null,null,null,null,null,null,null,null,null,null,null,null,null,null,null,null,null,null,null,null,null,null,null,null,null,null,null,null,null,null,null,null,null,null,null,null,null,null,null,null,null,null,null,null,null,null,null,null,null,null,null,null,null,null,null,null,null,null,null,null,null,null,null,null,null,null,null,null,null,null,null,null,null,null,null,null,null,null,null,null,null,null,null,null,null,null,null,null,null,null,null,null,null,null,null,null,null,null,null,null,null,null,null,null,null,null,null,null,null,null,null,null,null,null,null,null,null,null,null,null,null,null,null,null,null,null,null,null,null,null,null,null,null,null,null,null,null,null,null,null,null,null,null,null,null,null,null,null,null,null,null,null,null,null,null,null,null,null,null,null,null,null,null,null,null,null,null,null,null,null,null,null,null,null,null,null,null,null,null,null,null,null,null,null,null,null,null,null,null,null,null,null,null,null,null,null,null,null,null,null,null,null,null,null,null,null,null,null,null,null,null,null,null,null,null,null,null,null,null,null,null,null,null,null,null,null,null,null,null,null,null,null,null,null,null,null,null,null,null,null,null,null,null,null,null,null,null,null,null,null,null,null,null,null,null,null,null,null,null,null,null,null,null,null,null,null,0,8,29,1]
["",0,507,64.177499999999995,108.268,0.93583085412542999,null,null,null,null,null,null,null,null,null,null,null,null,null,null,null,null,null,null,null,null,527,0.58100206237506336,0.93583515267439432,null,527,1,null,null,null,null,null,null,null,null,null,null,null,null,null,null,null,null,null,null,null,null,null,null,null,null,null,null,null,null,null,null,null,null,null,null,null,null,null,null,null,null,null,null,null,null,null,null,null,null,null,null,null,null,null,null,null,null,null,null,null,null,null,null,null,null,null,null,null,null,null,null,null,null,null,null,null,null,null,null,null,null,null,null,null,null,null,null,null,null,null,null,null,null,null,null,null,null,null,null,null,null,null,null,null,null,null,null,null,null,null,null,null,null,null,null,null,null,null,null,null,null,null,null,null,null,null,null,null,null,null,null,null,null,null,null,null,null,null,null,null,null,null,null,null,null,null,null,null,null,null,null,null,null,null,null,null,null,null,null,null,null,null,null,null,null,null,null,null,null,null,null,null,null,null,null,null,null,null,null,null,null,null,null,null,null,null,null,null,null,null,null,null,null,null,null,null,null,null,null,null,null,null,null,null,null,null,null,null,null,null,null,null,null,null,null,null,null,null,null,null,null,null,null,null,null,null,null,null,null,null,null,null,null,null,null,null,null,null,null,null,null,null,null,null,null,null,null,null,null,null,null,null,null,null,null,null,null,null,null,null,null,null,null,null,null,null,null,null,null,null,null,null,null,null,null,null,null,null,null,null,null,null,null,null,null,null,null,null,null,null,null,null,null,null,null,null,null,null,null,null,null,null,null,null,null,null,null,null,null,null,null,null,null,null,null,null,null,null,null,null,null,null,null,null,null,null,null,null,null,null,null,null,null,null,null,null,null,null,null,null,null,null,null,null,null,null,null,null,null,null,null,null,null,null,null,null,null,null,null,null,null,null,null,null,null,null,null,null,null,null,null,null,null,null,null,null,null,null,null,null,null,null,null,null,null,null,null,null,null,null,null,null,null,null,null,null,null,null,null,null,null,null,null,null,null,null,null,null,null,null,null,null,null,null,null,null,null,null,null,null,null,null,null,null,null,null,null,null,null,null,null,null,null,null,null,null,null,null,null,null,null,null,null,null,null,null,null,null,null,null,null,null,null,null,null,null,null,null,null,null,null,null,null,null,null,null,null,null,null,null,null,null,0,8,29,1]
["",0,512,67.332400000000007,107.2,0.93583085412542999,null,null,null,null,null,null,null,null,null,null,null,null,null,null,null,null,null,null,null,null,532,0.63170024198215857,0.93583515267439432,null,532,1,null,null,null,null,null,null,null,null,null,null,null,null,null,null,null,null,null,null,null,null,null,null,null,null,null,null,null,null,null,null,null,null,null,null,null,null,null,null,null,null,null,null,null,null,null,null,null,null,null,null,null,null,null,null,null,null,null,null,null,null,null,null,null,null,null,null,null,null,null,null,null,null,null,null,null,null,null,null,null,null,null,null,null,null,null,null,null,null,null,null,null,null,null,null,null,null,null,null,null,null,null,null,null,null,null,null,null,null,null,null,null,null,null,null,null,null,null,null,null,null,null,null,null,null,null,null,null,null,null,null,null,null,null,null,null,null,null,null,null,null,null,null,null,null,null,null,null,null,null,null,null,null,null,null,null,null,null,null,null,null,null,null,null,null,null,null,null,null,null,null,null,null,null,null,null,null,null,null,null,null,null,null,null,null,null,null,null,null,null,null,null,null,null,null,null,null,null,null,null,null,null,null,null,null,null,null,null,null,null,null,null,null,null,null,null,null,null,null,null,null,null,null,null,null,null,null,null,null,null,null,null,null,null,null,null,null,null,null,null,null,null,null,null,null,null,null,null,null,null,null,null,null,null,null,null,null,null,null,null,null,null,null,null,null,null,null,null,null,null,null,null,null,null,null,null,null,null,null,null,null,null,null,null,null,null,null,null,null,null,null,null,null,null,null,null,null,null,null,null,null,null,null,null,null,null,null,null,null,null,null,null,null,null,null,null,null,null,null,null,null,null,null,null,null,null,null,null,null,null,null,null,null,null,null,null,null,null,null,null,null,null,null,null,null,null,null,null,null,null,null,null,null,null,null,null,null,null,null,null,null,null,null,null,null,null,null,null,null,null,null,null,null,null,null,null,null,null,null,null,null,null,null,null,null,null,null,null,null,null,null,null,null,null,null,null,null,null,null,null,null,null,null,null,null,null,null,null,null,null,null,null,null,null,null,null,null,null,null,null,null,null,null,null,null,null,null,null,null,null,null,null,null,null,null,null,null,null,null,null,null,null,null,null,null,null,null,null,null,null,null,null,null,null,null,null,null,null,null,null,null,null,null,null,null,null,null,null,null,null,null,null,0,8,29,1]
["",0,519,71.843000000000004,105.09099999999999,0.93583085412542999,null,null,null,null,null,null,null,null,null,null,null,null,null,null,null,null,null,null,null,null,539,0.69077374196372698,0.93583515267439432,null,539,1,null,null,null,null,null,null,null,null,null,null,null,null,null,null,null,null,null,null,null,null,null,null,null,null,null,null,null,null,null,null,null,null,null,null,null,null,null,null,null,null,null,null,null,null,null,null,null,null,null,null,null,null,null,null,null,null,null,null,null,null,null,null,null,null,null,null,null,null,null,null,null,null,null,null,null,null,null,null,null,null,null,null,null,null,null,null,null,null,null,null,null,null,null,null,null,null,null,null,null,null,null,null,null,null,null,null,null,null,null,null,null,null,null,null,null,null,null,null,null,null,null,null,null,null,null,null,null,null,null,null,null,null,null,null,null,null,null,null,null,null,null,null,null,null,null,null,null,null,null,null,null,null,null,null,null,null,null,null,null,null,null,null,null,null,null,null,null,null,null,null,null,null,null,null,null,null,null,null,null,null,null,null,null,null,null,null,null,null,null,null,null,null,null,null,null,null,null,null,null,null,null,null,null,null,null,null,null,null,null,null,null,null,null,null,null,null,null,null,null,null,null,null,null,null,null,null,null,null,null,null,null,null,null,null,null,null,null,null,null,null,null,null,null,null,null,null,null,null,null,null,null,null,null,null,null,null,null,null,null,null,null,null,null,null,null,null,null,null,null,null,null,null,null,null,null,null,null,null,null,null,null,null,null,null,null,null,null,null,null,null,null,null,null,null,null,null,null,null,null,null,null,null,null,null,null,null,null,null,null,null,null,null,null,null,null,null,null,null,null,null,null,null,null,null,null,null,null,null,null,null,null,null,null,null,null,null,null,null,null,null,null,null,null,null,null,null,null,null,null,null,null,null,null,null,null,null,null,null,null,null,null,null,null,null,null,null,null,null,null,null,null,null,null,null,null,null,null,null,null,null,null,null,null,null,null,null,null,null,null,null,null,null,null,null,null,null,null,null,null,null,null,null,null,null,null,null,null,null,null,null,null,null,null,null,null,null,null,null,null,null,null,null,null,null,null,null,null,null,null,null,null,null,null,null,null,null,null,null,null,null,null,null,null,null,null,null,null,null,null,null,null,null,null,null,null,null,null,null,null,null,null,null,null,null,null,null,null,null,null,null,null,0,8,29,1]
["",0,533,81.159499999999994,106.70399999999999,0.93583085412542999,null,null,null,null,null,null,null,null,null,null,null,null,null,null,null,null,null,null,null,null,553,0.7910010130241254,0.93583515267439432,null,553,1,null,null,null,null,null,null,null,null,null,null,null,null,null,null,null,null,null,null,null,null,null,null,null,null,null,null,null,null,null,null,null,null,null,null,null,null,null,null,null,null,null,null,null,null,null,null,null,null,null,null,null,null,null,null,null,null,null,null,null,null,null,null,null,null,null,null,null,null,null,null,null,null,null,null,null,null,null,null,null,null,null,null,null,null,null,null,null,null,null,null,null,null,null,null,null,null,null,null,null,null,null,null,null,null,null,null,null,null,null,null,null,null,null,null,null,null,null,null,null,null,null,null,null,null,null,null,null,null,null,null,null,null,null,null,null,null,null,null,null,null,null,null,null,null,null,null,null,null,null,null,null,null,null,null,null,null,null,null,null,null,null,null,null,null,null,null,null,null,null,null,null,null,null,null,null,null,null,null,null,null,null,null,null,null,null,null,null,null,null,null,null,null,null,null,null,null,null,null,null,null,null,null,null,null,null,null,null,null,null,null,null,null,null,null,null,null,null,null,null,null,null,null,null,null,null,null,null,null,null,null,null,null,null,null,null,null,null,null,null,null,null,null,null,null,null,null,null,null,null,null,null,null,null,null,null,null,null,null,null,null,null,null,null,null,null,null,null,null,null,null,null,null,null,null,null,null,null,null,null,null,null,null,null,null,null,null,null,null,null,null,null,null,null,null,null,null,null,null,null,null,null,null,null,null,null,null,null,null,null,null,null,null,null,null,null,null,null,null,null,null,null,null,null,null,null,null,null,null,null,null,null,null,null,null,null,null,null,null,null,null,null,null,null,null,null,null,null,null,null,null,null,null,null,null,null,null,null,null,null,null,null,null,null,null,null,null,null,null,null,null,null,null,null,null,null,null,null,null,null,null,null,null,null,null,null,null,null,null,null,null,null,null,null,null,null,null,null,null,null,null,null,null,null,null,null,null,null,null,null,null,null,null,null,null,null,null,null,null,null,null,null,null,null,null,null,null,null,null,null,null,null,null,null,null,null,null,null,null,null,null,null,null,null,null,null,null,null,null,null,null,null,null,null,null,null,null,null,null,null,null,null,null,null,null,null,null,null,null,null,null,null,0,8,29,1]
["",0,534,81.8386,106.375,0.93583085412542999,null,null,null,null,null,null,null,null,null,null,null,null,null,null,null,null,null,null,null,null,554,0.79764010764395532,0.93583515267439432,null,554,1,null,null,null,null,null,null,null,null,null,null,null,null,null,null,null,null,null,null,null,null,null,null,null,null,null,null,null,null,null,null,null,null,null,null,null,null,null,null,null,null,null,null,null,null,null,null,null,null,null,null,null,null,null,null,null,null,null,null,null,null,null,null,null,null,null,null,null,null,null,null,null,null,null,null,null,null,null,null,null,null,null,null,null,null,null,null,null,null,null,null,null,null,null,null,null,null,null,null,null,null,null,null,null,null,null,null,null,null,null,null,null,null,null,null,null,null,null,null,null,null,null,null,null,null,null,null,null,null,null,null,null,null,null,null,null,null,null,null,null,null,null,null,null,null,null,null,null,null,null,null,null,null,null,null,null,null,null,null,null,null,null,null,null,null,null,null,null,null,null,null,null,null,null,null,null,null,null,null,null,null,null,null,null,null,null,null,null,null,null,null,null,null,null,null,null,null,null,null,null,null,null,null,null,null,null,null,null,null,null,null,null,null,null,null,null,null,null,null,null,null,null,null,null,null,null,null,null,null,null,null,null,null,null,null,null,null,null,null,null,null,null,null,null,null,null,null,null,null,null,null,null,null,null,null,null,null,null,null,null,null,null,null,null,null,null,null,null,null,null,null,null,null,null,null,null,null,null,null,null,null,null,null,null,null,null,null,null,null,null,null,null,null,null,null,null,null,null,null,null,null,null,null,null,null,null,null,null,null,null,null,null,null,null,null,null,null,null,null,null,null,null,null,null,null,null,null,null,null,null,null,null,null,null,null,null,null,null,null,null,null,null,null,null,null,null,null,null,null,null,null,null,null,null,null,null,null,null,null,null,null,null,null,null,null,null,null,null,null,null,null,null,null,null,null,null,null,null,null,null,null,null,null,null,null,null,null,null,null,null,null,null,null,null,null,null,null,null,null,null,null,null,null,null,null,null,null,null,null,null,null,null,null,null,null,null,null,null,null,null,null,null,null,null,null,null,null,null,null,null,null,null,null,null,null,null,null,null,null,null,null,null,null,null,null,null,null,null,null,null,null,null,null,null,null,null,null,null,null,null,null,null,null,null,null,null,null,null,null,null,null,null,0,8,29,1]
["",0,542,87.328800000000001,104.333,0.93583085412542999,null,null,null,null,null,null,null,null,null,null,null,null,null,null,null,null,null,null,null,null,562,0.84880336387778021,0.93583515267439432,null,562,1,null,null,null,null,null,null,null,null,null,null,null,null,null,null,null,null,null,null,null,null,null,null,null,null,null,null,null,null,null,null,null,null,null,null,null,null,null,null,null,null,null,null,null,null,null,null,null,null,null,null,null,null,null,null,null,null,null,null,null,null,null,null,null,null,null,null,null,null,null,null,null,null,null,null,null,null,null,null,null,null,null,null,null,null,null,null,null,null,null,null,null,null,null,null,null,null,null,null,null,null,null,null,null,null,null,null,null,null,null,null,null,null,null,null,null,null,null,null,null,null,null,null,null,null,null,null,null,null,null,null,null,null,null,null,null,null,null,null,null,null,null,null,null,null,null,null,null,null,null,null,null,null,null,null,null,null,null,null,null,null,null,null,null,null,null,null,null,null,null,null,null,null,null,null,null,null,null,null,null,null,null,null,null,null,null,null,null,null,null,null,null,null,null,null,null,null,null,null,null,null,null,null,null,null,null,null,null,null,null,null,null,null,null,null,null,null,null,null,null,null,null,null,null,null,null,null,null,null,null,null,null,null,null,null,null,null,null,null,null,null,null,null,null,null,null,null,null,null,null,null,null,null,null,null,null,null,null,null,null,null,null,null,null,null,null,null,null,null,null,null,null,null,null,null,null,null,null,null,null,null,null,null,null,null,null,null,null,null,null,null,null,null,null,null,null,null,null,null,null,null,null,null,null,null,null,null,null,null,null,null,null,null,null,null,null,null,null,null,null,null,null,null,null,null,null,null,null,null,null,null,null,null,null,null,null,null,null,null,null,null,null,null,null,null,null,null,null,null,null,null,null,null,null,null,null,null,null,null,null,null,null,null,null,null,null,null,null,null,null,null,null,null,null,null,null,null,null,null,null,null,null,null,null,null,null,null,null,null,null,null,null,null,null,null,null,null,null,null,null,null,null,null,null,null,null,null,null,null,null,null,null,null,null,null,null,null,null,null,null,null,null,null,null,null,null,null,null,null,null,null,null,null,null,null,null,null,null,null,null,null,null,null,null,null,null,null,null,null,null,null,null,null,null,null,null,null,null,null,null,null,null,null,null,null,null,null,null,null,null,null,null,0,8,29,1]
["",0,554,95.733900000000006,102.428,0.93583085412542999,null,null,null,null,null,null,null,null,null,null,null,null,null,null,null,null,null,null,null,null,574,0.92077267680333919,0.93583515267439432,null,574,1,null,null,null,null,null,null,null,null,null,null,null,null,null,null,null,null,null,null,null,null,null,null,null,null,null,null,null,null,null,null,null,null,null,null,null,null,null,null,null,null,null,null,null,null,null,null,null,null,null,null,null,null,null,null,null,null,null,null,null,null,null,null,null,null,null,null,null,null,null,null,null,null,null,null,null,null,null,null,null,null,null,null,null,null,null,null,null,null,null,null,null,null,null,null,null,null,null,null,null,null,null,null,null,null,null,null,null,null,null,null,null,null,null,null,null,null,null,null,null,null,null,null,null,null,null,null,null,null,null,null,null,null,null,null,null,null,null,null,null,null,null,null,null,null,null,null,null,null,null,null,null,null,null,null,null,null,null,null,null,null,null,null,null,null,null,null,null,null,null,null,null,null,null,null,null,null,null,null,null,null,null,null,null,null,null,null,null,null,null,null,null,null,null,null,null,null,null,null,null,null,null,null,null,null,null,null,null,null,null,null,null,null,null,null,null,null,null,null,null,null,null,null,null,null,null,null,null,null,null,null,null,null,null,null,null,null,null,null,null,null,null,null,null,null,null,null,null,null,null,null,null,null,null,null,null,null,null,null,null,null,null,null,null,null,null,null,null,null,null,null,null,null,null,null,null,null,null,null,null,null,null,null,null,null,null,null,null,null,null,null,null,null,null,null,null,null,null,null,null,null,null,null,null,null,null,null,null,null,null,null,null,null,null,null,null,null,null,null,null,null,null,null,null,null,null,null,null,null,null,null,null,null,null,null,null,null,null,null,null,null,null,null,null,null,null,null,null,null,null,null,null,null,null,null,null,null,null,null,null,null,null,null,null,null,null,null,null,null,null,null,null,null,null,null,null,null,null,null,null,null,null,null,null,null,null,null,null,null,null,null,null,null,null,null,null,null,null,null,null,null,null,null,null,null,null,null,null,null,null,null,null,null,null,null,null,null,null,null,null,null,null,null,null,null,null,null,null,null,null,null,null,null,null,null,null,null,null,null,null,null,null,null,null,null,null,null,null,null,null,null,null,null,null,null,null,null,null,null,null,null,null,null,null,null,null,null,null,null,null,null,null,0,8,29,1]
["",0,560,100,100,0.93583085412542999,null,null,null,null,null,null,null,null,null,null,null,null,null,null,null,null,null,null,null,null,580,0.95163814404877634,0.93583515267439432,null,580,1,null,null,null,null,null,null,null,null,null,null,null,null,null,null,null,null,null,null,null,null,null,null,null,null,null,null,null,null,null,null,null,null,null,null,null,null,null,null,null,null,null,null,null,null,null,null,null,null,null,null,null,null,null,null,null,null,null,null,null,null,null,null,null,null,null,null,null,null,null,null,null,null,null,null,null,null,null,null,null,null,null,null,null,null,null,null,null,null,null,null,null,null,null,null,null,null,null,null,null,null,null,null,null,null,null,null,null,null,null,null,null,null,null,null,null,null,null,null,null,null,null,null,null,null,null,null,null,null,null,null,null,null,null,null,null,null,null,null,null,null,null,null,null,null,null,null,null,null,null,null,null,null,null,null,null,null,null,null,null,null,null,null,null,null,null,null,null,null,null,null,null,null,null,null,null,null,null,null,null,null,null,null,null,null,null,null,null,null,null,null,null,null,null,null,null,null,null,null,null,null,null,null,null,null,null,null,null,null,null,null,null,null,null,null,null,null,null,null,null,null,null,null,null,null,null,null,null,null,null,null,null,null,null,null,null,null,null,null,null,null,null,null,null,null,null,null,null,null,null,null,null,null,null,null,null,null,null,null,null,null,null,null,null,null,null,null,null,null,null,null,null,null,null,null,null,null,null,null,null,null,null,null,null,null,null,null,null,null,null,null,null,null,null,null,null,null,null,null,null,null,null,null,null,null,null,null,null,null,null,null,null,null,null,null,null,null,null,null,null,null,null,null,null,null,null,null,null,null,null,null,null,null,null,null,null,null,null,null,null,null,null,null,null,null,null,null,null,null,null,null,null,null,null,null,null,null,null,null,null,null,null,null,null,null,null,null,null,null,null,null,null,null,null,null,null,null,null,null,null,null,null,null,null,null,null,null,null,null,null,null,null,null,null,null,null,null,null,null,null,null,null,null,null,null,null,null,null,null,null,null,null,null,null,null,null,null,null,null,null,null,null,null,null,null,null,null,null,null,null,null,null,null,null,null,null,null,null,null,null,null,null,null,null,null,null,null,null,null,null,null,null,null,null,null,null,null,null,null,null,null,null,null,null,null,null,null,null,null,null,null,null,0,8,29,1]
["",0,568,105.741,97.067400000000006,0.93583085412542999,null,null,null,null,null,null,null,null,null,null,null,null,null,null,null,null,null,null,null,null,588,0.98363690442258489,0.93583515267439432,null,588,1,null,null,null,null,null,null,null,null,null,null,null,null,null,null,null,null,null,null,null,null,null,null,null,null,null,null,null,null,null,null,null,null,null,null,null,null,null,null,null,null,null,null,null,null,null,null,null,null,null,null,null,null,null,null,null,null,null,null,null,null,null,null,null,null,null,null,null,null,null,null,null,null,null,null,null,null,null,null,null,null,null,null,null,null,null,null,null,null,null,null,null,null,null,null,null,null,null,null,null,null,null,null,null,null,null,null,null,null,null,null,null,null,null,null,null,null,null,null,null,null,null,null,null,null,null,null,null,null,null,null,null,null,null,null,null,null,null,null,null,null,null,null,null,null,null,null,null,null,null,null,null,null,null,null,null,null,null,null,null,null,null,null,null,null,null,null,null,null,null,null,null,null,null,null,null,null,null,null,null,null,null,null,null,null,null,null,null,null,null,null,null,null,null,null,null,null,null,null,null,null,null,null,null,null,null,null,null,null,null,null,null,null,null,null,null,null,null,null,null,null,null,null,null,null,null,null,null,null,null,null,null,null,null,null,null,null,null,null,null,null,null,null,null,null,null,null,null,null,null,null,null,null,null,null,null,null,null,null,null,null,null,null,null,null,null,null,null,null,null,null,null,null,null,null,null,null,null,null,null,null,null,null,null,null,null,null,null,null,null,null,null,null,null,null,null,null,null,null,null,null,null,null,null,null,null,null,null,null,null,null,null,null,null,null,null,null,null,null,null,null,null,null,null,null,null,null,null,null,null,null,null,null,null,null,null,null,null,null,null,null,null,null,null,null,null,null,null,null,null,null,null,null,null,null,null,null,null,null,null,null,null,null,null,null,null,null,null,null,null,null,null,null,null,null,null,null,null,null,null,null,null,null,null,null,null,null,null,null,null,null,null,null,null,null,null,null,null,null,null,null,null,null,null,null,null,null,null,null,null,null,null,null,null,null,null,null,null,null,null,null,null,null,null,null,null,null,null,null,null,null,null,null,null,null,null,null,null,null,null,null,null,null,null,null,null,null,null,null,null,null,null,null,null,null,null,null,null,null,null,null,null,null,null,null,null,null,null,null,null,null,null,0,8,29,1]
["",0,576,111.529,96.006500000000003,0.93583085412542999,null,null,null,null,null,null,null,null,null,null,null,null,null,null,null,null,null,null,null,null,596,0.99876893760497543,0.93583515267439432,null,596,1,null,null,null,null,null,null,null,null,null,null,null,null,null,null,null,null,null,null,null,null,null,null,null,null,null,null,null,null,null,null,null,null,null,null,null,null,null,null,null,null,null,null,null,null,null,null,null,null,null,null,null,null,null,null,null,null,null,null,null,null,null,null,null,null,null,null,null,null,null,null,null,null,null,null,null,null,null,null,null,null,null,null,null,null,null,null,null,null,null,null,null,null,null,null,null,null,null,null,null,null,null,null,null,null,null,null,null,null,null,null,null,null,null,null,null,null,null,null,null,null,null,null,null,null,null,null,null,null,null,null,null,null,null,null,null,null,null,null,null,null,null,null,null,null,null,null,null,null,null,null,null,null,null,null,null,null,null,null,null,null,null,null,null,null,null,null,null,null,null,null,null,null,null,null,null,null,null,null,null,null,null,null,null,null,null,null,null,null,null,null,null,null,null,null,null,null,null,null,null,null,null,null,null,null,null,null,null,null,null,null,null,null,null,null,null,null,null,null,null,null,null,null,null,null,null,null,null,null,null,null,null,null,null,null,null,null,null,null,null,null,null,null,null,null,null,null,null,null,null,null,null,null,null,null,null,null,null,null,null,null,null,null,null,null,null,null,null,null,null,null,null,null,null,null,null,null,null,null,null,null,null,null,null,null,null,null,null,null,null,null,null,null,null,null,null,null,null,null,null,null,null,null,null,null,null,null,null,null,null,null,null,null,null,null,null,null,null,null,null,null,null,null,null,null,null,null,null,null,null,null,null,null,null,null,null,null,null,null,null,null,null,null,null,null,null,null,null,null,null,null,null,null,null,null,null,null,null,null,null,null,null,null,null,null,null,null,null,null,null,null,null,null,null,null,null,null,null,null,null,null,null,null,null,null,null,null,null,null,null,null,null,null,null,null,null,null,null,null,null,null,null,null,null,null,null,null,null,null,null,null,null,null,null,null,null,null,null,null,null,null,null,null,null,null,null,null,null,null,null,null,null,null,null,null,null,null,null,null,null,null,null,null,null,null,null,null,null,null,null,null,null,null,null,null,null,null,null,null,null,null,null,null,null,null,null,null,null,null,null,null,null,0,8,29,1]
["",0,577,112.255,95.951899999999995,0.93583085412542999,null,null,null,null,null,null,null,null,null,null,null,null,null,null,null,null,null,null,null,null,597,0.99950590521936333,0.93583515267439432,null,597,1,null,null,null,null,null,null,null,null,null,null,null,null,null,null,null,null,null,null,null,null,null,null,null,null,null,null,null,null,null,null,null,null,null,null,null,null,null,null,null,null,null,null,null,null,null,null,null,null,null,null,null,null,null,null,null,null,null,null,null,null,null,null,null,null,null,null,null,null,null,null,null,null,null,null,null,null,null,null,null,null,null,null,null,null,null,null,null,null,null,null,null,null,null,null,null,null,null,null,null,null,null,null,null,null,null,null,null,null,null,null,null,null,null,null,null,null,null,null,null,null,null,null,null,null,null,null,null,null,null,null,null,null,null,null,null,null,null,null,null,null,null,null,null,null,null,null,null,null,null,null,null,null,null,null,null,null,null,null,null,null,null,null,null,null,null,null,null,null,null,null,null,null,null,null,null,null,null,null,null,null,null,null,null,null,null,null,null,null,null,null,null,null,null,null,null,null,null,null,null,null,null,null,null,null,null,null,null,null,null,null,null,null,null,null,null,null,null,null,null,null,null,null,null,null,null,null,null,null,null,null,null,null,null,null,null,null,null,null,null,null,null,null,null,null,null,null,null,null,null,null,null,null,null,null,null,null,null,null,null,null,null,null,null,null,null,null,null,null,null,null,null,null,null,null,null,null,null,null,null,null,null,null,null,null,null,null,null,null,null,null,null,null,null,null,null,null,null,null,null,null,null,null,null,null,null,null,null,null,null,null,null,null,null,null,null,null,null,null,null,null,null,null,null,null,null,null,null,null,null,null,null,null,null,null,null,null,null,null,null,null,null,null,null,null,null,null,null,null,null,null,null,null,null,null,null,null,null,null,null,null,null,null,null,null,null,null,null,null,null,null,null,null,null,null,null,null,null,null,null,null,null,null,null,null,null,null,null,null,null,null,null,null,null,null,null,null,null,null,null,null,null,null,null,null,null,null,null,null,null,null,null,null,null,null,null,null,null,null,null,null,null,null,null,null,null,null,null,null,null,null,null,null,null,null,null,null,null,null,null,null,null,null,null,null,null,null,null,null,null,null,null,null,null,null,null,null,null,null,null,null,null,null,null,null,null,null,null,null,null,null,null,0,8,29,1]
["",0,589,121.001,89.395799999999994,0.93583085412542999,null,null,null,null,null,null,null,null,null,null,null,null,null,null,null,null,null,null,null,null,609,0.98121564474507672,0.93583515267439432,null,609,1,null,null,null,null,null,null,null,null,null,null,null,null,null,null,null,null,null,null,null,null,null,null,null,null,null,null,null,null,null,null,null,null,null,null,null,null,null,null,null,null,null,null,null,null,null,null,null,null,null,null,null,null,null,null,null,null,null,null,null,null,null,null,null,null,null,null,null,null,null,null,null,null,null,null,null,null,null,null,null,null,null,null,null,null,null,null,null,null,null,null,null,null,null,null,null,null,null,null,null,null,null,null,null,null,null,null,null,null,null,null,null,null,null,null,null,null,null,null,null,null,null,null,null,null,null,null,null,null,null,null,null,null,null,null,null,null,null,null,null,null,null,null,null,null,null,null,null,null,null,null,null,null,null,null,null,null,null,null,null,null,null,null,null,null,null,null,null,null,null,null,null,null,null,null,null,null,null,null,null,null,null,null,null,null,null,null,null,null,null,null,null,null,null,null,null,null,null,null,null,null,null,null,null,null,null,null,null,null,null,null,null,null,null,null,null,null,null,null,null,null,null,null,null,null,null,null,null,null,null,null,null,null,null,null,null,null,null,null,null,null,null,null,null,null,null,null,null,null,null,null,null,null,null,null,null,null,null,null,null,null,null,null,null,null,null,null,null,null,null,null,null,null,null,null,null,null,null,null,null,null,null,null,null,null,null,null,null,null,null,null,null,null,null,null,null,null,null,null,null,null,null,null,null,null,null,null,null,null,null,null,null,null,null,null,null,null,null,null,null,null,null,null,null,null,null,null,null,null,null,null,null,null,null,null,null,null,null,null,null,null,null,null,null,null,null,null,null,null,null,null,null,null,null,null,null,null,null,null,null,null,null,null,null,null,null,null,null,null,null,null,null,null,null,null,null,null,null,null,null,null,null,null,null,null,null,null,null,null,null,null,null,null,null,null,null,null,null,null,null,null,null,null,null,null,null,null,null,null,null,null,null,null,null,null,null,null,null,null,null,null,null,null,null,null,null,null,null,null,null,null,null,null,null,null,null,null,null,null,null,null,null,null,null,null,null,null,null,null,null,null,null,null,null,null,null,null,null,null,null,null,null,null,null,null,null,null,null,null,null,null,null,0,8,29,1]
["",0,593,123.92400000000001,89.081800000000001,0.93583085412542999,null,null,null,null,null,null,null,null,null,null,null,null,null,null,null,null,null,null,null,null,613,0.96597368112403648,0.93583515267439432,null,613,1,null,null,null,null,null,null,null,null,null,null,null,null,null,null,null,null,null,null,null,null,null,null,null,null,null,null,null,null,null,null,null,null,null,null,null,null,null,null,null,null,null,null,null,null,null,null,null,null,null,null,null,null,null,null,null,null,null,null,null,null,null,null,null,null,null,null,null,null,null,null,null,null,null,null,null,null,null,null,null,null,null,null,null,null,null,null,null,null,null,null,null,null,null,null,null,null,null,null,null,null,null,null,null,null,null,null,null,null,null,null,null,null,null,null,null,null,null,null,null,null,null,null,null,null,null,null,null,null,null,null,null,null,null,null,null,null,null,null,null,null,null,null,null,null,null,null,null,null,null,null,null,null,null,null,null,null,null,null,null,null,null,null,null,null,null,null,null,null,null,null,null,null,null,null,null,null,null,null,null,null,null,null,null,null,null,null,null,null,null,null,null,null,null,null,null,null,null,null,null,null,null,null,null,null,null,null,null,null,null,null,null,null,null,null,null,null,null,null,null,null,null,null,null,null,null,null,null,null,null,null,null,null,null,null,null,null,null,null,null,null,null,null,null,null,null,null,null,null,null,null,null,null,null,null,null,null,null,null,null,null,null,null,null,null,null,null,null,null,null,null,null,null,null,null,null,null,null,null,null,null,null,null,null,null,null,null,null,null,null,null,null,null,null,null,null,null,null,null,null,null,null,null,null,null,null,null,null,null,null,null,null,null,null,null,null,null,null,null,null,null,null,null,null,null,null,null,null,null,null,null,null,null,null,null,null,null,null,null,null,null,null,null,null,null,null,null,null,null,null,null,null,null,null,null,null,null,null,null,null,null,null,null,null,null,null,null,null,null,null,null,null,null,null,null,null,null,null,null,null,null,null,null,null,null,null,null,null,null,null,null,null,null,null,null,null,null,null,null,null,null,null,null,null,null,null,null,null,null,null,null,null,null,null,null,null,null,null,null,null,null,null,null,null,null,null,null,null,null,null,null,null,null,null,null,null,null,null,null,null,null,null,null,null,null,null,null,null,null,null,null,null,null,null,null,null,null,null,null,null,null,null,null,null,null,null,null,null,null,null,null,null,0,8,29,1]
["",0,599,128.31200000000001,89.874099999999999,0.93583085412542999,null,null,null,null,null,null,null,null,null,null,null,null,null,null,null,null,null,null,null,null,619,0.93388368511404873,0.93583515267439432,null,619,1,null,null,null,null,null,null,null,null,null,null,null,null,null,null,null,null,null,null,null,null,null,null,null,null,null,null,null,null,null,null,null,null,null,null,null,null,null,null,null,null,null,null,null,null,null,null,null,null,null,null,null,null,null,null,null,null,null,null,null,null,null,null,null,null,null,null,null,null,null,null,null,null,null,null,null,null,null,null,null,null,null,null,null,null,null,null,null,null,null,null,null,null,null,null,null,null,null,null,null,null,null,null,null,null,null,null,null,null,null,null,null,null,null,null,null,null,null,null,null,null,null,null,null,null,null,null,null,null,null,null,null,null,null,null,null,null,null,null,null,null,null,null,null,null,null,null,null,null,null,null,null,null,null,null,null,null,null,null,null,null,null,null,null,null,null,null,null,null,null,null,null,null,null,null,null,null,null,null,null,null,null,null,null,null,null,null,null,null,null,null,null,null,null,null,null,null,null,null,null,null,null,null,null,null,null,null,null,null,null,null,null,null,null,null,null,null,null,null,null,null,null,null,null,null,null,null,null,null,null,null,null,null,null,null,null,null,null,null,null,null,null,null,null,null,null,null,null,null,null,null,null,null,null,null,null,null,null,null,null,null,null,null,null,null,null,null,null,null,null,null,null,null,null,null,null,null,null,null,null,null,null,null,null,null,null,null,null,null,null,null,null,null,null,null,null,null,null,null,null,null,null,null,null,null,null,null,null,null,null,null,null,null,null,null,null,null,null,null,null,null,null,null,null,null,null,null,null,null,null,null,null,null,null,null,null,null,null,null,null,null,null,null,null,null,null,null,null,null,null,null,null,null,null,null,null,null,null,null,null,null,null,null,null,null,null,null,null,null,null,null,null,null,null,null,null,null,null,null,null,null,null,null,null,null,null,null,null,null,null,null,null,null,null,null,null,null,null,null,null,null,null,null,null,null,null,null,null,null,null,null,null,null,null,null,null,null,null,null,null,null,null,null,null,null,null,null,null,null,null,null,null,null,null,null,null,null,null,null,null,null,null,null,null,null,null,null,null,null,null,null,null,null,null,null,null,null,null,null,null,null,null,null,null,null,null,null,null,null,null,null,null,0,8,29,1]
["",0,611,137.07499999999999,89.409099999999995,0.93583085412542999,null,null,null,null,null,null,null,null,null,null,null,null,null,null,null,null,null,null,null,null,631,0.8351021312958099,0.93583515267439432,null,631,1,null,null,null,null,null,null,null,null,null,null,null,null,null,null,null,null,null,null,null,null,null,null,null,null,null,null,null,null,null,null,null,null,null,null,null,null,null,null,null,null,null,null,null,null,null,null,null,null,null,null,null,null,null,null,null,null,null,null,null,null,null,null,null,null,null,null,null,null,null,null,null,null,null,null,null,null,null,null,null,null,null,null,null,null,null,null,null,null,null,null,null,null,null,null,null,null,null,null,null,null,null,null,null,null,null,null,null,null,null,null,null,null,null,null,null,null,null,null,null,null,null,null,null,null,null,null,null,null,null,null,null,null,null,null,null,null,null,null,null,null,null,null,null,null,null,null,null,null,null,null,null,null,null,null,null,null,null,null,null,null,null,null,null,null,null,null,null,null,null,null,null,null,null,null,null,null,null,null,null,null,null,null,null,null,null,null,null,null,null,null,null,null,null,null,null,null,null,null,null,null,null,null,null,null,null,null,null,null,null,null,null,null,null,null,null,null,null,null,null,null,null,null,null,null,null,null,null,null,null,null,null,null,null,null,null,null,null,null,null,null,null,null,null,null,null,null,null,null,null,null,null,null,null,null,null,null,null,null,null,null,null,null,null,null,null,null,null,null,null,null,null,null,null,null,null,null,null,null,null,null,null,null,null,null,null,null,null,null,null,null,null,null,null,null,null,null,null,null,null,null,null,null,null,null,null,null,null,null,null,null,null,null,null,null,null,null,null,null,null,null,null,null,null,null,null,null,null,null,null,null,null,null,null,null,null,null,null,null,null,null,null,null,null,null,null,null,null,null,null,null,null,null,null,null,null,null,null,null,null,null,null,null,null,null,null,null,null,null,null,null,null,null,null,null,null,null,null,null,null,null,null,null,null,null,null,null,null,null,null,null,null,null,null,null,null,null,null,null,null,null,null,null,null,null,null,null,null,null,null,null,null,null,null,null,null,null,null,null,null,null,null,null,null,null,null,null,null,null,null,null,null,null,null,null,null,null,null,null,null,null,null,null,null,null,null,null,null,null,null,null,null,null,null,null,null,null,null,null,null,null,null,null,null,null,null,null,null,null,null,null,null,0,8,29,1]
["",0,619,142.893,87.8887,0.93583085412542999,null,null,null,null,null,null,null,null,null,null,null,null,null,null,null,null,null,null,null,null,639,0.7602782996210482,0.93583515267439432,null,639,1,null,null,null,null,null,null,null,null,null,null,null,null,null,null,null,null,null,null,null,null,null,null,null,null,null,null,null,null,null,null,null,null,null,null,null,null,null,null,null,null,null,null,null,null,null,null,null,null,null,null,null,null,null,null,null,null,null,null,null,null,null,null,null,null,null,null,null,null,null,null,null,null,null,null,null,null,null,null,null,null,null,null,null,null,null,null,null,null,null,null,null,null,null,null,null,null,null,null,null,null,null,null,null,null,null,null,null,null,null,null,null,null,null,null,null,null,null,null,null,null,null,null,null,null,null,null,null,null,null,null,null,null,null,null,null,null,null,null,null,null,null,null,null,null,null,null,null,null,null,null,null,null,null,null,null,null,null,null,null,null,null,null,null,null,null,null,null,null,null,null,null,null,null,null,null,null,null,null,null,null,null,null,null,null,null,null,null,null,null,null,null,null,null,null,null,null,null,null,null,null,null,null,null,null,null,null,null,null,null,null,null,null,null,null,null,null,null,null,null,null,null,null,null,null,null,null,null,null,null,null,null,null,null,null,null,null,null,null,null,null,null,null,null,null,null,null,null,null,null,null,null,null,null,null,null,null,null,null,null,null,null,null,null,null,null,null,null,null,null,null,null,null,null,null,null,null,null,null,null,null,null,null,null,null,null,null,null,null,null,null,null,null,null,null,null,null,null,null,null,null,null,null,null,null,null,null,null,null,null,null,null,null,null,null,null,null,null,null,null,null,null,null,null,null,null,null,null,null,null,null,null,null,null,null,null,null,null,null,null,null,null,null,null,null,null,null,null,null,null,null,null,null,null,null,null,null,null,null,null,null,null,null,null,null,null,null,null,null,null,null,null,null,null,null,null,null,null,null,null,null,null,null,null,null,null,null,null,null,null,null,null,null,null,null,null,null,null,null,null,null,null,null,null,null,null,null,null,null,null,null,null,null,null,null,null,null,null,null,null,null,null,null,null,null,null,null,null,null,null,null,null,null,null,null,null,null,null,null,null,null,null,null,null,null,null,null,null,null,null,null,null,null,null,null,null,null,null,null,null,null,null,null,null,null,null,null,null,null,null,null,null,0,8,29,1]
["",0,624,146.51300000000001,85.934700000000007,0.93583085412542999,null,null,null,null,null,null,null,null,null,null,null,null,null,null,null,null,null,null,null,null,644,0.70860270488064858,0.93583515267439432,null,644,1,null,null,null,null,null,null,null,null,null,null,null,null,null,null,null,null,null,null,null,null,null,null,null,null,null,null,null,null,null,null,null,null,null,null,null,null,null,null,null,null,null,null,null,null,null,null,null,null,null,null,null,null,null,null,null,null,null,null,null,null,null,null,null,null,null,null,null,null,null,null,null,null,null,null,null,null,null,null,null,null,null,null,null,null,null,null,null,null,null,null,null,null,null,null,null,null,null,null,null,null,null,null,null,null,null,null,null,null,null,null,null,null,null,null,null,null,null,null,null,null,null,null,null,null,null,null,null,null,null,null,null,null,null,null,null,null,null,null,null,null,null,null,null,null,null,null,null,null,null,null,null,null,null,null,null,null,null,null,null,null,null,null,null,null,null,null,null,null,null,null,null,null,null,null,null,null,null,null,null,null,null,null,null,null,null,null,null,null,null,null,null,null,null,null,null,null,null,null,null,null,null,null,null,null,null,null,null,null,null,null,null,null,null,null,null,null,null,null,null,null,null,null,null,null,null,null,null,null,null,null,null,null,null,null,null,null,null,null,null,null,null,null,null,null,null,null,null,null,null,null,null,null,null,null,null,null,null,null,null,null,null,null,null,null,null,null,null,null,null,null,null,null,null,null,null,null,null,null,null,null,null,null,null,null,null,null,null,null,null,null,null,null,null,null,null,null,null,null,null,null,null,null,null,null,null,null,null,null,null,null,null,null,null,null,null,null,null,null,null,null,null,null,null,null,null,null,null,null,null,null,null,null,null,null,null,null,null,null,null,null,null,null,null,null,null,null,null,null,null,null,null,null,null,null,null,null,null,null,null,null,null,null,null,null,null,null,null,null,null,null,null,null,null,null,null,null,null,null,null,null,null,null,null,null,null,null,null,null,null,null,null,null,null,null,null,null,null,null,null,null,null,null,null,null,null,null,null,null,null,null,null,null,null,null,null,null,null,null,null,null,null,null,null,null,null,null,null,null,null,null,null,null,null,null,null,null,null,null,null,null,null,null,null,null,null,null,null,null,null,null,null,null,null,null,null,null,null,null,null,null,null,null,null,null,null,null,null,null,null,null,null,0,8,29,1]
["",0,634,153.70400000000001,83.452799999999996,0.93583085412542999,null,null,null,null,null,null,null,null,null,null,null,null,null,null,null,null,null,null,null,null,654,0.6017484656209392,0.93583515267439432,null,654,1,null,null,null,null,null,null,null,null,null,null,null,null,null,null,null,null,null,null,null,null,null,null,null,null,null,null,null,null,null,null,null,null,null,null,null,null,null,null,null,null,null,null,null,null,null,null,null,null,null,null,null,null,null,null,null,null,null,null,null,null,null,null,null,null,null,null,null,null,null,null,null,null,null,null,null,null,null,null,null,null,null,null,null,null,null,null,null,null,null,null,null,null,null,null,null,null,null,null,null,null,null,null,null,null,null,null,null,null,null,null,null,null,null,null,null,null,null,null,null,null,null,null,null,null,null,null,null,null,null,null,null,null,null,null,null,null,null,null,null,null,null,null,null,null,null,null,null,null,null,null,null,null,null,null,null,null,null,null,null,null,null,null,null,null,null,null,null,null,null,null,null,null,null,null,null,null,null,null,null,null,null,null,null,null,null,null,null,null,null,null,null,null,null,null,null,null,null,null,null,null,null,null,null,null,null,null,null,null,null,null,null,null,null,null,null,null,null,null,null,null,null,null,null,null,null,null,null,null,null,null,null,null,null,null,null,null,null,null,null,null,null,null,null,null,null,null,null,null,null,null,null,null,null,null,null,null,null,null,null,null,null,null,null,null,null,null,null,null,null,null,null,null,null,null,null,null,null,null,null,null,null,null,null,null,null,null,null,null,null,null,null,null,null,null,null,null,null,null,null,null,null,null,null,null,null,null,null,null,null,null,null,null,null,null,null,null,null,null,null,null,null,null,null,null,null,null,null,null,null,null,null,null,null,null,null,null,null,null,null,null,null,null,null,null,null,null,null,null,null,null,null,null,null,null,null,null,null,null,null,null,null,null,null,null,null,null,null,null,null,null,null,null,null,null,null,null,null,null,null,null,null,null,null,null,null,null,null,null,null,null,null,null,null,null,null,null,null,null,null,null,null,null,null,null,null,null,null,null,null,null,null,null,null,null,null,null,null,null,null,null,null,null,null,null,null,null,null,null,null,null,null,null,null,null,null,null,null,null,null,null,null,null,null,null,null,null,null,null,null,null,null,null,null,null,null,null,null,null,null,null,null,null,null,null,null,null,null,null,null,null,null,0,{"$f":"IF(SJ284>0,SJ284+1,SK284)","v":8},29,1]
["",0,641,158.68899999999999,83.331999999999994,0.93583085412542999,null,null,null,null,null,null,null,null,null,null,null,null,null,null,null,null,null,null,null,null,661,0.52853925962052373,0.93583515267439432,null,661,1,null,null,null,null,null,null,null,null,null,null,null,null,null,null,null,null,null,null,null,null,null,null,null,null,null,null,null,null,null,null,null,null,null,null,null,null,null,null,null,null,null,null,null,null,null,null,null,null,null,null,null,null,null,null,null,null,null,null,null,null,null,null,null,null,null,null,null,null,null,null,null,null,null,null,null,null,null,null,null,null,null,null,null,null,null,null,null,null,null,null,null,null,null,null,null,null,null,null,null,null,null,null,null,null,null,null,null,null,null,null,null,null,null,null,null,null,null,null,null,null,null,null,null,null,null,null,null,null,null,null,null,null,null,null,null,null,null,null,null,null,null,null,null,null,null,null,null,null,null,null,null,null,null,null,null,null,null,null,null,null,null,null,null,null,null,null,null,null,null,null,null,null,null,null,null,null,null,null,null,null,null,null,null,null,null,null,null,null,null,null,null,null,null,null,null,null,null,null,null,null,null,null,null,null,null,null,null,null,null,null,null,null,null,null,null,null,null,null,null,null,null,null,null,null,null,null,null,null,null,null,null,null,null,null,null,null,null,null,null,null,null,null,null,null,null,null,null,null,null,null,null,null,null,null,null,null,null,null,null,null,null,null,null,null,null,null,null,null,null,null,null,null,null,null,null,null,null,null,null,null,null,null,null,null,null,null,null,null,null,null,null,null,null,null,null,null,null,null,null,null,null,null,null,null,null,null,null,null,null,null,null,null,null,null,null,null,null,null,null,null,null,null,null,null,null,null,null,null,null,null,null,null,null,null,null,null,null,null,null,null,null,null,null,null,null,null,null,null,null,null,null,null,null,null,null,null,null,null,null,null,null,null,null,null,null,null,null,null,null,null,null,null,null,null,null,null,null,null,null,null,null,null,null,null,null,null,null,null,null,null,null,null,null,null,null,null,null,null,null,null,null,null,null,null,null,null,null,null,null,null,null,null,null,null,null,null,null,null,null,null,null,null,null,null,null,null,null,null,null,null,null,null,null,null,null,null,null,null,null,null,null,null,null,null,null,null,null,null,null,null,null,null,null,null,null,null,null,null,null,null,null,null,null,null,null,null,null,null,null,null,null,0,8,29,1]
["",0,646,162.221,81.495800000000003,0.93583085412542999,null,null,null,null,null,null,null,null,null,null,null,null,null,null,null,null,null,null,null,null,666,0.47815592694817599,0.93583515267439432,null,666,1,null,null,null,null,null,null,null,null,null,null,null,null,null,null,null,null,null,null,null,null,null,null,null,null,null,null,null,null,null,null,null,null,null,null,null,null,null,null,null,null,null,null,null,null,null,null,null,null,null,null,null,null,null,null,null,null,null,null,null,null,null,null,null,null,null,null,null,null,null,null,null,null,null,null,null,null,null,null,null,null,null,null,null,null,null,null,null,null,null,null,null,null,null,null,null,null,null,null,null,null,null,null,null,null,null,null,null,null,null,null,null,null,null,null,null,null,null,null,null,null,null,null,null,null,null,null,null,null,null,null,null,null,null,null,null,null,null,null,null,null,null,null,null,null,null,null,null,null,null,null,null,null,null,null,null,null,null,null,null,null,null,null,null,null,null,null,null,null,null,null,null,null,null,null,null,null,null,null,null,null,null,null,null,null,null,null,null,null,null,null,null,null,null,null,null,null,null,null,null,null,null,null,null,null,null,null,null,null,null,null,null,null,null,null,null,null,null,null,null,null,null,null,null,null,null,null,null,null,null,null,null,null,null,null,null,null,null,null,null,null,null,null,null,null,null,null,null,null,null,null,null,null,null,null,null,null,null,null,null,null,null,null,null,null,null,null,null,null,null,null,null,null,null,null,null,null,null,null,null,null,null,null,null,null,null,null,null,null,null,null,null,null,null,null,null,null,null,null,null,null,null,null,null,null,null,null,null,null,null,null,null,null,null,null,null,null,null,null,null,null,null,null,null,null,null,null,null,null,null,null,null,null,null,null,null,null,null,null,null,null,null,null,null,null,null,null,null,null,null,null,null,null,null,null,null,null,null,null,null,null,null,null,null,null,null,null,null,null,null,null,null,null,null,null,null,null,null,null,null,null,null,null,null,null,null,null,null,null,null,null,null,null,null,null,null,null,null,null,null,null,null,null,null,null,null,null,null,null,null,null,null,null,null,null,null,null,null,null,null,null,null,null,null,null,null,null,null,null,null,null,null,null,null,null,null,null,null,null,null,null,null,null,null,null,null,null,null,null,null,null,null,null,null,null,null,null,null,null,null,null,null,null,null,null,null,null,null,null,null,null,null,0,8,29,1]
["",0,654,167.816,80.101900000000001,0.93583085412542999,null,null,null,null,null,null,null,null,null,null,null,null,null,null,null,null,null,null,null,null,674,0.40323210040636298,0.93583515267439432,null,674,1,null,null,null,null,null,null,null,null,null,null,null,null,null,null,null,null,null,null,null,null,null,null,null,null,null,null,null,null,null,null,null,null,null,null,null,null,null,null,null,null,null,null,null,null,null,null,null,null,null,null,null,null,null,null,null,null,null,null,null,null,null,null,null,null,null,null,null,null,null,null,null,null,null,null,null,null,null,null,null,null,null,null,null,null,null,null,null,null,null,null,null,null,null,null,null,null,null,null,null,null,null,null,null,null,null,null,null,null,null,null,null,null,null,null,null,null,null,null,null,null,null,null,null,null,null,null,null,null,null,null,null,null,null,null,null,null,null,null,null,null,null,null,null,null,null,null,null,null,null,null,null,null,null,null,null,null,null,null,null,null,null,null,null,null,null,null,null,null,null,null,null,null,null,null,null,null,null,null,null,null,null,null,null,null,null,null,null,null,null,null,null,null,null,null,null,null,null,null,null,null,null,null,null,null,null,null,null,null,null,null,null,null,null,null,null,null,null,null,null,null,null,null,null,null,null,null,null,null,null,null,null,null,null,null,null,null,null,null,null,null,null,null,null,null,null,null,null,null,null,null,null,null,null,null,null,null,null,null,null,null,null,null,null,null,null,null,null,null,null,null,null,null,null,null,null,null,null,null,null,null,null,null,null,null,null,null,null,null,null,null,null,null,null,null,null,null,null,null,null,null,null,null,null,null,null,null,null,null,null,null,null,null,null,null,null,null,null,null,null,null,null,null,null,null,null,null,null,null,null,null,null,null,null,null,null,null,null,null,null,null,null,null,null,null,null,null,null,null,null,null,null,null,null,null,null,null,null,null,null,null,null,null,null,null,null,null,null,null,null,null,null,null,null,null,null,null,null,null,null,null,null,null,null,null,null,null,null,null,null,null,null,null,null,null,null,null,null,null,null,null,null,null,null,null,null,null,null,null,null,null,null,null,null,null,null,null,null,null,null,null,null,null,null,null,null,null,null,null,null,null,null,null,null,null,null,null,null,null,null,null,null,null,null,null,null,null,null,null,null,null,null,null,null,null,null,null,null,null,null,null,null,null,null,null,null,null,null,null,null,null,null,0,8,29,1]
["",0,662,173.33500000000001,80.627200000000002,0.93583085412542999,null,null,null,null,null,null,null,null,null,null,null,null,null,null,null,null,null,null,null,null,682,0.33818438411730528,0.93583515267439432,null,682,1,null,null,null,null,null,null,null,null,null,null,null,null,null,null,null,null,null,null,null,null,null,null,null,null,null,null,null,null,null,null,null,null,null,null,null,null,null,null,null,null,null,null,null,null,null,null,null,null,null,null,null,null,null,null,null,null,null,null,null,null,null,null,null,null,null,null,null,null,null,null,null,null,null,null,null,null,null,null,null,null,null,null,null,null,null,null,null,null,null,null,null,null,null,null,null,null,null,null,null,null,null,null,null,null,null,null,null,null,null,null,null,null,null,null,null,null,null,null,null,null,null,null,null,null,null,null,null,null,null,null,null,null,null,null,null,null,null,null,null,null,null,null,null,null,null,null,null,null,null,null,null,null,null,null,null,null,null,null,null,null,null,null,null,null,null,null,null,null,null,null,null,null,null,null,null,null,null,null,null,null,null,null,null,null,null,null,null,null,null,null,null,null,null,null,null,null,null,null,null,null,null,null,null,null,null,null,null,null,null,null,null,null,null,null,null,null,null,null,null,null,null,null,null,null,null,null,null,null,null,null,null,null,null,null,null,null,null,null,null,null,null,null,null,null,null,null,null,null,null,null,null,null,null,null,null,null,null,null,null,null,null,null,null,null,null,null,null,null,null,null,null,null,null,null,null,null,null,null,null,null,null,null,null,null,null,null,null,null,null,null,null,null,null,null,null,null,null,null,null,null,null,null,null,null,null,null,null,null,null,null,null,null,null,null,null,null,null,null,null,null,null,null,null,null,null,null,null,null,null,null,null,null,null,null,null,null,null,null,null,null,null,null,null,null,null,null,null,null,null,null,null,null,null,null,null,null,null,null,null,null,null,null,null,null,null,null,null,null,null,null,null,null,null,null,null,null,null,null,null,null,null,null,null,null,null,null,null,null,null,null,null,null,null,null,null,null,null,null,null,null,null,null,null,null,null,null,null,null,null,null,null,null,null,null,null,null,null,null,null,null,null,null,null,null,null,null,null,null,null,null,null,null,null,null,null,null,null,null,null,null,null,null,null,null,null,null,null,null,null,null,null,null,null,null,null,null,null,null,null,null,null,null,null,null,null,null,null,null,null,null,null,0,8,29,1]
["",0,667,176.74100000000001,81.658799999999999,0.93583085412542999,null,null,null,null,null,null,null,null,null,null,null,null,null,null,null,null,null,null,null,null,687,0.30201498423647427,0.93583515267439432,null,687,1,null,null,null,null,null,null,null,null,null,null,null,null,null,null,null,null,null,null,null,null,null,null,null,null,null,null,null,null,null,null,null,null,null,null,null,null,null,null,null,null,null,null,null,null,null,null,null,null,null,null,null,null,null,null,null,null,null,null,null,null,null,null,null,null,null,null,null,null,null,null,null,null,null,null,null,null,null,null,null,null,null,null,null,null,null,null,null,null,null,null,null,null,null,null,null,null,null,null,null,null,null,null,null,null,null,null,null,null,null,null,null,null,null,null,null,null,null,null,null,null,null,null,null,null,null,null,null,null,null,null,null,null,null,null,null,null,null,null,null,null,null,null,null,null,null,null,null,null,null,null,null,null,null,null,null,null,null,null,null,null,null,null,null,null,null,null,null,null,null,null,null,null,null,null,null,null,null,null,null,null,null,null,null,null,null,null,null,null,null,null,null,null,null,null,null,null,null,null,null,null,null,null,null,null,null,null,null,null,null,null,null,null,null,null,null,null,null,null,null,null,null,null,null,null,null,null,null,null,null,null,null,null,null,null,null,null,null,null,null,null,null,null,null,null,null,null,null,null,null,null,null,null,null,null,null,null,null,null,null,null,null,null,null,null,null,null,null,null,null,null,null,null,null,null,null,null,null,null,null,null,null,null,null,null,null,null,null,null,null,null,null,null,null,null,null,null,null,null,null,null,null,null,null,null,null,null,null,null,null,null,null,null,null,null,null,null,null,null,null,null,null,null,null,null,null,null,null,null,null,null,null,null,null,null,null,null,null,null,null,null,null,null,null,null,null,null,null,null,null,null,null,null,null,null,null,null,null,null,null,null,null,null,null,null,null,null,null,null,null,null,null,null,null,null,null,null,null,null,null,null,null,null,null,null,null,null,null,null,null,null,null,null,null,null,null,null,null,null,null,null,null,null,null,null,null,null,null,null,null,null,null,null,null,null,null,null,null,null,null,null,null,null,null,null,null,null,null,null,null,null,null,null,null,null,null,null,null,null,null,null,null,null,null,null,null,null,null,null,null,null,null,null,null,null,null,null,null,null,null,null,null,null,null,null,null,null,null,null,null,null,null,0,8,29,1]
["",0,675,182.11799999999999,80.281000000000006,0.93583085412542999,null,null,null,null,null,null,null,null,null,null,null,null,null,null,null,null,null,null,null,null,695,0.24915246915584274,0.93583515267439432,null,695,1,null,null,null,null,null,null,null,null,null,null,null,null,null,null,null,null,null,null,null,null,null,null,null,null,null,null,null,null,null,null,null,null,null,null,null,null,null,null,null,null,null,null,null,null,null,null,null,null,null,null,null,null,null,null,null,null,null,null,null,null,null,null,null,null,null,null,null,null,null,null,null,null,null,null,null,null,null,null,null,null,null,null,null,null,null,null,null,null,null,null,null,null,null,null,null,null,null,null,null,null,null,null,null,null,null,null,null,null,null,null,null,null,null,null,null,null,null,null,null,null,null,null,null,null,null,null,null,null,null,null,null,null,null,null,null,null,null,null,null,null,null,null,null,null,null,null,null,null,null,null,null,null,null,null,null,null,null,null,null,null,null,null,null,null,null,null,null,null,null,null,null,null,null,null,null,null,null,null,null,null,null,null,null,null,null,null,null,null,null,null,null,null,null,null,null,null,null,null,null,null,null,null,null,null,null,null,null,null,null,null,null,null,null,null,null,null,null,null,null,null,null,null,null,null,null,null,null,null,null,null,null,null,null,null,null,null,null,null,null,null,null,null,null,null,null,null,null,null,null,null,null,null,null,null,null,null,null,null,null,null,null,null,null,null,null,null,null,null,null,null,null,null,null,null,null,null,null,null,null,null,null,null,null,null,null,null,null,null,null,null,null,null,null,null,null,null,null,null,null,null,null,null,null,null,null,null,null,null,null,null,null,null,null,null,null,null,null,null,null,null,null,null,null,null,null,null,null,null,null,null,null,null,null,null,null,null,null,null,null,null,null,null,null,null,null,null,null,null,null,null,null,null,null,null,null,null,null,null,null,null,null,null,null,null,null,null,null,null,null,null,null,null,null,null,null,null,null,null,null,null,null,null,null,null,null,null,null,null,null,null,null,null,null,null,null,null,null,null,null,null,null,null,null,null,null,null,null,null,null,null,null,null,null,null,null,null,null,null,null,null,null,null,null,null,null,null,null,null,null,null,null,null,null,null,null,null,null,null,null,null,null,null,null,null,null,null,null,null,null,null,null,null,null,null,null,null,null,null,null,null,null,null,null,null,null,null,null,null,null,null,null,0,8,29,1]
["",0,681,186.08699999999999,77.427899999999994,0.93583085412542999,null,null,null,null,null,null,null,null,null,null,null,null,null,null,null,null,null,null,null,null,701,0.2144225886933703,0.93583515267439432,null,701,1,null,null,null,null,null,null,null,null,null,null,null,null,null,null,null,null,null,null,null,null,null,null,null,null,null,null,null,null,null,null,null,null,null,null,null,null,null,null,null,null,null,null,null,null,null,null,null,null,null,null,null,null,null,null,null,null,null,null,null,null,null,null,null,null,null,null,null,null,null,null,null,null,null,null,null,null,null,null,null,null,null,null,null,null,null,null,null,null,null,null,null,null,null,null,null,null,null,null,null,null,null,null,null,null,null,null,null,null,null,null,null,null,null,null,null,null,null,null,null,null,null,null,null,null,null,null,null,null,null,null,null,null,null,null,null,null,null,null,null,null,null,null,null,null,null,null,null,null,null,null,null,null,null,null,null,null,null,null,null,null,null,null,null,null,null,null,null,null,null,null,null,null,null,null,null,null,null,null,null,null,null,null,null,null,null,null,null,null,null,null,null,null,null,null,null,null,null,null,null,null,null,null,null,null,null,null,null,null,null,null,null,null,null,null,null,null,null,null,null,null,null,null,null,null,null,null,null,null,null,null,null,null,null,null,null,null,null,null,null,null,null,null,null,null,null,null,null,null,null,null,null,null,null,null,null,null,null,null,null,null,null,null,null,null,null,null,null,null,null,null,null,null,null,null,null,null,null,null,null,null,null,null,null,null,null,null,null,null,null,null,null,null,null,null,null,null,null,null,null,null,null,null,null,null,null,null,null,null,null,null,null,null,null,null,null,null,null,null,null,null,null,null,null,null,null,null,null,null,null,null,null,null,null,null,null,null,null,null,null,null,null,null,null,null,null,null,null,null,null,null,null,null,null,null,null,null,null,null,null,null,null,null,null,null,null,null,null,null,null,null,null,null,null,null,null,null,null,null,null,null,null,null,null,null,null,null,null,null,null,null,null,null,null,null,null,null,null,null,null,null,null,null,null,null,null,null,null,null,null,null,null,null,null,null,null,null,null,null,null,null,null,null,null,null,null,null,null,null,null,null,null,null,null,null,null,null,null,null,null,null,null,null,null,null,null,null,null,null,null,null,null,null,null,null,null,null,null,null,null,null,null,null,null,null,null,null,null,null,null,null,null,{"$f":"IFERROR(FIND(\",\",$SI$10,SK332),0)","v":0},8,29,1]
["",0,689,191.28800000000001,70.577600000000004,0.93583085412542999,null,null,null,null,null,null,null,null,null,null,null,null,null,null,null,null,null,null,null,null,709,0.17499577679003431,0.93583515267439432,null,709,1,null,null,null,null,null,null,null,null,null,null,null,null,null,null,null,null,null,null,null,null,null,null,null,null,null,null,null,null,null,null,null,null,null,null,null,null,null,null,null,null,null,null,null,null,null,null,null,null,null,null,null,null,null,null,null,null,null,null,null,null,null,null,null,null,null,null,null,null,null,null,null,null,null,null,null,null,null,null,null,null,null,null,null,null,null,null,null,null,null,null,null,null,null,null,null,null,null,null,null,null,null,null,null,null,null,null,null,null,null,null,null,null,null,null,null,null,null,null,null,null,null,null,null,null,null,null,null,null,null,null,null,null,null,null,null,null,null,null,null,null,null,null,null,null,null,null,null,null,null,null,null,null,null,null,null,null,null,null,null,null,null,null,null,null,null,null,null,null,null,null,null,null,null,null,null,null,null,null,null,null,null,null,null,null,null,null,null,null,null,null,null,null,null,null,null,null,null,null,null,null,null,null,null,null,null,null,null,null,null,null,null,null,null,null,null,null,null,null,null,null,null,null,null,null,null,null,null,null,null,null,null,null,null,null,null,null,null,null,null,null,null,null,null,null,null,null,null,null,null,null,null,null,null,null,null,null,null,null,null,null,null,null,null,null,null,null,null,null,null,null,null,null,null,null,null,null,null,null,null,null,null,null,null,null,null,null,null,null,null,null,null,null,null,null,null,null,null,null,null,null,null,null,null,null,null,null,null,null,null,null,null,null,null,null,null,null,null,null,null,null,null,null,null,null,null,null,null,null,null,null,null,null,null,null,null,null,null,null,null,null,null,null,null,null,null,null,null,null,null,null,null,null,null,null,null,null,null,null,null,null,null,null,null,null,null,null,null,null,null,null,null,null,null,null,null,null,null,null,null,null,null,null,null,null,null,null,null,null,null,null,null,null,null,null,null,null,null,null,null,null,null,null,null,null,null,null,null,null,null,null,null,null,null,null,null,null,null,null,null,null,null,null,null,null,null,null,null,null,null,null,null,null,null,null,null,null,null,null,null,null,null,null,null,null,null,null,null,null,null,null,null,null,null,null,null,null,null,null,null,null,null,null,null,null,null,null,null,null,null,null,null,0,8,29,1]
["",0,697,196.381,71.0428,0.93583085412542999,null,null,null,null,null,null,null,null,null,null,null,null,null,null,null,null,null,null,null,null,717,0.14189505957057891,0.93583515267439432,null,717,1,null,null,null,null,null,null,null,null,null,null,null,null,null,null,null,null,null,null,null,null,null,null,null,null,null,null,null,null,null,null,null,null,null,null,null,null,null,null,null,null,null,null,null,null,null,null,null,null,null,null,null,null,null,null,null,null,null,null,null,null,null,null,null,null,null,null,null,null,null,null,null,null,null,null,null,null,null,null,null,null,null,null,null,null,null,null,null,null,null,null,null,null,null,null,null,null,null,null,null,null,null,null,null,null,null,null,null,null,null,null,null,null,null,null,null,null,null,null,null,null,null,null,null,null,null,null,null,null,null,null,null,null,null,null,null,null,null,null,null,null,null,null,null,null,null,null,null,null,null,null,null,null,null,null,null,null,null,null,null,null,null,null,null,null,null,null,null,null,null,null,null,null,null,null,null,null,null,null,null,null,null,null,null,null,null,null,null,null,null,null,null,null,null,null,null,null,null,null,null,null,null,null,null,null,null,null,null,null,null,null,null,null,null,null,null,null,null,null,null,null,null,null,null,null,null,null,null,null,null,null,null,null,null,null,null,null,null,null,null,null,null,null,null,null,null,null,null,null,null,null,null,null,null,null,null,null,null,null,null,null,null,null,null,null,null,null,null,null,null,null,null,null,null,null,null,null,null,null,null,null,null,null,null,null,null,null,null,null,null,null,null,null,null,null,null,null,null,null,null,null,null,null,null,null,null,null,null,null,null,null,null,null,null,null,null,null,null,null,null,null,null,null,null,null,null,null,null,null,null,null,null,null,null,null,null,null,null,null,null,null,null,null,null,null,null,null,null,null,null,null,null,null,null,null,null,null,null,null,null,null,null,null,null,null,null,null,null,null,null,null,null,null,null,null,null,null,null,null,null,null,null,null,null,null,null,null,null,null,null,null,null,null,null,null,null,null,null,null,null,null,null,null,null,null,null,null,null,null,null,null,null,null,null,null,null,null,null,null,null,null,null,null,null,null,null,null,null,null,null,null,null,null,null,null,null,null,null,null,null,null,null,null,null,null,null,null,null,null,null,null,null,null,null,null,null,null,null,null,null,null,null,null,null,null,null,null,null,null,null,null,null,0,8,29,1]
[{"$f":"IF(AND(INDEX(C353:SI353,$B$4)>=360,INDEX(C353:SI353,$B$4)<=830),INDEX(C353:SI353,$B$4),\"\")","v":""},{"$f":"IF($F$6,INDEX(D353:SI353,$B$1),\"\")","v":0},702,199.506,72.1571,0.93583085412542999,null,null,null,null,null,null,null,null,null,null,null,null,null,null,null,null,null,null,null,null,722,0.12412454057869211,0.93583515267439432,null,722,1,null,null,null,null,null,null,null,null,null,null,null,null,null,null,null,null,null,null,null,null,null,null,null,null,null,null,null,null,null,null,null,null,null,null,null,null,null,null,null,null,null,null,null,null,null,null,null,null,null,null,null,null,null,null,null,null,null,null,null,null,null,null,null,null,null,null,null,null,null,null,null,null,null,null,null,null,null,null,null,null,null,null,null,null,null,null,null,null,null,null,null,null,null,null,null,null,null,null,null,null,null,null,null,null,null,null,null,null,null,null,null,null,null,null,null,null,null,null,null,null,null,null,null,null,null,null,null,null,null,null,null,null,null,null,null,null,null,null,null,null,null,null,null,null,null,null,null,null,null,null,null,null,null,null,null,null,null,null,null,null,null,null,null,null,null,null,null,null,null,null,null,null,null,null,null,null,null,null,null,null,null,null,null,null,null,null,null,null,null,null,null,null,null,null,null,null,null,null,null,null,null,null,null,null,null,null,null,null,null,null,null,null,null,null,null,null,null,null,null,null,null,null,null,null,null,null,null,null,null,null,null,null,null,null,null,null,null,null,null,null,null,null,null,null,null,null,null,null,null,null,null,null,null,null,null,null,null,null,null,null,null,null,null,null,null,null,null,null,null,null,null,null,null,null,null,null,null,null,null,null,null,null,null,null,null,null,null,null,null,null,null,null,null,null,null,null,null,null,null,null,null,null,null,null,null,null,null,null,null,null,null,null,null,null,null,null,null,null,null,null,null,null,null,null,null,null,null,null,null,null,null,null,null,null,null,null,null,null,null,null,null,null,null,null,null,null,null,null,null,null,null,null,null,null,null,null,null,null,null,null,null,null,null,null,null,null,null,null,null,null,null,null,null,null,null,null,null,null,null,null,null,null,null,null,null,null,null,null,null,null,null,null,null,null,null,null,null,null,null,null,null,null,null,null,null,null,null,null,null,null,null,null,null,null,null,null,null,null,null,null,null,null,null,null,null,null,null,null,null,null,null,null,null,null,null,null,null,null,null,null,null,null,null,null,null,null,null,null,null,null,null,null,null,null,null,null,null,null,null,null,null,null,null,null,null,null,null,null,null,null,null,0,8,29,1]
["",0,708,203.19499999999999,73.801000000000002,0.93583085412542999,null,null,null,null,null,null,null,null,null,null,null,null,null,null,null,null,null,null,null,null,728,0.10555491438942266,0.93583515267439432,null,728,1,null,null,null,null,null,null,null,null,null,null,null,null,null,null,null,null,null,null,null,null,null,null,null,null,null,null,null,null,null,null,null,null,null,null,null,null,null,null,null,null,null,null,null,null,null,null,null,null,null,null,null,null,null,null,null,null,null,null,null,null,null,null,null,null,null,null,null,null,null,null,null,null,null,null,null,null,null,null,null,null,null,null,null,null,null,null,null,null,null,null,null,null,null,null,null,null,null,null,null,null,null,null,null,null,null,null,null,null,null,null,null,null,null,null,null,null,null,null,null,null,null,null,null,null,null,null,null,null,null,null,null,null,null,null,null,null,null,null,null,null,null,null,null,null,null,null,null,null,null,null,null,null,null,null,null,null,null,null,null,null,null,null,null,null,null,null,null,null,null,null,null,null,null,null,null,null,null,null,null,null,null,null,null,null,null,null,null,null,null,null,null,null,null,null,null,null,null,null,null,null,null,null,null,null,null,null,null,null,null,null,null,null,null,null,null,null,null,null,null,null,null,null,null,null,null,null,null,null,null,null,null,null,null,null,null,null,null,null,null,null,null,null,null,null,null,null,null,null,null,null,null,null,null,null,null,null,null,null,null,null,null,null,null,null,null,null,null,null,null,null,null,null,null,null,null,null,null,null,null,null,null,null,null,null,null,null,null,null,null,null,null,null,null,null,null,null,null,null,null,null,null,null,null,null,null,null,null,null,null,null,null,null,null,null,null,null,null,null,null,null,null,null,null,null,null,null,null,null,null,null,null,null,null,null,null,null,null,null,null,null,null,null,null,null,null,null,null,null,null,null,null,null,null,null,null,null,null,null,null,null,null,null,null,null,null,null,null,null,null,null,null,null,null,null,null,null,null,null,null,null,null,null,null,null,null,null,null,null,null,null,null,null,null,null,null,null,null,null,null,null,null,null,null,null,null,null,null,null,null,null,null,null,null,null,null,null,null,null,null,null,null,null,null,null,null,null,null,null,null,null,null,null,null,null,null,null,null,null,null,null,null,null,null,null,null,null,null,null,null,null,null,null,null,null,null,null,null,null,null,null,null,null,null,null,null,null,null,null,null,null,null,0,8,29,1]
["",0,716,208.006,66.701999999999998,0.93583085412542999,null,null,null,null,null,null,null,null,null,null,null,null,null,null,null,null,null,null,null,null,736,8.5311073168704107E-2,0.93583515267439432,null,736,1,null,null,null,null,null,null,null,null,null,null,null,null,null,null,null,null,null,null,null,null,null,null,null,null,null,null,null,null,null,null,null,null,null,null,null,null,null,null,null,null,null,null,null,null,null,null,null,null,null,null,null,null,null,null,null,null,null,null,null,null,null,null,null,null,null,null,null,null,null,null,null,null,null,null,null,null,null,null,null,null,null,null,null,null,null,null,null,null,null,null,null,null,null,null,null,null,null,null,null,null,null,null,null,null,null,null,null,null,null,null,null,null,null,null,null,null,null,null,null,null,null,null,null,null,null,null,null,null,null,null,null,null,null,null,null,null,null,null,null,null,null,null,null,null,null,null,null,null,null,null,null,null,null,null,null,null,null,null,null,null,null,null,null,null,null,null,null,null,null,null,null,null,null,null,null,null,null,null,null,null,null,null,null,null,null,null,null,null,null,null,null,null,null,null,null,null,null,null,null,null,null,null,null,null,null,null,null,null,null,null,null,null,null,null,null,null,null,null,null,null,null,null,null,null,null,null,null,null,null,null,null,null,null,null,null,null,null,null,null,null,null,null,null,null,null,null,null,null,null,null,null,null,null,null,null,null,null,null,null,null,null,null,null,null,null,null,null,null,null,null,null,null,null,null,null,null,null,null,null,null,null,null,null,null,null,null,null,null,null,null,null,null,null,null,null,null,null,null,null,null,null,null,null,null,null,null,null,null,null,null,null,null,null,null,null,null,null,null,null,null,null,null,null,null,null,null,null,null,null,null,null,null,null,null,null,null,null,null,null,null,null,null,null,null,null,null,null,null,null,null,null,null,null,null,null,null,null,null,null,null,null,null,null,null,null,null,null,null,null,null,null,null,null,null,null,null,null,null,null,null,null,null,null,null,null,null,null,null,null,null,null,null,null,null,null,null,null,null,null,null,null,null,null,null,null,null,null,null,null,null,null,null,null,null,null,null,null,null,null,null,null,null,null,null,null,null,null,null,null,null,null,null,null,null,null,null,null,null,null,null,null,null,null,null,null,null,null,null,null,null,null,null,null,null,null,null,null,null,null,null,null,null,null,null,null,null,null,null,null,null,null,0,8,29,1]
["",0,724,212.691,64.916600000000003,0.93583085412542999,null,null,null,null,null,null,null,null,null,null,null,null,null,null,null,null,null,null,null,null,744,6.9269651184614936E-2,0.93583515267439432,null,744,1,null,null,null,null,null,null,null,null,null,null,null,null,null,null,null,null,null,null,null,null,null,null,null,null,null,null,null,null,null,null,null,null,null,null,null,null,null,null,null,null,null,null,null,null,null,null,null,null,null,null,null,null,null,null,null,null,null,null,null,null,null,null,null,null,null,null,null,null,null,null,null,null,null,null,null,null,null,null,null,null,null,null,null,null,null,null,null,null,null,null,null,null,null,null,null,null,null,null,null,null,null,null,null,null,null,null,null,null,null,null,null,null,null,null,null,null,null,null,null,null,null,null,null,null,null,null,null,null,null,null,null,null,null,null,null,null,null,null,null,null,null,null,null,null,null,null,null,null,null,null,null,null,null,null,null,null,null,null,null,null,null,null,null,null,null,null,null,null,null,null,null,null,null,null,null,null,null,null,null,null,null,null,null,null,null,null,null,null,null,null,null,null,null,null,null,null,null,null,null,null,null,null,null,null,null,null,null,null,null,null,null,null,null,null,null,null,null,null,null,null,null,null,null,null,null,null,null,null,null,null,null,null,null,null,null,null,null,null,null,null,null,null,null,null,null,null,null,null,null,null,null,null,null,null,null,null,null,null,null,null,null,null,null,null,null,null,null,null,null,null,null,null,null,null,null,null,null,null,null,null,null,null,null,null,null,null,null,null,null,null,null,null,null,null,null,null,null,null,null,null,null,null,null,null,null,null,null,null,null,null,null,null,null,null,null,null,null,null,null,null,null,null,null,null,null,null,null,null,null,null,null,null,null,null,null,null,null,null,null,null,null,null,null,null,null,null,null,null,null,null,null,null,null,null,null,null,null,null,null,null,null,null,null,null,null,null,null,null,null,null,null,null,null,null,null,null,null,null,null,null,null,null,null,null,null,null,null,null,null,null,null,null,null,null,null,null,null,null,null,null,null,null,null,null,null,null,null,null,null,null,null,null,null,null,null,null,null,null,null,null,null,null,null,null,null,null,null,null,null,null,null,null,null,null,null,null,null,null,null,null,null,null,null,null,null,null,null,null,null,null,null,null,null,null,null,null,null,null,null,null,null,null,null,null,null,null,null,null,null,null,null,0,8,29,1]
["",0,732,217.24600000000001,70.925899999999999,0.93583085412542999,null,null,null,null,null,null,null,null,null,null,null,null,null,null,null,null,null,null,null,null,752,5.6293057111580461E-2,0.93583515267439432,null,752,1,null,null,null,null,null,null,null,null,null,null,null,null,null,null,null,null,null,null,null,null,null,null,null,null,null,null,null,null,null,null,null,null,null,null,null,null,null,null,null,null,null,null,null,null,null,null,null,null,null,null,null,null,null,null,null,null,null,null,null,null,null,null,null,null,null,null,null,null,null,null,null,null,null,null,null,null,null,null,null,null,null,null,null,null,null,null,null,null,null,null,null,null,null,null,null,null,null,null,null,null,null,null,null,null,null,null,null,null,null,null,null,null,null,null,null,null,null,null,null,null,null,null,null,null,null,null,null,null,null,null,null,null,null,null,null,null,null,null,null,null,null,null,null,null,null,null,null,null,null,null,null,null,null,null,null,null,null,null,null,null,null,null,null,null,null,null,null,null,null,null,null,null,null,null,null,null,null,null,null,null,null,null,null,null,null,null,null,null,null,null,null,null,null,null,null,null,null,null,null,null,null,null,null,null,null,null,null,null,null,null,null,null,null,null,null,null,null,null,null,null,null,null,null,null,null,null,null,null,null,null,null,null,null,null,null,null,null,null,null,null,null,null,null,null,null,null,null,null,null,null,null,null,null,null,null,null,null,null,null,null,null,null,null,null,null,null,null,null,null,null,null,null,null,null,null,null,null,null,null,null,null,null,null,null,null,null,null,null,null,null,null,null,null,null,null,null,null,null,null,null,null,null,null,null,null,null,null,null,null,null,null,null,null,null,null,null,null,null,null,null,null,null,null,null,null,null,null,null,null,null,null,null,null,null,null,null,null,null,null,null,null,null,null,null,null,null,null,null,null,null,null,null,null,null,null,null,null,null,null,null,null,null,null,null,null,null,null,null,null,null,null,null,null,null,null,null,null,null,null,null,null,null,null,null,null,null,null,null,null,null,null,null,null,null,null,null,null,null,null,null,null,null,null,null,null,null,null,null,null,null,null,null,null,null,null,null,null,null,null,null,null,null,null,null,null,null,null,null,null,null,null,null,null,null,null,null,null,null,null,null,null,null,null,null,null,null,null,null,null,null,null,null,null,null,null,null,null,null,null,null,null,null,null,null,null,null,null,null,null,null,null,0,8,29,1]
["",0,737,220.02500000000001,73.526600000000002,0.93583085412542999,null,null,null,null,null,null,null,null,null,null,null,null,null,null,null,null,null,null,null,null,757,4.9393352750596753E-2,0.93583515267439432,null,757,1,null,null,null,null,null,null,null,null,null,null,null,null,null,null,null,null,null,null,null,null,null,null,null,null,null,null,null,null,null,null,null,null,null,null,null,null,null,null,null,null,null,null,null,null,null,null,null,null,null,null,null,null,null,null,null,null,null,null,null,null,null,null,null,null,null,null,null,null,null,null,null,null,null,null,null,null,null,null,null,null,null,null,null,null,null,null,null,null,null,null,null,null,null,null,null,null,null,null,null,null,null,null,null,null,null,null,null,null,null,null,null,null,null,null,null,null,null,null,null,null,null,null,null,null,null,null,null,null,null,null,null,null,null,null,null,null,null,null,null,null,null,null,null,null,null,null,null,null,null,null,null,null,null,null,null,null,null,null,null,null,null,null,null,null,null,null,null,null,null,null,null,null,null,null,null,null,null,null,null,null,null,null,null,null,null,null,null,null,null,null,null,null,null,null,null,null,null,null,null,null,null,null,null,null,null,null,null,null,null,null,null,null,null,null,null,null,null,null,null,null,null,null,null,null,null,null,null,null,null,null,null,null,null,null,null,null,null,null,null,null,null,null,null,null,null,null,null,null,null,null,null,null,null,null,null,null,null,null,null,null,null,null,null,null,null,null,null,null,null,null,null,null,null,null,null,null,null,null,null,null,null,null,null,null,null,null,null,null,null,null,null,null,null,null,null,null,null,null,null,null,null,null,null,null,null,null,null,null,null,null,null,null,null,null,null,null,null,null,null,null,null,null,null,null,null,null,null,null,null,null,null,null,null,null,null,null,null,null,null,null,null,null,null,null,null,null,null,null,null,null,null,null,null,null,null,null,null,null,null,null,null,null,null,null,null,null,null,null,null,null,null,null,null,null,null,null,null,null,null,null,null,null,null,null,null,null,null,null,null,null,null,null,null,null,null,null,null,null,null,null,null,null,null,null,null,null,null,null,null,null,null,null,null,null,null,null,null,null,null,null,null,null,null,null,null,null,null,null,null,null,null,null,null,null,null,null,null,null,null,null,null,null,null,null,null,null,null,null,null,null,null,null,null,null,null,null,null,null,null,null,null,null,null,null,null,null,null,null,null,null,null,0,8,29,1]
["",0,749,226.477,64.742099999999994,0.93583085412542999,null,null,null,null,null,null,null,null,null,null,null,null,null,null,null,null,null,null,null,null,769,3.5889449315099048E-2,0.93583515267439432,null,769,1,null,null,null,null,null,null,null,null,null,null,null,null,null,null,null,null,null,null,null,null,null,null,null,null,null,null,null,null,null,null,null,null,null,null,null,null,null,null,null,null,null,null,null,null,null,null,null,null,null,null,null,null,null,null,null,null,null,null,null,null,null,null,null,null,null,null,null,null,null,null,null,null,null,null,null,null,null,null,null,null,null,null,null,null,null,null,null,null,null,null,null,null,null,null,null,null,null,null,null,null,null,null,null,null,null,null,null,null,null,null,null,null,null,null,null,null,null,null,null,null,null,null,null,null,null,null,null,null,null,null,null,null,null,null,null,null,null,null,null,null,null,null,null,null,null,null,null,null,null,null,null,null,null,null,null,null,null,null,null,null,null,null,null,null,null,null,null,null,null,null,null,null,null,null,null,null,null,null,null,null,null,null,null,null,null,null,null,null,null,null,null,null,null,null,null,null,null,null,null,null,null,null,null,null,null,null,null,null,null,null,null,null,null,null,null,null,null,null,null,null,null,null,null,null,null,null,null,null,null,null,null,null,null,null,null,null,null,null,null,null,null,null,null,null,null,null,null,null,null,null,null,null,null,null,null,null,null,null,null,null,null,null,null,null,null,null,null,null,null,null,null,null,null,null,null,null,null,null,null,null,null,null,null,null,null,null,null,null,null,null,null,null,null,null,null,null,null,null,null,null,null,null,null,null,null,null,null,null,null,null,null,null,null,null,null,null,null,null,null,null,null,null,null,null,null,null,null,null,null,null,null,null,null,null,null,null,null,null,null,null,null,null,null,null,null,null,null,null,null,null,null,null,null,null,null,null,null,null,null,null,null,null,null,null,null,null,null,null,null,null,null,null,null,null,null,null,null,null,null,null,null,null,null,null,null,null,null,null,null,null,null,null,null,null,null,null,null,null,null,null,null,null,null,null,null,null,null,null,null,null,null,null,null,null,null,null,null,null,null,null,null,null,null,null,null,null,null,null,null,null,null,null,null,null,null,null,null,null,null,null,null,null,null,null,null,null,null,null,null,null,null,null,null,null,null,null,null,null,null,null,null,null,null,null,null,null,null,null,null,null,null,0,8,29,1]
["",0,754,229.07300000000001,56.722900000000003,0.93583085412542999,null,null,null,null,null,null,null,null,null,null,null,null,null,null,null,null,null,null,null,null,774,3.1407676399183432E-2,0.93583515267439432,null,774,1,null,null,null,null,null,null,null,null,null,null,null,null,null,null,null,null,null,null,null,null,null,null,null,null,null,null,null,null,null,null,null,null,null,null,null,null,null,null,null,null,null,null,null,null,null,null,null,null,null,null,null,null,null,null,null,null,null,null,null,null,null,null,null,null,null,null,null,null,null,null,null,null,null,null,null,null,null,null,null,null,null,null,null,null,null,null,null,null,null,null,null,null,null,null,null,null,null,null,null,null,null,null,null,null,null,null,null,null,null,null,null,null,null,null,null,null,null,null,null,null,null,null,null,null,null,null,null,null,null,null,null,null,null,null,null,null,null,null,null,null,null,null,null,null,null,null,null,null,null,null,null,null,null,null,null,null,null,null,null,null,null,null,null,null,null,null,null,null,null,null,null,null,null,null,null,null,null,null,null,null,null,null,null,null,null,null,null,null,null,null,null,null,null,null,null,null,null,null,null,null,null,null,null,null,null,null,null,null,null,null,null,null,null,null,null,null,null,null,null,null,null,null,null,null,null,null,null,null,null,null,null,null,null,null,null,null,null,null,null,null,null,null,null,null,null,null,null,null,null,null,null,null,null,null,null,null,null,null,null,null,null,null,null,null,null,null,null,null,null,null,null,null,null,null,null,null,null,null,null,null,null,null,null,null,null,null,null,null,null,null,null,null,null,null,null,null,null,null,null,null,null,null,null,null,null,null,null,null,null,null,null,null,null,null,null,null,null,null,null,null,null,null,null,null,null,null,null,null,null,null,null,null,null,null,null,null,null,null,null,null,null,null,null,null,null,null,null,null,null,null,null,null,null,null,null,null,null,null,null,null,null,null,null,null,null,null,null,null,null,null,null,null,null,null,null,null,null,null,null,null,null,null,null,null,null,null,null,null,null,null,null,null,null,null,null,null,null,null,null,null,null,null,null,null,null,null,null,null,null,null,null,null,null,null,null,null,null,null,null,null,null,null,null,null,null,null,null,null,null,null,null,null,null,null,null,null,null,null,null,null,null,null,null,null,null,null,null,null,null,null,null,null,null,null,null,null,null,null,null,null,null,null,null,null,null,null,null,null,null,null,null,0,8,29,1]
["",0,759,231.614,48.135599999999997,0.93583085412542999,null,null,null,null,null,null,null,null,null,null,null,null,null,null,null,null,null,null,null,null,779,2.7787439354213222E-2,0.93583515267439432,null,779,1,null,null,null,null,null,null,null,null,null,null,null,null,null,null,null,null,null,null,null,null,null,null,null,null,null,null,null,null,null,null,null,null,null,null,null,null,null,null,null,null,null,null,null,null,null,null,null,null,null,null,null,null,null,null,null,null,null,null,null,null,null,null,null,null,null,null,null,null,null,null,null,null,null,null,null,null,null,null,null,null,null,null,null,null,null,null,null,null,null,null,null,null,null,null,null,null,null,null,null,null,null,null,null,null,null,null,null,null,null,null,null,null,null,null,null,null,null,null,null,null,null,null,null,null,null,null,null,null,null,null,null,null,null,null,null,null,null,null,null,null,null,null,null,null,null,null,null,null,null,null,null,null,null,null,null,null,null,null,null,null,null,null,null,null,null,null,null,null,null,null,null,null,null,null,null,null,null,null,null,null,null,null,null,null,null,null,null,null,null,null,null,null,null,null,null,null,null,null,null,null,null,null,null,null,null,null,null,null,null,null,null,null,null,null,null,null,null,null,null,null,null,null,null,null,null,null,null,null,null,null,null,null,null,null,null,null,null,null,null,null,null,null,null,null,null,null,null,null,null,null,null,null,null,null,null,null,null,null,null,null,null,null,null,null,null,null,null,null,null,null,null,null,null,null,null,null,null,null,null,null,null,null,null,null,null,null,null,null,null,null,null,null,null,null,null,null,null,null,null,null,null,null,null,null,null,null,null,null,null,null,null,null,null,null,null,null,null,null,null,null,null,null,null,null,null,null,null,null,null,null,null,null,null,null,null,null,null,null,null,null,null,null,null,null,null,null,null,null,null,null,null,null,null,null,null,null,null,null,null,null,null,null,null,null,null,null,null,null,null,null,null,null,null,null,null,null,null,null,null,null,null,null,null,null,null,null,null,null,null,null,null,null,null,null,null,null,null,null,null,null,null,null,null,null,null,null,null,null,null,null,null,null,null,null,null,null,null,null,null,null,null,null,null,null,null,null,null,null,null,null,null,null,null,null,null,null,null,null,null,null,null,null,null,null,null,null,null,null,null,null,null,null,null,null,null,null,null,null,null,null,null,null,null,null,null,null,null,null,null,null,null,0,8,29,1]
["",0,767,235.56399999999999,60.6892,0.93583085412542999,null,null,null,null,null,null,null,null,null,null,null,null,null,null,null,null,null,null,null,null,null,null,null,null,null,null,null,null,null,null,null,null,null,null,null,null,null,null,null,null,null,null,null,null,null,null,null,null,null,null,null,null,null,null,null,null,null,null,null,null,null,null,null,null,null,null,null,null,null,null,null,null,null,null,null,null,null,null,null,null,null,null,null,null,null,null,null,null,null,null,null,null,null,null,null,null,null,null,null,null,null,null,null,null,null,null,null,null,null,null,null,null,null,null,null,null,null,null,null,null,null,null,null,null,null,null,null,null,null,null,null,null,null,null,null,null,null,null,null,null,null,null,null,null,null,null,null,null,null,null,null,null,null,null,null,null,null,null,null,null,null,null,null,null,null,null,null,null,null,null,null,null,null,null,null,null,null,null,null,null,null,null,null,null,null,null,null,null,null,null,null,null,null,null,null,null,null,null,null,null,null,null,null,null,null,null,null,null,null,null,null,null,null,null,null,null,null,null,null,null,null,null,null,null,null,null,null,null,null,null,null,null,null,null,null,null,null,null,null,null,null,null,null,null,null,null,null,null,null,null,null,null,null,null,null,null,null,null,null,null,null,null,null,null,null,null,null,null,null,null,null,null,null,null,null,null,null,null,null,null,null,null,null,null,null,null,null,null,null,null,null,null,null,null,null,null,null,null,null,null,null,null,null,null,null,null,null,null,null,null,null,null,null,null,null,null,null,null,null,null,null,null,null,null,null,null,null,null,null,null,null,null,null,null,null,null,null,null,null,null,null,null,null,null,null,null,null,null,null,null,null,null,null,null,null,null,null,null,null,null,null,null,null,null,null,null,null,null,null,null,null,null,null,null,null,null,null,null,null,null,null,null,null,null,null,null,null,null,null,null,null,null,null,null,null,null,null,null,null,null,null,null,null,null,null,null,null,null,null,null,null,null,null,null,null,null,null,null,null,null,null,null,null,null,null,null,null,null,null,null,null,null,null,null,null,null,null,null,null,null,null,null,null,null,null,null,null,null,null,null,null,null,null,null,null,null,null,null,null,null,null,null,null,null,null,null,null,null,null,null,null,null,null,null,null,null,null,null,null,null,null,null,null,null,null,null,null,null,null,null,null,null,null,null,null,null,null,0,8,29,1]
["",0,772,237.959,66.120900000000006,0.93583085412542999,null,null,null,null,null,null,null,null,null,null,null,null,null,null,null,null,null,null,null,null,null,null,null,null,null,null,null,null,null,null,null,null,null,null,null,null,null,null,null,null,null,null,null,null,null,null,null,null,null,null,null,null,null,null,null,null,null,null,null,null,null,null,null,null,null,null,null,null,null,null,null,null,null,null,null,null,null,null,null,null,null,null,null,null,null,null,null,null,null,null,null,null,null,null,null,null,null,null,null,null,null,null,null,null,null,null,null,null,null,null,null,null,null,null,null,null,null,null,null,null,null,null,null,null,null,null,null,null,null,null,null,null,null,null,null,null,null,null,null,null,null,null,null,null,null,null,null,null,null,null,null,null,null,null,null,null,null,null,null,null,null,null,null,null,null,null,null,null,null,null,null,null,null,null,null,null,null,null,null,null,null,null,null,null,null,null,null,null,null,null,null,null,null,null,null,null,null,null,null,null,null,null,null,null,null,null,null,null,null,null,null,null,null,null,null,null,null,null,null,null,null,null,null,null,null,null,null,null,null,null,null,null,null,null,null,null,null,null,null,null,null,null,null,null,null,null,null,null,null,null,null,null,null,null,null,null,null,null,null,null,null,null,null,null,null,null,null,null,null,null,null,null,null,null,null,null,null,null,null,null,null,null,null,null,null,null,null,null,null,null,null,null,null,null,null,null,null,null,null,null,null,null,null,null,null,null,null,null,null,null,null,null,null,null,null,null,null,null,null,null,null,null,null,null,null,null,null,null,null,null,null,null,null,null,null,null,null,null,null,null,null,null,null,null,null,null,null,null,null,null,null,null,null,null,null,null,null,null,null,null,null,null,null,null,null,null,null,null,null,null,null,null,null,null,null,null,null,null,null,null,null,null,null,null,null,null,null,null,null,null,null,null,null,null,null,null,null,null,null,null,null,null,null,null,null,null,null,null,null,null,null,null,null,null,null,null,null,null,null,null,null,null,null,null,null,null,null,null,null,null,null,null,null,null,null,null,null,null,null,null,null,null,null,null,null,null,null,null,null,null,null,null,null,null,null,null,null,null,null,null,null,null,null,null,null,null,null,null,null,null,null,null,null,null,null,null,null,null,null,null,null,null,null,null,null,null,null,null,null,null,null,null,null,null,null,null,null,0,8,29,1]
["",0,782,242.58199999999999,63.567,0.93583085412542999,null,null,null,null,null,null,null,null,null,null,null,null,null,null,null,null,null,null,null,null,null,null,null,null,null,null,null,null,null,null,null,null,null,null,null,null,null,null,null,null,null,null,null,null,null,null,null,null,null,null,null,null,null,null,null,null,null,null,null,null,null,null,null,null,null,null,null,null,null,null,null,null,null,null,null,null,null,null,null,null,null,null,null,null,null,null,null,null,null,null,null,null,null,null,null,null,null,null,null,null,null,null,null,null,null,null,null,null,null,null,null,null,null,null,null,null,null,null,null,null,null,null,null,null,null,null,null,null,null,null,null,null,null,null,null,null,null,null,null,null,null,null,null,null,null,null,null,null,null,null,null,null,null,null,null,null,null,null,null,null,null,null,null,null,null,null,null,null,null,null,null,null,null,null,null,null,null,null,null,null,null,null,null,null,null,null,null,null,null,null,null,null,null,null,null,null,null,null,null,null,null,null,null,null,null,null,null,null,null,null,null,null,null,null,null,null,null,null,null,null,null,null,null,null,null,null,null,null,null,null,null,null,null,null,null,null,null,null,null,null,null,null,null,null,null,null,null,null,null,null,null,null,null,null,null,null,null,null,null,null,null,null,null,null,null,null,null,null,null,null,null,null,null,null,null,null,null,null,null,null,null,null,null,null,null,null,null,null,null,null,null,null,null,null,null,null,null,null,null,null,null,null,null,null,null,null,null,null,null,null,null,null,null,null,null,null,null,null,null,null,null,null,null,null,null,null,null,null,null,null,null,null,null,null,null,null,null,null,null,null,null,null,null,null,null,null,null,null,null,null,null,null,null,null,null,null,null,null,null,null,null,null,null,null,null,null,null,null,null,null,null,null,null,null,null,null,null,null,null,null,null,null,null,null,null,null,null,null,null,null,null,null,null,null,null,null,null,null,null,null,null,null,null,null,null,null,null,null,null,null,null,null,null,null,null,null,null,null,null,null,null,null,null,null,null,null,null,null,null,null,null,null,null,null,null,null,null,null,null,null,null,null,null,null,null,null,null,null,null,null,null,null,null,null,null,null,null,null,null,null,null,null,null,null,null,null,null,null,null,null,null,null,null,null,null,null,null,null,null,null,null,null,null,null,null,null,null,null,null,null,null,null,null,null,null,null,null,0,8,29,1]
["",0,789,245.68199999999999,64.2119,0.93583085412542999,null,null,null,null,null,null,null,null,null,null,null,null,null,null,null,null,null,null,null,null,null,null,null,null,null,null,null,null,null,null,null,null,null,null,null,null,null,null,null,null,null,null,null,null,null,null,null,null,null,null,null,null,null,null,null,null,null,null,null,null,null,null,null,null,null,null,null,null,null,null,null,null,null,null,null,null,null,null,null,null,null,null,null,null,null,null,null,null,null,null,null,null,null,null,null,null,null,null,null,null,null,null,null,null,null,null,null,null,null,null,null,null,null,null,null,null,null,null,null,null,null,null,null,null,null,null,null,null,null,null,null,null,null,null,null,null,null,null,null,null,null,null,null,null,null,null,null,null,null,null,null,null,null,null,null,null,null,null,null,null,null,null,null,null,null,null,null,null,null,null,null,null,null,null,null,null,null,null,null,null,null,null,null,null,null,null,null,null,null,null,null,null,null,null,null,null,null,null,null,null,null,null,null,null,null,null,null,null,null,null,null,null,null,null,null,null,null,null,null,null,null,null,null,null,null,null,null,null,null,null,null,null,null,null,null,null,null,null,null,null,null,null,null,null,null,null,null,null,null,null,null,null,null,null,null,null,null,null,null,null,null,null,null,null,null,null,null,null,null,null,null,null,null,null,null,null,null,null,null,null,null,null,null,null,null,null,null,null,null,null,null,null,null,null,null,null,null,null,null,null,null,null,null,null,null,null,null,null,null,null,null,null,null,null,null,null,null,null,null,null,null,null,null,null,null,null,null,null,null,null,null,null,null,null,null,null,null,null,null,null,null,null,null,null,null,null,null,null,null,null,null,null,null,null,null,null,null,null,null,null,null,null,null,null,null,null,null,null,null,null,null,null,null,null,null,null,null,null,null,null,null,null,null,null,null,null,null,null,null,null,null,null,null,null,null,null,null,null,null,null,null,null,null,null,null,null,null,null,null,null,null,null,null,null,null,null,null,null,null,null,null,null,null,null,null,null,null,null,null,null,null,null,null,null,null,null,null,null,null,null,null,null,null,null,null,null,null,null,null,null,null,null,null,null,null,null,null,null,null,null,null,null,null,null,null,null,null,null,null,null,null,null,null,null,null,null,null,null,null,null,null,null,null,null,null,null,null,null,null,null,null,null,null,null,null,null,null,0,8,29,1]
["",0,794,247.82900000000001,62.363199999999999,0.93583085412542999,null,null,null,null,null,null,null,null,null,null,null,null,null,null,null,null,null,null,null,null,null,null,null,null,null,null,null,null,null,null,null,null,null,null,null,null,null,null,null,null,null,null,null,null,null,null,null,null,null,null,null,null,null,null,null,null,null,null,null,null,null,null,null,null,null,null,null,null,null,null,null,null,null,null,null,null,null,null,null,null,null,null,null,null,null,null,null,null,null,null,null,null,null,null,null,null,null,null,null,null,null,null,null,null,null,null,null,null,null,null,null,null,null,null,null,null,null,null,null,null,null,null,null,null,null,null,null,null,null,null,null,null,null,null,null,null,null,null,null,null,null,null,null,null,null,null,null,null,null,null,null,null,null,null,null,null,null,null,null,null,null,null,null,null,null,null,null,null,null,null,null,null,null,null,null,null,null,null,null,null,null,null,null,null,null,null,null,null,null,null,null,null,null,null,null,null,null,null,null,null,null,null,null,null,null,null,null,null,null,null,null,null,null,null,null,null,null,null,null,null,null,null,null,null,null,null,null,null,null,null,null,null,null,null,null,null,null,null,null,null,null,null,null,null,null,null,null,null,null,null,null,null,null,null,null,null,null,null,null,null,null,null,null,null,null,null,null,null,null,null,null,null,null,null,null,null,null,null,null,null,null,null,null,null,null,null,null,null,null,null,null,null,null,null,null,null,null,null,null,null,null,null,null,null,null,null,null,null,null,null,null,null,null,null,null,null,null,null,null,null,null,null,null,null,null,null,null,null,null,null,null,null,null,null,null,null,null,null,null,null,null,null,null,null,null,null,null,null,null,null,null,null,null,null,null,null,null,null,null,null,null,null,null,null,null,null,null,null,null,null,null,null,null,null,null,null,null,null,null,null,null,null,null,null,null,null,null,null,null,null,null,null,null,null,null,null,null,null,null,null,null,null,null,null,null,null,null,null,null,null,null,null,null,null,null,null,null,null,null,null,null,null,null,null,null,null,null,null,null,null,null,null,null,null,null,null,null,null,null,null,null,null,null,null,null,null,null,null,null,null,null,null,null,null,null,null,null,null,null,null,null,null,null,null,null,null,null,null,null,null,null,null,null,null,null,null,null,null,null,null,null,null,null,null,null,null,null,null,null,null,null,null,null,null,null,null,null,0,8,29,1]
["",0,802,251.14400000000001,57.953299999999999,0.93583085412542999,null,null,null,null,null,null,null,null,null,null,null,null,null,null,null,null,null,null,null,null,null,null,null,null,null,null,null,null,null,null,null,null,null,null,null,null,null,null,null,null,null,null,null,null,null,null,null,null,null,null,null,null,null,null,null,null,null,null,null,null,null,null,null,null,null,null,null,null,null,null,null,null,null,null,null,null,null,null,null,null,null,null,null,null,null,null,null,null,null,null,null,null,null,null,null,null,null,null,null,null,null,null,null,null,null,null,null,null,null,null,null,null,null,null,null,null,null,null,null,null,null,null,null,null,null,null,null,null,null,null,null,null,null,null,null,null,null,null,null,null,null,null,null,null,null,null,null,null,null,null,null,null,null,null,null,null,null,null,null,null,null,null,null,null,null,null,null,null,null,null,null,null,null,null,null,null,null,null,null,null,null,null,null,null,null,null,null,null,null,null,null,null,null,null,null,null,null,null,null,null,null,null,null,null,null,null,null,null,null,null,null,null,null,null,null,null,null,null,null,null,null,null,null,null,null,null,null,null,null,null,null,null,null,null,null,null,null,null,null,null,null,null,null,null,null,null,null,null,null,null,null,null,null,null,null,null,null,null,null,null,null,null,null,null,null,null,null,null,null,null,null,null,null,null,null,null,null,null,null,null,null,null,null,null,null,null,null,null,null,null,null,null,null,null,null,null,null,null,null,null,null,null,null,null,null,null,null,null,null,null,null,null,null,null,null,null,null,null,null,null,null,null,null,null,null,null,null,null,null,null,null,null,null,null,null,null,null,null,null,null,null,null,null,null,null,null,null,null,null,null,null,null,null,null,null,null,null,null,null,null,null,null,null,null,null,null,null,null,null,null,null,null,null,null,null,null,null,null,null,null,null,null,null,null,null,null,null,null,null,null,null,null,null,null,null,null,null,null,null,null,null,null,null,null,null,null,null,null,null,null,null,null,null,null,null,null,null,null,null,null,null,null,null,null,null,null,null,null,null,null,null,null,null,null,null,null,null,null,null,null,null,null,null,null,null,null,null,null,null,null,null,null,null,null,null,null,null,null,null,null,null,null,null,null,null,null,null,null,null,null,null,null,null,null,null,null,null,null,null,null,null,null,null,null,null,null,null,null,null,null,null,null,null,null,null,null,null,0,8,29,1]
["",0,807,253.142,54.206899999999997,0.93583085412542999,null,null,null,null,null,null,null,null,null,null,null,null,null,null,null,null,null,null,null,null,null,null,null,null,null,null,null,null,null,null,null,null,null,null,null,null,null,null,null,null,null,null,null,null,null,null,null,null,null,null,null,null,null,null,null,null,null,null,null,null,null,null,null,null,null,null,null,null,null,null,null,null,null,null,null,null,null,null,null,null,null,null,null,null,null,null,null,null,null,null,null,null,null,null,null,null,null,null,null,null,null,null,null,null,null,null,null,null,null,null,null,null,null,null,null,null,null,null,null,null,null,null,null,null,null,null,null,null,null,null,null,null,null,null,null,null,null,null,null,null,null,null,null,null,null,null,null,null,null,null,null,null,null,null,null,null,null,null,null,null,null,null,null,null,null,null,null,null,null,null,null,null,null,null,null,null,null,null,null,null,null,null,null,null,null,null,null,null,null,null,null,null,null,null,null,null,null,null,null,null,null,null,null,null,null,null,null,null,null,null,null,null,null,null,null,null,null,null,null,null,null,null,null,null,null,null,null,null,null,null,null,null,null,null,null,null,null,null,null,null,null,null,null,null,null,null,null,null,null,null,null,null,null,null,null,null,null,null,null,null,null,null,null,null,null,null,null,null,null,null,null,null,null,null,null,null,null,null,null,null,null,null,null,null,null,null,null,null,null,null,null,null,null,null,null,null,null,null,null,null,null,null,null,null,null,null,null,null,null,null,null,null,null,null,null,null,null,null,null,null,null,null,null,null,null,null,null,null,null,null,null,null,null,null,null,null,null,null,null,null,null,null,null,null,null,null,null,null,null,null,null,null,null,null,null,null,null,null,null,null,null,null,null,null,null,null,null,null,null,null,null,null,null,null,null,null,null,null,null,null,null,null,null,null,null,null,null,null,null,null,null,null,null,null,null,null,null,null,null,null,null,null,null,null,null,null,null,null,null,null,null,null,null,null,null,null,null,null,null,null,null,null,null,null,null,null,null,null,null,null,null,null,null,null,null,null,null,null,null,null,null,null,null,null,null,null,null,null,null,null,null,null,null,null,null,null,null,null,null,null,null,null,null,null,null,null,null,null,null,null,null,null,null,null,null,null,null,null,null,null,null,null,null,null,null,null,null,null,null,null,null,null,null,null,null,null,null,0,8,29,1]
["",0,815,256.221,54.699800000000003,0.93583085412542999,null,null,null,null,null,null,null,null,null,null,null,null,null,null,null,null,null,null,null,null,null,null,null,null,null,null,null,null,null,null,null,null,null,null,null,null,null,null,null,null,null,null,null,null,null,null,null,null,null,null,null,null,null,null,null,null,null,null,null,null,null,null,null,null,null,null,null,null,null,null,null,null,null,null,null,null,null,null,null,null,null,null,null,null,null,null,null,null,null,null,null,null,null,null,null,null,null,null,null,null,null,null,null,null,null,null,null,null,null,null,null,null,null,null,null,null,null,null,null,null,null,null,null,null,null,null,null,null,null,null,null,null,null,null,null,null,null,null,null,null,null,null,null,null,null,null,null,null,null,null,null,null,null,null,null,null,null,null,null,null,null,null,null,null,null,null,null,null,null,null,null,null,null,null,null,null,null,null,null,null,null,null,null,null,null,null,null,null,null,null,null,null,null,null,null,null,null,null,null,null,null,null,null,null,null,null,null,null,null,null,null,null,null,null,null,null,null,null,null,null,null,null,null,null,null,null,null,null,null,null,null,null,null,null,null,null,null,null,null,null,null,null,null,null,null,null,null,null,null,null,null,null,null,null,null,null,null,null,null,null,null,null,null,null,null,null,null,null,null,null,null,null,null,null,null,null,null,null,null,null,null,null,null,null,null,null,null,null,null,null,null,null,null,null,null,null,null,null,null,null,null,null,null,null,null,null,null,null,null,null,null,null,null,null,null,null,null,null,null,null,null,null,null,null,null,null,null,null,null,null,null,null,null,null,null,null,null,null,null,null,null,null,null,null,null,null,null,null,null,null,null,null,null,null,null,null,null,null,null,null,null,null,null,null,null,null,null,null,null,null,null,null,null,null,null,null,null,null,null,null,null,null,null,null,null,null,null,null,null,null,null,null,null,null,null,null,null,null,null,null,null,null,null,null,null,null,null,null,null,null,null,null,null,null,null,null,null,null,null,null,null,null,null,null,null,null,null,null,null,null,null,null,null,null,null,null,null,null,null,null,null,null,null,null,null,null,null,null,null,null,null,null,null,null,null,null,null,null,null,null,null,null,null,null,null,null,null,null,null,null,null,null,null,null,null,null,null,null,null,null,null,null,null,null,null,null,null,null,null,null,null,null,null,null,null,null,null,0,8,29,1]
["",0,824,259.51100000000002,58.589399999999998,0.93583085412542999,null,null,null,null,null,null,null,null,null,null,null,null,null,null,null,null,null,null,null,null,null,null,null,null,null,null,null,null,null,null,null,null,null,null,null,null,null,null,null,null,null,null,null,null,null,null,null,null,null,null,null,null,null,null,null,null,null,null,null,null,null,null,null,null,null,null,null,null,null,null,null,null,null,null,null,null,null,null,null,null,null,null,null,null,null,null,null,null,null,null,null,null,null,null,null,null,null,null,null,null,null,null,null,null,null,null,null,null,null,null,null,null,null,null,null,null,null,null,null,null,null,null,null,null,null,null,null,null,null,null,null,null,null,null,null,null,null,null,null,null,null,null,null,null,null,null,null,null,null,null,null,null,null,null,null,null,null,null,null,null,null,null,null,null,null,null,null,null,null,null,null,null,null,null,null,null,null,null,null,null,null,null,null,null,null,null,null,null,null,null,null,null,null,null,null,null,null,null,null,null,null,null,null,null,null,null,null,null,null,null,null,null,null,null,null,null,null,null,null,null,null,null,null,null,null,null,null,null,null,null,null,null,null,null,null,null,null,null,null,null,null,null,null,null,null,null,null,null,null,null,null,null,null,null,null,null,null,null,null,null,null,null,null,null,null,null,null,null,null,null,null,null,null,null,null,null,null,null,null,null,null,null,null,null,null,null,null,null,null,null,null,null,null,null,null,null,null,null,null,null,null,null,null,null,null,null,null,null,null,null,null,null,null,null,null,null,null,null,null,null,null,null,null,null,null,null,null,null,null,null,null,null,null,null,null,null,null,null,null,null,null,null,null,null,null,null,null,null,null,null,null,null,null,null,null,null,null,null,null,null,null,null,null,null,null,null,null,null,null,null,null,null,null,null,null,null,null,null,null,null,null,null,null,null,null,null,null,null,null,null,null,null,null,null,null,null,null,null,null,null,null,null,null,null,null,null,null,null,null,null,null,null,null,null,null,null,null,null,null,null,null,null,null,null,null,null,null,null,null,null,null,null,null,null,null,null,null,null,null,null,null,null,null,null,null,null,null,null,null,null,null,null,null,null,null,null,null,null,null,null,null,null,null,null,null,null,null,null,null,null,null,null,null,null,null,null,null,null,null,null,null,null,null,null,null,null,null,null,null,null,null,null,null,null,null,null,null,0,8,29,1]
["",0,829,261.25900000000001,60.025300000000001,0.93583085412542999,null,null,null,null,null,null,null,null,null,null,null,null,null,null,null,null,null,null,null,null,null,null,null,null,null,null,null,null,null,null,null,null,null,null,null,null,null,null,null,null,null,null,null,null,null,null,null,null,null,null,null,null,null,null,null,null,null,null,null,null,null,null,null,null,null,null,null,null,null,null,null,null,null,null,null,null,null,null,null,null,null,null,null,null,null,null,null,null,null,null,null,null,null,null,null,null,null,null,null,null,null,null,null,null,null,null,null,null,null,null,null,null,null,null,null,null,null,null,null,null,null,null,null,null,null,null,null,null,null,null,null,null,null,null,null,null,null,null,null,null,null,null,null,null,null,null,null,null,null,null,null,null,null,null,null,null,null,null,null,null,null,null,null,null,null,null,null,null,null,null,null,null,null,null,null,null,null,null,null,null,null,null,null,null,null,null,null,null,null,null,null,null,null,null,null,null,null,null,null,null,null,null,null,null,null,null,null,null,null,null,null,null,null,null,null,null,null,null,null,null,null,null,null,null,null,null,null,null,null,null,null,null,null,null,null,null,null,null,null,null,null,null,null,null,null,null,null,null,null,null,null,null,null,null,null,null,null,null,null,null,null,null,null,null,null,null,null,null,null,null,null,null,null,null,null,null,null,null,null,null,null,null,null,null,null,null,null,null,null,null,null,null,null,null,null,null,null,null,null,null,null,null,null,null,null,null,null,null,null,null,null,null,null,null,null,null,null,null,null,null,null,null,null,null,null,null,null,null,null,null,null,null,null,null,null,null,null,null,null,null,null,null,null,null,null,null,null,null,null,null,null,null,null,null,null,null,null,null,null,null,null,null,null,null,null,null,null,null,null,null,null,null,null,null,null,null,null,null,null,null,null,null,null,null,null,null,null,null,null,null,null,null,null,null,null,null,null,null,null,null,null,null,null,null,null,null,null,null,null,null,null,null,null,null,null,null,null,null,null,null,null,null,null,null,null,null,null,null,null,null,null,null,null,null,null,null,null,null,null,null,null,null,null,null,null,null,null,null,null,null,null,null,null,null,null,null,null,null,null,null,null,null,null,null,null,null,null,null,null,null,null,null,null,null,null,null,null,null,null,null,null,null,null,null,null,null,null,null,null,null,null,null,null,null,null,null,null,0,8,29,1]
["v'-coordinate",null,null,0.52429999999999999,0.46829999999999999,0.47370000000000001,null,null,0.49959999999999999,0.46839999999999998,0.50170000000000003,0.47639999999999999,0.52239999999999998,0.52180000000000004,0.48680000000000001,0.52129999999999999,0.46820000000000001,0.54020000000000001,0.53200000000000003,0.52170000000000005,0.52569999999999995,0.46529999999999999,0.46089999999999998,0.47370000000000001,0.5151,null,null,0.5151,0.47370000000000001,null,null,0.47370000000000001]
["R6",null,null,100,100,96,null,null,67,89,77,74,81,81,85,97,100,52,71,90,88,76,97,96,80,null,null,81,96,null,null,96]
["C2",null,null,100,100,102,null,null,92,99,98,97,92,97,99,99,100,50,88,95,92,99,102,102,92,null,null,92,102,null,null,102]
["C4",null,null,100,100,104,null,null,79,98,100,87,99,99,99,98,101,38,95,96,89,93,101,104,89,null,null,89,104,null,null,104]
["C5",null,null,100,100,104,null,null,73,93,92,77,93,92,94,96,101,41,93,90,88,85,102,104,86,null,null,86,104,null,null,104]
["C6",null,null,100,100,102,null,null,94,99,94,98,90,91,98,98,100,60,81,96,95,103,102,102,95,null,null,95,102,null,null,102]
["C7",null,null,100,100,103,null,null,103,105,110,107,110,104,107,98,101,36,119,93,88,105,100,103,96,null,null,96,103,null,null,103]
["C8",null,null,100,100,104,null,null,69,97,93,80,98,84,95,92,102,31,112,77,82,88,103,104,82,null,null,82,104,null,null,104]
["C9",null,null,100,100,103,null,null,67,92,87,67,96,82,90,93,101,41,108,78,85,81,103,103,85,null,null,85,103,null,null,103]
["C10",null,null,100,100,102,null,null,92,99,91,98,88,83,96,95,100,55,81,90,90,99,101,102,90,null,null,90,102,null,null,102]
["C11",null,null,100,100,104,null,null,76,96,89,83,97,91,91,97,100,37,86,96,90,91,100,104,88,null,null,88,104,null,null,104]
["C12",null,null,100,100,100,null,null,88,96,87,92,81,77,94,94,99,66,84,89,94,104,101,100,95,null,null,95,100,null,null,100]
["C13",null,null,100,100,103,null,null,81,95,100,85,95,101,101,98,101,41,94,95,90,92,102,103,89,null,null,89,103,null,null,103]
["C14",null,null,100,100,101,null,null,106,105,140,106,121,148,124,109,102,44,128,113,101,108,100,101,107,null,null,107,101,null,null,101]
["C15",null,null,100,100,105,null,null,71,93,101,73,97,97,102,96,101,44,109,86,87,85,103,105,86,null,null,86,105,null,null,105]
[]
[null,"Used WL range before SPD#",null,1,1,1,null,null,6,6,6,6,6,6,6,6,6,6,6,6,6,6,6,6,6,null,null,25,25,null,null,29]
[null,"Default for TCS#15?",null,true,true,true,null,null,true,true,true,true,true,true,true,true,true,true,true,true,true,true,true,true,true,null,null,true,true,null,null,true]

{"sheet":"Additional TCS","index":4,"n_rows":475,"n_cols":10,"rows_kept":475,"cut":false,"hidden":false,"merged":[[0,0,0,1],[0,7,0,9]]}
["User defined Spectral Radiance Factor",null,"Default for TCS#15",{"$f":"IF(SUMXMY2(B5:B475,C5:C475)=0,TRUE,FALSE)","v":true},"D65",0.82413999999999998,null,"D65 sRGB conversion matrix XYZ to RGB"]
["Munsell Notation","1 YR 6/4","1 YR 6/4",null,"X",{"$f":"100*SUMPRODUCT($B$5:$B$475,SPDs!$E$11:$E$481,'CIE1931 1-nm'!$B$9:$B$479)/$G$3","v":0.34995942788254952},null,3.2404541999999998,-1.5371385,-0.49853160000000002]
["Description","Japanese Skin Complexion","Japanese Skin Complexion",null,"Y",{"$f":"100*SUMPRODUCT($B$5:$B$475,SPDs!$E$11:$E$481,'CIE1931 1-nm'!$C$9:$C$479)/$G$3","v":0.32674591277884663},1056708.1666988099,-0.96926599999999996,1.8760108,4.1556200000000001E-2]
["Wavelength (nm)","TCS15","<== Cell is protected",null,"Z",{"$f":"100*SUMPRODUCT($B$5:$B$475,SPDs!$E$11:$E$481,'CIE1931 1-nm'!$D$9:$D$479)/$G$3","v":0.24508394465244049},null,5.5643400000000003E-2,-0.20402590000000001,1.0572254000000001]
[360,0.13100000000000001,0.13100000000000001,null,"R",{"$f":"MMULT(H2:J4,F2:F4)","v":0.50959168459970505}]
[361,0.13100000000000001,0.13100000000000001,null,"G",0.28395984382373279]
[362,0.13100000000000001,0.13100000000000001,null,"B",0.21191727492216844]
[363,0.13100000000000001,0.13100000000000001,null,"R",{"$f":"IF(F5>0,ROUND(255*(F5/$F$1)^(1/2.2),0),0)","v":205},{"$f":"IF(F8>255,255,IF(F8<0,0,F8))","v":205}]
[364,0.13100000000000001,0.13100000000000001,null,"G",{"$f":"IF(F6>0,ROUND(255*(F6/$F$1)^(1/2.2),0),0)","v":157},{"$f":"IF(F9>255,255,IF(F9<0,0,F9))","v":157}]
[365,0.13100000000000001,0.13100000000000001,null,"B",138,138]
[366,0.13100000000000001,0.13100000000000001]
[367,0.13100000000000001,0.13100000000000001]
[368,0.13100000000000001,0.13100000000000001]
[369,0.13100000000000001,0.13100000000000001]
[370,0.13100000000000001,0.13100000000000001]
[371,0.13100000000000001,0.13100000000000001]
[372,0.13100000000000001,0.13100000000000001]
[373,0.13100000000000001,0.13100000000000001]
[374,0.13100000000000001,0.13100000000000001]
[375,0.13100000000000001,0.13100000000000001]
[376,0.13100000000000001,0.13100000000000001]
[377,0.13100000000000001,0.13100000000000001]
[378,0.13100000000000001,0.13100000000000001]
[379,0.13100000000000001,0.13100000000000001]
[380,0.13100000000000001,0.13100000000000001]
[381,0.13260000000000005,0.13260000000000005]
[382,0.1342000000000001,0.1342000000000001]
[383,0.13580000000000003,0.13580000000000003]
[384,0.13740000000000008,0.13740000000000008]
[385,0.13900000000000001,0.13900000000000001]
[386,0.14060000000000006,0.14060000000000006]
[387,0.14219999999999999,0.14219999999999999]
[388,0.14380000000000004,0.14380000000000004]
[389,0.14539999999999997,0.14539999999999997]
[390,0.14699999999999996,0.14699999999999996]
[391,0.14819999999999994,0.14819999999999994]
[392,0.14939999999999998,0.14939999999999998]
[393,0.15059999999999996,0.15059999999999996]
[394,0.15179999999999999,0.15179999999999999]
[395,0.153,0.153]
[396,0.154,0.154]
[397,0.155,0.155]
[398,0.156,0.156]
[399,0.157,0.157]
[400,0.158,0.158]
[401,0.15880000000000002,0.15880000000000002]
[402,0.15959999999999999,0.15959999999999999]
[403,0.16040000000000001,0.16040000000000001]
[404,0.16120000000000004,0.16120000000000004]
[405,0.16200000000000001,0.16200000000000001]
[406,0.16240000000000002,0.16240000000000002]
[407,0.1628,0.1628]
[408,0.16320000000000001,0.16320000000000001]
[409,0.16360000000000002,0.16360000000000002]
[410,0.16400000000000001,0.16400000000000001]
[411,0.1646,0.1646]
[412,0.16520000000000001,0.16520000000000001]
[413,0.1658,0.1658]
[414,0.16640000000000002,0.16640000000000002]
[415,0.16700000000000004,0.16700000000000004]
[416,0.16760000000000003,0.16760000000000003]
[417,0.16820000000000004,0.16820000000000004]
[418,0.16880000000000003,0.16880000000000003]
[419,0.16940000000000002,0.16940000000000002]
[420,0.17000000000000004,0.17000000000000004]
[421,0.17100000000000004,0.17100000000000004]
[422,0.17199999999999999,0.17199999999999999]
[423,0.17299999999999999,0.17299999999999999]
[424,0.17399999999999999,0.17399999999999999]
[425,0.17499999999999993,0.17499999999999993]
[426,0.1764,0.1764]
[427,0.17779999999999996,0.17779999999999996]
[428,0.17920000000000003,0.17920000000000003]
[429,0.18059999999999998,0.18059999999999998]
[430,0.18199999999999994,0.18199999999999994]
[431,0.18399999999999994,0.18399999999999994]
[432,0.18599999999999994,0.18599999999999994]
[433,0.18799999999999994,0.18799999999999994]
[434,0.18999999999999995,0.18999999999999995]
[435,0.19200000000000006,0.19200000000000006]
[436,0.19420000000000004,0.19420000000000004]
[437,0.19640000000000002,0.19640000000000002]
[438,0.1986,0.1986]
[439,0.20079999999999998,0.20079999999999998]
[440,0.20299999999999996,0.20299999999999996]
[441,0.20479999999999998,0.20479999999999998]
[442,0.20660000000000001,0.20660000000000001]
[443,0.20840000000000003,0.20840000000000003]
[444,0.21019999999999994,0.21019999999999994]
[445,0.21200000000000008,0.21200000000000008]
[446,0.2138000000000001,0.2138000000000001]
[447,0.21560000000000001,0.21560000000000001]
[448,0.21740000000000004,0.21740000000000004]
[449,0.21920000000000006,0.21920000000000006]
[450,0.22099999999999997,0.22099999999999997]
[451,0.22260000000000002,0.22260000000000002]
[452,0.22419999999999995,0.22419999999999995]
[453,0.2258,0.2258]
[454,0.22739999999999994,0.22739999999999994]
[455,0.22899999999999993,0.22899999999999993]
[456,0.23039999999999999,0.23039999999999999]
[457,0.23179999999999995,0.23179999999999995]
[458,0.23319999999999991,0.23319999999999991]
[459,0.23459999999999998,0.23459999999999998]
[460,0.23599999999999993,0.23599999999999993]
[461,0.2374,0.2374]
[462,0.23879999999999996,0.23879999999999996]
[463,0.24019999999999991,0.24019999999999991]
[464,0.24159999999999998,0.24159999999999998]
[465,0.24299999999999999,0.24299999999999999]
[466,0.24419999999999997,0.24419999999999997]
[467,0.24539999999999995,0.24539999999999995]
[468,0.24659999999999993,0.24659999999999993]
[469,0.24779999999999991,0.24779999999999991]
[470,0.249,0.249]
[471,0.25,0.25]
[472,0.251,0.251]
[473,0.252,0.252]
[474,0.253,0.253]
[475,0.254,0.254]
[476,0.255,0.255]
[477,0.25600000000000001,0.25600000000000001]
[478,0.25700000000000001,0.25700000000000001]
[479,0.25800000000000001,0.25800000000000001]
[480,0.25900000000000001,0.25900000000000001]
[481,0.26,0.26]
[482,0.26100000000000001,0.26100000000000001]
[483,0.26200000000000001,0.26200000000000001]
[484,0.26300000000000001,0.26300000000000001]
[485,0.26400000000000001,0.26400000000000001]
[486,0.26500000000000001,0.26500000000000001]
[487,0.26600000000000001,0.26600000000000001]
[488,0.26700000000000002,0.26700000000000002]
[489,0.26800000000000002,0.26800000000000002]
[490,0.26899999999999996,0.26899999999999996]
[491,0.27040000000000003,0.27040000000000003]
[492,0.27179999999999999,0.27179999999999999]
[493,0.27319999999999994,0.27319999999999994]
[494,0.27460000000000001,0.27460000000000001]
[495,0.27600000000000002,0.27600000000000002]
[496,0.27760000000000007,0.27760000000000007]
[497,0.27920000000000011,0.27920000000000011]
[498,0.28080000000000005,0.28080000000000005]
[499,0.28239999999999998,0.28239999999999998]
[500,0.28399999999999992,0.28399999999999992]
[501,0.28539999999999999,0.28539999999999999]
[502,0.28679999999999994,0.28679999999999994]
[503,0.2881999999999999,0.2881999999999999]
[504,0.28959999999999997,0.28959999999999997]
[505,0.29099999999999993,0.29099999999999993]
[506,0.29199999999999993,0.29199999999999993]
[507,0.29299999999999993,0.29299999999999993]
[508,0.29399999999999993,0.29399999999999993]
[509,0.29499999999999993,0.29499999999999993]
[510,0.29599999999999999,0.29599999999999999]
[511,0.2964,0.2964]
[512,0.29679999999999995,0.29679999999999995]
[513,0.29720000000000002,0.29720000000000002]
[514,0.29759999999999998,0.29759999999999998]
[515,0.29799999999999999,0.29799999999999999]
[516,0.29759999999999998,0.29759999999999998]
[517,0.29720000000000002,0.29720000000000002]
[518,0.29679999999999995,0.29679999999999995]
[519,0.2964,0.2964]
[520,0.29599999999999993,0.29599999999999993]
[521,0.29459999999999986,0.29459999999999986]
[522,0.29319999999999991,0.29319999999999991]
[523,0.29179999999999995,0.29179999999999995]
[524,0.29039999999999988,0.29039999999999988]
[525,0.28899999999999992,0.28899999999999992]
[526,0.28759999999999986,0.28759999999999986]
[527,0.2861999999999999,0.2861999999999999]
[528,0.28479999999999994,0.28479999999999994]
[529,0.28339999999999987,0.28339999999999987]
[530,0.28200000000000003,0.28200000000000003]
[531,0.28080000000000005,0.28080000000000005]
[532,0.27960000000000007,0.27960000000000007]
[533,0.27840000000000009,0.27840000000000009]
[534,0.27720000000000011,0.27720000000000011]
[535,0.27600000000000002,0.27600000000000002]
[536,0.27560000000000007,0.27560000000000007]
[537,0.2752,0.2752]
[538,0.27480000000000004,0.27480000000000004]
[539,0.27440000000000003,0.27440000000000003]
[540,0.27400000000000002,0.27400000000000002]
[541,0.27439999999999998,0.27439999999999998]
[542,0.27480000000000004,0.27480000000000004]
[543,0.2752,0.2752]
[544,0.27560000000000001,0.27560000000000001]
[545,0.27600000000000008,0.27600000000000008]
[546,0.27700000000000008,0.27700000000000008]
[547,0.27800000000000008,0.27800000000000008]
[548,0.27900000000000008,0.27900000000000008]
[549,0.28000000000000008,0.28000000000000008]
[550,0.28100000000000003,0.28100000000000003]
[551,0.28200000000000003,0.28200000000000003]
[552,0.28300000000000003,0.28300000000000003]
[553,0.28400000000000003,0.28400000000000003]
[554,0.28500000000000003,0.28500000000000003]
[555,0.28600000000000003,0.28600000000000003]
[556,0.28700000000000003,0.28700000000000003]
[557,0.28800000000000003,0.28800000000000003]
[558,0.28900000000000003,0.28900000000000003]
[559,0.29000000000000004,0.29000000000000004]
[560,0.29099999999999998,0.29099999999999998]
[561,0.29059999999999997,0.29059999999999997]
[562,0.29020000000000001,0.29020000000000001]
[563,0.2898,0.2898]
[564,0.28939999999999999,0.28939999999999999]
[565,0.28899999999999998,0.28899999999999998]
[566,0.28839999999999999,0.28839999999999999]
[567,0.2878,0.2878]
[568,0.28720000000000001,0.28720000000000001]
[569,0.28660000000000002,0.28660000000000002]
[570,0.28600000000000003,0.28600000000000003]
[571,0.28480000000000005,0.28480000000000005]
[572,0.28360000000000007,0.28360000000000007]
[573,0.2824000000000001,0.2824000000000001]
[574,0.28120000000000012,0.28120000000000012]
[575,0.28000000000000003,0.28000000000000003]
[576,0.28100000000000003,0.28100000000000003]
[577,0.28200000000000003,0.28200000000000003]
[578,0.28299999999999992,0.28299999999999992]
[579,0.28399999999999992,0.28399999999999992]
[580,0.28500000000000014,0.28500000000000014]
[581,0.29080000000000039,0.29080000000000039]
[582,0.2966000000000002,0.2966000000000002]
[583,0.30240000000000045,0.30240000000000045]
[584,0.30820000000000025,0.30820000000000025]
[585,0.31400000000000006,0.31400000000000006]
[586,0.32200000000000006,0.32200000000000006]
[587,0.33000000000000007,0.33000000000000007]
[588,0.33800000000000008,0.33800000000000008]
[589,0.34600000000000009,0.34600000000000009]
[590,0.35400000000000009,0.35400000000000009]
[591,0.36280000000000001,0.36280000000000001]
[592,0.37159999999999993,0.37159999999999993]
[593,0.38039999999999985,0.38039999999999985]
[594,0.38919999999999977,0.38919999999999977]
[595,0.39800000000000058,0.39800000000000058]
[596,0.40640000000000054,0.40640000000000054]
[597,0.4148000000000005,0.4148000000000005]
[598,0.42320000000000046,0.42320000000000046]
[599,0.43160000000000043,0.43160000000000043]
[600,0.43999999999999995,0.43999999999999995]
[601,0.44600000000000017,0.44600000000000017]
[602,0.45199999999999996,0.45199999999999996]
[603,0.45800000000000018,0.45800000000000018]
[604,0.46399999999999997,0.46399999999999997]
[605,0.4700000000000002,0.4700000000000002]
[606,0.47480000000000011,0.47480000000000011]
[607,0.47960000000000003,0.47960000000000003]
[608,0.48439999999999994,0.48439999999999994]
[609,0.4892000000000003,0.4892000000000003]
[610,0.49400000000000022,0.49400000000000022]
[611,0.49740000000000029,0.49740000000000029]
[612,0.50079999999999991,0.50079999999999991]
[613,0.50419999999999998,0.50419999999999998]
[614,0.50760000000000005,0.50760000000000005]
[615,0.51100000000000012,0.51100000000000012]
[616,0.51360000000000006,0.51360000000000006]
[617,0.51619999999999999,0.51619999999999999]
[618,0.51880000000000015,0.51880000000000015]
[619,0.52140000000000009,0.52140000000000009]
[620,0.52400000000000002,0.52400000000000002]
[621,0.5262,0.5262]
[622,0.52839999999999998,0.52839999999999998]
[623,0.53059999999999996,0.53059999999999996]
[624,0.53279999999999994,0.53279999999999994]
[625,0.53499999999999992,0.53499999999999992]
[626,0.53679999999999994,0.53679999999999994]
[627,0.53859999999999997,0.53859999999999997]
[628,0.54039999999999999,0.54039999999999999]
[629,0.54220000000000002,0.54220000000000002]
[630,0.54400000000000004,0.54400000000000004]
[631,0.54559999999999986,0.54559999999999986]
[632,0.54719999999999991,0.54719999999999991]
[633,0.54879999999999995,0.54879999999999995]
[634,0.5504,0.5504]
[635,0.55200000000000005,0.55200000000000005]
[636,0.55340000000000011,0.55340000000000011]
[637,0.55480000000000007,0.55480000000000007]
[638,0.55620000000000003,0.55620000000000003]
[639,0.5576000000000001,0.5576000000000001]
[640,0.55900000000000005,0.55900000000000005]
[641,0.56020000000000003,0.56020000000000003]
[642,0.56140000000000001,0.56140000000000001]
[643,0.56259999999999999,0.56259999999999999]
[644,0.56379999999999997,0.56379999999999997]
[645,0.56499999999999995,0.56499999999999995]
[646,0.56619999999999993,0.56619999999999993]
[647,0.5673999999999999,0.5673999999999999]
[648,0.56859999999999988,0.56859999999999988]
[649,0.56979999999999997,0.56979999999999997]
[650,0.57099999999999995,0.57099999999999995]
[651,0.57199999999999995,0.57199999999999995]
[652,0.57299999999999995,0.57299999999999995]
[653,0.57399999999999995,0.57399999999999995]
[654,0.57499999999999996,0.57499999999999996]
[655,0.57600000000000007,0.57600000000000007]
[656,0.57700000000000007,0.57700000000000007]
[657,0.57800000000000007,0.57800000000000007]
[658,0.57900000000000007,0.57900000000000007]
[659,0.58000000000000007,0.58000000000000007]
[660,0.58099999999999996,0.58099999999999996]
[661,0.58199999999999996,0.58199999999999996]
[662,0.58299999999999996,0.58299999999999996]
[663,0.58399999999999996,0.58399999999999996]
[664,0.58499999999999996,0.58499999999999996]
[665,0.58599999999999997,0.58599999999999997]
[666,0.58679999999999988,0.58679999999999988]
[667,0.5875999999999999,0.5875999999999999]
[668,0.58839999999999992,0.58839999999999992]
[669,0.58919999999999995,0.58919999999999995]
[670,0.59,0.59]
[671,0.59079999999999988,0.59079999999999988]
[672,0.5915999999999999,0.5915999999999999]
[673,0.59239999999999993,0.59239999999999993]
[674,0.59319999999999995,0.59319999999999995]
[675,0.59400000000000008,0.59400000000000008]
[676,0.59500000000000008,0.59500000000000008]
[677,0.59600000000000009,0.59600000000000009]
[678,0.59700000000000009,0.59700000000000009]
[679,0.59800000000000009,0.59800000000000009]
[680,0.59899999999999998,0.59899999999999998]
[681,0.59979999999999989,0.59979999999999989]
[682,0.60059999999999991,0.60059999999999991]
[683,0.60139999999999993,0.60139999999999993]
[684,0.60219999999999996,0.60219999999999996]
[685,0.60299999999999998,0.60299999999999998]
[686,0.60360000000000003,0.60360000000000003]
[687,0.60420000000000007,0.60420000000000007]
[688,0.6048,0.6048]
[689,0.60540000000000005,0.60540000000000005]
[690,0.60599999999999998,0.60599999999999998]
[691,0.6067999999999999,0.6067999999999999]
[692,0.60759999999999992,0.60759999999999992]
[693,0.60839999999999994,0.60839999999999994]
[694,0.60919999999999996,0.60919999999999996]
[695,0.61,0.61]
[696,0.61039999999999994,0.61039999999999994]
[697,0.61080000000000001,0.61080000000000001]
[698,0.61119999999999997,0.61119999999999997]
[699,0.61159999999999992,0.61159999999999992]
[700,0.61199999999999999,0.61199999999999999]
[701,0.61240000000000006,0.61240000000000006]
[702,0.61280000000000001,0.61280000000000001]
[703,0.61319999999999997,0.61319999999999997]
[704,0.61360000000000003,0.61360000000000003]
[705,0.61399999999999999,0.61399999999999999]
[706,0.61440000000000006,0.61440000000000006]
[707,0.61480000000000001,0.61480000000000001]
[708,0.61519999999999997,0.61519999999999997]
[709,0.61560000000000004,0.61560000000000004]
[710,0.61599999999999999,0.61599999999999999]
[711,0.61599999999999999,0.61599999999999999]
[712,0.61599999999999999,0.61599999999999999]
[713,0.61599999999999999,0.61599999999999999]
[714,0.61599999999999999,0.61599999999999999]
[715,0.61599999999999999,0.61599999999999999]
[716,0.61599999999999999,0.61599999999999999]
[717,0.61599999999999999,0.61599999999999999]
[718,0.61599999999999999,0.61599999999999999]
[719,0.61599999999999999,0.61599999999999999]
[720,0.61599999999999999,0.61599999999999999]
[721,0.61599999999999999,0.61599999999999999]
[722,0.61599999999999999,0.61599999999999999]
[723,0.61599999999999999,0.61599999999999999]
[724,0.61599999999999999,0.61599999999999999]
[725,0.61599999999999988,0.61599999999999988]
[726,0.6157999999999999,0.6157999999999999]
[727,0.61559999999999993,0.61559999999999993]
[728,0.61539999999999995,0.61539999999999995]
[729,0.61519999999999997,0.61519999999999997]
[730,0.61499999999999999,0.61499999999999999]
[731,0.61460000000000004,0.61460000000000004]
[732,0.61419999999999997,0.61419999999999997]
[733,0.6137999999999999,0.6137999999999999]
[734,0.61339999999999995,0.61339999999999995]
[735,0.61299999999999999,0.61299999999999999]
[736,0.61280000000000001,0.61280000000000001]
[737,0.61260000000000003,0.61260000000000003]
[738,0.61240000000000006,0.61240000000000006]
[739,0.61220000000000008,0.61220000000000008]
[740,0.61199999999999999,0.61199999999999999]
[741,0.61159999999999992,0.61159999999999992]
[742,0.61119999999999997,0.61119999999999997]
[743,0.61080000000000001,0.61080000000000001]
[744,0.61039999999999994,0.61039999999999994]
[745,0.60999999999999988,0.60999999999999988]
[746,0.6097999999999999,0.6097999999999999]
[747,0.60959999999999992,0.60959999999999992]
[748,0.60939999999999994,0.60939999999999994]
[749,0.60919999999999996,0.60919999999999996]
[750,0.60899999999999999,0.60899999999999999]
[751,0.60880000000000001,0.60880000000000001]
[752,0.60860000000000003,0.60860000000000003]
[753,0.60840000000000005,0.60840000000000005]
[754,0.60820000000000007,0.60820000000000007]
[755,0.60799999999999987,0.60799999999999987]
[756,0.6077999999999999,0.6077999999999999]
[757,0.60759999999999992,0.60759999999999992]
[758,0.60739999999999994,0.60739999999999994]
[759,0.60719999999999996,0.60719999999999996]
[760,0.60699999999999998,0.60699999999999998]
[761,0.60699999999999998,0.60699999999999998]
[762,0.60699999999999998,0.60699999999999998]
[763,0.60699999999999998,0.60699999999999998]
[764,0.60699999999999998,0.60699999999999998]
[765,0.60699999999999998,0.60699999999999998]
[766,0.60739999999999994,0.60739999999999994]
[767,0.60780000000000001,0.60780000000000001]
[768,0.60820000000000007,0.60820000000000007]
[769,0.60860000000000003,0.60860000000000003]
[770,0.60899999999999999,0.60899999999999999]
[771,0.60919999999999996,0.60919999999999996]
[772,0.60939999999999994,0.60939999999999994]
[773,0.60959999999999992,0.60959999999999992]
[774,0.6097999999999999,0.6097999999999999]
[775,0.6100000000000001,0.6100000000000001]
[776,0.61020000000000008,0.61020000000000008]
[777,0.61040000000000005,0.61040000000000005]
[778,0.61060000000000003,0.61060000000000003]
[779,0.61080000000000001,0.61080000000000001]
[780,0.61099999999999999,0.61099999999999999]
[781,0.61099999999999999,0.61099999999999999]
[782,0.61099999999999999,0.61099999999999999]
[783,0.61099999999999999,0.61099999999999999]
[784,0.61099999999999999,0.61099999999999999]
[785,0.61099999999999999,0.61099999999999999]
[786,0.61099999999999999,0.61099999999999999]
[787,0.61099999999999999,0.61099999999999999]
[788,0.61099999999999999,0.61099999999999999]
[789,0.61099999999999999,0.61099999999999999]
[790,0.61099999999999999,0.61099999999999999]
[791,0.61099999999999999,0.61099999999999999]
[792,0.61099999999999999,0.61099999999999999]
[793,0.61099999999999999,0.61099999999999999]
[794,0.61099999999999999,0.61099999999999999]
[795,0.61099999999999999,0.61099999999999999]
[796,0.61099999999999999,0.61099999999999999]
[797,0.61099999999999999,0.61099999999999999]
[798,0.61099999999999999,0.61099999999999999]
[799,0.61099999999999999,0.61099999999999999]
[800,0.61099999999999999,0.61099999999999999]
[801,0.61099999999999999,0.61099999999999999]
[802,0.61099999999999999,0.61099999999999999]
[803,0.61099999999999999,0.61099999999999999]
[804,0.61099999999999999,0.61099999999999999]
[805,0.61099999999999999,0.61099999999999999]
[806,0.61099999999999999,0.61099999999999999]
[807,0.61099999999999999,0.61099999999999999]
[808,0.61099999999999999,0.61099999999999999]
[809,0.61099999999999999,0.61099999999999999]
[810,0.61099999999999999,0.61099999999999999]
[811,0.61099999999999999,0.61099999999999999]
[812,0.61099999999999999,0.61099999999999999]
[813,0.61099999999999999,0.61099999999999999]
[814,0.61099999999999999,0.61099999999999999]
[815,0.61099999999999999,0.61099999999999999]
[816,0.61099999999999999,0.61099999999999999]
[817,0.61099999999999999,0.61099999999999999]
[818,0.61099999999999999,0.61099999999999999]
[819,0.61099999999999999,0.61099999999999999]
[820,0.61099999999999999,0.61099999999999999]
[821,0.61099999999999999,0.61099999999999999]
[822,0.61099999999999999,0.61099999999999999]
[823,0.61099999999999999,0.61099999999999999]
[824,0.61099999999999999,0.61099999999999999]
[825,0.61099999999999999,0.61099999999999999]
[826,0.61099999999999999,0.61099999999999999]
[827,0.61099999999999999,0.61099999999999999]
[828,0.61099999999999999,0.61099999999999999]
[829,0.61099999999999999,0.61099999999999999]
[830,0.61099999999999999,0.61099999999999999]

{"sheet":"CRI-Calculator","index":5,"n_rows":88,"n_cols":28,"rows_kept":88,"cut":false,"hidden":true,"merged":[[30,0,30,15],[44,0,44,15],[29,9,29,11],[28,9,28,11],[15,0,16,2],[15,8,16,8],[15,3,16,3]]}
["Reference","TCS01","TCS02","TCS03","TCS04","TCS05","TCS06","TCS07","TCS08","TCS09","TCS10","TCS11","TCS12","TCS13","TCS14","TCS15","White",null,null,"Ref","Test"]
["X = ",{"$f":"'CRI-TCS'!B2","v":33.948741472956328},{"$f":"'CRI-TCS'!C2","v":28.388427398041095},{"$f":"'CRI-TCS'!D2","v":24.622888545192943},{"$f":"'CRI-TCS'!E2","v":20.559798588500712},{"$f":"'CRI-TCS'!F2","v":24.601979117511494},{"$f":"'CRI-TCS'!G2","v":27.402060695882511},{"$f":"'CRI-TCS'!H2","v":33.095595219346343},{"$f":"'CRI-TCS'!I2","v":38.186180629235537},{"$f":"'CRI-TCS'!J2","v":22.250944144769921},{"$f":"'CRI-TCS'!K2","v":57.356553489694285},{"$f":"'CRI-TCS'!L2","v":12.097506291766514},{"$f":"'CRI-TCS'!M2","v":5.571457345185002},{"$f":"'CRI-TCS'!N2","v":60.571794983360505},{"$f":"'CRI-TCS'!O2","v":9.5476548742083249},{"$f":"'CRI-TCS'!P2","v":36.236856850105255},{"$f":"'CRI-TCS'!Q2","v":95.738409730923323},null,"TCS01",{"$f":"ROUND(B8,1)","v":33.799999999999997},{"$f":"ROUND(B23,1)","v":35},"U*"]
["Y = ",{"$f":"'CRI-TCS'!B3","v":30.192272777649091},{"$f":"'CRI-TCS'!C3","v":29.154865716872099},{"$f":"'CRI-TCS'!D3","v":30.523423861131832},{"$f":"'CRI-TCS'!E3","v":29.169743653929746},{"$f":"'CRI-TCS'!F3","v":30.456811122174077},{"$f":"'CRI-TCS'!G3","v":29.362076600147233},{"$f":"'CRI-TCS'!H3","v":29.377131927815363},{"$f":"'CRI-TCS'!I3","v":31.644946956198122},{"$f":"'CRI-TCS'!J3","v":11.9697774242708},{"$f":"'CRI-TCS'!K3","v":59.784837265810168},{"$f":"'CRI-TCS'!L3","v":20.005214804825041},{"$f":"'CRI-TCS'!M3","v":6.0930435314271296},{"$f":"'CRI-TCS'!N3","v":57.716023332385099},{"$f":"'CRI-TCS'!O3","v":11.725325852971809},{"$f":"'CRI-TCS'!P3","v":33.061987718101719},{"$f":"'CRI-TCS'!Q3","v":100.00000000000011},null,null,{"$f":"ROUND(B9,1)","v":7.4},{"$f":"ROUND(B24,1)","v":7.5},"V*"]
["Z = ",{"$f":"'CRI-TCS'!B4","v":20.511422816314159},{"$f":"'CRI-TCS'!C4","v":12.607918411388702},{"$f":"'CRI-TCS'!D4","v":8.4562688079251807},{"$f":"'CRI-TCS'!E4","v":18.13617173522006},{"$f":"'CRI-TCS'!F4","v":33.952617695357304},{"$f":"'CRI-TCS'!G4","v":48.370414422341959},{"$f":"'CRI-TCS'!H4","v":44.209389068241464},{"$f":"'CRI-TCS'!I4","v":37.765370553371262},{"$f":"'CRI-TCS'!J4","v":3.6029954621388782},{"$f":"'CRI-TCS'!K4","v":10.324998442006807},{"$f":"'CRI-TCS'!L4","v":13.087769160220555},{"$f":"'CRI-TCS'!M4","v":23.328196162191439},{"$f":"'CRI-TCS'!N4","v":34.715912575698546},{"$f":"'CRI-TCS'!O4","v":4.5672435356431729},{"$f":"'CRI-TCS'!P4","v":20.700854154919814},{"$f":"'CRI-TCS'!Q4","v":91.256328188425428},null,"TCS02",{"$f":"ROUND(C8,1)","v":16.100000000000001},{"$f":"ROUND(C23,1)","v":16.7},"U*"]
["ur,i",{"$f":"4*B2/(B2+15*B3+3*B4)","v":0.24763514349952556},0.22551296656458519,0.19394093041357705,0.16046219061512809,0.16870545545547699,0.17882247282490366,0.21831560907518002,0.24394017045012598,0.41863131234864021,0.23289539871118722,0.13769109356547174,0.13348668830866281,0.23512529114621089,0.19178807248472435,0.24390868455330625,{"$f":"4*Q2/(Q2+15*Q3+3*Q4)","v":0.20484200281425513},null,null,{"$f":"ROUND(C9,1)","v":20.6},{"$f":"ROUND(C24,1)","v":20.9},"V*"]
["vr,i",{"$f":"6*B3/(B2+15*B3+3*B4)","v":0.33035102970573543},0.34740213848853252,0.36062429549060238,0.34148979715753813,0.31328151492680911,0.28741994278380312,0.29068006212895658,0.30323039489068837,0.33780074223197137,0.36413311116416908,0.34154227785315316,0.21897507752625184,0.33605979796924768,0.35329790522773286,0.33380817076921787,{"$f":"6*Q3/(Q2+15*Q3+3*Q4)","v":0.32094015879829024},null,"TCS03",{"$f":"ROUND(D8,1)","v":-8.6999999999999993},{"$f":"ROUND(D23,1)","v":-9},"U*"]
["W*r,i",{"$f":"25*B3^(1/3)-17","v":60.846413873453272},{"$f":"25*C3^(1/3)-17","v":59.944401131326018},{"$f":"25*D3^(1/3)-17","v":61.129988043021044},59.957487332150791,61.073111035003834,60.126258640420062,60.139438483558152,62.075412483715297,40.187621436465918,80.754560123848293,50.866337884868187,28.66163263351563,79.613720964368127,39.795637978010163,63.238535868555189,{"$f":"25*Q3^(1/3)-17","v":99.039720840319504},null,null,{"$f":"ROUND(D9,1)","v":31.5},{"$f":"ROUND(D24,1)","v":31.8},"V*"]
["U*r,i",{"$f":"IF('CIE1931 1-nm'!$J$5<>0,13*B7*(B5-$Q$5),0)","v":33.849518938051396},{"$f":"IF('CIE1931 1-nm'!$J$5<>0,13*C7*(C5-$Q$5),0)","v":16.1084110566715},{"$f":"IF('CIE1931 1-nm'!$J$5<>0,13*D7*(D5-$Q$5),0)","v":-8.6629715316242546},{"$f":"IF('CIE1931 1-nm'!$J$5<>0,13*E7*(E5-$Q$5),0)","v":-34.591726360521079},{"$f":"IF('CIE1931 1-nm'!$J$5<>0,13*F7*(F5-$Q$5),0)","v":-28.69062780043631},{"$f":"IF('CIE1931 1-nm'!$J$5<>0,13*G7*(G5-$Q$5),0)","v":-20.337940867944869},{"$f":"IF('CIE1931 1-nm'!$J$5<>0,13*H7*(H5-$Q$5),0)","v":10.533836493447495},{"$f":"IF('CIE1931 1-nm'!$J$5<>0,13*I7*(I5-$Q$5),0)","v":31.551453483603698},{"$f":"IF('CIE1931 1-nm'!$J$5<>0,13*J7*(J5-$Q$5),0)","v":111.6918899035069},{"$f":"IF('CIE1931 1-nm'!$J$5<>0,13*K7*(K5-$Q$5),0)","v":29.450715393279978},{"$f":"IF('CIE1931 1-nm'!$J$5<>0,13*L7*(L5-$Q$5),0)","v":-44.404370908621573},{"$f":"IF('CIE1931 1-nm'!$J$5<>0,13*M7*(M5-$Q$5),0)","v":-26.587077540507327},{"$f":"IF('CIE1931 1-nm'!$J$5<>0,13*N7*(N5-$Q$5),0)","v":31.342548472869801},{"$f":"IF('CIE1931 1-nm'!$J$5<>0,13*O7*(O5-$Q$5),0)","v":-6.7533633125942609},{"$f":"IF('CIE1931 1-nm'!$J$5<>0,13*P7*(P5-$Q$5),0)","v":32.116756807465386},{"$f":"IF('CIE1931 1-nm'!$J$5<>0,13*Q7*(Q5-$Q$5),0)","v":0},null,"TCS04",{"$f":"ROUND(E8,1)","v":-34.6},{"$f":"ROUND(E23,1)","v":-36.1},"U*"]
["V*r,i",{"$f":"IF('CIE1931 1-nm'!$J$5<>0,13*B7*(B6-$Q$6),0)","v":7.4440306998726609},{"$f":"IF('CIE1931 1-nm'!$J$5<>0,13*C7*(C6-$Q$6),0)","v":20.62121782865151},{"$f":"IF('CIE1931 1-nm'!$J$5<>0,13*D7*(D6-$Q$6),0)","v":31.53658041948249},{"$f":"IF('CIE1931 1-nm'!$J$5<>0,13*E7*(E6-$Q$6),0)","v":16.017360860863512},{"$f":"IF('CIE1931 1-nm'!$J$5<>0,13*F7*(F6-$Q$6),0)","v":-6.0805836980267429},{"$f":"IF('CIE1931 1-nm'!$J$5<>0,13*G7*(G6-$Q$6),0)","v":-26.200787311007446},{"$f":"IF('CIE1931 1-nm'!$J$5<>0,13*H7*(H6-$Q$6),0)","v":-23.65772788797489},{"$f":"IF('CIE1931 1-nm'!$J$5<>0,13*I7*(I6-$Q$6),0)","v":-14.291431694196799},{"$f":"IF('CIE1931 1-nm'!$J$5<>0,13*J7*(J6-$Q$6),0)","v":8.8086276749994372},{"$f":"IF('CIE1931 1-nm'!$J$5<>0,13*K7*(K6-$Q$6),0)","v":45.344362293839403},{"$f":"IF('CIE1931 1-nm'!$J$5<>0,13*L7*(L6-$Q$6),0)","v":13.623406536856203},{"$f":"IF('CIE1931 1-nm'!$J$5<>0,13*M7*(M6-$Q$6),0)","v":-37.99231411125448},{"$f":"IF('CIE1931 1-nm'!$J$5<>0,13*N7*(N6-$Q$6),0)","v":15.648499542500959},{"$f":"IF('CIE1931 1-nm'!$J$5<>0,13*O7*(O6-$Q$6),0)","v":16.740063114974539},{"$f":"IF('CIE1931 1-nm'!$J$5<>0,13*P7*(P6-$Q$6),0)","v":10.578805075546557},{"$f":"IF('CIE1931 1-nm'!$J$5<>0,13*Q7*(Q6-$Q$6),0)","v":0},null,null,{"$f":"ROUND(E9,1)","v":16},{"$f":"ROUND(E24,1)","v":16.8},"V*"]
["Test","TCS01","TCS02","TCS03","TCS04","TCS05","TCS06","TCS07","TCS08","TCS09","TCS10","TCS11","TCS12","TCS13","TCS14","TCS15","White",null,"TCS05",{"$f":"ROUND(F8,1)","v":-28.7},{"$f":"ROUND(F23,1)","v":-29.9},"U*"]
["X = ",{"$f":"'CRI-TCS'!S2","v":35.512170726697342},{"$f":"'CRI-TCS'!T2","v":29.460211002119912},{"$f":"'CRI-TCS'!U2","v":25.313102303940617},{"$f":"'CRI-TCS'!V2","v":21.141758484506873},{"$f":"'CRI-TCS'!W2","v":25.628578758805098},{"$f":"'CRI-TCS'!X2","v":28.895704110190774},{"$f":"'CRI-TCS'!Y2","v":35.022656511883689},{"$f":"'CRI-TCS'!Z2","v":40.322555773367327},{"$f":"'CRI-TCS'!AA2","v":23.541966851084304},{"$f":"'CRI-TCS'!AB2","v":59.250307968859097},{"$f":"'CRI-TCS'!AC2","v":12.436781365056218},{"$f":"'CRI-TCS'!AD2","v":5.8424463808494176},{"$f":"'CRI-TCS'!AE2","v":63.122311710588434},{"$f":"'CRI-TCS'!AF2","v":9.8346673333514474},{"$f":"'CRI-TCS'!AG2","v":37.821936270340032},{"$f":"'CRI-TCS'!AH2","v":100.00092375463026},null,null,{"$f":"ROUND(F9,1)","v":-6.1},{"$f":"ROUND(F24,1)","v":-5.8},"V*"]
["Y = ",{"$f":"'CRI-TCS'!S3","v":30.46588178192928},{"$f":"'CRI-TCS'!T3","v":29.256676263632386},{"$f":"'CRI-TCS'!U3","v":30.379934104412538},{"$f":"'CRI-TCS'!V3","v":28.886097067018056},{"$f":"'CRI-TCS'!W3","v":30.225225095431483},{"$f":"'CRI-TCS'!X3","v":29.223413936275609},{"$f":"'CRI-TCS'!Y3","v":29.492187327917073},{"$f":"'CRI-TCS'!Z3","v":31.925143562640564},{"$f":"'CRI-TCS'!AA3","v":12.443969773157461},{"$f":"'CRI-TCS'!AB3","v":59.985879542817109},{"$f":"'CRI-TCS'!AC3","v":19.72221246024883},{"$f":"'CRI-TCS'!AD3","v":6.0082718943220152},{"$f":"'CRI-TCS'!AE3","v":58.080987695757969},{"$f":"'CRI-TCS'!AF3","v":11.665675662775469},{"$f":"'CRI-TCS'!AG3","v":33.308850350519087},{"$f":"'CRI-TCS'!AH3","v":99.999999999999986},null,"TCS06",{"$f":"ROUND(G8,1)","v":-20.3},{"$f":"ROUND(G23,1)","v":-21.1},"U*"]
["Z = ",{"$f":"'CRI-TCS'!S4","v":22.597059131287097},{"$f":"'CRI-TCS'!T4","v":13.639216461485063},{"$f":"'CRI-TCS'!U4","v":9.0550567443695105},{"$f":"'CRI-TCS'!V4","v":19.225096410284671},{"$f":"'CRI-TCS'!W4","v":36.837555927994131},{"$f":"'CRI-TCS'!X4","v":52.967119121701849},{"$f":"'CRI-TCS'!Y4","v":49.130565754665277},{"$f":"'CRI-TCS'!Z4","v":41.92306821154682},{"$f":"'CRI-TCS'!AA4","v":4.0331065849212262},{"$f":"'CRI-TCS'!AB4","v":10.879952682097249},{"$f":"'CRI-TCS'!AC4","v":13.956399011987637},{"$f":"'CRI-TCS'!AD4","v":24.447211992768839},{"$f":"'CRI-TCS'!AE4","v":37.806895796821806},{"$f":"'CRI-TCS'!AF4","v":4.9284387020116931},{"$f":"'CRI-TCS'!AG4","v":22.268020364983418},{"$f":"'CRI-TCS'!AH4","v":100.00099394381151},null,null,{"$f":"ROUND(G9,1)","v":-26.2},{"$f":"ROUND(G24,1)","v":-26.3},"V*"]
["uk,i",{"$f":"IF('CIE1931 1-nm'!$J$5<>0,4*B11/(B11+15*B12+3*B13),0)","v":0.25352635892293335},{"$f":"IF('CIE1931 1-nm'!$J$5<>0,4*C11/(C11+15*C12+3*C13),0)","v":0.23141076885778356},{"$f":"IF('CIE1931 1-nm'!$J$5<>0,4*D11/(D11+15*D12+3*D13),0)","v":0.19924623233492042},{"$f":"IF('CIE1931 1-nm'!$J$5<>0,4*E11/(E11+15*E12+3*E13),0)","v":0.16513499253306868},{"$f":"IF('CIE1931 1-nm'!$J$5<>0,4*F11/(F11+15*F12+3*F13),0)","v":0.17389466107678062},{"$f":"IF('CIE1931 1-nm'!$J$5<>0,4*G11/(G11+15*G12+3*G13),0)","v":0.18459336531406481},{"$f":"IF('CIE1931 1-nm'!$J$5<>0,4*H11/(H11+15*H12+3*H13),0)","v":0.22421776888219497},{"$f":"IF('CIE1931 1-nm'!$J$5<>0,4*I11/(I11+15*I12+3*I13),0)","v":0.2500744138679164},{"$f":"IF('CIE1931 1-nm'!$J$5<>0,4*J11/(J11+15*J12+3*J13),0)","v":0.42360555310315173},{"$f":"IF('CIE1931 1-nm'!$J$5<>0,4*K11/(K11+15*K12+3*K13),0)","v":0.2389900209951214},{"$f":"IF('CIE1931 1-nm'!$J$5<>0,4*L11/(L11+15*L12+3*L13),0)","v":0.14207815174553903},{"$f":"IF('CIE1931 1-nm'!$J$5<>0,4*M11/(M11+15*M12+3*M13),0)","v":0.13803106369216661},{"$f":"IF('CIE1931 1-nm'!$J$5<>0,4*N11/(N11+15*N12+3*N13),0)","v":0.2409805427734516},{"$f":"IF('CIE1931 1-nm'!$J$5<>0,4*O11/(O11+15*O12+3*O13),0)","v":0.1970824678869893},{"$f":"IF('CIE1931 1-nm'!$J$5<>0,4*P11/(P11+15*P12+3*P13),0)","v":0.25036914140609912},{"$f":"4*Q11/(Q11+15*Q12+3*Q13)","v":0.21052782778103721},null,"TCS07",{"$f":"ROUND(H8,1)","v":10.5},{"$f":"ROUND(H23,1)","v":11},"U*"]
["vk,i",{"$f":"IF('CIE1931 1-nm'!$J$5<>0,6*B12/(B11+15*B12+3*B13),0)","v":0.32625029341316986},{"$f":"IF('CIE1931 1-nm'!$J$5<>0,6*C12/(C11+15*C12+3*C13),0)","v":0.34471799682136978},{"$f":"IF('CIE1931 1-nm'!$J$5<>0,6*D12/(D11+15*D12+3*D13),0)","v":0.35869294108283034},{"$f":"IF('CIE1931 1-nm'!$J$5<>0,6*E12/(E11+15*E12+3*E13),0)","v":0.33843722793686898},{"$f":"IF('CIE1931 1-nm'!$J$5<>0,6*F12/(F11+15*F12+3*F13),0)","v":0.3076256387491062},{"$f":"IF('CIE1931 1-nm'!$J$5<>0,6*G12/(G11+15*G12+3*G13),0)","v":0.28003029294035647},{"$f":"IF('CIE1931 1-nm'!$J$5<>0,6*H12/(H11+15*H12+3*H13),0)","v":0.28321691302361096},{"$f":"IF('CIE1931 1-nm'!$J$5<>0,6*I12/(I11+15*I12+3*I13),0)","v":0.29699239337463668},{"$f":"IF('CIE1931 1-nm'!$J$5<>0,6*J12/(J11+15*J12+3*J13),0)","v":0.33586837063580854},{"$f":"IF('CIE1931 1-nm'!$J$5<>0,6*K12/(K11+15*K12+3*K13),0)","v":0.36293549610451248},{"$f":"IF('CIE1931 1-nm'!$J$5<>0,6*L12/(L11+15*L12+3*L13),0)","v":0.33796069245352467},{"$f":"IF('CIE1931 1-nm'!$J$5<>0,6*M12/(M11+15*M12+3*M13),0)","v":0.21292317630250365},{"$f":"IF('CIE1931 1-nm'!$J$5<>0,6*N12/(N11+15*N12+3*N13),0)","v":0.33260160061741129},{"$f":"IF('CIE1931 1-nm'!$J$5<>0,6*O12/(O11+15*O12+3*O13),0)","v":0.3506626210007493},{"$f":"IF('CIE1931 1-nm'!$J$5<>0,6*P12/(P11+15*P12+3*P13),0)","v":0.33074093049634073},{"$f":"6*Q12/(Q11+15*Q12+3*Q13)","v":0.31578882455766705},null,null,{"$f":"ROUND(H9,1)","v":-23.7},{"$f":"ROUND(H24,1)","v":-24.3},"V*"]
["Chromatic adaptation transform",null,null,"Ref source","ur","vr","cr","dr","Test source","uk","vk","ck","dk",null,null,null,null,null,"TCS08",{"$f":"ROUND(I8,1)","v":31.6},{"$f":"ROUND(I23,1)","v":33},"U*"]
[null,null,null,null,{"$f":"Q5","v":0.20484200281425513},{"$f":"Q6","v":0.32094015879829024},{"$f":"(4-E17-10*F17)/F17","v":1.8251265637685063},{"$f":"(1.708*F17+0.404-1.481*E17)/F17","v":2.0215444134161258},null,{"$f":"Q14","v":0.21052782778103721},{"$f":"Q15","v":0.31578882455766705},{"$f":"IF('CIE1931 1-nm'!$J$5<>0,(4-J17-10*K17)/K17,0)","v":2.00001987887623},{"$f":"IF('CIE1931 1-nm'!$J$5<>0,(1.708*K17+0.404-1.481*J17)/K17,0)","v":1.9999935092239007},null,null,null,null,null,null,{"$f":"ROUND(I9,1)","v":-14.3},{"$f":"ROUND(I24,1)","v":-14.6},"V*"]
["ck,i",{"$f":"(4-B14-10*B15)/B15","v":1.483433782946695},0.93238318246282448,0.59612089435403603,1.3310968502031191,2.4375372432585833,3.6249781929792042,3.3317681871740099,2.6263354543286059,0.64820256854383129,0.36275045944208784,1.4152975017501215,8.1378514230929344,1.3018682118445839,0.84494697855145728,1.3370632808187799,2.00001987887623]
["dk,i",{"$f":"(1.708*B15+0.404-1.481*B14)/B15","v":1.7954404192458702},1.885770385900037,2.0116478208441562,2.1790920161781546,2.1841046821092167,2.1744396290785946,1.9619872478571658,1.8212681974759581,1.042978093581896,1.8459192155175999,2.2807951847284058,2.645314566397226,1.8496343639509598,2.0277399960662743,1.8083906638580816,1.9999935092239007]
["uka,i",{"$f":"(10.872+0.404*$G$17/$L$17*B18-4*$H$17/$M$17*B19)/(16.518+1.481*$G$17/$L$17*B18-$H$17/$M$17*B19)","v":0.24896672479882259},0.22627125352992358,0.19348673543274886,0.15839544897770932,0.16700641582776438,0.17778760560125625,0.21892391572013128,0.2456128931224191,0.42192052620623499,0.2339448079187956,0.13471256379752833,0.12788285556954671,0.23608760589327948,0.19122881334295352,0.24570478890775216,0.2048420028142551,null,null,"TCS01","TCS02","TCS03","TCS04","TCS05","TCS06","TCS07","TCS08",{"$f":"T20","v":"TCS01"}]
["vka,i",{"$f":"5.52/(16.518+1.481*$G$17/$L$17*B18-$H$17/$M$17*B19)","v":0.33037941232520124},0.34778184906412984,0.36101251178199151,0.34255086837352566,0.31355308448230124,0.2872118665560654,0.28995050372270753,0.30285439984781615,0.33782492779438489,0.36453822988650669,0.34231724898197713,0.22220049967344777,0.33642329960468892,0.35361154924214266,0.33460315987698114,0.32094015879829024,null,{"$f":"A8","v":"U*r,i"},{"$f":"ROUND(B8,1)","v":33.799999999999997},{"$f":"ROUND(C8,1)","v":16.100000000000001},-8.6999999999999993,-34.6,-28.7,-20.3,10.5,31.6,{"$f":"T21","v":33.799999999999997}]
["W*k,i",{"$f":"25*(B12^(1/3))-17","v":61.080860854161074},60.033861905280006,61.007366736913426,59.707229533179444,60.874724506797719,60.004657207168876,60.240012715051705,62.308115117131436,40.933040811640247,80.864012687832926,50.544794752344714,28.448881664268917,79.816937219483677,39.699162139446479,63.437745509072926,99.039720840319433,null,{"$f":"A9","v":"V*r,i"},{"$f":"ROUND(B9,1)","v":7.4},{"$f":"ROUND(C9,1)","v":20.6},31.5,16,-6.1,-26.2,-23.7,-14.3,{"$f":"T22","v":7.4}]
["U*k,i",{"$f":"IF('CIE1931 1-nm'!$J$5<>0,13*B22*(B20-$Q$20),0)","v":35.037288048982816},{"$f":"IF('CIE1931 1-nm'!$J$5<>0,13*C22*(C20-$Q$20),0)","v":16.724248816574836},{"$f":"IF('CIE1931 1-nm'!$J$5<>0,13*D22*(D20-$Q$20),0)","v":-9.0058145000104073},{"$f":"IF('CIE1931 1-nm'!$J$5<>0,13*E22*(E20-$Q$20),0)","v":-36.0515356622696},{"$f":"IF('CIE1931 1-nm'!$J$5<>0,13*F22*(F20-$Q$20),0)","v":-29.942002146622851},{"$f":"IF('CIE1931 1-nm'!$J$5<>0,13*G22*(G20-$Q$20),0)","v":-21.104067799263554},{"$f":"IF('CIE1931 1-nm'!$J$5<>0,13*H22*(H20-$Q$20),0)","v":11.027829962529015},{"$f":"IF('CIE1931 1-nm'!$J$5<>0,13*I22*(I20-$Q$20),0)","v":33.024645247737269},{"$f":"IF('CIE1931 1-nm'!$J$5<>0,13*J22*(J20-$Q$20),0)","v":115.5138927453487},{"$f":"IF('CIE1931 1-nm'!$J$5<>0,13*K22*(K20-$Q$20),0)","v":30.593804815926188},{"$f":"IF('CIE1931 1-nm'!$J$5<>0,13*L22*(L20-$Q$20),0)","v":-46.080815315567889},{"$f":"IF('CIE1931 1-nm'!$J$5<>0,13*M22*(M20-$Q$20),0)","v":-28.462221748320832},{"$f":"IF('CIE1931 1-nm'!$J$5<>0,13*N22*(N20-$Q$20),0)","v":32.421068411464134},{"$f":"IF('CIE1931 1-nm'!$J$5<>0,13*O22*(O20-$Q$20),0)","v":-7.025618808730691},{"$f":"IF('CIE1931 1-nm'!$J$5<>0,13*P22*(P20-$Q$20),0)","v":33.699159324882352},{"$f":"IF('CIE1931 1-nm'!$J$5<>0,13*Q22*(Q20-$Q$20),0)","v":0},null,{"$f":"A23","v":"U*k,i"},{"$f":"ROUND(B23,1)","v":35},{"$f":"ROUND(C23,1)","v":16.7},-9,-36.1,-29.9,-21.1,11,33,35]
["V*k,i",{"$f":"IF('CIE1931 1-nm'!$J$5<>0,13*B22*(B21-$Q$21),0)","v":7.4952505061771957},{"$f":"IF('CIE1931 1-nm'!$J$5<>0,13*C22*(C21-$Q$21),0)","v":20.948334247408273},{"$f":"IF('CIE1931 1-nm'!$J$5<>0,13*D22*(D21-$Q$21),0)","v":31.781213548340229},{"$f":"IF('CIE1931 1-nm'!$J$5<>0,13*E22*(E21-$Q$21),0)","v":16.774102760784981},{"$f":"IF('CIE1931 1-nm'!$J$5<>0,13*F22*(F21-$Q$21),0)","v":-5.8459194806619355},{"$f":"IF('CIE1931 1-nm'!$J$5<>0,13*G22*(G21-$Q$21),0)","v":-26.310109984312898},{"$f":"IF('CIE1931 1-nm'!$J$5<>0,13*H22*(H21-$Q$21),0)","v":-24.2686238052462},{"$f":"IF('CIE1931 1-nm'!$J$5<>0,13*I22*(I21-$Q$21),0)","v":-14.649564158668792},{"$f":"IF('CIE1931 1-nm'!$J$5<>0,13*J22*(J21-$Q$21),0)","v":8.9848841993593815},{"$f":"IF('CIE1931 1-nm'!$J$5<>0,13*K22*(K21-$Q$21),0)","v":45.831694657353495},{"$f":"IF('CIE1931 1-nm'!$J$5<>0,13*L22*(L21-$Q$21),0)","v":14.046508264578616},{"$f":"IF('CIE1931 1-nm'!$J$5<>0,13*M22*(M21-$Q$21),0)","v":-36.517427414167621},{"$f":"IF('CIE1931 1-nm'!$J$5<>0,13*N22*(N21-$Q$21),0)","v":16.065619410161737},{"$f":"IF('CIE1931 1-nm'!$J$5<>0,13*O22*(O21-$Q$21),0)","v":16.861348745171572},{"$f":"IF('CIE1931 1-nm'!$J$5<>0,13*P22*(P21-$Q$21),0)","v":11.267749809162364},{"$f":"IF('CIE1931 1-nm'!$J$5<>0,13*Q22*(Q21-$Q$21),0)","v":0},null,{"$f":"A24","v":"V*k,i"},{"$f":"ROUND(B24,1)","v":7.5},{"$f":"ROUND(C24,1)","v":20.9},{"$f":"ROUND(D24,1)","v":31.8},{"$f":"ROUND(E24,1)","v":16.8},{"$f":"ROUND(F24,1)","v":-5.8},{"$f":"ROUND(G24,1)","v":-26.3},{"$f":"ROUND(H24,1)","v":-24.3},{"$f":"ROUND(I24,1)","v":-14.6},7.5]
["∆Ei",{"$f":"SQRT((B8-B23)^2+(B9-B24)^2+(B7-B22)^2)","v":1.2117690853474081},0.70303949250341191,0.43866006590307921,1.6632289278732024,1.2885504506145291,0.78338293979328999,0.79204706001251557,1.5338524543183971,3.8980023255908254,1.2474478443833577,1.7586559946892077,2.3951449944117664,1.1740916013182519,0.31327439521185113,1.7373333168910661,{"$f":"AVERAGE(B25:I25)","v":1.0518163095457294},null,null,{"$f":"(T21^2+T22^2)^0.5-(T23^2+T24^2)^0.5","v":-1.1939746283371022},{"$f":"(U21^2+U22^2)^0.5-(U23^2+U24^2)^0.5","v":-0.60739833163144041},-0.36970317065805602,-1.6973738474893167,-1.1162497679382781,-0.57386833204510168,-0.7519643946146104,-1.4004429612353988]
[null,"R1","R2","R3","R4","R5","R6","R7","R8","R9","R10","R11","R12","R13","R14","R15","Ra","Ga",null,"max CRI",{"$f":"IF(MAX(B27:O27)>0,MAX(B27:O27),0)","v":99},{"$f":"U26+U28","v":109},"Umax",{"$f":"IF('CIE1931 1-nm'!$J$5<>0,ROUND(1.15*MAX(T21:AA21,T23:AA23),1),0.5)","v":40.299999999999997},{"$f":"IF('CIE1931 1-nm'!$J$5<>0,ABS(X26-X27)/5,0.5)","v":16.36}]
["S-CRI",{"$f":"IF('CIE1931 1-nm'!$J$5<>0,ROUND(100-4.6*B25,0),0)","v":94},{"$f":"IF('CIE1931 1-nm'!$J$5<>0,ROUND(100-4.6*C25,0),0)","v":97},{"$f":"IF('CIE1931 1-nm'!$J$5<>0,ROUND(100-4.6*D25,0),0)","v":98},{"$f":"IF('CIE1931 1-nm'!$J$5<>0,ROUND(100-4.6*E25,0),0)","v":92},{"$f":"IF('CIE1931 1-nm'!$J$5<>0,ROUND(100-4.6*F25,0),0)","v":94},{"$f":"IF('CIE1931 1-nm'!$J$5<>0,ROUND(100-4.6*G25,0),0)","v":96},{"$f":"IF('CIE1931 1-nm'!$J$5<>0,ROUND(100-4.6*H25,0),0)","v":96},{"$f":"IF('CIE1931 1-nm'!$J$5<>0,ROUND(100-4.6*I25,0),0)","v":93},{"$f":"IF('CIE1931 1-nm'!$J$5<>0,ROUND(100-4.6*J25,0),0)","v":82},{"$f":"IF('CIE1931 1-nm'!$J$5<>0,ROUND(100-4.6*K25,0),0)","v":94},{"$f":"IF('CIE1931 1-nm'!$J$5<>0,ROUND(100-4.6*L25,0),0)","v":92},{"$f":"IF('CIE1931 1-nm'!$J$5<>0,ROUND(100-4.6*M25,0),0)","v":89},{"$f":"IF('CIE1931 1-nm'!$J$5<>0,ROUND(100-4.6*N25,0),0)","v":95},{"$f":"IF('CIE1931 1-nm'!$J$5<>0,ROUND(100-4.6*O25,0),0)","v":99},{"$f":"IF('CIE1931 1-nm'!$J$5<>0,ROUND(100-4.6*P25,0),0)","v":92},{"$f":"IF('CIE1931 1-nm'!$J$5<>0,ROUND(100-4.6*Q25,0),0)","v":95},{"$f":"IF('CIE1931 1-nm'!$J$5<>0,ROUND(100*M29/M30,0),0)","v":106},null,"min CRI",{"$f":"IF(MIN(B27:O27)>0,0,MIN(B27:O27))","v":0},{"$f":"IF(U27<0,U27-U28,U27)","v":0},"Umin",{"$f":"IF('CIE1931 1-nm'!$J$5<>0,ROUND(1.15*MIN(T21:AA21,T23:AA23),1),-0.5)","v":-41.5},null,{"$f":"MIN(Y26,Y28)","v":13.36}]
["S-CRI",{"$f":"IF('CIE1931 1-nm'!$J$5<>0,ROUND(100-4.6*B25,2),0)","v":94.43},{"$f":"IF('CIE1931 1-nm'!$J$5<>0,ROUND(100-4.6*C25,2),0)","v":96.77},{"$f":"IF('CIE1931 1-nm'!$J$5<>0,ROUND(100-4.6*D25,2),0)","v":97.98},{"$f":"IF('CIE1931 1-nm'!$J$5<>0,ROUND(100-4.6*E25,2),0)","v":92.35},{"$f":"IF('CIE1931 1-nm'!$J$5<>0,ROUND(100-4.6*F25,2),0)","v":94.07},{"$f":"IF('CIE1931 1-nm'!$J$5<>0,ROUND(100-4.6*G25,2),0)","v":96.4},{"$f":"IF('CIE1931 1-nm'!$J$5<>0,ROUND(100-4.6*H25,2),0)","v":96.36},{"$f":"IF('CIE1931 1-nm'!$J$5<>0,ROUND(100-4.6*I25,2),0)","v":92.94},{"$f":"IF('CIE1931 1-nm'!$J$5<>0,ROUND(100-4.6*J25,2),0)","v":82.07},{"$f":"IF('CIE1931 1-nm'!$J$5<>0,ROUND(100-4.6*K25,2),0)","v":94.26},{"$f":"IF('CIE1931 1-nm'!$J$5<>0,ROUND(100-4.6*L25,2),0)","v":91.91},{"$f":"IF('CIE1931 1-nm'!$J$5<>0,ROUND(100-4.6*M25,2),0)","v":88.98},{"$f":"IF('CIE1931 1-nm'!$J$5<>0,ROUND(100-4.6*N25,2),0)","v":94.6},{"$f":"IF('CIE1931 1-nm'!$J$5<>0,ROUND(100-4.6*O25,2),0)","v":98.56},{"$f":"IF('CIE1931 1-nm'!$J$5<>0,ROUND(100-4.6*P25,2),0)","v":92.01},null,null,null,"delta CRI",{"$f":"IF(ROUND((U26-U27)/10,0)>1,ROUND((U26-U27)/10,0),1)","v":10},null,"Vmax",{"$f":"IF('CIE1931 1-nm'!$J$5<>0,ROUND(1.15*MAX(T22:AA22,T24:AA24),1),0.5)","v":36.6},{"$f":"IF('CIE1931 1-nm'!$J$5<>0,ABS(X28-X29)/5,0.5)","v":13.36}]
["Gamut",{"$f":"(B23*C24)-(C23*B24)","v":608.62038676494944},720.17373539151527,994.69709576045148,713.00459550693654,664.40468855925508,802.31010138317674,639.90978925208856,{"$f":"(I23*B24)-(B23*I24)","v":760.80898822875815},"Test source",null,null,{"$f":"SUM(B29:I29)/2","v":2951.9646904235651},null,null,null,null,null,null,"min CRI",{"$f":"IF(MIN(B27:O27)>60,60,MIN(B27:O27))","v":60},null,"Vmin",{"$f":"IF('CIE1931 1-nm'!$J$5<>0,ROUND(1.15*MIN(T22:AA22,T24:AA24),1),-0.5)","v":-30.2}]
["Gamut",{"$f":"(B8*C9)-(C8*B9)","v":578.1067969845916},686.64522371583223,952.14681906789224,669.88602619869755,628.05048512545159,757.14428038930987,595.89209626125125,{"$f":"(I8*B9)-(B8*I9)","v":718.62807614213261},"Reference illuminant",null,null,{"$f":"SUM(B30:I30)/2","v":2793.2499019425795}]
["CIE 1964 U*V*W* (CIEUVW) based colour rendering properties"]
["C'r,i",{"$f":"(B8^2+B9^2)^0.5","v":34.658383190768532},{"$f":"(C8^2+C9^2)^0.5","v":26.167069601072861},32.704785281548915,38.120117806065231,29.32789835109017,33.167952822938453,25.896907153020244,34.63725215426161,112.03869952714497,54.068991381483556,46.447232010733359,46.371204682142725,35.031855256406928,18.05097307973244,33.814156571712445,null,null,null,"max hue-angle",{"$f":"IF(MAX(B41:O41)>0,MAX(B41:O41),0)*1.15","v":1.1499999999999999},{"$f":"U32+U34","v":3.15},null,"CCT (K)",{"$f":"'CIE1931 1-nm'!J5","v":5455}]
["C'k,i",{"$f":"(B23^2+B24^2)^0.5","v":35.830020010847655},{"$f":"(C23^2+C24^2)^0.5","v":26.80546970712961},33.032563167483723,39.762843799673973,30.507347756282421,33.728379223771697,26.656690249973181,36.128062829023222,115.86279627757921,55.104674287031884,48.17412100468831,46.299250229345915,36.183280724293134,18.266482998976279,35.533020206079918,null,null,null,"min hue-angle",{"$f":"IF(MIN(B41:O41)>0,0,MIN(B41:O41))*1.15","v":-3.4499999999999997},{"$f":"IF(U33<0,U33-U34,U33)","v":-5.4499999999999993},null,"Duv",{"$f":"'CIE1931 1-nm'!K5","v":-4.4000000000000003E-3}]
["h'r,i",{"$f":"IF('CIE1931 1-nm'!$J$5<>0,IF(ATAN2(B8,B9)>0,180*ATAN2(B8,B9)/PI(),180*ATAN2(B8,B9)/PI()+360),0)","v":12.402795324711377},{"$f":"IF('CIE1931 1-nm'!$J$5<>0,IF(ATAN2(C8,C9)>0,180*ATAN2(C8,C9)/PI(),180*ATAN2(C8,C9)/PI()+360),0)","v":52.004572472687165},{"$f":"IF('CIE1931 1-nm'!$J$5<>0,IF(ATAN2(D8,D9)>0,180*ATAN2(D8,D9)/PI(),180*ATAN2(D8,D9)/PI()+360),0)","v":105.36005506451794},{"$f":"IF('CIE1931 1-nm'!$J$5<>0,IF(ATAN2(E8,E9)>0,180*ATAN2(E8,E9)/PI(),180*ATAN2(E8,E9)/PI()+360),0)","v":155.15396541685473},{"$f":"IF('CIE1931 1-nm'!$J$5<>0,IF(ATAN2(F8,F9)>0,180*ATAN2(F8,F9)/PI(),180*ATAN2(F8,F9)/PI()+360),0)","v":191.96599012026331},{"$f":"IF('CIE1931 1-nm'!$J$5<>0,IF(ATAN2(G8,G9)>0,180*ATAN2(G8,G9)/PI(),180*ATAN2(G8,G9)/PI()+360),0)","v":232.18017142359128},{"$f":"IF('CIE1931 1-nm'!$J$5<>0,IF(ATAN2(H8,H9)>0,180*ATAN2(H8,H9)/PI(),180*ATAN2(H8,H9)/PI()+360),0)","v":294.00149043497413},{"$f":"IF('CIE1931 1-nm'!$J$5<>0,IF(ATAN2(I8,I9)>0,180*ATAN2(I8,I9)/PI(),180*ATAN2(I8,I9)/PI()+360),0)","v":335.63154804534952},{"$f":"IF('CIE1931 1-nm'!$J$5<>0,IF(ATAN2(J8,J9)>0,180*ATAN2(J8,J9)/PI(),180*ATAN2(J8,J9)/PI()+360),0)","v":4.5093221446866583},{"$f":"IF('CIE1931 1-nm'!$J$5<>0,IF(ATAN2(K8,K9)>0,180*ATAN2(K8,K9)/PI(),180*ATAN2(K8,K9)/PI()+360),0)","v":56.996674216048341},{"$f":"IF('CIE1931 1-nm'!$J$5<>0,IF(ATAN2(L8,L9)>0,180*ATAN2(L8,L9)/PI(),180*ATAN2(L8,L9)/PI()+360),0)","v":162.94381490065234},{"$f":"IF('CIE1931 1-nm'!$J$5<>0,IF(ATAN2(M8,M9)>0,180*ATAN2(M8,M9)/PI(),180*ATAN2(M8,M9)/PI()+360),0)","v":235.01561441528517},{"$f":"IF('CIE1931 1-nm'!$J$5<>0,IF(ATAN2(N8,N9)>0,180*ATAN2(N8,N9)/PI(),180*ATAN2(N8,N9)/PI()+360),0)","v":26.531734854234486},{"$f":"IF('CIE1931 1-nm'!$J$5<>0,IF(ATAN2(O8,O9)>0,180*ATAN2(O8,O9)/PI(),180*ATAN2(O8,O9)/PI()+360),0)","v":111.97039002635951},{"$f":"IF('CIE1931 1-nm'!$J$5<>0,IF(ATAN2(P8,P9)>0,180*ATAN2(P8,P9)/PI(),180*ATAN2(P8,P9)/PI()+360),0)","v":18.231151349217587},null,null,null,"delta hue-angle",{"$f":"IF(ROUND((U32-U33)/10,0)>2,ROUND((U32-U33)/10,0),2)","v":2},{"$f":"MAX(ABS(V32),ABS(V33))","v":5.4499999999999993},null,"x-coordinate",{"$f":"ROUND('CIE1931 1-nm'!H5,4)","v":0.33329999999999999}]
["h'k,i",{"$f":"IF('CIE1931 1-nm'!$J$5<>0,IF(ATAN2(B23,B24)>0,180*ATAN2(B23,B24)/PI(),180*ATAN2(B23,B24)/PI()+360),0)","v":12.074837093896702},{"$f":"IF('CIE1931 1-nm'!$J$5<>0,IF(ATAN2(C23,C24)>0,180*ATAN2(C23,C24)/PI(),180*ATAN2(C23,C24)/PI()+360),0)","v":51.397639138960372},{"$f":"IF('CIE1931 1-nm'!$J$5<>0,IF(ATAN2(D23,D24)>0,180*ATAN2(D23,D24)/PI(),180*ATAN2(D23,D24)/PI()+360),0)","v":105.82109195690897},{"$f":"IF('CIE1931 1-nm'!$J$5<>0,IF(ATAN2(E23,E24)>0,180*ATAN2(E23,E24)/PI(),180*ATAN2(E23,E24)/PI()+360),0)","v":155.04832528284703},{"$f":"IF('CIE1931 1-nm'!$J$5<>0,IF(ATAN2(F23,F24)>0,180*ATAN2(F23,F24)/PI(),180*ATAN2(F23,F24)/PI()+360),0)","v":191.04753489345717},{"$f":"IF('CIE1931 1-nm'!$J$5<>0,IF(ATAN2(G23,G24)>0,180*ATAN2(G23,G24)/PI(),180*ATAN2(G23,G24)/PI()+360),0)","v":231.26593484981797},{"$f":"IF('CIE1931 1-nm'!$J$5<>0,IF(ATAN2(H23,H24)>0,180*ATAN2(H23,H24)/PI(),180*ATAN2(H23,H24)/PI()+360),0)","v":294.4373749042889},{"$f":"IF('CIE1931 1-nm'!$J$5<>0,IF(ATAN2(I23,I24)>0,180*ATAN2(I23,I24)/PI(),180*ATAN2(I23,I24)/PI()+360),0)","v":336.07817030101819},{"$f":"IF('CIE1931 1-nm'!$J$5<>0,IF(ATAN2(J23,J24)>0,180*ATAN2(J23,J24)/PI(),180*ATAN2(J23,J24)/PI()+360),0)","v":4.4476167292160405},{"$f":"IF('CIE1931 1-nm'!$J$5<>0,IF(ATAN2(K23,K24)>0,180*ATAN2(K23,K24)/PI(),180*ATAN2(K23,K24)/PI()+360),0)","v":56.275896589548481},{"$f":"IF('CIE1931 1-nm'!$J$5<>0,IF(ATAN2(L23,L24)>0,180*ATAN2(L23,L24)/PI(),180*ATAN2(L23,L24)/PI()+360),0)","v":163.04755472973858},{"$f":"IF('CIE1931 1-nm'!$J$5<>0,IF(ATAN2(M23,M24)>0,180*ATAN2(M23,M24)/PI(),180*ATAN2(M23,M24)/PI()+360),0)","v":232.06662312608563},{"$f":"IF('CIE1931 1-nm'!$J$5<>0,IF(ATAN2(N23,N24)>0,180*ATAN2(N23,N24)/PI(),180*ATAN2(N23,N24)/PI()+360),0)","v":26.359805819984476},{"$f":"IF('CIE1931 1-nm'!$J$5<>0,IF(ATAN2(O23,O24)>0,180*ATAN2(O23,O24)/PI(),180*ATAN2(O23,O24)/PI()+360),0)","v":112.62002949705577},{"$f":"IF('CIE1931 1-nm'!$J$5<>0,IF(ATAN2(P23,P24)>0,180*ATAN2(P23,P24)/PI(),180*ATAN2(P23,P24)/PI()+360),0)","v":18.488025045700311},null,null,null,null,null,null,null,"y-coordinate",{"$f":"ROUND('CIE1931 1-nm'!I5,4)","v":0.33329999999999999}]
["C'i",{"$f":"IF('CIE1931 1-nm'!$J$5<>0,ROUND(100+100*(B33-B32)/B32,2),0)","v":103.38},{"$f":"IF('CIE1931 1-nm'!$J$5<>0,ROUND(100+100*(C33-C32)/C32,2),0)","v":102.44},{"$f":"IF('CIE1931 1-nm'!$J$5<>0,ROUND(100+100*(D33-D32)/D32,2),0)","v":101},{"$f":"IF('CIE1931 1-nm'!$J$5<>0,ROUND(100+100*(E33-E32)/E32,2),0)","v":104.31},{"$f":"IF('CIE1931 1-nm'!$J$5<>0,ROUND(100+100*(F33-F32)/F32,2),0)","v":104.02},{"$f":"IF('CIE1931 1-nm'!$J$5<>0,ROUND(100+100*(G33-G32)/G32,2),0)","v":101.69},{"$f":"IF('CIE1931 1-nm'!$J$5<>0,ROUND(100+100*(H33-H32)/H32,2),0)","v":102.93},{"$f":"IF('CIE1931 1-nm'!$J$5<>0,ROUND(100+100*(I33-I32)/I32,2),0)","v":104.3},{"$f":"IF('CIE1931 1-nm'!$J$5<>0,ROUND(100+100*(J33-J32)/J32,2),0)","v":103.41},{"$f":"IF('CIE1931 1-nm'!$J$5<>0,ROUND(100+100*(K33-K32)/K32,2),0)","v":101.92},{"$f":"IF('CIE1931 1-nm'!$J$5<>0,ROUND(100+100*(L33-L32)/L32,2),0)","v":103.72},{"$f":"IF('CIE1931 1-nm'!$J$5<>0,ROUND(100+100*(M33-M32)/M32,2),0)","v":99.84},{"$f":"IF('CIE1931 1-nm'!$J$5<>0,ROUND(100+100*(N33-N32)/N32,2),0)","v":103.29},{"$f":"IF('CIE1931 1-nm'!$J$5<>0,ROUND(100+100*(O33-O32)/O32,2),0)","v":101.19},{"$f":"IF('CIE1931 1-nm'!$J$5<>0,ROUND(100+100*(P33-P32)/P32,2),0)","v":105.08},null,null,null,"max chroma",{"$f":"IF(MAX(B43:O43)>0,MAX(B43:O43),0)*1.15","v":4.5999999999999996},{"$f":"U36+U38","v":6.6},null,"u'-coordinate",{"$f":"ROUND(Q14,4)","v":0.21049999999999999}]
["Dh'i",{"$f":"IF('CIE1931 1-nm'!$J$5<>0,ROUND(IF(MOD(B35-B34,360)>180,MOD(B35-B34,360)-360,MOD(B35-B34,360)),1),0)","v":-0.3},{"$f":"IF('CIE1931 1-nm'!$J$5<>0,ROUND(IF(MOD(C35-C34,360)>180,MOD(C35-C34,360)-360,MOD(C35-C34,360)),1),0)","v":-0.6},{"$f":"IF('CIE1931 1-nm'!$J$5<>0,ROUND(IF(MOD(D35-D34,360)>180,MOD(D35-D34,360)-360,MOD(D35-D34,360)),1),0)","v":0.5},{"$f":"IF('CIE1931 1-nm'!$J$5<>0,ROUND(IF(MOD(E35-E34,360)>180,MOD(E35-E34,360)-360,MOD(E35-E34,360)),1),0)","v":-0.1},{"$f":"IF('CIE1931 1-nm'!$J$5<>0,ROUND(IF(MOD(F35-F34,360)>180,MOD(F35-F34,360)-360,MOD(F35-F34,360)),1),0)","v":-0.9},{"$f":"IF('CIE1931 1-nm'!$J$5<>0,ROUND(IF(MOD(G35-G34,360)>180,MOD(G35-G34,360)-360,MOD(G35-G34,360)),1),0)","v":-0.9},{"$f":"IF('CIE1931 1-nm'!$J$5<>0,ROUND(IF(MOD(H35-H34,360)>180,MOD(H35-H34,360)-360,MOD(H35-H34,360)),1),0)","v":0.4},{"$f":"IF('CIE1931 1-nm'!$J$5<>0,ROUND(IF(MOD(I35-I34,360)>180,MOD(I35-I34,360)-360,MOD(I35-I34,360)),1),0)","v":0.4},{"$f":"IF('CIE1931 1-nm'!$J$5<>0,ROUND(IF(MOD(J35-J34,360)>180,MOD(J35-J34,360)-360,MOD(J35-J34,360)),1),0)","v":-0.1},{"$f":"IF('CIE1931 1-nm'!$J$5<>0,ROUND(IF(MOD(K35-K34,360)>180,MOD(K35-K34,360)-360,MOD(K35-K34,360)),1),0)","v":-0.7},{"$f":"IF('CIE1931 1-nm'!$J$5<>0,ROUND(IF(MOD(L35-L34,360)>180,MOD(L35-L34,360)-360,MOD(L35-L34,360)),1),0)","v":0.1},{"$f":"IF('CIE1931 1-nm'!$J$5<>0,ROUND(IF(MOD(M35-M34,360)>180,MOD(M35-M34,360)-360,MOD(M35-M34,360)),1),0)","v":-2.9},{"$f":"IF('CIE1931 1-nm'!$J$5<>0,ROUND(IF(MOD(N35-N34,360)>180,MOD(N35-N34,360)-360,MOD(N35-N34,360)),1),0)","v":-0.2},{"$f":"IF('CIE1931 1-nm'!$J$5<>0,ROUND(IF(MOD(O35-O34,360)>180,MOD(O35-O34,360)-360,MOD(O35-O34,360)),1),0)","v":0.6},{"$f":"IF('CIE1931 1-nm'!$J$5<>0,ROUND(IF(MOD(P35-P34,360)>180,MOD(P35-P34,360)-360,MOD(P35-P34,360)),1),0)","v":0.3},null,null,null,"min chroma",{"$f":"IF(MIN(B43:O43)>0,0,MIN(B43:O43))*1.15","v":0},{"$f":"IF(U37<0,U37-U38,U37)","v":0},null,"v'-coordinate",{"$f":"ROUND(1.5*Q15,4)","v":0.47370000000000001}]
[null,null,null,null,null,null,null,null,null,null,null,null,null,null,null,null,null,null,null,"delta chroma",{"$f":"IF(ROUND((U36-U37)/10,0)>2,ROUND((U36-U37)/10,0),2)","v":2},{"$f":"MAX(ABS(V36),ABS(V37))","v":6.6},null,"CRI-Ra",{"$f":"Q27","v":95}]
[null,"TCS01","TCS02","TCS03","TCS04","TCS05","TCS06","TCS07","TCS08","TCS09","TCS10","TCS11","TCS12","TCS13","TCS14","TCS15",null,null,null,null,null,null,null,"CGI-Ga",{"$f":"R27","v":106}]
["C'i",{"$f":"IF('CIE1931 1-nm'!$J$5<>0,ROUND(100+100*(B33-B32)/B32,0),100)","v":103},{"$f":"IF('CIE1931 1-nm'!$J$5<>0,ROUND(100+100*(C33-C32)/C32,0),100)","v":102},{"$f":"IF('CIE1931 1-nm'!$J$5<>0,ROUND(100+100*(D33-D32)/D32,0),100)","v":101},{"$f":"IF('CIE1931 1-nm'!$J$5<>0,ROUND(100+100*(E33-E32)/E32,0),100)","v":104},{"$f":"IF('CIE1931 1-nm'!$J$5<>0,ROUND(100+100*(F33-F32)/F32,0),100)","v":104},{"$f":"IF('CIE1931 1-nm'!$J$5<>0,ROUND(100+100*(G33-G32)/G32,0),100)","v":102},{"$f":"IF('CIE1931 1-nm'!$J$5<>0,ROUND(100+100*(H33-H32)/H32,0),100)","v":103},{"$f":"IF('CIE1931 1-nm'!$J$5<>0,ROUND(100+100*(I33-I32)/I32,0),100)","v":104},{"$f":"IF('CIE1931 1-nm'!$J$5<>0,ROUND(100+100*(J33-J32)/J32,0),100)","v":103},{"$f":"IF('CIE1931 1-nm'!$J$5<>0,ROUND(100+100*(K33-K32)/K32,0),100)","v":102},{"$f":"IF('CIE1931 1-nm'!$J$5<>0,ROUND(100+100*(L33-L32)/L32,0),100)","v":104},{"$f":"IF('CIE1931 1-nm'!$J$5<>0,ROUND(100+100*(M33-M32)/M32,0),100)","v":100},{"$f":"IF('CIE1931 1-nm'!$J$5<>0,ROUND(100+100*(N33-N32)/N32,0),100)","v":103},{"$f":"IF('CIE1931 1-nm'!$J$5<>0,ROUND(100+100*(O33-O32)/O32,0),100)","v":101},{"$f":"IF(AND('CIE1931 1-nm'!$J$5<>0,P32<>0),ROUND(100+100*(P33-P32)/P32,0),100)","v":105},null,null,null,null,null,null,null,"R1",{"$f":"TRANSPOSE(B27:P27)","v":94}]
["Dh'i",{"$f":"IF('CIE1931 1-nm'!$J$5<>0,ROUND(IF(MOD(B35-B34,360)>180,MOD(B35-B34,360)-360,MOD(B35-B34,360)),0),0)","v":0},{"$f":"IF('CIE1931 1-nm'!$J$5<>0,ROUND(IF(MOD(C35-C34,360)>180,MOD(C35-C34,360)-360,MOD(C35-C34,360)),0),0)","v":-1},{"$f":"IF('CIE1931 1-nm'!$J$5<>0,ROUND(IF(MOD(D35-D34,360)>180,MOD(D35-D34,360)-360,MOD(D35-D34,360)),0),0)","v":0},{"$f":"IF('CIE1931 1-nm'!$J$5<>0,ROUND(IF(MOD(E35-E34,360)>180,MOD(E35-E34,360)-360,MOD(E35-E34,360)),0),0)","v":0},{"$f":"IF('CIE1931 1-nm'!$J$5<>0,ROUND(IF(MOD(F35-F34,360)>180,MOD(F35-F34,360)-360,MOD(F35-F34,360)),0),0)","v":-1},{"$f":"IF('CIE1931 1-nm'!$J$5<>0,ROUND(IF(MOD(G35-G34,360)>180,MOD(G35-G34,360)-360,MOD(G35-G34,360)),0),0)","v":-1},{"$f":"IF('CIE1931 1-nm'!$J$5<>0,ROUND(IF(MOD(H35-H34,360)>180,MOD(H35-H34,360)-360,MOD(H35-H34,360)),0),0)","v":0},{"$f":"IF('CIE1931 1-nm'!$J$5<>0,ROUND(IF(MOD(I35-I34,360)>180,MOD(I35-I34,360)-360,MOD(I35-I34,360)),0),0)","v":0},{"$f":"IF('CIE1931 1-nm'!$J$5<>0,ROUND(IF(MOD(J35-J34,360)>180,MOD(J35-J34,360)-360,MOD(J35-J34,360)),0),0)","v":0},{"$f":"IF('CIE1931 1-nm'!$J$5<>0,ROUND(IF(MOD(K35-K34,360)>180,MOD(K35-K34,360)-360,MOD(K35-K34,360)),0),0)","v":-1},{"$f":"IF('CIE1931 1-nm'!$J$5<>0,ROUND(IF(MOD(L35-L34,360)>180,MOD(L35-L34,360)-360,MOD(L35-L34,360)),0),0)","v":0},{"$f":"IF('CIE1931 1-nm'!$J$5<>0,ROUND(IF(MOD(M35-M34,360)>180,MOD(M35-M34,360)-360,MOD(M35-M34,360)),0),0)","v":-3},{"$f":"IF('CIE1931 1-nm'!$J$5<>0,ROUND(IF(MOD(N35-N34,360)>180,MOD(N35-N34,360)-360,MOD(N35-N34,360)),0),0)","v":0},{"$f":"IF('CIE1931 1-nm'!$J$5<>0,ROUND(IF(MOD(O35-O34,360)>180,MOD(O35-O34,360)-360,MOD(O35-O34,360)),0),0)","v":1},{"$f":"IF(AND('CIE1931 1-nm'!$J$5<>0,P32<>0),ROUND(IF(MOD(P35-P34,360)>180,MOD(P35-P34,360)-360,MOD(P35-P34,360)),0),0)","v":0},null,null,null,null,null,null,null,"R2",97]
[null,null,null,null,null,null,null,null,null,null,null,null,null,null,null,null,null,null,null,null,null,null,null,"R3",98]
["C'i - 100",{"$f":"B40-100","v":3},{"$f":"C40-100","v":2},1,4,4,2,3,4,3,2,4,0,3,1,5,null,null,null,null,null,null,null,"R4",92]
[null,null,null,null,null,null,null,null,null,null,null,null,null,null,null,null,null,null,null,null,null,null,null,"R5",94]
[null,null,null,null,null,null,null,null,null,null,null,null,null,null,null,null,null,null,null,null,null,null,null,"R6",96]
["R",201,178,150,99,112,124,176,205,198,253,22,0,255,96,{"$f":"'Additional TCS'!G8","v":205},null,null,null,null,null,null,null,"R7",96]
["G",148,157,171,176,173,163,148,146,39,217,154,84,206,111,{"$f":"'Additional TCS'!G9","v":157},null,null,null,null,null,null,null,"R8",93]
["B",139,104,75,126,179,215,207,191,60,62,109,156,173,63,{"$f":"'Additional TCS'!G10","v":138},null,null,null,null,null,null,null,"R9",82]
[null,null,null,null,null,null,null,null,null,null,null,null,null,null,null,null,null,null,null,null,null,null,null,"R10",94]
[null,null,null,null,null,null,null,null,null,null,null,null,null,null,null,null,null,null,null,null,null,null,null,"R11",92]
[null,null,null,null,null,null,null,null,null,null,null,null,null,null,null,null,null,null,null,null,null,null,null,"R12",89]
[null,null,null,null,null,null,null,null,null,null,null,null,null,null,null,null,null,null,null,null,null,null,null,"R13",95]
[null,null,null,null,null,null,null,null,null,null,null,null,null,null,null,null,null,null,null,null,null,null,null,"R14",99]
[null,null,null,null,null,null,null,null,null,null,null,null,null,null,null,null,null,null,null,null,null,null,null,"R15",92]
[null,null,null,null,null,null,null,null,null,null,null,null,null,null,null,null,null,null,null,null,null,null,null,"C1",{"$f":"TRANSPOSE(B40:P40)","v":103}]
[null,null,null,null,null,null,null,null,null,null,null,null,null,null,null,null,null,null,null,null,null,null,null,"C2",102]
[null,null,null,null,null,null,null,null,null,null,null,null,null,null,null,null,null,null,null,null,null,null,null,"C3",101]
[null,null,null,null,null,null,null,null,null,null,null,null,null,null,null,null,null,null,null,null,null,null,null,"C4",104]
[null,null,null,null,null,null,null,null,null,null,null,null,null,null,null,null,null,null,null,null,null,null,null,"C5",104]
[null,null,null,null,null,null,null,null,null,null,null,null,null,null,null,null,null,null,null,null,null,null,null,"C6",102]
[null,null,null,null,null,null,null,null,null,null,null,null,null,null,null,null,null,null,null,null,null,null,null,"C7",103]
[null,null,null,null,null,null,null,null,null,null,null,null,null,null,null,null,null,null,null,null,null,null,null,"C8",104]
[null,null,null,null,null,null,null,null,null,null,null,null,null,null,null,null,null,null,null,null,null,null,null,"C9",103]
[null,null,null,null,null,null,null,null,null,null,null,null,null,null,null,null,null,null,null,null,null,null,null,"C10",102]
[null,null,null,null,null,null,null,null,null,null,null,null,null,null,null,null,null,null,null,null,null,null,null,"C11",104]
[null,null,null,null,null,null,null,null,null,null,null,null,null,null,null,null,null,null,null,null,null,null,null,"C12",100]
[null,null,null,null,null,null,null,null,null,null,null,null,null,null,null,null,null,null,null,null,null,null,null,"C13",103]
[null,null,null,null,null,null,null,null,null,null,null,null,null,null,null,null,null,null,null,null,null,null,null,"C14",101]
[null,null,null,null,null,null,null,null,null,null,null,null,null,null,null,null,null,null,null,null,null,null,null,"C15",105]
[]
[null,null,null,null,null,null,null,null,null,null,null,null,null,null,null,null,null,null,null,null,null,null,null,"WL range selected before SPD#",{"$f":"IF(SPDs!SL6-1>0,SPDs!SL6,1)","v":6}]
[null,null,null,null,null,null,null,null,null,null,null,null,null,null,null,null,null,null,null,null,null,null,null,"Default for TCS#15?",{"$f":"'Additional TCS'!D1","v":true}]
[]
[0,230,60,150]
[60,171,80,130]
[80,151,90,120]
[90,141,95,114]
[98,132,98,108]
[102.4,124,100,100]
[110,100,98,92]
[110,100,95,88]
[102.4,76,90,83]
[98,70,80,76]
[95,67,60,65]
[90,62.5]
[80,56]
[60,45]
[0,10]

{"sheet":"CRI-TCS","index":6,"n_rows":489,"n_cols":34,"rows_kept":489,"cut":false,"hidden":true,"merged":[[4,1,4,16],[0,1,0,16],[0,18,0,33]]}
[null,"Fixed wavelength range (360nm-830nm) and wavelength increment (1-nm) for reference illuminant",null,null,null,null,null,null,null,null,null,null,null,null,null,null,null,null,"Variable wavelength range (<=380nm - >=780nm) and increment (<= 5nm) for test source"]
["X = ",{"$f":"SUMPRODUCT(B$9:B$479,'CIE1931 1-nm'!$B$9:$B$479,Reference!$C$9:$C$479)","v":33.948741472956328},{"$f":"SUMPRODUCT(C$9:C$479,'CIE1931 1-nm'!$B$9:$B$479,Reference!$C$9:$C$479)","v":28.388427398041095},{"$f":"SUMPRODUCT(D$9:D$479,'CIE1931 1-nm'!$B$9:$B$479,Reference!$C$9:$C$479)","v":24.622888545192943},{"$f":"SUMPRODUCT(E$9:E$479,'CIE1931 1-nm'!$B$9:$B$479,Reference!$C$9:$C$479)","v":20.559798588500712},{"$f":"SUMPRODUCT(F$9:F$479,'CIE1931 1-nm'!$B$9:$B$479,Reference!$C$9:$C$479)","v":24.601979117511494},{"$f":"SUMPRODUCT(G$9:G$479,'CIE1931 1-nm'!$B$9:$B$479,Reference!$C$9:$C$479)","v":27.402060695882511},{"$f":"SUMPRODUCT(H$9:H$479,'CIE1931 1-nm'!$B$9:$B$479,Reference!$C$9:$C$479)","v":33.095595219346343},{"$f":"SUMPRODUCT(I$9:I$479,'CIE1931 1-nm'!$B$9:$B$479,Reference!$C$9:$C$479)","v":38.186180629235537},{"$f":"SUMPRODUCT(J$9:J$479,'CIE1931 1-nm'!$B$9:$B$479,Reference!$C$9:$C$479)","v":22.250944144769921},{"$f":"SUMPRODUCT(K$9:K$479,'CIE1931 1-nm'!$B$9:$B$479,Reference!$C$9:$C$479)","v":57.356553489694285},{"$f":"SUMPRODUCT(L$9:L$479,'CIE1931 1-nm'!$B$9:$B$479,Reference!$C$9:$C$479)","v":12.097506291766514},{"$f":"SUMPRODUCT(M$9:M$479,'CIE1931 1-nm'!$B$9:$B$479,Reference!$C$9:$C$479)","v":5.571457345185002},{"$f":"SUMPRODUCT(N$9:N$479,'CIE1931 1-nm'!$B$9:$B$479,Reference!$C$9:$C$479)","v":60.571794983360505},{"$f":"SUMPRODUCT(O$9:O$479,'CIE1931 1-nm'!$B$9:$B$479,Reference!$C$9:$C$479)","v":9.5476548742083249},{"$f":"SUMPRODUCT(P$9:P$479,'CIE1931 1-nm'!$B$9:$B$479,Reference!$C$9:$C$479)","v":36.236856850105255},{"$f":"SUMPRODUCT(Q$9:Q$479,'CIE1931 1-nm'!$B$9:$B$479,Reference!$C$9:$C$479)","v":95.738409730923323},null,{"$f":"SUMPRODUCT(S$9:S$479,'CIE1931 1-nm'!$H$9:$H$479,'CIE1931 1-nm'!$G$9:$G$479)","v":35.512170726697342},{"$f":"SUMPRODUCT(T$9:T$479,'CIE1931 1-nm'!$H$9:$H$479,'CIE1931 1-nm'!$G$9:$G$479)","v":29.460211002119912},{"$f":"SUMPRODUCT(U$9:U$479,'CIE1931 1-nm'!$H$9:$H$479,'CIE1931 1-nm'!$G$9:$G$479)","v":25.313102303940617},{"$f":"SUMPRODUCT(V$9:V$479,'CIE1931 1-nm'!$H$9:$H$479,'CIE1931 1-nm'!$G$9:$G$479)","v":21.141758484506873},{"$f":"SUMPRODUCT(W$9:W$479,'CIE1931 1-nm'!$H$9:$H$479,'CIE1931 1-nm'!$G$9:$G$479)","v":25.628578758805098},{"$f":"SUMPRODUCT(X$9:X$479,'CIE1931 1-nm'!$H$9:$H$479,'CIE1931 1-nm'!$G$9:$G$479)","v":28.895704110190774},{"$f":"SUMPRODUCT(Y$9:Y$479,'CIE1931 1-nm'!$H$9:$H$479,'CIE1931 1-nm'!$G$9:$G$479)","v":35.022656511883689},{"$f":"SUMPRODUCT(Z$9:Z$479,'CIE1931 1-nm'!$H$9:$H$479,'CIE1931 1-nm'!$G$9:$G$479)","v":40.322555773367327},{"$f":"SUMPRODUCT(AA$9:AA$479,'CIE1931 1-nm'!$H$9:$H$479,'CIE1931 1-nm'!$G$9:$G$479)","v":23.541966851084304},{"$f":"SUMPRODUCT(AB$9:AB$479,'CIE1931 1-nm'!$H$9:$H$479,'CIE1931 1-nm'!$G$9:$G$479)","v":59.250307968859097},{"$f":"SUMPRODUCT(AC$9:AC$479,'CIE1931 1-nm'!$H$9:$H$479,'CIE1931 1-nm'!$G$9:$G$479)","v":12.436781365056218},{"$f":"SUMPRODUCT(AD$9:AD$479,'CIE1931 1-nm'!$H$9:$H$479,'CIE1931 1-nm'!$G$9:$G$479)","v":5.8424463808494176},{"$f":"SUMPRODUCT(AE$9:AE$479,'CIE1931 1-nm'!$H$9:$H$479,'CIE1931 1-nm'!$G$9:$G$479)","v":63.122311710588434},{"$f":"SUMPRODUCT(AF$9:AF$479,'CIE1931 1-nm'!$H$9:$H$479,'CIE1931 1-nm'!$G$9:$G$479)","v":9.8346673333514474},{"$f":"SUMPRODUCT(AG$9:AG$479,'CIE1931 1-nm'!$H$9:$H$479,'CIE1931 1-nm'!$G$9:$G$479)","v":37.821936270340032},{"$f":"SUMPRODUCT(AH$9:AH$479,'CIE1931 1-nm'!$H$9:$H$479,'CIE1931 1-nm'!$G$9:$G$479)","v":100.00092375463026}]
["Y = ",{"$f":"SUMPRODUCT(B$9:B$479,'CIE1931 1-nm'!$C$9:$C$479,Reference!$C$9:$C$479)","v":30.192272777649091},{"$f":"SUMPRODUCT(C$9:C$479,'CIE1931 1-nm'!$C$9:$C$479,Reference!$C$9:$C$479)","v":29.154865716872099},{"$f":"SUMPRODUCT(D$9:D$479,'CIE1931 1-nm'!$C$9:$C$479,Reference!$C$9:$C$479)","v":30.523423861131832},{"$f":"SUMPRODUCT(E$9:E$479,'CIE1931 1-nm'!$C$9:$C$479,Reference!$C$9:$C$479)","v":29.169743653929746},{"$f":"SUMPRODUCT(F$9:F$479,'CIE1931 1-nm'!$C$9:$C$479,Reference!$C$9:$C$479)","v":30.456811122174077},{"$f":"SUMPRODUCT(G$9:G$479,'CIE1931 1-nm'!$C$9:$C$479,Reference!$C$9:$C$479)","v":29.362076600147233},{"$f":"SUMPRODUCT(H$9:H$479,'CIE1931 1-nm'!$C$9:$C$479,Reference!$C$9:$C$479)","v":29.377131927815363},{"$f":"SUMPRODUCT(I$9:I$479,'CIE1931 1-nm'!$C$9:$C$479,Reference!$C$9:$C$479)","v":31.644946956198122},{"$f":"SUMPRODUCT(J$9:J$479,'CIE1931 1-nm'!$C$9:$C$479,Reference!$C$9:$C$479)","v":11.9697774242708},{"$f":"SUMPRODUCT(K$9:K$479,'CIE1931 1-nm'!$C$9:$C$479,Reference!$C$9:$C$479)","v":59.784837265810168},{"$f":"SUMPRODUCT(L$9:L$479,'CIE1931 1-nm'!$C$9:$C$479,Reference!$C$9:$C$479)","v":20.005214804825041},{"$f":"SUMPRODUCT(M$9:M$479,'CIE1931 1-nm'!$C$9:$C$479,Reference!$C$9:$C$479)","v":6.0930435314271296},{"$f":"SUMPRODUCT(N$9:N$479,'CIE1931 1-nm'!$C$9:$C$479,Reference!$C$9:$C$479)","v":57.716023332385099},{"$f":"SUMPRODUCT(O$9:O$479,'CIE1931 1-nm'!$C$9:$C$479,Reference!$C$9:$C$479)","v":11.725325852971809},{"$f":"SUMPRODUCT(P$9:P$479,'CIE1931 1-nm'!$C$9:$C$479,Reference!$C$9:$C$479)","v":33.061987718101719},{"$f":"SUMPRODUCT(Q$9:Q$479,'CIE1931 1-nm'!$C$9:$C$479,Reference!$C$9:$C$479)","v":100.00000000000011},null,{"$f":"SUMPRODUCT(S$9:S$479,'CIE1931 1-nm'!$I$9:$I$479,'CIE1931 1-nm'!$G$9:$G$479)","v":30.46588178192928},{"$f":"SUMPRODUCT(T$9:T$479,'CIE1931 1-nm'!$I$9:$I$479,'CIE1931 1-nm'!$G$9:$G$479)","v":29.256676263632386},{"$f":"SUMPRODUCT(U$9:U$479,'CIE1931 1-nm'!$I$9:$I$479,'CIE1931 1-nm'!$G$9:$G$479)","v":30.379934104412538},{"$f":"SUMPRODUCT(V$9:V$479,'CIE1931 1-nm'!$I$9:$I$479,'CIE1931 1-nm'!$G$9:$G$479)","v":28.886097067018056},{"$f":"SUMPRODUCT(W$9:W$479,'CIE1931 1-nm'!$I$9:$I$479,'CIE1931 1-nm'!$G$9:$G$479)","v":30.225225095431483},{"$f":"SUMPRODUCT(X$9:X$479,'CIE1931 1-nm'!$I$9:$I$479,'CIE1931 1-nm'!$G$9:$G$479)","v":29.223413936275609},{"$f":"SUMPRODUCT(Y$9:Y$479,'CIE1931 1-nm'!$I$9:$I$479,'CIE1931 1-nm'!$G$9:$G$479)","v":29.492187327917073},{"$f":"SUMPRODUCT(Z$9:Z$479,'CIE1931 1-nm'!$I$9:$I$479,'CIE1931 1-nm'!$G$9:$G$479)","v":31.925143562640564},{"$f":"SUMPRODUCT(AA$9:AA$479,'CIE1931 1-nm'!$I$9:$I$479,'CIE1931 1-nm'!$G$9:$G$479)","v":12.443969773157461},{"$f":"SUMPRODUCT(AB$9:AB$479,'CIE1931 1-nm'!$I$9:$I$479,'CIE1931 1-nm'!$G$9:$G$479)","v":59.985879542817109},{"$f":"SUMPRODUCT(AC$9:AC$479,'CIE1931 1-nm'!$I$9:$I$479,'CIE1931 1-nm'!$G$9:$G$479)","v":19.72221246024883},{"$f":"SUMPRODUCT(AD$9:AD$479,'CIE1931 1-nm'!$I$9:$I$479,'CIE1931 1-nm'!$G$9:$G$479)","v":6.0082718943220152},{"$f":"SUMPRODUCT(AE$9:AE$479,'CIE1931 1-nm'!$I$9:$I$479,'CIE1931 1-nm'!$G$9:$G$479)","v":58.080987695757969},{"$f":"SUMPRODUCT(AF$9:AF$479,'CIE1931 1-nm'!$I$9:$I$479,'CIE1931 1-nm'!$G$9:$G$479)","v":11.665675662775469},{"$f":"SUMPRODUCT(AG$9:AG$479,'CIE1931 1-nm'!$I$9:$I$479,'CIE1931 1-nm'!$G$9:$G$479)","v":33.308850350519087},{"$f":"SUMPRODUCT(AH$9:AH$479,'CIE1931 1-nm'!$I$9:$I$479,'CIE1931 1-nm'!$G$9:$G$479)","v":99.999999999999986}]
["Z = ",{"$f":"SUMPRODUCT(B$9:B$479,'CIE1931 1-nm'!$D$9:$D$479,Reference!$C$9:$C$479)","v":20.511422816314159},{"$f":"SUMPRODUCT(C$9:C$479,'CIE1931 1-nm'!$D$9:$D$479,Reference!$C$9:$C$479)","v":12.607918411388702},{"$f":"SUMPRODUCT(D$9:D$479,'CIE1931 1-nm'!$D$9:$D$479,Reference!$C$9:$C$479)","v":8.4562688079251807},{"$f":"SUMPRODUCT(E$9:E$479,'CIE1931 1-nm'!$D$9:$D$479,Reference!$C$9:$C$479)","v":18.13617173522006},{"$f":"SUMPRODUCT(F$9:F$479,'CIE1931 1-nm'!$D$9:$D$479,Reference!$C$9:$C$479)","v":33.952617695357304},{"$f":"SUMPRODUCT(G$9:G$479,'CIE1931 1-nm'!$D$9:$D$479,Reference!$C$9:$C$479)","v":48.370414422341959},{"$f":"SUMPRODUCT(H$9:H$479,'CIE1931 1-nm'!$D$9:$D$479,Reference!$C$9:$C$479)","v":44.209389068241464},{"$f":"SUMPRODUCT(I$9:I$479,'CIE1931 1-nm'!$D$9:$D$479,Reference!$C$9:$C$479)","v":37.765370553371262},{"$f":"SUMPRODUCT(J$9:J$479,'CIE1931 1-nm'!$D$9:$D$479,Reference!$C$9:$C$479)","v":3.6029954621388782},{"$f":"SUMPRODUCT(K$9:K$479,'CIE1931 1-nm'!$D$9:$D$479,Reference!$C$9:$C$479)","v":10.324998442006807},{"$f":"SUMPRODUCT(L$9:L$479,'CIE1931 1-nm'!$D$9:$D$479,Reference!$C$9:$C$479)","v":13.087769160220555},{"$f":"SUMPRODUCT(M$9:M$479,'CIE1931 1-nm'!$D$9:$D$479,Reference!$C$9:$C$479)","v":23.328196162191439},{"$f":"SUMPRODUCT(N$9:N$479,'CIE1931 1-nm'!$D$9:$D$479,Reference!$C$9:$C$479)","v":34.715912575698546},{"$f":"SUMPRODUCT(O$9:O$479,'CIE1931 1-nm'!$D$9:$D$479,Reference!$C$9:$C$479)","v":4.5672435356431729},{"$f":"SUMPRODUCT(P$9:P$479,'CIE1931 1-nm'!$D$9:$D$479,Reference!$C$9:$C$479)","v":20.700854154919814},{"$f":"SUMPRODUCT(Q$9:Q$479,'CIE1931 1-nm'!$D$9:$D$479,Reference!$C$9:$C$479)","v":91.256328188425428},null,{"$f":"SUMPRODUCT(S$9:S$479,'CIE1931 1-nm'!$J$9:$J$479,'CIE1931 1-nm'!$G$9:$G$479)","v":22.597059131287097},{"$f":"SUMPRODUCT(T$9:T$479,'CIE1931 1-nm'!$J$9:$J$479,'CIE1931 1-nm'!$G$9:$G$479)","v":13.639216461485063},{"$f":"SUMPRODUCT(U$9:U$479,'CIE1931 1-nm'!$J$9:$J$479,'CIE1931 1-nm'!$G$9:$G$479)","v":9.0550567443695105},{"$f":"SUMPRODUCT(V$9:V$479,'CIE1931 1-nm'!$J$9:$J$479,'CIE1931 1-nm'!$G$9:$G$479)","v":19.225096410284671},{"$f":"SUMPRODUCT(W$9:W$479,'CIE1931 1-nm'!$J$9:$J$479,'CIE1931 1-nm'!$G$9:$G$479)","v":36.837555927994131},{"$f":"SUMPRODUCT(X$9:X$479,'CIE1931 1-nm'!$J$9:$J$479,'CIE1931 1-nm'!$G$9:$G$479)","v":52.967119121701849},{"$f":"SUMPRODUCT(Y$9:Y$479,'CIE1931 1-nm'!$J$9:$J$479,'CIE1931 1-nm'!$G$9:$G$479)","v":49.130565754665277},{"$f":"SUMPRODUCT(Z$9:Z$479,'CIE1931 1-nm'!$J$9:$J$479,'CIE1931 1-nm'!$G$9:$G$479)","v":41.92306821154682},{"$f":"SUMPRODUCT(AA$9:AA$479,'CIE1931 1-nm'!$J$9:$J$479,'CIE1931 1-nm'!$G$9:$G$479)","v":4.0331065849212262},{"$f":"SUMPRODUCT(AB$9:AB$479,'CIE1931 1-nm'!$J$9:$J$479,'CIE1931 1-nm'!$G$9:$G$479)","v":10.879952682097249},{"$f":"SUMPRODUCT(AC$9:AC$479,'CIE1931 1-nm'!$J$9:$J$479,'CIE1931 1-nm'!$G$9:$G$479)","v":13.956399011987637},{"$f":"SUMPRODUCT(AD$9:AD$479,'CIE1931 1-nm'!$J$9:$J$479,'CIE1931 1-nm'!$G$9:$G$479)","v":24.447211992768839},{"$f":"SUMPRODUCT(AE$9:AE$479,'CIE1931 1-nm'!$J$9:$J$479,'CIE1931 1-nm'!$G$9:$G$479)","v":37.806895796821806},{"$f":"SUMPRODUCT(AF$9:AF$479,'CIE1931 1-nm'!$J$9:$J$479,'CIE1931 1-nm'!$G$9:$G$479)","v":4.9284387020116931},{"$f":"SUMPRODUCT(AG$9:AG$479,'CIE1931 1-nm'!$J$9:$J$479,'CIE1931 1-nm'!$G$9:$G$479)","v":22.268020364983418},{"$f":"SUMPRODUCT(AH$9:AH$479,'CIE1931 1-nm'!$J$9:$J$479,'CIE1931 1-nm'!$G$9:$G$479)","v":100.00099394381151}]
["CIE Publication 13.3 - 1995","Spectral Radiance Factors of the CIE-1974 test-colour samples as specified in Tables 1 & 2 of CIE13.3-1995, linearly interpolated according to clause 5.4"]
[null,"7.5  R 6/4","5  Y6/4","5 GY 6/8","2.5 G 6/6","10 BG 6/4","5 PB 6/8","2.5 P 6/8","10 P 6/8","4.5 R 4/13","5 Y 8/10","4.5 G 5/8","3 PB 3/11","5 YR 8/4","5 GY 4/4",{"$f":"'Additional TCS'!B2","v":"1 YR 6/4"},null,null,"7.5  R 6/4","5  Y6/4","5 GY 6/8","2.5 G 6/6","10 BG 6/4","5 PB 6/8","2.5 P 6/8","10 P 6/8","4.5 R 4/13","5 Y 8/10","4.5 G 5/8","3 PB 3/11","5 YR 8/4","5 GY 4/4"]
[null,"light greyish red","Dark greyish yellow","Strong yellow green","Moderate yellowish green","Light bluish green","Light blue","Light violet","Light reddish purple","Strong red","Strong yellow","Strong green","Strong blue","Light yellowish pink","Moderate olive green",{"$f":"'Additional TCS'!B3","v":"Japanese Skin Complexion"},null,null,"light greyish red","Dark greyish yellow","Strong yellow green","Moderate yellowish green","Light bluish green","Light blue","Light violet","Light reddish purple","Strong red","Strong yellow","Strong green","Strong blue","Light yellowish pink","Moderate olive green","Japanese Skin Complexion"]
["Wavelength (nm)","TCS01","TCS02","TCS03","TCS04","TCS05","TCS06","TCS07","TCS08","TCS09","TCS10","TCS11","TCS12","TCS13","TCS14",{"$f":"'Additional TCS'!B4","v":"TCS15"},"White","WL","TCS01","TCS02","TCS03","TCS04","TCS05","TCS06","TCS07","TCS08","TCS09","TCS10","TCS11","TCS12","TCS13","TCS14","TCS15","White"]
[360,0.11600000000000001,5.2999999999999999E-2,5.8000000000000003E-2,5.7000000000000002E-2,0.14299999999999999,7.9000000000000001E-2,0.15,7.4999999999999997E-2,6.9000000000000006E-2,4.2000000000000003E-2,7.3999999999999996E-2,0.189,7.0999999999999994E-2,3.5999999999999997E-2,{"$f":"'Additional TCS'!B5","v":0.13100000000000001},1,{"$f":"IF(AND('Input - Output'!A10>=360,'Input - Output'!A10<=830),'Input - Output'!A10,\"\")","v":380},{"$f":"IF($R9<>\"\",TREND(OFFSET(B$9,MATCH($R9,$A$9:$A$485)-1,,2),OFFSET($A$9,MATCH($R9,$A$9:$A$485)-1,,2),$R9),\"\")","v":0.21900000000000008},{"$f":"IF($R9<>\"\",TREND(OFFSET(C$9,MATCH($R9,$A$9:$A$485)-1,,2),OFFSET($A$9,MATCH($R9,$A$9:$A$485)-1,,2),$R9),\"\")","v":6.9999999999999951E-2},6.5000000000000002E-2,7.3999999999999955E-2,0.29500000000000004,0.15100000000000025,0.37800000000000011,0.10400000000000009,6.6000000000000003E-2,4.9999999999999989E-2,0.11099999999999999,0.12000000000000011,0.10400000000000009,3.5999999999999997E-2,0.13100000000000001,1]
[361,0.12,5.3400000000000003E-2,5.8200000000000002E-2,5.74E-2,0.15179999999999999,7.9399999999999998E-2,0.15540000000000001,7.5600000000000001E-2,6.9599999999999995E-2,4.2200000000000001E-2,7.4999999999999997E-2,0.1862,7.1999999999999995E-2,3.5999999999999997E-2,{"$f":"'Additional TCS'!B6","v":0.13100000000000001},1,{"$f":"IF(AND('Input - Output'!A11>=360,'Input - Output'!A11<=830),'Input - Output'!A11,\"\")","v":385},{"$f":"IF($R10<>\"\",TREND(OFFSET(B$9,MATCH($R10,$A$9:$A$485)-1,,2),OFFSET($A$9,MATCH($R10,$A$9:$A$485)-1,,2),$R10),\"\")","v":0.23899999999999988},{"$f":"IF($R10<>\"\",TREND(OFFSET(C$9,MATCH($R10,$A$9:$A$485)-1,,2),OFFSET($A$9,MATCH($R10,$A$9:$A$485)-1,,2),$R10),\"\")","v":7.8999999999999959E-2},{"$f":"IF($R10<>\"\",TREND(OFFSET(D$9,MATCH($R10,$A$9:$A$485)-1,,2),OFFSET($A$9,MATCH($R10,$A$9:$A$485)-1,,2),$R10),\"\")","v":6.8000000000000005E-2},{"$f":"IF($R10<>\"\",TREND(OFFSET(E$9,MATCH($R10,$A$9:$A$485)-1,,2),OFFSET($A$9,MATCH($R10,$A$9:$A$485)-1,,2),$R10),\"\")","v":8.2999999999999963E-2},{"$f":"IF($R10<>\"\",TREND(OFFSET(F$9,MATCH($R10,$A$9:$A$485)-1,,2),OFFSET($A$9,MATCH($R10,$A$9:$A$485)-1,,2),$R10),\"\")","v":0.30599999999999999},{"$f":"IF($R10<>\"\",TREND(OFFSET(G$9,MATCH($R10,$A$9:$A$485)-1,,2),OFFSET($A$9,MATCH($R10,$A$9:$A$485)-1,,2),$R10),\"\")","v":0.20300000000000029},{"$f":"IF($R10<>\"\",TREND(OFFSET(H$9,MATCH($R10,$A$9:$A$485)-1,,2),OFFSET($A$9,MATCH($R10,$A$9:$A$485)-1,,2),$R10),\"\")","v":0.45900000000000052},{"$f":"IF($R10<>\"\",TREND(OFFSET(I$9,MATCH($R10,$A$9:$A$485)-1,,2),OFFSET($A$9,MATCH($R10,$A$9:$A$485)-1,,2),$R10),\"\")","v":0.129},{"$f":"IF($R10<>\"\",TREND(OFFSET(J$9,MATCH($R10,$A$9:$A$485)-1,,2),OFFSET($A$9,MATCH($R10,$A$9:$A$485)-1,,2),$R10),\"\")","v":6.2E-2},{"$f":"IF($R10<>\"\",TREND(OFFSET(K$9,MATCH($R10,$A$9:$A$485)-1,,2),OFFSET($A$9,MATCH($R10,$A$9:$A$485)-1,,2),$R10),\"\")","v":5.3999999999999992E-2},{"$f":"IF($R10<>\"\",TREND(OFFSET(L$9,MATCH($R10,$A$9:$A$485)-1,,2),OFFSET($A$9,MATCH($R10,$A$9:$A$485)-1,,2),$R10),\"\")","v":0.12099999999999994},{"$f":"IF($R10<>\"\",TREND(OFFSET(M$9,MATCH($R10,$A$9:$A$485)-1,,2),OFFSET($A$9,MATCH($R10,$A$9:$A$485)-1,,2),$R10),\"\")","v":0.10299999999999998},{"$f":"IF($R10<>\"\",TREND(OFFSET(N$9,MATCH($R10,$A$9:$A$485)-1,,2),OFFSET($A$9,MATCH($R10,$A$9:$A$485)-1,,2),$R10),\"\")","v":0.12699999999999978},{"$f":"IF($R10<>\"\",TREND(OFFSET(O$9,MATCH($R10,$A$9:$A$485)-1,,2),OFFSET($A$9,MATCH($R10,$A$9:$A$485)-1,,2),$R10),\"\")","v":3.5999999999999997E-2},{"$f":"IF($R10<>\"\",TREND(OFFSET(P$9,MATCH($R10,$A$9:$A$485)-1,,2),OFFSET($A$9,MATCH($R10,$A$9:$A$485)-1,,2),$R10),\"\")","v":0.13900000000000001},{"$f":"IF($R10<>\"\",TREND(OFFSET(Q$9,MATCH($R10,$A$9:$A$485)-1,,2),OFFSET($A$9,MATCH($R10,$A$9:$A$485)-1,,2),$R10),\"\")","v":1}]
[362,0.124,5.3800000000000001E-2,5.8400000000000001E-2,5.7799999999999997E-2,0.16059999999999999,7.9799999999999996E-2,0.1608,7.6200000000000004E-2,7.0199999999999999E-2,4.24E-2,7.5999999999999998E-2,0.18340000000000001,7.2999999999999995E-2,3.5999999999999997E-2,{"$f":"'Additional TCS'!B7","v":0.13100000000000001},1,{"$f":"IF(AND('Input - Output'!A12>=360,'Input - Output'!A12<=830),'Input - Output'!A12,\"\")","v":390},0.252,8.8999999999999968E-2,7.0000000000000007E-2,9.2999999999999972E-2,0.31000000000000005,0.26500000000000057,0.52400000000000002,0.16999999999999993,5.7999999999999968E-2,5.8999999999999997E-2,0.127,8.9999999999999969E-2,0.16099999999999959,3.6999999999999991E-2,0.14699999999999996,1]
[363,0.128,5.4199999999999998E-2,5.8599999999999999E-2,5.8200000000000002E-2,0.1694,8.0199999999999994E-2,0.16619999999999999,7.6799999999999993E-2,7.0800000000000002E-2,4.2599999999999999E-2,7.6999999999999999E-2,0.18060000000000001,7.3999999999999996E-2,3.5999999999999997E-2,{"$f":"'Additional TCS'!B8","v":0.13100000000000001},1,{"$f":"IF(AND('Input - Output'!A13>=360,'Input - Output'!A13<=830),'Input - Output'!A13,\"\")","v":395},0.25600000000000001,0.10099999999999998,7.1999999999999995E-2,0.10499999999999998,0.312,0.33900000000000041,0.54600000000000004,0.24000000000000021,5.4999999999999993E-2,6.3E-2,0.129,8.1999999999999962E-2,0.21099999999999985,3.7999999999999992E-2,0.153,1]
[364,0.13200000000000001,5.4600000000000003E-2,5.8799999999999998E-2,5.8599999999999999E-2,0.1782,8.0600000000000005E-2,0.1716,7.7399999999999997E-2,7.1400000000000005E-2,4.2799999999999998E-2,7.8E-2,0.17780000000000001,7.4999999999999997E-2,3.5999999999999997E-2,{"$f":"'Additional TCS'!B9","v":0.13100000000000001},1,{"$f":"IF(AND('Input - Output'!A14>=360,'Input - Output'!A14<=830),'Input - Output'!A14,\"\")","v":400},0.25600000000000006,0.11099999999999999,7.2999999999999995E-2,0.11599999999999999,0.31300000000000006,0.41000000000000014,0.55100000000000005,0.31899999999999906,5.1999999999999998E-2,6.5999999999999989E-2,0.127,7.6000000000000068E-2,0.26399999999999979,3.9E-2,0.158,1]
[365,0.13600000000000001,5.5E-2,5.8999999999999997E-2,5.8999999999999997E-2,0.187,8.1000000000000003E-2,0.17699999999999999,7.8E-2,7.1999999999999995E-2,4.2999999999999997E-2,7.9000000000000001E-2,0.17499999999999999,7.5999999999999998E-2,3.5999999999999997E-2,{"$f":"'Additional TCS'!B10","v":0.13100000000000001},1,{"$f":"IF(AND('Input - Output'!A15>=360,'Input - Output'!A15<=830),'Input - Output'!A15,\"\")","v":405},0.254,0.11599999999999999,7.2999999999999995E-2,0.12099999999999997,0.315,0.46400000000000041,0.55500000000000005,0.41599999999999948,5.2000000000000018E-2,6.699999999999999E-2,0.12099999999999994,6.8000000000000005E-2,0.31300000000000017,3.8999999999999993E-2,0.16200000000000001,1]
[366,0.1406,5.5800000000000002E-2,5.9400000000000001E-2,5.96E-2,0.19620000000000001,8.2600000000000007E-2,0.1852,7.9200000000000007E-2,7.22E-2,4.3400000000000001E-2,8.0399999999999999E-2,0.1716,7.7200000000000005E-2,3.5999999999999997E-2,{"$f":"'Additional TCS'!B11","v":0.13100000000000001},1,{"$f":"IF(AND('Input - Output'!A16>=360,'Input - Output'!A16<=830),'Input - Output'!A16,\"\")","v":410},0.252,0.11799999999999999,7.3999999999999996E-2,0.124,0.31900000000000006,0.49199999999999999,0.55900000000000005,0.46199999999999997,5.1000000000000004E-2,6.7999999999999991E-2,0.11600000000000005,6.3999999999999987E-2,0.34099999999999997,3.9999999999999994E-2,0.16400000000000001,1]
[367,0.1452,5.6599999999999998E-2,5.9799999999999999E-2,6.0199999999999997E-2,0.2054,8.4199999999999997E-2,0.19339999999999999,8.0399999999999999E-2,7.2400000000000006E-2,4.3799999999999999E-2,8.1799999999999998E-2,0.16819999999999999,7.8399999999999997E-2,3.5999999999999997E-2,{"$f":"'Additional TCS'!B12","v":0.13100000000000001},1,{"$f":"IF(AND('Input - Output'!A17>=360,'Input - Output'!A17<=830),'Input - Output'!A17,\"\")","v":415},0.24799999999999994,0.12,7.3999999999999996E-2,0.126,0.32200000000000001,0.50800000000000001,0.56000000000000005,0.48199999999999998,0.05,6.9000000000000006E-2,0.11200000000000004,6.5000000000000058E-2,0.35199999999999998,4.0999999999999995E-2,0.16700000000000004,1]
[368,0.14979999999999999,5.74E-2,6.0199999999999997E-2,6.08E-2,0.21460000000000001,8.5800000000000001E-2,0.2016,8.1600000000000006E-2,7.2599999999999998E-2,4.4200000000000003E-2,8.3199999999999996E-2,0.1648,7.9600000000000004E-2,3.5999999999999997E-2,{"$f":"'Additional TCS'!B13","v":0.13100000000000001},1,{"$f":"IF(AND('Input - Output'!A18>=360,'Input - Output'!A18<=830),'Input - Output'!A18,\"\")","v":420},0.24399999999999999,0.121,7.3999999999999982E-2,0.12800000000000003,0.32600000000000001,0.51700000000000013,0.56099999999999994,0.49000000000000005,5.0000000000000017E-2,6.8999999999999992E-2,0.10800000000000004,7.5000000000000178E-2,0.35899999999999999,4.2000000000000003E-2,0.17000000000000004,1]
[369,0.15440000000000001,5.8200000000000002E-2,6.0600000000000001E-2,6.1400000000000003E-2,0.2238,8.7400000000000005E-2,0.20979999999999999,8.2799999999999999E-2,7.2800000000000004E-2,4.4600000000000001E-2,8.4599999999999995E-2,0.16139999999999999,8.0799999999999997E-2,3.5999999999999997E-2,{"$f":"'Additional TCS'!B14","v":0.13100000000000001},1,{"$f":"IF(AND('Input - Output'!A19>=360,'Input - Output'!A19<=830),'Input - Output'!A19,\"\")","v":425},0.24000000000000005,0.122,7.2999999999999995E-2,0.13100000000000001,0.33,0.52400000000000002,0.55800000000000005,0.4880000000000001,4.8999999999999988E-2,7.0000000000000007E-2,0.105,9.2999999999999972E-2,0.36099999999999993,4.1999999999999996E-2,0.17499999999999993,1]
[370,0.159,5.8999999999999997E-2,6.0999999999999999E-2,6.2E-2,0.23300000000000001,8.8999999999999996E-2,0.218,8.4000000000000005E-2,7.2999999999999995E-2,4.4999999999999998E-2,8.5999999999999993E-2,0.158,8.2000000000000003E-2,3.5999999999999997E-2,{"$f":"'Additional TCS'!B15","v":0.13100000000000001},1,{"$f":"IF(AND('Input - Output'!A20>=360,'Input - Output'!A20<=830),'Input - Output'!A20,\"\")","v":430},0.23699999999999993,0.122,7.2999999999999995E-2,0.13500000000000006,0.33400000000000002,0.53100000000000014,0.55600000000000005,0.48199999999999998,4.7999999999999987E-2,7.1999999999999995E-2,0.104,0.12299999999999978,0.36399999999999999,4.2999999999999997E-2,0.18199999999999994,1]
[371,0.16520000000000001,0.06,6.1400000000000003E-2,6.3E-2,0.2402,9.3799999999999994E-2,0.23300000000000001,8.5199999999999998E-2,7.2400000000000006E-2,4.5400000000000003E-2,8.8400000000000006E-2,0.1542,8.3599999999999994E-2,3.5999999999999997E-2,{"$f":"'Additional TCS'!B16","v":0.13100000000000001},1,{"$f":"IF(AND('Input - Output'!A21>=360,'Input - Output'!A21<=830),'Input - Output'!A21,\"\")","v":435},0.23200000000000001,0.122,7.2999999999999995E-2,0.13900000000000001,0.33900000000000008,0.53799999999999992,0.55099999999999993,0.47300000000000009,4.7E-2,7.3000000000000037E-2,0.104,0.15999999999999925,0.36499999999999999,4.3999999999999997E-2,0.19200000000000006,1]
[372,0.1714,6.0999999999999999E-2,6.1800000000000001E-2,6.4000000000000001E-2,0.24740000000000001,9.8599999999999993E-2,0.248,8.6400000000000005E-2,7.1800000000000003E-2,4.58E-2,9.0800000000000006E-2,0.15040000000000001,8.5199999999999998E-2,3.5999999999999997E-2,{"$f":"'Additional TCS'!B17","v":0.13100000000000001},1,{"$f":"IF(AND('Input - Output'!A22>=360,'Input - Output'!A22<=830),'Input - Output'!A22,\"\")","v":440},0.23000000000000004,0.123,7.2999999999999995E-2,0.14399999999999996,0.34599999999999997,0.54400000000000004,0.54400000000000015,0.46200000000000019,4.5999999999999985E-2,7.6000000000000012E-2,0.105,0.20699999999999985,0.36699999999999999,4.3999999999999997E-2,0.20299999999999996,1]
[373,0.17760000000000001,6.2E-2,6.2199999999999998E-2,6.5000000000000002E-2,0.25459999999999999,0.10340000000000001,0.26300000000000001,8.7599999999999997E-2,7.1199999999999999E-2,4.6199999999999998E-2,9.3200000000000005E-2,0.14660000000000001,8.6800000000000002E-2,3.5999999999999997E-2,{"$f":"'Additional TCS'!B18","v":0.13100000000000001},1,{"$f":"IF(AND('Input - Output'!A23>=360,'Input - Output'!A23<=830),'Input - Output'!A23,\"\")","v":445},0.22600000000000003,0.12399999999999997,7.2999999999999995E-2,0.15100000000000002,0.35199999999999998,0.55100000000000016,0.53499999999999992,0.45000000000000018,4.4000000000000011E-2,7.8000000000000014E-2,0.10599999999999998,0.25599999999999978,0.36899999999999994,4.4999999999999998E-2,0.21200000000000008,1]
[374,0.18379999999999999,6.3E-2,6.2600000000000003E-2,6.6000000000000003E-2,0.26179999999999998,0.1082,0.27800000000000002,8.8800000000000004E-2,7.0599999999999996E-2,4.6600000000000003E-2,9.5600000000000004E-2,0.14280000000000001,8.8400000000000006E-2,3.5999999999999997E-2,{"$f":"'Additional TCS'!B19","v":0.13100000000000001},1,{"$f":"IF(AND('Input - Output'!A24>=360,'Input - Output'!A24<=830),'Input - Output'!A24,\"\")","v":450},0.22500000000000003,0.127,7.3999999999999996E-2,0.16099999999999992,0.36,0.55600000000000005,0.5219999999999998,0.43900000000000006,4.1999999999999996E-2,8.3000000000000018E-2,0.10999999999999999,0.30000000000000027,0.372,4.5000000000000012E-2,0.22099999999999997,1]
[375,0.19,6.4000000000000001E-2,6.3E-2,6.7000000000000004E-2,0.26900000000000002,0.113,0.29299999999999998,0.09,7.0000000000000007E-2,4.7E-2,9.8000000000000004E-2,0.13900000000000001,0.09,3.5999999999999997E-2,{"$f":"'Additional TCS'!B20","v":0.13100000000000001},1,{"$f":"IF(AND('Input - Output'!A25>=360,'Input - Output'!A25<=830),'Input - Output'!A25,\"\")","v":455},0.222,0.12799999999999997,7.4999999999999983E-2,0.17199999999999993,0.36900000000000011,0.55600000000000005,0.50599999999999978,0.42599999999999971,4.0999999999999981E-2,8.8000000000000078E-2,0.11499999999999999,0.33099999999999996,0.374,4.5999999999999999E-2,0.22899999999999993,1]
[376,0.1958,6.5199999999999994E-2,6.3399999999999998E-2,6.8400000000000002E-2,0.2742,0.1206,0.31,9.2799999999999994E-2,6.9199999999999998E-2,4.7600000000000003E-2,0.10059999999999999,0.13519999999999999,9.2799999999999994E-2,3.5999999999999997E-2,{"$f":"'Additional TCS'!B21","v":0.13100000000000001},1,{"$f":"IF(AND('Input - Output'!A26>=360,'Input - Output'!A26<=830),'Input - Output'!A26,\"\")","v":460},0.22,0.13100000000000003,7.6999999999999985E-2,0.18599999999999994,0.38099999999999989,0.55400000000000005,0.48800000000000021,0.41299999999999981,3.8000000000000034E-2,9.4999999999999973E-2,0.12300000000000011,0.34599999999999997,0.376,4.7000000000000014E-2,0.23599999999999993,1]
[377,0.2016,6.6400000000000001E-2,6.3799999999999996E-2,6.9800000000000001E-2,0.27939999999999998,0.12820000000000001,0.32700000000000001,9.5600000000000004E-2,6.8400000000000002E-2,4.82E-2,0.1032,0.13139999999999999,9.5600000000000004E-2,3.5999999999999997E-2,{"$f":"'Additional TCS'!B22","v":0.13100000000000001},1,{"$f":"IF(AND('Input - Output'!A27>=360,'Input - Output'!A27<=830),'Input - Output'!A27,\"\")","v":465},0.218,0.13400000000000001,8.0000000000000016E-2,0.20499999999999963,0.39400000000000002,0.54900000000000004,0.46899999999999986,0.39700000000000002,3.5000000000000003E-2,0.10299999999999998,0.1339999999999999,0.34700000000000009,0.379,4.7999999999999987E-2,0.24299999999999994,1]
[378,0.2074,6.7599999999999993E-2,6.4199999999999993E-2,7.1199999999999999E-2,0.28460000000000002,0.1358,0.34399999999999997,9.8400000000000001E-2,6.7599999999999993E-2,4.8800000000000003E-2,0.10580000000000001,0.12759999999999999,9.8400000000000001E-2,3.5999999999999997E-2,{"$f":"'Additional TCS'!B23","v":0.13100000000000001},1,{"$f":"IF(AND('Input - Output'!A28>=360,'Input - Output'!A28<=830),'Input - Output'!A28,\"\")","v":470},0.21599999999999994,0.13800000000000001,8.4999999999999964E-2,0.22900000000000009,0.40300000000000008,0.54099999999999993,0.44799999999999995,0.38200000000000012,3.3000000000000002E-2,0.11299999999999999,0.14799999999999991,0.34099999999999997,0.38400000000000001,4.9999999999999989E-2,0.249,1]
[379,0.2132,6.88E-2,6.4600000000000005E-2,7.2599999999999998E-2,0.2898,0.1434,0.36099999999999999,0.1012,6.6799999999999998E-2,4.9399999999999999E-2,0.1084,0.12379999999999999,0.1012,3.5999999999999997E-2,{"$f":"'Additional TCS'!B24","v":0.13100000000000001},1,{"$f":"IF(AND('Input - Output'!A29>=360,'Input - Output'!A29<=830),'Input - Output'!A29,\"\")","v":475},0.214,0.1429999999999999,9.3999999999999861E-2,0.254,0.41,0.53100000000000014,0.42899999999999983,0.36599999999999988,3.1000000000000014E-2,0.125,0.16700000000000026,0.32800000000000029,0.38900000000000001,5.2000000000000046E-2,0.254,1]
[380,0.219,7.0000000000000007E-2,6.5000000000000002E-2,7.3999999999999996E-2,0.29499999999999998,0.151,0.378,0.104,6.6000000000000003E-2,0.05,0.111,0.12,0.104,3.5999999999999997E-2,{"$f":"'Additional TCS'!B25","v":0.13100000000000001},1,{"$f":"IF(AND('Input - Output'!A30>=360,'Input - Output'!A30<=830),'Input - Output'!A30,\"\")","v":480},0.214,0.15000000000000002,0.10899999999999999,0.28100000000000014,0.41499999999999998,0.51900000000000013,0.40799999999999992,0.35200000000000009,3.0000000000000013E-2,0.1419999999999999,0.19200000000000017,0.30699999999999994,0.39700000000000002,5.4999999999999993E-2,0.25900000000000001,1]
[381,0.223,7.1800000000000003E-2,6.5600000000000006E-2,7.5800000000000006E-2,0.29720000000000002,0.16139999999999999,0.39419999999999999,0.109,6.5199999999999994E-2,5.0799999999999998E-2,0.113,0.1166,0.1086,3.5999999999999997E-2,{"$f":"'Additional TCS'!B26","v":0.13260000000000005},1,{"$f":"IF(AND('Input - Output'!A31>=360,'Input - Output'!A31<=830),'Input - Output'!A31,\"\")","v":485},0.214,0.15900000000000003,0.12599999999999989,0.30799999999999983,0.41800000000000004,0.504,0.38499999999999979,0.33700000000000019,2.8999999999999984E-2,0.16199999999999992,0.21900000000000031,0.28200000000000003,0.40500000000000014,5.6999999999999995E-2,0.26400000000000001,1]
[382,0.22700000000000001,7.3599999999999999E-2,6.6199999999999995E-2,7.7600000000000002E-2,0.2994,0.17180000000000001,0.41039999999999999,0.114,6.4399999999999999E-2,5.16E-2,0.115,0.1132,0.1132,3.5999999999999997E-2,{"$f":"'Additional TCS'!B27","v":0.1342000000000001},1,{"$f":"IF(AND('Input - Output'!A32>=360,'Input - Output'!A32<=830),'Input - Output'!A32,\"\")","v":490},0.216,0.17399999999999993,0.14800000000000013,0.33200000000000007,0.41899999999999993,0.48799999999999999,0.36300000000000043,0.32499999999999996,2.8000000000000001E-2,0.18900000000000006,0.25200000000000022,0.25699999999999967,0.41599999999999993,6.2E-2,0.26899999999999996,1]
[383,0.23100000000000001,7.5399999999999995E-2,6.6799999999999998E-2,7.9399999999999998E-2,0.30159999999999998,0.1822,0.42659999999999998,0.11899999999999999,6.3600000000000004E-2,5.2400000000000002E-2,0.11700000000000001,0.10979999999999999,0.1178,3.5999999999999997E-2,{"$f":"'Additional TCS'!B28","v":0.13580000000000003},1,{"$f":"IF(AND('Input - Output'!A33>=360,'Input - Output'!A33<=830),'Input - Output'!A33,\"\")","v":495},0.21799999999999997,0.18999999999999995,0.17200000000000015,0.35199999999999987,0.41699999999999993,0.46899999999999986,0.34099999999999997,0.30999999999999983,2.8000000000000001E-2,0.21899999999999942,0.29099999999999993,0.22999999999999954,0.42899999999999994,6.6999999999999948E-2,0.27600000000000002,1]
[384,0.23499999999999999,7.7200000000000005E-2,6.7400000000000002E-2,8.1199999999999994E-2,0.30380000000000001,0.19259999999999999,0.44280000000000003,0.124,6.2799999999999995E-2,5.3199999999999997E-2,0.11899999999999999,0.10639999999999999,0.12239999999999999,3.5999999999999997E-2,{"$f":"'Additional TCS'!B29","v":0.13740000000000008},1,{"$f":"IF(AND('Input - Output'!A34>=360,'Input - Output'!A34<=830),'Input - Output'!A34,\"\")","v":500},0.22300000000000003,0.20699999999999985,0.19799999999999951,0.36999999999999988,0.41299999999999987,0.45000000000000018,0.32400000000000007,0.29899999999999993,2.7999999999999997E-2,0.26199999999999957,0.32499999999999973,0.20400000000000018,0.44299999999999984,7.4999999999999956E-2,0.28399999999999992,1]
[385,0.23899999999999999,7.9000000000000001E-2,6.8000000000000005E-2,8.3000000000000004E-2,0.30599999999999999,0.20300000000000001,0.45900000000000002,0.129,6.2E-2,5.3999999999999999E-2,0.121,0.10299999999999999,0.127,3.5999999999999997E-2,{"$f":"'Additional TCS'!B30","v":0.13900000000000001},1,{"$f":"IF(AND('Input - Output'!A35>=360,'Input - Output'!A35<=830),'Input - Output'!A35,\"\")","v":505},0.22500000000000003,0.22500000000000031,0.22100000000000031,0.38300000000000001,0.40900000000000014,0.43099999999999983,0.31099999999999994,0.28900000000000003,2.8999999999999998E-2,0.30499999999999972,0.34699999999999998,0.17799999999999994,0.45399999999999996,8.2999999999999963E-2,0.29099999999999998,1]
[386,0.24160000000000001,8.1000000000000003E-2,6.8400000000000002E-2,8.5000000000000006E-2,0.30680000000000002,0.21540000000000001,0.47199999999999998,0.13719999999999999,6.1199999999999997E-2,5.5E-2,0.1222,0.1004,0.1338,3.6200000000000003E-2,{"$f":"'Additional TCS'!B31","v":0.14060000000000006},1,{"$f":"IF(AND('Input - Output'!A36>=360,'Input - Output'!A36<=830),'Input - Output'!A36,\"\")","v":510},0.22600000000000001,0.2420000000000001,0.24099999999999988,0.39,0.40300000000000002,0.41400000000000015,0.30099999999999993,0.28299999999999992,0.03,0.36499999999999932,0.35599999999999998,0.15399999999999991,0.46100000000000008,9.1999999999999971E-2,0.29600000000000004,1]
[387,0.2442,8.3000000000000004E-2,6.88E-2,8.6999999999999994E-2,0.30759999999999998,0.2278,0.48499999999999999,0.1454,6.0400000000000002E-2,5.6000000000000001E-2,0.1234,9.7799999999999998E-2,0.1406,3.6400000000000002E-2,{"$f":"'Additional TCS'!B32","v":0.14219999999999999},1,{"$f":"IF(AND('Input - Output'!A37>=360,'Input - Output'!A37<=830),'Input - Output'!A37,\"\")","v":515},0.22599999999999998,0.25300000000000011,0.26,0.39400000000000002,0.39599999999999991,0.39500000000000002,0.29099999999999993,0.27600000000000002,0.03,0.41599999999999948,0.35299999999999998,0.129,0.46600000000000003,0.10000000000000009,0.29800000000000004,1]
[388,0.24679999999999999,8.5000000000000006E-2,6.9199999999999998E-2,8.8999999999999996E-2,0.30840000000000001,0.2402,0.498,0.15359999999999999,5.96E-2,5.7000000000000002E-2,0.1246,9.5200000000000007E-2,0.1474,3.6600000000000001E-2,{"$f":"'Additional TCS'!B33","v":0.14380000000000004},1,{"$f":"IF(AND('Input - Output'!A38>=360,'Input - Output'!A38<=830),'Input - Output'!A38,\"\")","v":520},0.22500000000000001,0.25999999999999995,0.27800000000000002,0.39500000000000002,0.3889999999999999,0.37699999999999978,0.28299999999999992,0.27000000000000013,3.1E-2,0.46499999999999986,0.34600000000000009,0.10899999999999999,0.46899999999999997,0.10799999999999987,0.29599999999999982,1]
[389,0.24940000000000001,8.6999999999999994E-2,6.9599999999999995E-2,9.0999999999999998E-2,0.30919999999999997,0.25259999999999999,0.51100000000000001,0.1618,5.8799999999999998E-2,5.8000000000000003E-2,0.1258,9.2600000000000002E-2,0.1542,3.6799999999999999E-2,{"$f":"'Additional TCS'!B34","v":0.14539999999999997},1,{"$f":"IF(AND('Input - Output'!A39>=360,'Input - Output'!A39<=830),'Input - Output'!A39,\"\")","v":525},0.22500000000000001,0.26399999999999996,0.3019999999999996,0.39199999999999979,0.38100000000000001,0.35799999999999987,0.27300000000000002,0.2619999999999999,3.1000000000000014E-2,0.5089999999999999,0.33300000000000018,8.9999999999999858E-2,0.47099999999999997,0.121,0.28899999999999992,1]
[390,0.252,8.8999999999999996E-2,7.0000000000000007E-2,9.2999999999999999E-2,0.31,0.26500000000000001,0.52400000000000002,0.17,5.8000000000000003E-2,5.8999999999999997E-2,0.127,0.09,0.161,3.6999999999999998E-2,{"$f":"'Additional TCS'!B35","v":0.14699999999999996},1,{"$f":"IF(AND('Input - Output'!A40>=360,'Input - Output'!A40<=830),'Input - Output'!A40,\"\")","v":530},0.22700000000000004,0.26700000000000002,0.33899999999999997,0.38500000000000001,0.37199999999999989,0.34100000000000019,0.26500000000000012,0.25600000000000001,3.2000000000000001E-2,0.54600000000000026,0.31400000000000006,7.4999999999999956E-2,0.47399999999999998,0.13300000000000012,0.28200000000000003,1]
[391,0.25280000000000002,9.1399999999999995E-2,7.0400000000000004E-2,9.5399999999999999E-2,0.31040000000000001,0.27979999999999999,0.52839999999999998,0.184,5.74E-2,5.9799999999999999E-2,0.12740000000000001,8.8400000000000006E-2,0.17100000000000001,3.7199999999999997E-2,{"$f":"'Additional TCS'!B36","v":0.14819999999999994},1,{"$f":"IF(AND('Input - Output'!A41>=360,'Input - Output'!A41<=830),'Input - Output'!A41,\"\")","v":535},0.22999999999999998,0.26899999999999996,0.37000000000000011,0.377,0.36300000000000021,0.32500000000000018,0.26000000000000006,0.251,3.2000000000000015E-2,0.58099999999999996,0.29400000000000004,6.2000000000000055E-2,0.47600000000000009,0.1419999999999999,0.27600000000000002,1]
[392,0.25359999999999999,9.3799999999999994E-2,7.0800000000000002E-2,9.7799999999999998E-2,0.31080000000000002,0.29459999999999997,0.53280000000000005,0.19800000000000001,5.6800000000000003E-2,6.0600000000000001E-2,0.1278,8.6800000000000002E-2,0.18099999999999999,3.7400000000000003E-2,{"$f":"'Additional TCS'!B37","v":0.14939999999999998},1,{"$f":"IF(AND('Input - Output'!A42>=360,'Input - Output'!A42<=830),'Input - Output'!A42,\"\")","v":540},0.23599999999999999,0.27199999999999996,0.39200000000000002,0.36699999999999999,0.3530000000000002,0.30899999999999994,0.25700000000000001,0.25,3.3000000000000002E-2,0.60999999999999988,0.27099999999999991,5.1000000000000156E-2,0.48299999999999998,0.14999999999999997,0.27400000000000002,1]
[393,0.25440000000000002,9.6199999999999994E-2,7.1199999999999999E-2,0.1002,0.31119999999999998,0.30940000000000001,0.53720000000000001,0.21199999999999999,5.62E-2,6.1400000000000003E-2,0.12820000000000001,8.5199999999999998E-2,0.191,3.7600000000000001E-2,{"$f":"'Additional TCS'!B38","v":0.15059999999999996},1,{"$f":"IF(AND('Input - Output'!A43>=360,'Input - Output'!A43<=830),'Input - Output'!A43,\"\")","v":545},0.245,0.27599999999999997,0.39900000000000002,0.35400000000000009,0.34200000000000008,0.29300000000000015,0.25700000000000001,0.25099999999999995,3.4000000000000016E-2,0.6339999999999999,0.24800000000000022,4.1000000000000036E-2,0.49,0.15400000000000003,0.27600000000000002,1]
[394,0.25519999999999998,9.8599999999999993E-2,7.1599999999999997E-2,0.1026,0.31159999999999999,0.32419999999999999,0.54159999999999997,0.22600000000000001,5.5599999999999997E-2,6.2199999999999998E-2,0.12859999999999999,8.3599999999999994E-2,0.20100000000000001,3.78E-2,{"$f":"'Additional TCS'!B39","v":0.15179999999999999},1,{"$f":"IF(AND('Input - Output'!A44>=360,'Input - Output'!A44<=830),'Input - Output'!A44,\"\")","v":550},0.253,0.28199999999999992,0.40000000000000013,0.34100000000000019,0.33099999999999996,0.27900000000000014,0.25900000000000001,0.254,3.5000000000000003E-2,0.65299999999999991,0.22699999999999987,3.499999999999992E-2,0.50599999999999978,0.15499999999999997,0.28099999999999997,1]
[395,0.25600000000000001,0.10100000000000001,7.1999999999999995E-2,0.105,0.312,0.33900000000000002,0.54600000000000004,0.24,5.5E-2,6.3E-2,0.129,8.2000000000000003E-2,0.21099999999999999,3.7999999999999999E-2,{"$f":"'Additional TCS'!B40","v":0.153},1,{"$f":"IF(AND('Input - Output'!A45>=360,'Input - Output'!A45<=830),'Input - Output'!A45,\"\")","v":555},0.2619999999999999,0.28899999999999992,0.39300000000000002,0.32700000000000018,0.31999999999999984,0.2649999999999999,0.26,0.25799999999999995,3.6999999999999977E-2,0.66599999999999993,0.20599999999999996,2.9000000000000026E-2,0.5259999999999998,0.15200000000000002,0.28599999999999998,1]
[396,0.25600000000000001,0.10299999999999999,7.22E-2,0.1072,0.31219999999999998,0.35320000000000001,0.54700000000000004,0.25580000000000003,5.4399999999999997E-2,6.3600000000000004E-2,0.12859999999999999,8.0799999999999997E-2,0.22159999999999999,3.8199999999999998E-2,{"$f":"'Additional TCS'!B41","v":0.154},1,{"$f":"IF(AND('Input - Output'!A46>=360,'Input - Output'!A46<=830),'Input - Output'!A46,\"\")","v":560},0.27199999999999991,0.29899999999999993,0.37999999999999989,0.31200000000000006,0.30800000000000005,0.25300000000000011,0.26,0.26399999999999996,4.0999999999999981E-2,0.67800000000000016,0.18799999999999972,2.5000000000000022E-2,0.55299999999999994,0.14700000000000002,0.29099999999999993,1]
[397,0.25600000000000001,0.105,7.2400000000000006E-2,0.1094,0.31240000000000001,0.3674,0.54800000000000004,0.27160000000000001,5.3800000000000001E-2,6.4199999999999993E-2,0.12820000000000001,7.9600000000000004E-2,0.23219999999999999,3.8399999999999997E-2,{"$f":"'Additional TCS'!B42","v":0.155},1,{"$f":"IF(AND('Input - Output'!A47>=360,'Input - Output'!A47<=830),'Input - Output'!A47,\"\")","v":565},0.28299999999999992,0.30899999999999994,0.36499999999999999,0.29600000000000004,0.29600000000000004,0.24099999999999999,0.25800000000000001,0.26899999999999996,4.3999999999999984E-2,0.68699999999999994,0.16999999999999993,2.200000000000002E-2,0.58200000000000029,0.1399999999999999,0.28899999999999998,1]
[398,0.25600000000000001,0.107,7.2599999999999998E-2,0.1116,0.31259999999999999,0.38159999999999999,0.54900000000000004,0.28739999999999999,5.3199999999999997E-2,6.4799999999999996E-2,0.1278,7.8399999999999997E-2,0.24279999999999999,3.8600000000000002E-2,{"$f":"'Additional TCS'!B43","v":0.156},1,{"$f":"IF(AND('Input - Output'!A48>=360,'Input - Output'!A48<=830),'Input - Output'!A48,\"\")","v":570},0.29799999999999982,0.32199999999999995,0.3490000000000002,0.27999999999999958,0.28399999999999981,0.23399999999999999,0.25600000000000001,0.27200000000000002,4.8000000000000043E-2,0.69299999999999995,0.15300000000000002,1.8999999999999961E-2,0.61800000000000033,0.13300000000000001,0.28600000000000003,1]
[399,0.25600000000000001,0.109,7.2800000000000004E-2,0.1138,0.31280000000000002,0.39579999999999999,0.55000000000000004,0.30320000000000003,5.2600000000000001E-2,6.54E-2,0.12740000000000001,7.7200000000000005E-2,0.25340000000000001,3.8800000000000001E-2,{"$f":"'Additional TCS'!B44","v":0.157},1,{"$f":"IF(AND('Input - Output'!A49>=360,'Input - Output'!A49<=830),'Input - Output'!A49,\"\")","v":575},0.31800000000000006,0.32899999999999996,0.33199999999999985,0.26300000000000012,0.27099999999999991,0.22700000000000001,0.254,0.27399999999999997,5.1999999999999935E-2,0.69799999999999995,0.1379999999999999,1.7000000000000001E-2,0.65100000000000025,0.12499999999999989,0.27999999999999997,1]
[400,0.25600000000000001,0.111,7.2999999999999995E-2,0.11600000000000001,0.313,0.41,0.55100000000000005,0.31900000000000001,5.1999999999999998E-2,6.6000000000000003E-2,0.127,7.5999999999999998E-2,0.26400000000000001,3.9E-2,{"$f":"'Additional TCS'!B45","v":0.158},1,{"$f":"IF(AND('Input - Output'!A50>=360,'Input - Output'!A50<=830),'Input - Output'!A50,\"\")","v":580},0.34099999999999975,0.33500000000000002,0.31500000000000017,0.24700000000000033,0.26000000000000023,0.22499999999999998,0.25399999999999995,0.27800000000000008,6.0000000000000053E-2,0.70100000000000007,0.12500000000000022,1.7000000000000001E-2,0.68000000000000016,0.11799999999999999,0.2849999999999997,1]
[401,0.25559999999999999,0.112,7.2999999999999995E-2,0.11700000000000001,0.31340000000000001,0.42080000000000001,0.55179999999999996,0.33839999999999998,5.1999999999999998E-2,6.6199999999999995E-2,0.1258,7.4399999999999994E-2,0.27379999999999999,3.9E-2,{"$f":"'Additional TCS'!B46","v":0.15880000000000002},1,{"$f":"IF(AND('Input - Output'!A51>=360,'Input - Output'!A51<=830),'Input - Output'!A51,\"\")","v":585},0.36699999999999999,0.33900000000000002,0.29899999999999993,0.22900000000000009,0.24699999999999989,0.22200000000000003,0.25900000000000012,0.28400000000000003,7.6000000000000512E-2,0.70399999999999985,0.1140000000000001,1.7000000000000015E-2,0.70099999999999985,0.11199999999999999,0.31399999999999917,1]
[402,0.25519999999999998,0.113,7.2999999999999995E-2,0.11799999999999999,0.31380000000000002,0.43159999999999998,0.55259999999999998,0.35780000000000001,5.1999999999999998E-2,6.6400000000000001E-2,0.1246,7.2800000000000004E-2,0.28360000000000002,3.9E-2,{"$f":"'Additional TCS'!B47","v":0.15959999999999999},1,{"$f":"IF(AND('Input - Output'!A52>=360,'Input - Output'!A52<=830),'Input - Output'!A52,\"\")","v":590},0.39000000000000012,0.34100000000000003,0.28499999999999992,0.21399999999999997,0.23199999999999976,0.22099999999999997,0.27000000000000024,0.29499999999999993,0.10199999999999987,0.70499999999999996,0.10600000000000009,1.6E-2,0.71699999999999986,0.10600000000000009,0.3539999999999992,1]
[403,0.25480000000000003,0.114,7.2999999999999995E-2,0.11899999999999999,0.31419999999999998,0.44240000000000002,0.5534,0.37719999999999998,5.1999999999999998E-2,6.6600000000000006E-2,0.1234,7.1199999999999999E-2,0.29339999999999999,3.9E-2,{"$f":"'Additional TCS'!B48","v":0.16040000000000001},1,{"$f":"IF(AND('Input - Output'!A53>=360,'Input - Output'!A53<=830),'Input - Output'!A53,\"\")","v":595},0.40900000000000003,0.34100000000000003,0.27200000000000013,0.19799999999999995,0.2200000000000002,0.22,0.28399999999999981,0.31599999999999984,0.13600000000000012,0.70499999999999996,9.9999999999999978E-2,1.6E-2,0.72899999999999998,0.10099999999999998,0.39800000000000058,1]
[404,0.25440000000000002,0.115,7.2999999999999995E-2,0.12,0.31459999999999999,0.45319999999999999,0.55420000000000003,0.39660000000000001,5.1999999999999998E-2,6.6799999999999998E-2,0.1222,6.9599999999999995E-2,0.30320000000000003,3.9E-2,{"$f":"'Additional TCS'!B49","v":0.16120000000000004},1,{"$f":"IF(AND('Input - Output'!A54>=360,'Input - Output'!A54<=830),'Input - Output'!A54,\"\")","v":600},0.42399999999999993,0.34200000000000003,0.26400000000000012,0.18500000000000005,0.21000000000000019,0.22,0.30200000000000005,0.34799999999999942,0.19000000000000039,0.70599999999999996,9.5999999999999974E-2,1.6E-2,0.73599999999999999,9.8000000000000032E-2,0.43999999999999995,1]
[405,0.254,0.11600000000000001,7.2999999999999995E-2,0.121,0.315,0.46400000000000002,0.55500000000000005,0.41599999999999998,5.1999999999999998E-2,6.7000000000000004E-2,0.121,6.8000000000000005E-2,0.313,3.9E-2,{"$f":"'Additional TCS'!B50","v":0.16200000000000001},1,{"$f":"IF(AND('Input - Output'!A55>=360,'Input - Output'!A55<=830),'Input - Output'!A55,\"\")","v":605},0.43500000000000005,0.34200000000000003,0.25700000000000001,0.17500000000000004,0.20000000000000007,0.22,0.32399999999999984,0.38400000000000034,0.25599999999999845,0.70699999999999996,9.1999999999999998E-2,1.6E-2,0.74199999999999999,9.5000000000000001E-2,0.4700000000000002,1]
[406,0.25359999999999999,0.1164,7.3200000000000001E-2,0.1216,0.31580000000000003,0.46960000000000002,0.55579999999999996,0.42520000000000002,5.1799999999999999E-2,6.7199999999999996E-2,0.12,6.7199999999999996E-2,0.31859999999999999,3.9199999999999999E-2,{"$f":"'Additional TCS'!B51","v":0.16240000000000002},1,{"$f":"IF(AND('Input - Output'!A56>=360,'Input - Output'!A56<=830),'Input - Output'!A56,\"\")","v":610},0.44200000000000006,0.34200000000000003,0.252,0.16900000000000004,0.19400000000000006,0.22,0.34399999999999986,0.43400000000000016,0.3360000000000003,0.70699999999999996,9.0000000000000024E-2,1.6E-2,0.745,9.3000000000000027E-2,0.49400000000000022,1]
[407,0.25319999999999998,0.1168,7.3400000000000007E-2,0.1222,0.31659999999999999,0.47520000000000001,0.55659999999999998,0.43440000000000001,5.16E-2,6.7400000000000002E-2,0.11899999999999999,6.6400000000000001E-2,0.32419999999999999,3.9399999999999998E-2,{"$f":"'Additional TCS'!B52","v":0.1628},1,{"$f":"IF(AND('Input - Output'!A57>=360,'Input - Output'!A57<=830),'Input - Output'!A57,\"\")","v":615},0.44800000000000006,0.34100000000000003,0.247,0.16400000000000003,0.18899999999999995,0.21999999999999997,0.36199999999999988,0.48200000000000021,0.41800000000000104,0.70700000000000007,8.7000000000000022E-2,1.6E-2,0.74699999999999989,8.9999999999999983E-2,0.51100000000000034,1]
[408,0.25280000000000002,0.1172,7.3599999999999999E-2,0.12280000000000001,0.31740000000000002,0.48080000000000001,0.55740000000000001,0.44359999999999999,5.1400000000000001E-2,6.7599999999999993E-2,0.11799999999999999,6.5600000000000006E-2,0.32979999999999998,3.9600000000000003E-2,{"$f":"'Additional TCS'!B53","v":0.16320000000000001},1,{"$f":"IF(AND('Input - Output'!A58>=360,'Input - Output'!A58<=830),'Input - Output'!A58,\"\")","v":620},0.45,0.34099999999999997,0.24099999999999988,0.16000000000000003,0.185,0.22300000000000003,0.377,0.52799999999999958,0.50499999999999901,0.70799999999999996,8.500000000000002E-2,1.6E-2,0.748,8.8999999999999968E-2,0.52399999999999991,1]
[409,0.25240000000000001,0.1176,7.3800000000000004E-2,0.1234,0.31819999999999998,0.4864,0.55820000000000003,0.45279999999999998,5.1200000000000002E-2,6.7799999999999999E-2,0.11700000000000001,6.4799999999999996E-2,0.33539999999999998,3.9800000000000002E-2,{"$f":"'Additional TCS'!B54","v":0.16360000000000002},1,{"$f":"IF(AND('Input - Output'!A59>=360,'Input - Output'!A59<=830),'Input - Output'!A59,\"\")","v":625},0.45100000000000001,0.33900000000000002,0.23499999999999999,0.15599999999999997,0.183,0.22699999999999998,0.38900000000000012,0.56799999999999962,0.58099999999999952,0.70799999999999996,8.2000000000000045E-2,1.6000000000000014E-2,0.748,8.7000000000000008E-2,0.53499999999999981,1]
[410,0.252,0.11799999999999999,7.3999999999999996E-2,0.124,0.31900000000000001,0.49199999999999999,0.55900000000000005,0.46200000000000002,5.0999999999999997E-2,6.8000000000000005E-2,0.11600000000000001,6.4000000000000001E-2,0.34100000000000003,0.04,{"$f":"'Additional TCS'!B55","v":0.16400000000000001},1,{"$f":"IF(AND('Input - Output'!A60>=360,'Input - Output'!A60<=830),'Input - Output'!A60,\"\")","v":630},0.45100000000000001,0.33900000000000002,0.22900000000000009,0.15399999999999997,0.17999999999999994,0.2330000000000001,0.39999999999999991,0.60400000000000009,0.64100000000000001,0.71,7.9999999999999988E-2,1.7999999999999999E-2,0.748,8.5999999999999993E-2,0.54400000000000004,1]
[411,0.25119999999999998,0.11840000000000001,7.3999999999999996E-2,0.1244,0.3196,0.49519999999999997,0.55920000000000003,0.46600000000000003,5.0799999999999998E-2,6.8199999999999997E-2,0.1152,6.4199999999999993E-2,0.34320000000000001,4.02E-2,{"$f":"'Additional TCS'!B56","v":0.1646},1,{"$f":"IF(AND('Input - Output'!A61>=360,'Input - Output'!A61<=830),'Input - Output'!A61,\"\")","v":635},0.45100000000000001,0.33800000000000002,0.22399999999999998,0.152,0.17699999999999999,0.23899999999999993,0.40999999999999992,0.629,0.68200000000000038,0.71100000000000008,7.8999999999999987E-2,1.7999999999999999E-2,0.748,8.4999999999999992E-2,0.55200000000000005,1]
[412,0.25040000000000001,0.1188,7.3999999999999996E-2,0.12479999999999999,0.32019999999999998,0.49840000000000001,0.55940000000000001,0.47,5.0599999999999999E-2,6.8400000000000002E-2,0.1144,6.4399999999999999E-2,0.34539999999999998,4.0399999999999998E-2,{"$f":"'Additional TCS'!B57","v":0.16520000000000001},1,{"$f":"IF(AND('Input - Output'!A62>=360,'Input - Output'!A62<=830),'Input - Output'!A62,\"\")","v":640},0.45100000000000001,0.33800000000000002,0.21999999999999997,0.15099999999999997,0.17599999999999999,0.24399999999999999,0.41999999999999993,0.64799999999999991,0.71699999999999964,0.71199999999999997,7.8E-2,1.7999999999999999E-2,0.748,8.4000000000000005E-2,0.55900000000000016,1]
[413,0.24959999999999999,0.1192,7.3999999999999996E-2,0.12520000000000001,0.32079999999999997,0.50160000000000005,0.55959999999999999,0.47399999999999998,5.04E-2,6.8599999999999994E-2,0.11360000000000001,6.4600000000000005E-2,0.34760000000000002,4.0599999999999997E-2,{"$f":"'Additional TCS'!B58","v":0.1658},1,{"$f":"IF(AND('Input - Output'!A63>=360,'Input - Output'!A63<=830),'Input - Output'!A63,\"\")","v":645},0.45099999999999996,0.33699999999999997,0.217,0.14899999999999994,0.17499999999999999,0.251,0.42900000000000005,0.66300000000000003,0.74000000000000021,0.71399999999999997,7.8E-2,1.8000000000000016E-2,0.748,8.4000000000000005E-2,0.56499999999999984,1]
[414,0.24879999999999999,0.1196,7.3999999999999996E-2,0.12559999999999999,0.32140000000000002,0.50480000000000003,0.55979999999999996,0.47799999999999998,5.0200000000000002E-2,6.88E-2,0.1128,6.4799999999999996E-2,0.3498,4.0800000000000003E-2,{"$f":"'Additional TCS'!B59","v":0.16640000000000002},1,{"$f":"IF(AND('Input - Output'!A64>=360,'Input - Output'!A64<=830),'Input - Output'!A64,\"\")","v":650},0.45,0.33600000000000002,0.216,0.14799999999999999,0.17499999999999999,0.25800000000000006,0.43799999999999994,0.67600000000000016,0.75800000000000012,0.71599999999999997,7.8E-2,1.8999999999999989E-2,0.748,8.4000000000000005E-2,0.57099999999999995,1]
[415,0.248,0.12,7.3999999999999996E-2,0.126,0.32200000000000001,0.50800000000000001,0.56000000000000005,0.48199999999999998,0.05,6.9000000000000006E-2,0.112,6.5000000000000002E-2,0.35199999999999998,4.1000000000000002E-2,{"$f":"'Additional TCS'!B60","v":0.16700000000000004},1,{"$f":"IF(AND('Input - Output'!A65>=360,'Input - Output'!A65<=830),'Input - Output'!A65,\"\")","v":655},0.45,0.33499999999999996,0.21599999999999997,0.14799999999999999,0.17499999999999999,0.26300000000000007,0.44499999999999995,0.68499999999999983,0.77000000000000013,0.71799999999999997,7.8000000000000014E-2,1.9999999999999962E-2,0.748,8.3999999999999991E-2,0.57600000000000007,1]
[416,0.2472,0.1202,7.3999999999999996E-2,0.12640000000000001,0.32279999999999998,0.50980000000000003,0.56020000000000003,0.48359999999999997,0.05,6.9000000000000006E-2,0.11119999999999999,6.7000000000000004E-2,0.35339999999999999,4.1200000000000001E-2,{"$f":"'Additional TCS'!B61","v":0.16760000000000003},1,{"$f":"IF(AND('Input - Output'!A66>=360,'Input - Output'!A66<=830),'Input - Output'!A66,\"\")","v":660},0.45100000000000001,0.33399999999999996,0.21900000000000008,0.14800000000000002,0.17500000000000002,0.26800000000000007,0.45200000000000007,0.69299999999999995,0.78100000000000014,0.72,8.1000000000000016E-2,2.3000000000000007E-2,0.747,8.500000000000002E-2,0.58099999999999996,1]
[417,0.24640000000000001,0.12039999999999999,7.3999999999999996E-2,0.1268,0.3236,0.51160000000000005,0.56040000000000001,0.48520000000000002,0.05,6.9000000000000006E-2,0.1104,6.9000000000000006E-2,0.3548,4.1399999999999999E-2,{"$f":"'Additional TCS'!B62","v":0.16820000000000004},1,{"$f":"IF(AND('Input - Output'!A67>=360,'Input - Output'!A67<=830),'Input - Output'!A67,\"\")","v":665},0.45100000000000007,0.33200000000000002,0.22399999999999998,0.14900000000000002,0.17700000000000005,0.27300000000000008,0.45700000000000007,0.7,0.78999999999999992,0.72199999999999998,8.3000000000000074E-2,2.3999999999999966E-2,0.747,8.7000000000000077E-2,0.58599999999999997,1]
[418,0.24560000000000001,0.1206,7.3999999999999996E-2,0.12720000000000001,0.32440000000000002,0.51339999999999997,0.56059999999999999,0.48680000000000001,0.05,6.9000000000000006E-2,0.1096,7.0999999999999994E-2,0.35620000000000002,4.1599999999999998E-2,{"$f":"'Additional TCS'!B63","v":0.16880000000000003},1,{"$f":"IF(AND('Input - Output'!A68>=360,'Input - Output'!A68<=830),'Input - Output'!A68,\"\")","v":670},0.45300000000000001,0.33200000000000002,0.22999999999999987,0.15099999999999997,0.18,0.27800000000000002,0.46200000000000008,0.70500000000000007,0.79700000000000015,0.72500000000000009,8.8000000000000078E-2,2.5999999999999912E-2,0.747,9.1999999999999915E-2,0.59,1]
[419,0.24479999999999999,0.1208,7.3999999999999996E-2,0.12759999999999999,0.32519999999999999,0.51519999999999999,0.56079999999999997,0.4884,0.05,6.9000000000000006E-2,0.10879999999999999,7.2999999999999995E-2,0.35759999999999997,4.1799999999999997E-2,{"$f":"'Additional TCS'!B64","v":0.16940000000000002},1,{"$f":"IF(AND('Input - Output'!A69>=360,'Input - Output'!A69<=830),'Input - Output'!A69,\"\")","v":675},0.45400000000000001,0.33100000000000002,0.23799999999999999,0.15399999999999991,0.183,0.28100000000000003,0.46600000000000003,0.70900000000000007,0.80300000000000005,0.72900000000000009,9.2999999999999972E-2,3.0000000000000027E-2,0.747,9.5999999999999974E-2,0.59400000000000008,1]
[420,0.24399999999999999,0.121,7.3999999999999996E-2,0.128,0.32600000000000001,0.51700000000000002,0.56100000000000005,0.49,0.05,6.9000000000000006E-2,0.108,7.4999999999999997E-2,0.35899999999999999,4.2000000000000003E-2,{"$f":"'Additional TCS'!B65","v":0.17000000000000004},1,{"$f":"IF(AND('Input - Output'!A70>=360,'Input - Output'!A70<=830),'Input - Output'!A70,\"\")","v":680},0.45500000000000007,0.33100000000000002,0.25100000000000033,0.15800000000000003,0.18600000000000003,0.28299999999999997,0.46800000000000003,0.71199999999999997,0.80900000000000016,0.73100000000000009,0.10200000000000009,3.5000000000000142E-2,0.747,0.10199999999999987,0.59899999999999998,1]
[421,0.2432,0.1212,7.3800000000000004E-2,0.12859999999999999,0.32679999999999998,0.51839999999999997,0.56040000000000001,0.48959999999999998,4.9799999999999997E-2,6.9199999999999998E-2,0.1074,7.8600000000000003E-2,0.3594,4.2000000000000003E-2,{"$f":"'Additional TCS'!B66","v":0.17100000000000004},1,{"$f":"IF(AND('Input - Output'!A71>=360,'Input - Output'!A71<=830),'Input - Output'!A71,\"\")","v":685},0.45700000000000002,0.32999999999999996,0.26900000000000013,0.16199999999999998,0.18899999999999997,0.28600000000000003,0.47,0.71500000000000008,0.81400000000000006,0.73499999999999999,0.1120000000000001,4.3000000000000149E-2,0.747,0.1100000000000001,0.60299999999999998,1]
[422,0.2424,0.12139999999999999,7.3599999999999999E-2,0.12920000000000001,0.3276,0.51980000000000004,0.55979999999999996,0.48920000000000002,4.9599999999999998E-2,6.9400000000000003E-2,0.10680000000000001,8.2199999999999995E-2,0.35980000000000001,4.2000000000000003E-2,{"$f":"'Additional TCS'!B67","v":0.17199999999999999},1,{"$f":"IF(AND('Input - Output'!A72>=360,'Input - Output'!A72<=830),'Input - Output'!A72,\"\")","v":690},0.45800000000000002,0.32900000000000001,0.28799999999999981,0.16500000000000004,0.19200000000000003,0.29100000000000004,0.47299999999999992,0.71700000000000008,0.81899999999999995,0.7390000000000001,0.125,5.600000000000005E-2,0.74700000000000011,0.123,0.60599999999999998,1]
[423,0.24160000000000001,0.1216,7.3400000000000007E-2,0.1298,0.32840000000000003,0.5212,0.55920000000000003,0.48880000000000001,4.9399999999999999E-2,6.9599999999999995E-2,0.1062,8.5800000000000001E-2,0.36020000000000002,4.2000000000000003E-2,{"$f":"'Additional TCS'!B68","v":0.17299999999999999},1,{"$f":"IF(AND('Input - Output'!A73>=360,'Input - Output'!A73<=830),'Input - Output'!A73,\"\")","v":695},0.46,0.32800000000000001,0.31199999999999983,0.16800000000000004,0.19499999999999995,0.29599999999999993,0.47699999999999998,0.71900000000000008,0.82399999999999995,0.74199999999999988,0.14100000000000001,7.3999999999999844E-2,0.746,0.13700000000000001,0.61,1]
[424,0.24079999999999999,0.12180000000000001,7.3200000000000001E-2,0.13039999999999999,0.32919999999999999,0.52259999999999995,0.55859999999999999,0.4884,4.9200000000000001E-2,6.9800000000000001E-2,0.1056,8.9399999999999993E-2,0.36059999999999998,4.2000000000000003E-2,{"$f":"'Additional TCS'!B69","v":0.17399999999999999},1,{"$f":"IF(AND('Input - Output'!A74>=360,'Input - Output'!A74<=830),'Input - Output'!A74,\"\")","v":700},0.46200000000000002,0.32800000000000001,0.33999999999999986,0.17,0.19900000000000001,0.30199999999999982,0.48299999999999998,0.72100000000000009,0.82799999999999996,0.746,0.16099999999999959,9.7000000000000419E-2,0.746,0.15200000000000058,0.6120000000000001,1]
[425,0.24,0.122,7.2999999999999995E-2,0.13100000000000001,0.33,0.52400000000000002,0.55800000000000005,0.48799999999999999,4.9000000000000002E-2,7.0000000000000007E-2,0.105,9.2999999999999999E-2,0.36099999999999999,4.2000000000000003E-2,{"$f":"'Additional TCS'!B70","v":0.17499999999999993},1,{"$f":"IF(AND('Input - Output'!A75>=360,'Input - Output'!A75<=830),'Input - Output'!A75,\"\")","v":705},{"$f":"IF($R74<>\"\",TREND(OFFSET(B$9,MATCH($R74,$A$9:$A$485)-1,,2),OFFSET($A$9,MATCH($R74,$A$9:$A$485)-1,,2),$R74),\"\")","v":0.46300000000000002},{"$f":"IF($R74<>\"\",TREND(OFFSET(C$9,MATCH($R74,$A$9:$A$485)-1,,2),OFFSET($A$9,MATCH($R74,$A$9:$A$485)-1,,2),$R74),\"\")","v":0.32699999999999996},{"$f":"IF($R74<>\"\",TREND(OFFSET(D$9,MATCH($R74,$A$9:$A$485)-1,,2),OFFSET($A$9,MATCH($R74,$A$9:$A$485)-1,,2),$R74),\"\")","v":0.36599999999999966},{"$f":"IF($R74<>\"\",TREND(OFFSET(E$9,MATCH($R74,$A$9:$A$485)-1,,2),OFFSET($A$9,MATCH($R74,$A$9:$A$485)-1,,2),$R74),\"\")","v":0.17100000000000001},{"$f":"IF($R74<>\"\",TREND(OFFSET(F$9,MATCH($R74,$A$9:$A$485)-1,,2),OFFSET($A$9,MATCH($R74,$A$9:$A$485)-1,,2),$R74),\"\")","v":0.20000000000000004},{"$f":"IF($R74<>\"\",TREND(OFFSET(G$9,MATCH($R74,$A$9:$A$485)-1,,2),OFFSET($A$9,MATCH($R74,$A$9:$A$485)-1,,2),$R74),\"\")","v":0.31299999999999994},{"$f":"IF($R74<>\"\",TREND(OFFSET(H$9,MATCH($R74,$A$9:$A$485)-1,,2),OFFSET($A$9,MATCH($R74,$A$9:$A$485)-1,,2),$R74),\"\")","v":0.48899999999999999},{"$f":"IF($R74<>\"\",TREND(OFFSET(I$9,MATCH($R74,$A$9:$A$485)-1,,2),OFFSET($A$9,MATCH($R74,$A$9:$A$485)-1,,2),$R74),\"\")","v":0.72},{"$f":"IF($R74<>\"\",TREND(OFFSET(J$9,MATCH($R74,$A$9:$A$485)-1,,2),OFFSET($A$9,MATCH($R74,$A$9:$A$485)-1,,2),$R74),\"\")","v":0.83000000000000007},{"$f":"IF($R74<>\"\",TREND(OFFSET(K$9,MATCH($R74,$A$9:$A$485)-1,,2),OFFSET($A$9,MATCH($R74,$A$9:$A$485)-1,,2),$R74),\"\")","v":0.748},{"$f":"IF($R74<>\"\",TREND(OFFSET(L$9,MATCH($R74,$A$9:$A$485)-1,,2),OFFSET($A$9,MATCH($R74,$A$9:$A$485)-1,,2),$R74),\"\")","v":0.18199999999999994},{"$f":"IF($R74<>\"\",TREND(OFFSET(M$9,MATCH($R74,$A$9:$A$485)-1,,2),OFFSET($A$9,MATCH($R74,$A$9:$A$485)-1,,2),$R74),\"\")","v":0.12800000000000011},{"$f":"IF($R74<>\"\",TREND(OFFSET(N$9,MATCH($R74,$A$9:$A$485)-1,,2),OFFSET($A$9,MATCH($R74,$A$9:$A$485)-1,,2),$R74),\"\")","v":0.746},{"$f":"IF($R74<>\"\",TREND(OFFSET(O$9,MATCH($R74,$A$9:$A$485)-1,,2),OFFSET($A$9,MATCH($R74,$A$9:$A$485)-1,,2),$R74),\"\")","v":0.16900000000000004},{"$f":"IF($R74<>\"\",TREND(OFFSET(P$9,MATCH($R74,$A$9:$A$485)-1,,2),OFFSET($A$9,MATCH($R74,$A$9:$A$485)-1,,2),$R74),\"\")","v":0.6140000000000001},{"$f":"IF($R74<>\"\",TREND(OFFSET(Q$9,MATCH($R74,$A$9:$A$485)-1,,2),OFFSET($A$9,MATCH($R74,$A$9:$A$485)-1,,2),$R74),\"\")","v":1}]
[426,0.2394,0.122,7.2999999999999995E-2,0.1318,0.33079999999999998,0.52539999999999998,0.55759999999999998,0.48680000000000001,4.8800000000000003E-2,7.0400000000000004E-2,0.1048,9.9000000000000005E-2,0.36159999999999998,4.2200000000000001E-2,{"$f":"'Additional TCS'!B71","v":0.1764},1,{"$f":"IF(AND('Input - Output'!A76>=360,'Input - Output'!A76<=830),'Input - Output'!A76,\"\")","v":710},0.46400000000000002,0.32600000000000001,0.38999999999999968,0.17000000000000004,0.19900000000000007,0.32499999999999996,0.496,0.71900000000000008,0.83099999999999985,0.749,0.20300000000000029,0.16599999999999948,0.74500000000000011,0.18800000000000017,0.61599999999999999,1]
[427,0.23880000000000001,0.122,7.2999999999999995E-2,0.1326,0.33160000000000001,0.52680000000000005,0.55720000000000003,0.48559999999999998,4.8599999999999997E-2,7.0800000000000002E-2,0.1046,0.105,0.36220000000000002,4.24E-2,{"$f":"'Additional TCS'!B72","v":0.17779999999999996},1,{"$f":"IF(AND('Input - Output'!A77>=360,'Input - Output'!A77<=830),'Input - Output'!A77,\"\")","v":715},0.46500000000000002,0.32499999999999996,0.41199999999999992,0.16800000000000004,0.19800000000000001,0.33799999999999986,0.50299999999999989,0.72199999999999998,0.83299999999999996,0.751,0.22299999999999986,0.20999999999999996,0.74399999999999999,0.20699999999999985,0.61599999999999999,1]
[428,0.2382,0.122,7.2999999999999995E-2,0.13339999999999999,0.33239999999999997,0.5282,0.55679999999999996,0.4844,4.8399999999999999E-2,7.1199999999999999E-2,0.10440000000000001,0.111,0.36280000000000001,4.2599999999999999E-2,{"$f":"'Additional TCS'!B73","v":0.17920000000000003},1,{"$f":"IF(AND('Input - Output'!A78>=360,'Input - Output'!A78<=830),'Input - Output'!A78,\"\")","v":720},0.46600000000000003,0.32400000000000001,0.43100000000000005,0.16600000000000004,0.19600000000000001,0.35099999999999998,0.51100000000000012,0.72500000000000009,0.83499999999999996,0.75299999999999989,0.24199999999999999,0.25699999999999967,0.74299999999999988,0.22599999999999998,0.61599999999999999,1]
[429,0.23760000000000001,0.122,7.2999999999999995E-2,0.13420000000000001,0.3332,0.52959999999999996,0.55640000000000001,0.48320000000000002,4.82E-2,7.1599999999999997E-2,0.1042,0.11700000000000001,0.3634,4.2799999999999998E-2,{"$f":"'Additional TCS'!B74","v":0.18059999999999998},1,{"$f":"IF(AND('Input - Output'!A79>=360,'Input - Output'!A79<=830),'Input - Output'!A79,\"\")","v":725},0.46600000000000003,0.32400000000000001,0.44700000000000006,0.16400000000000001,0.19500000000000001,0.36399999999999988,0.51800000000000002,0.72700000000000009,0.83599999999999997,0.754,0.25700000000000012,0.30499999999999972,0.74399999999999999,0.24299999999999988,0.61599999999999988,1]
[430,0.23699999999999999,0.122,7.2999999999999995E-2,0.13500000000000001,0.33400000000000002,0.53100000000000003,0.55600000000000005,0.48199999999999998,4.8000000000000001E-2,7.1999999999999995E-2,0.104,0.123,0.36399999999999999,4.2999999999999997E-2,{"$f":"'Additional TCS'!B75","v":0.18199999999999994},1,{"$f":"IF(AND('Input - Output'!A80>=360,'Input - Output'!A80<=830),'Input - Output'!A80,\"\")","v":730},0.46600000000000003,0.32400000000000001,0.46000000000000019,0.16400000000000001,0.19499999999999998,0.37599999999999989,0.52500000000000013,0.72899999999999987,0.83600000000000008,0.755,0.27,0.35400000000000009,0.74500000000000011,0.26000000000000023,0.61499999999999999,1]
[431,0.23599999999999999,0.122,7.2999999999999995E-2,0.1358,0.33500000000000002,0.53239999999999998,0.55500000000000005,0.48020000000000002,4.7800000000000002E-2,7.22E-2,0.104,0.13039999999999999,0.36420000000000002,4.3200000000000002E-2,{"$f":"'Additional TCS'!B76","v":0.18399999999999994},1,{"$f":"IF(AND('Input - Output'!A81>=360,'Input - Output'!A81<=830),'Input - Output'!A81,\"\")","v":735},0.46600000000000003,0.32299999999999995,0.47200000000000009,0.16499999999999998,0.19599999999999998,0.38900000000000001,0.53200000000000003,0.73,0.83699999999999997,0.755,0.28200000000000003,0.4009999999999998,0.748,0.27700000000000014,0.61299999999999999,1]
[432,0.23499999999999999,0.122,7.2999999999999995E-2,0.1366,0.33600000000000002,0.53380000000000005,0.55400000000000005,0.47839999999999999,4.7600000000000003E-2,7.2400000000000006E-2,0.104,0.13780000000000001,0.3644,4.3400000000000001E-2,{"$f":"'Additional TCS'!B77","v":0.18599999999999994},1,{"$f":"IF(AND('Input - Output'!A82>=360,'Input - Output'!A82<=830),'Input - Output'!A82,\"\")","v":740},0.46700000000000003,0.32200000000000001,0.48100000000000009,0.16799999999999993,0.19700000000000004,0.40100000000000025,0.53900000000000015,0.73,0.83799999999999986,0.755,0.29200000000000004,0.44599999999999973,0.75,0.29399999999999959,0.61199999999999999,1]
[433,0.23400000000000001,0.122,7.2999999999999995E-2,0.13739999999999999,0.33700000000000002,0.53520000000000001,0.55300000000000005,0.47660000000000002,4.7399999999999998E-2,7.2599999999999998E-2,0.104,0.1452,0.36459999999999998,4.36E-2,{"$f":"'Additional TCS'!B78","v":0.18799999999999994},1,{"$f":"IF(AND('Input - Output'!A83>=360,'Input - Output'!A83<=830),'Input - Output'!A83,\"\")","v":745},0.46700000000000003,0.32099999999999995,0.48800000000000004,0.17200000000000004,0.19999999999999998,0.41300000000000003,0.54600000000000004,0.73,0.83899999999999997,0.75499999999999989,0.30200000000000005,0.48499999999999943,0.75,0.31000000000000005,0.60999999999999988,1]
[434,0.23300000000000001,0.122,7.2999999999999995E-2,0.13819999999999999,0.33800000000000002,0.53659999999999997,0.55200000000000005,0.4748,4.7199999999999999E-2,7.2800000000000004E-2,0.104,0.15260000000000001,0.36480000000000001,4.3799999999999999E-2,{"$f":"'Additional TCS'!B79","v":0.18999999999999995},1,{"$f":"IF(AND('Input - Output'!A84>=360,'Input - Output'!A84<=830),'Input - Output'!A84,\"\")","v":750},0.46700000000000003,0.32000000000000006,0.49299999999999994,0.17699999999999994,0.20300000000000001,0.42500000000000027,0.55300000000000016,0.73,0.83899999999999997,0.75600000000000001,0.30999999999999994,0.52000000000000046,0.74900000000000011,0.32499999999999973,0.60899999999999999,1]
[435,0.23200000000000001,0.122,7.2999999999999995E-2,0.13900000000000001,0.33900000000000002,0.53800000000000003,0.55100000000000005,0.47299999999999998,4.7E-2,7.2999999999999995E-2,0.104,0.16,0.36499999999999999,4.3999999999999997E-2,{"$f":"'Additional TCS'!B80","v":0.19200000000000006},1,{"$f":"IF(AND('Input - Output'!A85>=360,'Input - Output'!A85<=830),'Input - Output'!A85,\"\")","v":755},0.46700000000000003,0.318,0.49699999999999994,0.18099999999999994,0.20499999999999996,0.43600000000000017,0.55900000000000005,0.73,0.83899999999999997,0.7569999999999999,0.314,0.55099999999999971,0.748,0.33900000000000019,0.60799999999999987,1]
[436,0.2316,0.1222,7.2999999999999995E-2,0.14000000000000001,0.34039999999999998,0.53920000000000001,0.54959999999999998,0.4708,4.6800000000000001E-2,7.3599999999999999E-2,0.1042,0.1694,0.3654,4.3999999999999997E-2,{"$f":"'Additional TCS'!B81","v":0.19420000000000004},1,{"$f":"IF(AND('Input - Output'!A86>=360,'Input - Output'!A86<=830),'Input - Output'!A86,\"\")","v":760},0.46700000000000003,0.316,0.5,0.18499999999999994,0.20799999999999996,0.44699999999999984,0.56499999999999995,0.73,0.83899999999999997,0.75800000000000001,0.31700000000000006,0.57699999999999996,0.748,0.35299999999999998,0.60699999999999998,1]
[437,0.23119999999999999,0.12239999999999999,7.2999999999999995E-2,0.14099999999999999,0.34179999999999999,0.54039999999999999,0.54820000000000002,0.46860000000000002,4.6600000000000003E-2,7.4200000000000002E-2,0.10440000000000001,0.17879999999999999,0.36580000000000001,4.3999999999999997E-2,{"$f":"'Additional TCS'!B82","v":0.19640000000000002},1,{"$f":"IF(AND('Input - Output'!A87>=360,'Input - Output'!A87<=830),'Input - Output'!A87,\"\")","v":765},0.46700000000000003,0.315,0.502,0.189,0.21200000000000002,0.45800000000000018,0.57000000000000006,0.73,0.83899999999999997,0.75900000000000001,0.32299999999999984,0.5990000000000002,0.747,0.3660000000000001,0.60699999999999998,1]
[438,0.23080000000000001,0.1226,7.2999999999999995E-2,0.14199999999999999,0.34320000000000001,0.54159999999999997,0.54679999999999995,0.46639999999999998,4.6399999999999997E-2,7.4800000000000005E-2,0.1046,0.18820000000000001,0.36620000000000003,4.3999999999999997E-2,{"$f":"'Additional TCS'!B83","v":0.1986},1,{"$f":"IF(AND('Input - Output'!A88>=360,'Input - Output'!A88<=830),'Input - Output'!A88,\"\")","v":770},0.46700000000000003,0.315,0.505,0.19199999999999995,0.21499999999999997,0.46899999999999986,0.57499999999999996,0.73,0.83899999999999997,0.75900000000000001,0.32999999999999996,0.61800000000000033,0.747,0.379,0.60899999999999999,1]
[439,0.23039999999999999,0.12280000000000001,7.2999999999999995E-2,0.14299999999999999,0.34460000000000002,0.54279999999999995,0.5454,0.4642,4.6199999999999998E-2,7.5399999999999995E-2,0.1048,0.1976,0.36659999999999998,4.3999999999999997E-2,{"$f":"'Additional TCS'!B84","v":0.20079999999999998},1,{"$f":"IF(AND('Input - Output'!A89>=360,'Input - Output'!A89<=830),'Input - Output'!A89,\"\")","v":775},0.46700000000000003,0.314,0.5099999999999999,0.19400000000000001,0.21699999999999997,0.47699999999999987,0.57800000000000007,0.73,0.83899999999999997,0.75900000000000001,0.33400000000000007,0.63299999999999979,0.747,0.39000000000000012,0.6100000000000001,1]
[440,0.23,0.123,7.2999999999999995E-2,0.14399999999999999,0.34599999999999997,0.54400000000000004,0.54400000000000004,0.46200000000000002,4.5999999999999999E-2,7.5999999999999998E-2,0.105,0.20699999999999999,0.36699999999999999,4.3999999999999997E-2,{"$f":"'Additional TCS'!B85","v":0.20299999999999996},1,{"$f":"IF(AND('Input - Output'!A90>=360,'Input - Output'!A90<=830),'Input - Output'!A90,\"\")","v":780},0.46700000000000003,0.314,0.5159999999999999,0.19700000000000006,0.21900000000000003,0.48499999999999988,0.58099999999999996,0.73,0.83899999999999997,0.75900000000000001,0.33799999999999997,0.64500000000000002,0.74700000000000011,0.39900000000000002,0.61099999999999999,1]
[441,0.22919999999999999,0.1232,7.2999999999999995E-2,0.1454,0.34720000000000001,0.5454,0.54220000000000002,0.45960000000000001,4.5600000000000002E-2,7.6399999999999996E-2,0.1052,0.21679999999999999,0.3674,4.4200000000000003E-2,{"$f":"'Additional TCS'!B86","v":0.20479999999999998},1,{"$f":"IF(AND('Input - Output'!A91>=360,'Input - Output'!A91<=830),'Input - Output'!A91,\"\")","v":""},"","","","","","","","","","","","","","","",""]
[442,0.22839999999999999,0.1234,7.2999999999999995E-2,0.14680000000000001,0.34839999999999999,0.54679999999999995,0.54039999999999999,0.4572,4.5199999999999997E-2,7.6799999999999993E-2,0.10539999999999999,0.2266,0.36780000000000002,4.4400000000000002E-2,{"$f":"'Additional TCS'!B87","v":0.20660000000000001},1,{"$f":"IF(AND('Input - Output'!A92>=360,'Input - Output'!A92<=830),'Input - Output'!A92,\"\")","v":""},"","","","","","","","","","","","","","","",""]
[443,0.2276,0.1236,7.2999999999999995E-2,0.1482,0.34960000000000002,0.54820000000000002,0.53859999999999997,0.45479999999999998,4.48E-2,7.7200000000000005E-2,0.1056,0.2364,0.36820000000000003,4.4600000000000001E-2,{"$f":"'Additional TCS'!B88","v":0.20840000000000003},1,{"$f":"IF(AND('Input - Output'!A93>=360,'Input - Output'!A93<=830),'Input - Output'!A93,\"\")","v":""},"","","","","","","","","","","","","","","",""]
[444,0.2268,0.12379999999999999,7.2999999999999995E-2,0.14960000000000001,0.3508,0.54959999999999998,0.53680000000000005,0.45240000000000002,4.4400000000000002E-2,7.7600000000000002E-2,0.10580000000000001,0.2462,0.36859999999999998,4.48E-2,{"$f":"'Additional TCS'!B89","v":0.21019999999999994},1,{"$f":"IF(AND('Input - Output'!A94>=360,'Input - Output'!A94<=830),'Input - Output'!A94,\"\")","v":""},"","","","","","","","","","","","","","","",""]
[445,0.22600000000000001,0.124,7.2999999999999995E-2,0.151,0.35199999999999998,0.55100000000000005,0.53500000000000003,0.45,4.3999999999999997E-2,7.8E-2,0.106,0.25600000000000001,0.36899999999999999,4.4999999999999998E-2,{"$f":"'Additional TCS'!B90","v":0.21200000000000008},1,{"$f":"IF(AND('Input - Output'!A95>=360,'Input - Output'!A95<=830),'Input - Output'!A95,\"\")","v":""},"","","","","","","","","","","","","","","",""]
[446,0.2258,0.1246,7.3200000000000001E-2,0.153,0.35360000000000003,0.55200000000000005,0.53239999999999998,0.44779999999999998,4.36E-2,7.9000000000000001E-2,0.10680000000000001,0.26479999999999998,0.36959999999999998,4.4999999999999998E-2,{"$f":"'Additional TCS'!B91","v":0.2138000000000001},1,{"$f":"IF(AND('Input - Output'!A96>=360,'Input - Output'!A96<=830),'Input - Output'!A96,\"\")","v":""},"","","","","","","","","","","","","","","",""]
[447,0.22559999999999999,0.12520000000000001,7.3400000000000007E-2,0.155,0.35520000000000002,0.55300000000000005,0.52980000000000005,0.4456,4.3200000000000002E-2,0.08,0.1076,0.27360000000000001,0.37019999999999997,4.4999999999999998E-2,{"$f":"'Additional TCS'!B92","v":0.21560000000000001},1,{"$f":"IF(AND('Input - Output'!A97>=360,'Input - Output'!A97<=830),'Input - Output'!A97,\"\")","v":""},"","","","","","","","","","","","","","","",""]
[448,0.22539999999999999,0.1258,7.3599999999999999E-2,0.157,0.35680000000000001,0.55400000000000005,0.5272,0.44340000000000002,4.2799999999999998E-2,8.1000000000000003E-2,0.1084,0.28239999999999998,0.37080000000000002,4.4999999999999998E-2,{"$f":"'Additional TCS'!B93","v":0.21740000000000004},1,{"$f":"IF(AND('Input - Output'!A98>=360,'Input - Output'!A98<=830),'Input - Output'!A98,\"\")","v":""},"","","","","","","","","","","","","","","",""]
[449,0.22520000000000001,0.12640000000000001,7.3800000000000004E-2,0.159,0.3584,0.55500000000000005,0.52459999999999996,0.44119999999999998,4.24E-2,8.2000000000000003E-2,0.10920000000000001,0.29120000000000001,0.37140000000000001,4.4999999999999998E-2,{"$f":"'Additional TCS'!B94","v":0.21920000000000006},1,{"$f":"IF(AND('Input - Output'!A99>=360,'Input - Output'!A99<=830),'Input - Output'!A99,\"\")","v":""},"","","","","","","","","","","","","","","",""]
[450,0.22500000000000001,0.127,7.3999999999999996E-2,0.161,0.36,0.55600000000000005,0.52200000000000002,0.439,4.2000000000000003E-2,8.3000000000000004E-2,0.11,0.3,0.372,4.4999999999999998E-2,{"$f":"'Additional TCS'!B95","v":0.22099999999999997},1,{"$f":"IF(AND('Input - Output'!A100>=360,'Input - Output'!A100<=830),'Input - Output'!A100,\"\")","v":""},"","","","","","","","","","","","","","","",""]
[451,0.22439999999999999,0.12720000000000001,7.4200000000000002E-2,0.16320000000000001,0.36180000000000001,0.55600000000000005,0.51880000000000004,0.43640000000000001,4.1799999999999997E-2,8.4000000000000005E-2,0.111,0.30620000000000003,0.37240000000000001,4.5199999999999997E-2,{"$f":"'Additional TCS'!B96","v":0.22260000000000002},1,{"$f":"IF(AND('Input - Output'!A101>=360,'Input - Output'!A101<=830),'Input - Output'!A101,\"\")","v":""},"","","","","","","","","","","","","","","",""]
[452,0.2238,0.12740000000000001,7.4399999999999994E-2,0.16539999999999999,0.36359999999999998,0.55600000000000005,0.51559999999999995,0.43380000000000002,4.1599999999999998E-2,8.5000000000000006E-2,0.112,0.31240000000000001,0.37280000000000002,4.5400000000000003E-2,{"$f":"'Additional TCS'!B97","v":0.22419999999999995},1,{"$f":"IF(AND('Input - Output'!A102>=360,'Input - Output'!A102<=830),'Input - Output'!A102,\"\")","v":""},"","","","","","","","","","","","","","","",""]
[453,0.22320000000000001,0.12759999999999999,7.46E-2,0.1676,0.3654,0.55600000000000005,0.51239999999999997,0.43120000000000003,4.1399999999999999E-2,8.5999999999999993E-2,0.113,0.31859999999999999,0.37319999999999998,4.5600000000000002E-2,{"$f":"'Additional TCS'!B98","v":0.2258},1,{"$f":"IF(AND('Input - Output'!A103>=360,'Input - Output'!A103<=830),'Input - Output'!A103,\"\")","v":""},"","","","","","","","","","","","","","","",""]
[454,0.22259999999999999,0.1278,7.4800000000000005E-2,0.16980000000000001,0.36720000000000003,0.55600000000000005,0.50919999999999999,0.42859999999999998,4.1200000000000001E-2,8.6999999999999994E-2,0.114,0.32479999999999998,0.37359999999999999,4.58E-2,{"$f":"'Additional TCS'!B99","v":0.22739999999999994},1,{"$f":"IF(AND('Input - Output'!A104>=360,'Input - Output'!A104<=830),'Input - Output'!A104,\"\")","v":""},"","","","","","","","","","","","","","","",""]
[455,0.222,0.128,7.4999999999999997E-2,0.17199999999999999,0.36899999999999999,0.55600000000000005,0.50600000000000001,0.42599999999999999,4.1000000000000002E-2,8.7999999999999995E-2,0.115,0.33100000000000002,0.374,4.5999999999999999E-2,{"$f":"'Additional TCS'!B100","v":0.22899999999999993},1,{"$f":"IF(AND('Input - Output'!A105>=360,'Input - Output'!A105<=830),'Input - Output'!A105,\"\")","v":""},"","","","","","","","","","","","","","","",""]
[456,0.22159999999999999,0.12859999999999999,7.5399999999999995E-2,0.17480000000000001,0.37140000000000001,0.55559999999999998,0.50239999999999996,0.4234,4.0399999999999998E-2,8.9399999999999993E-2,0.1166,0.33400000000000002,0.37440000000000001,4.6199999999999998E-2,{"$f":"'Additional TCS'!B101","v":0.23039999999999999},1,{"$f":"IF(AND('Input - Output'!A106>=360,'Input - Output'!A106<=830),'Input - Output'!A106,\"\")","v":""},"","","","","","","","","","","","","","","",""]
[457,0.22120000000000001,0.12920000000000001,7.5800000000000006E-2,0.17760000000000001,0.37380000000000002,0.55520000000000003,0.49880000000000002,0.42080000000000001,3.9800000000000002E-2,9.0800000000000006E-2,0.1182,0.33700000000000002,0.37480000000000002,4.6399999999999997E-2,{"$f":"'Additional TCS'!B102","v":0.23179999999999995},1,{"$f":"IF(AND('Input - Output'!A107>=360,'Input - Output'!A107<=830),'Input - Output'!A107,\"\")","v":""},"","","","","","","","","","","","","","","",""]
[458,0.2208,0.1298,7.6200000000000004E-2,0.1804,0.37619999999999998,0.55479999999999996,0.49519999999999997,0.41820000000000002,3.9199999999999999E-2,9.2200000000000004E-2,0.1198,0.34,0.37519999999999998,4.6600000000000003E-2,{"$f":"'Additional TCS'!B103","v":0.23319999999999991},1,{"$f":"IF(AND('Input - Output'!A108>=360,'Input - Output'!A108<=830),'Input - Output'!A108,\"\")","v":""},"","","","","","","","","","","","","","","",""]
[459,0.22040000000000001,0.13039999999999999,7.6600000000000001E-2,0.1832,0.37859999999999999,0.5544,0.49159999999999998,0.41560000000000002,3.8600000000000002E-2,9.3600000000000003E-2,0.12139999999999999,0.34300000000000003,0.37559999999999999,4.6800000000000001E-2,{"$f":"'Additional TCS'!B104","v":0.23459999999999998},1,{"$f":"IF(AND('Input - Output'!A109>=360,'Input - Output'!A109<=830),'Input - Output'!A109,\"\")","v":""},"","","","","","","","","","","","","","","",""]
[460,0.22,0.13100000000000001,7.6999999999999999E-2,0.186,0.38100000000000001,0.55400000000000005,0.48799999999999999,0.41299999999999998,3.7999999999999999E-2,9.5000000000000001E-2,0.123,0.34599999999999997,0.376,4.7E-2,{"$f":"'Additional TCS'!B105","v":0.23599999999999993},1,{"$f":"IF(AND('Input - Output'!A110>=360,'Input - Output'!A110<=830),'Input - Output'!A110,\"\")","v":""},"","","","","","","","","","","","","","","",""]
[461,0.21959999999999999,0.13159999999999999,7.7600000000000002E-2,0.1898,0.3836,0.55300000000000005,0.48420000000000002,0.4098,3.7400000000000003E-2,9.6600000000000005E-2,0.12520000000000001,0.34620000000000001,0.37659999999999999,4.7199999999999999E-2,{"$f":"'Additional TCS'!B106","v":0.2374},1,{"$f":"IF(AND('Input - Output'!A111>=360,'Input - Output'!A111<=830),'Input - Output'!A111,\"\")","v":""},"","","","","","","","","","","","","","","",""]
[462,0.21920000000000001,0.13220000000000001,7.8200000000000006E-2,0.19359999999999999,0.38619999999999999,0.55200000000000005,0.48039999999999999,0.40660000000000002,3.6799999999999999E-2,9.8199999999999996E-2,0.12740000000000001,0.34639999999999999,0.37719999999999998,4.7399999999999998E-2,{"$f":"'Additional TCS'!B107","v":0.23879999999999996},1,{"$f":"IF(AND('Input - Output'!A112>=360,'Input - Output'!A112<=830),'Input - Output'!A112,\"\")","v":""},"","","","","","","","","","","","","","","",""]
[463,0.21879999999999999,0.1328,7.8799999999999995E-2,0.19739999999999999,0.38879999999999998,0.55100000000000005,0.47660000000000002,0.40339999999999998,3.6200000000000003E-2,9.98E-2,0.12959999999999999,0.34660000000000002,0.37780000000000002,4.7600000000000003E-2,{"$f":"'Additional TCS'!B108","v":0.24019999999999991},1,{"$f":"IF(AND('Input - Output'!A113>=360,'Input - Output'!A113<=830),'Input - Output'!A113,\"\")","v":""},"","","","","","","","","","","","","","","",""]
[464,0.21840000000000001,0.13339999999999999,7.9399999999999998E-2,0.20119999999999999,0.39140000000000003,0.55000000000000004,0.4728,0.4002,3.56E-2,0.1014,0.1318,0.3468,0.37840000000000001,4.7800000000000002E-2,{"$f":"'Additional TCS'!B109","v":0.24159999999999998},1,{"$f":"IF(AND('Input - Output'!A114>=360,'Input - Output'!A114<=830),'Input - Output'!A114,\"\")","v":""},"","","","","","","","","","","","","","","",""]
[465,0.218,0.13400000000000001,0.08,0.20499999999999999,0.39400000000000002,0.54900000000000004,0.46899999999999997,0.39700000000000002,3.5000000000000003E-2,0.10299999999999999,0.13400000000000001,0.34699999999999998,0.379,4.8000000000000001E-2,{"$f":"'Additional TCS'!B110","v":0.24299999999999999},1,{"$f":"IF(AND('Input - Output'!A115>=360,'Input - Output'!A115<=830),'Input - Output'!A115,\"\")","v":""},"","","","","","","","","","","","","","","",""]
[466,0.21759999999999999,0.1348,8.1000000000000003E-2,0.20979999999999999,0.39579999999999999,0.5474,0.46479999999999999,0.39400000000000002,3.4599999999999999E-2,0.105,0.1368,0.3458,0.38,4.8399999999999999E-2,{"$f":"'Additional TCS'!B111","v":0.24419999999999997},1,{"$f":"IF(AND('Input - Output'!A116>=360,'Input - Output'!A116<=830),'Input - Output'!A116,\"\")","v":""},"","","","","","","","","","","","","","","",""]
[467,0.2172,0.1356,8.2000000000000003E-2,0.21460000000000001,0.39760000000000001,0.54579999999999995,0.46060000000000001,0.39100000000000001,3.4200000000000001E-2,0.107,0.1396,0.34460000000000002,0.38100000000000001,4.8800000000000003E-2,{"$f":"'Additional TCS'!B112","v":0.24539999999999995},1,{"$f":"IF(AND('Input - Output'!A117>=360,'Input - Output'!A117<=830),'Input - Output'!A117,\"\")","v":""},"","","","","","","","","","","","","","","",""]
[468,0.21679999999999999,0.13639999999999999,8.3000000000000004E-2,0.21940000000000001,0.39939999999999998,0.54420000000000002,0.45639999999999997,0.38800000000000001,3.3799999999999997E-2,0.109,0.1424,0.34339999999999998,0.38200000000000001,4.9200000000000001E-2,{"$f":"'Additional TCS'!B113","v":0.24659999999999993},1,{"$f":"IF(AND('Input - Output'!A118>=360,'Input - Output'!A118<=830),'Input - Output'!A118,\"\")","v":""},"","","","","","","","","","","","","","","",""]
[469,0.21640000000000001,0.13719999999999999,8.4000000000000005E-2,0.22420000000000001,0.4012,0.54259999999999997,0.45219999999999999,0.38500000000000001,3.3399999999999999E-2,0.111,0.1452,0.3422,0.38300000000000001,4.9599999999999998E-2,{"$f":"'Additional TCS'!B114","v":0.24779999999999991},1,{"$f":"IF(AND('Input - Output'!A119>=360,'Input - Output'!A119<=830),'Input - Output'!A119,\"\")","v":""},"","","","","","","","","","","","","","","",""]
[470,0.216,0.13800000000000001,8.5000000000000006E-2,0.22900000000000001,0.40300000000000002,0.54100000000000004,0.44800000000000001,0.38200000000000001,3.3000000000000002E-2,0.113,0.14799999999999999,0.34100000000000003,0.38400000000000001,0.05,{"$f":"'Additional TCS'!B115","v":0.249},1,{"$f":"IF(AND('Input - Output'!A120>=360,'Input - Output'!A120<=830),'Input - Output'!A120,\"\")","v":""},"","","","","","","","","","","","","","","",""]
[471,0.21560000000000001,0.13900000000000001,8.6800000000000002E-2,0.23400000000000001,0.40439999999999998,0.53900000000000003,0.44419999999999998,0.37880000000000003,3.2599999999999997E-2,0.1154,0.15179999999999999,0.33839999999999998,0.38500000000000001,5.04E-2,{"$f":"'Additional TCS'!B116","v":0.25},1,{"$f":"IF(AND('Input - Output'!A121>=360,'Input - Output'!A121<=830),'Input - Output'!A121,\"\")","v":""},"","","","","","","","","","","","","","","",""]
[472,0.2152,0.14000000000000001,8.8599999999999998E-2,0.23899999999999999,0.40579999999999999,0.53700000000000003,0.44040000000000001,0.37559999999999999,3.2199999999999999E-2,0.1178,0.15559999999999999,0.33579999999999999,0.38600000000000001,5.0799999999999998E-2,{"$f":"'Additional TCS'!B117","v":0.251},1,{"$f":"IF(AND('Input - Output'!A122>=360,'Input - Output'!A122<=830),'Input - Output'!A122,\"\")","v":""},"","","","","","","","","","","","","","","",""]
[473,0.21479999999999999,0.14099999999999999,9.0399999999999994E-2,0.24399999999999999,0.40720000000000001,0.53500000000000003,0.43659999999999999,0.37240000000000001,3.1800000000000002E-2,0.1202,0.15939999999999999,0.3332,0.38700000000000001,5.1200000000000002E-2,{"$f":"'Additional TCS'!B118","v":0.252},1,{"$f":"IF(AND('Input - Output'!A123>=360,'Input - Output'!A123<=830),'Input - Output'!A123,\"\")","v":""},"","","","","","","","","","","","","","","",""]
[474,0.21440000000000001,0.14199999999999999,9.2200000000000004E-2,0.249,0.40860000000000002,0.53300000000000003,0.43280000000000002,0.36919999999999997,3.1399999999999997E-2,0.1226,0.16320000000000001,0.3306,0.38800000000000001,5.16E-2,{"$f":"'Additional TCS'!B119","v":0.253},1,{"$f":"IF(AND('Input - Output'!A124>=360,'Input - Output'!A124<=830),'Input - Output'!A124,\"\")","v":""},"","","","","","","","","","","","","","","",""]
[475,0.214,0.14299999999999999,9.4E-2,0.254,0.41,0.53100000000000003,0.42899999999999999,0.36599999999999999,3.1E-2,0.125,0.16700000000000001,0.32800000000000001,0.38900000000000001,5.1999999999999998E-2,{"$f":"'Additional TCS'!B120","v":0.254},1,{"$f":"IF(AND('Input - Output'!A125>=360,'Input - Output'!A125<=830),'Input - Output'!A125,\"\")","v":""},"","","","","","","","","","","","","","","",""]
[476,0.214,0.1444,9.7000000000000003E-2,0.25940000000000002,0.41099999999999998,0.52859999999999996,0.42480000000000001,0.36320000000000002,3.0800000000000001E-2,0.12839999999999999,0.17199999999999999,0.32379999999999998,0.3906,5.2600000000000001E-2,{"$f":"'Additional TCS'!B121","v":0.255},1,{"$f":"IF(AND('Input - Output'!A126>=360,'Input - Output'!A126<=830),'Input - Output'!A126,\"\")","v":""},"","","","","","","","","","","","","","","",""]
[477,0.214,0.14580000000000001,0.1,0.26479999999999998,0.41199999999999998,0.5262,0.42059999999999997,0.3604,3.0599999999999999E-2,0.1318,0.17699999999999999,0.3196,0.39219999999999999,5.3199999999999997E-2,{"$f":"'Additional TCS'!B122","v":0.25600000000000001},1,{"$f":"IF(AND('Input - Output'!A127>=360,'Input - Output'!A127<=830),'Input - Output'!A127,\"\")","v":""},"","","","","","","","","","","","","","","",""]
[478,0.214,0.1472,0.10299999999999999,0.2702,0.41299999999999998,0.52380000000000004,0.41639999999999999,0.35759999999999997,3.04E-2,0.13519999999999999,0.182,0.31540000000000001,0.39379999999999998,5.3800000000000001E-2,{"$f":"'Additional TCS'!B123","v":0.25700000000000001},1,{"$f":"IF(AND('Input - Output'!A128>=360,'Input - Output'!A128<=830),'Input - Output'!A128,\"\")","v":""},"","","","","","","","","","","","","","","",""]
[479,0.214,0.14860000000000001,0.106,0.27560000000000001,0.41399999999999998,0.52139999999999997,0.41220000000000001,0.3548,3.0200000000000001E-2,0.1386,0.187,0.31119999999999998,0.39539999999999997,5.4399999999999997E-2,{"$f":"'Additional TCS'!B124","v":0.25800000000000001},1,{"$f":"IF(AND('Input - Output'!A129>=360,'Input - Output'!A129<=830),'Input - Output'!A129,\"\")","v":""},"","","","","","","","","","","","","","","",""]
[480,0.214,0.15,0.109,0.28100000000000003,0.41499999999999998,0.51900000000000002,0.40799999999999997,0.35199999999999998,0.03,0.14199999999999999,0.192,0.307,0.39700000000000002,5.5E-2,{"$f":"'Additional TCS'!B125","v":0.25900000000000001},1,{"$f":"IF(AND('Input - Output'!A130>=360,'Input - Output'!A130<=830),'Input - Output'!A130,\"\")","v":""},"","","","","","","","","","","","","","","",""]
[481,0.214,0.15179999999999999,0.1124,0.28639999999999999,0.41560000000000002,0.51600000000000001,0.40339999999999998,0.34899999999999998,2.98E-2,0.14599999999999999,0.19739999999999999,0.30199999999999999,0.39860000000000001,5.5399999999999998E-2,{"$f":"'Additional TCS'!B126","v":0.26},1,{"$f":"IF(AND('Input - Output'!A131>=360,'Input - Output'!A131<=830),'Input - Output'!A131,\"\")","v":""},"","","","","","","","","","","","","","","",""]
[482,0.214,0.15359999999999999,0.1158,0.2918,0.41620000000000001,0.51300000000000001,0.39879999999999999,0.34599999999999997,2.9600000000000001E-2,0.15,0.20280000000000001,0.29699999999999999,0.4002,5.5800000000000002E-2,{"$f":"'Additional TCS'!B127","v":0.26100000000000001},1,{"$f":"IF(AND('Input - Output'!A132>=360,'Input - Output'!A132<=830),'Input - Output'!A132,\"\")","v":""},"","","","","","","","","","","","","","","",""]
[483,0.214,0.15540000000000001,0.1192,0.29720000000000002,0.4168,0.51,0.39419999999999999,0.34300000000000003,2.9399999999999999E-2,0.154,0.2082,0.29199999999999998,0.40179999999999999,5.62E-2,{"$f":"'Additional TCS'!B128","v":0.26200000000000001},1,{"$f":"IF(AND('Input - Output'!A133>=360,'Input - Output'!A133<=830),'Input - Output'!A133,\"\")","v":""},"","","","","","","","","","","","","","","",""]
[484,0.214,0.15720000000000001,0.1226,0.30259999999999998,0.41739999999999999,0.50700000000000001,0.3896,0.34,2.92E-2,0.158,0.21360000000000001,0.28699999999999998,0.40339999999999998,5.6599999999999998E-2,{"$f":"'Additional TCS'!B129","v":0.26300000000000001},1,{"$f":"IF(AND('Input - Output'!A134>=360,'Input - Output'!A134<=830),'Input - Output'!A134,\"\")","v":""},"","","","","","","","","","","","","","","",""]
[485,0.214,0.159,0.126,0.308,0.41799999999999998,0.504,0.38500000000000001,0.33700000000000002,2.9000000000000001E-2,0.16200000000000001,0.219,0.28199999999999997,0.40500000000000003,5.7000000000000002E-2,{"$f":"'Additional TCS'!B130","v":0.26400000000000001},1,{"$f":"IF(AND('Input - Output'!A135>=360,'Input - Output'!A135<=830),'Input - Output'!A135,\"\")","v":""},"","","","","","","","","","","","","","","",""]
[486,0.21440000000000001,0.16200000000000001,0.13039999999999999,0.31280000000000002,0.41820000000000002,0.50080000000000002,0.38059999999999999,0.33460000000000001,2.8799999999999999E-2,0.16739999999999999,0.22559999999999999,0.27700000000000002,0.40720000000000001,5.8000000000000003E-2,{"$f":"'Additional TCS'!B131","v":0.26500000000000001},1,{"$f":"IF(AND('Input - Output'!A136>=360,'Input - Output'!A136<=830),'Input - Output'!A136,\"\")","v":""},"","","","","","","","","","","","","","","",""]
[487,0.21479999999999999,0.16500000000000001,0.1348,0.31759999999999999,0.41839999999999999,0.49759999999999999,0.37619999999999998,0.3322,2.86E-2,0.17280000000000001,0.23219999999999999,0.27200000000000002,0.40939999999999999,5.8999999999999997E-2,{"$f":"'Additional TCS'!B132","v":0.26600000000000001},1,{"$f":"IF(AND('Input - Output'!A137>=360,'Input - Output'!A137<=830),'Input - Output'!A137,\"\")","v":""},"","","","","","","","","","","","","","","",""]
[488,0.2152,0.16800000000000001,0.13919999999999999,0.32240000000000002,0.41860000000000003,0.49440000000000001,0.37180000000000002,0.32979999999999998,2.8400000000000002E-2,0.1782,0.23880000000000001,0.26700000000000002,0.41160000000000002,0.06,{"$f":"'Additional TCS'!B133","v":0.26700000000000002},1,{"$f":"IF(AND('Input - Output'!A138>=360,'Input - Output'!A138<=830),'Input - Output'!A138,\"\")","v":""},"","","","","","","","","","","","","","","",""]
[489,0.21560000000000001,0.17100000000000001,0.14360000000000001,0.32719999999999999,0.41880000000000001,0.49120000000000003,0.3674,0.32740000000000002,2.8199999999999999E-2,0.18360000000000001,0.24540000000000001,0.26200000000000001,0.4138,6.0999999999999999E-2,{"$f":"'Additional TCS'!B134","v":0.26800000000000002},1,{"$f":"IF(AND('Input - Output'!A139>=360,'Input - Output'!A139<=830),'Input - Output'!A139,\"\")","v":""},{"$f":"IF($R138<>\"\",TREND(OFFSET(B$9,MATCH($R138,$A$9:$A$485)-1,,2),OFFSET($A$9,MATCH($R138,$A$9:$A$485)-1,,2),$R138),\"\")","v":""},{"$f":"IF($R138<>\"\",TREND(OFFSET(C$9,MATCH($R138,$A$9:$A$485)-1,,2),OFFSET($A$9,MATCH($R138,$A$9:$A$485)-1,,2),$R138),\"\")","v":""},{"$f":"IF($R138<>\"\",TREND(OFFSET(D$9,MATCH($R138,$A$9:$A$485)-1,,2),OFFSET($A$9,MATCH($R138,$A$9:$A$485)-1,,2),$R138),\"\")","v":""},{"$f":"IF($R138<>\"\",TREND(OFFSET(E$9,MATCH($R138,$A$9:$A$485)-1,,2),OFFSET($A$9,MATCH($R138,$A$9:$A$485)-1,,2),$R138),\"\")","v":""},{"$f":"IF($R138<>\"\",TREND(OFFSET(F$9,MATCH($R138,$A$9:$A$485)-1,,2),OFFSET($A$9,MATCH($R138,$A$9:$A$485)-1,,2),$R138),\"\")","v":""},{"$f":"IF($R138<>\"\",TREND(OFFSET(G$9,MATCH($R138,$A$9:$A$485)-1,,2),OFFSET($A$9,MATCH($R138,$A$9:$A$485)-1,,2),$R138),\"\")","v":""},{"$f":"IF($R138<>\"\",TREND(OFFSET(H$9,MATCH($R138,$A$9:$A$485)-1,,2),OFFSET($A$9,MATCH($R138,$A$9:$A$485)-1,,2),$R138),\"\")","v":""},{"$f":"IF($R138<>\"\",TREND(OFFSET(I$9,MATCH($R138,$A$9:$A$485)-1,,2),OFFSET($A$9,MATCH($R138,$A$9:$A$485)-1,,2),$R138),\"\")","v":""},{"$f":"IF($R138<>\"\",TREND(OFFSET(J$9,MATCH($R138,$A$9:$A$485)-1,,2),OFFSET($A$9,MATCH($R138,$A$9:$A$485)-1,,2),$R138),\"\")","v":""},{"$f":"IF($R138<>\"\",TREND(OFFSET(K$9,MATCH($R138,$A$9:$A$485)-1,,2),OFFSET($A$9,MATCH($R138,$A$9:$A$485)-1,,2),$R138),\"\")","v":""},{"$f":"IF($R138<>\"\",TREND(OFFSET(L$9,MATCH($R138,$A$9:$A$485)-1,,2),OFFSET($A$9,MATCH($R138,$A$9:$A$485)-1,,2),$R138),\"\")","v":""},{"$f":"IF($R138<>\"\",TREND(OFFSET(M$9,MATCH($R138,$A$9:$A$485)-1,,2),OFFSET($A$9,MATCH($R138,$A$9:$A$485)-1,,2),$R138),\"\")","v":""},{"$f":"IF($R138<>\"\",TREND(OFFSET(N$9,MATCH($R138,$A$9:$A$485)-1,,2),OFFSET($A$9,MATCH($R138,$A$9:$A$485)-1,,2),$R138),\"\")","v":""},{"$f":"IF($R138<>\"\",TREND(OFFSET(O$9,MATCH($R138,$A$9:$A$485)-1,,2),OFFSET($A$9,MATCH($R138,$A$9:$A$485)-1,,2),$R138),\"\")","v":""},{"$f":"IF($R138<>\"\",TREND(OFFSET(P$9,MATCH($R138,$A$9:$A$485)-1,,2),OFFSET($A$9,MATCH($R138,$A$9:$A$485)-1,,2),$R138),\"\")","v":""},{"$f":"IF($R138<>\"\",TREND(OFFSET(Q$9,MATCH($R138,$A$9:$A$485)-1,,2),OFFSET($A$9,MATCH($R138,$A$9:$A$485)-1,,2),$R138),\"\")","v":""}]
[490,0.216,0.17399999999999999,0.14799999999999999,0.33200000000000002,0.41899999999999998,0.48799999999999999,0.36299999999999999,0.32500000000000001,2.8000000000000001E-2,0.189,0.252,0.25700000000000001,0.41599999999999998,6.2E-2,{"$f":"'Additional TCS'!B135","v":0.26899999999999996},1,{"$f":"IF(AND('Input - Output'!A140>=360,'Input - Output'!A140<=830),'Input - Output'!A140,\"\")","v":""},"","","","","","","","","","","","","","","",""]
[491,0.21640000000000001,0.1772,0.15279999999999999,0.33600000000000002,0.41860000000000003,0.48420000000000002,0.35859999999999997,0.32200000000000001,2.8000000000000001E-2,0.19500000000000001,0.25979999999999998,0.25159999999999999,0.41860000000000003,6.3E-2,{"$f":"'Additional TCS'!B136","v":0.27040000000000003},1,{"$f":"IF(AND('Input - Output'!A141>=360,'Input - Output'!A141<=830),'Input - Output'!A141,\"\")","v":""},"","","","","","","","","","","","","","","",""]
[492,0.21679999999999999,0.1804,0.15759999999999999,0.34,0.41820000000000002,0.48039999999999999,0.35420000000000001,0.31900000000000001,2.8000000000000001E-2,0.20100000000000001,0.2676,0.2462,0.42120000000000002,6.4000000000000001E-2,{"$f":"'Additional TCS'!B137","v":0.27179999999999999},1,{"$f":"IF(AND('Input - Output'!A142>=360,'Input - Output'!A142<=830),'Input - Output'!A142,\"\")","v":""},"","","","","","","","","","","","","","","",""]
[493,0.2172,0.18360000000000001,0.16239999999999999,0.34399999999999997,0.4178,0.47660000000000002,0.3498,0.316,2.8000000000000001E-2,0.20699999999999999,0.27539999999999998,0.24079999999999999,0.42380000000000001,6.5000000000000002E-2,{"$f":"'Additional TCS'!B138","v":0.27319999999999994},1,{"$f":"IF(AND('Input - Output'!A143>=360,'Input - Output'!A143<=830),'Input - Output'!A143,\"\")","v":""},"","","","","","","","","","","","","","","",""]
[494,0.21759999999999999,0.18679999999999999,0.16719999999999999,0.34799999999999998,0.41739999999999999,0.4728,0.34539999999999998,0.313,2.8000000000000001E-2,0.21299999999999999,0.28320000000000001,0.2354,0.4264,6.6000000000000003E-2,{"$f":"'Additional TCS'!B139","v":0.27460000000000001},1,{"$f":"IF(AND('Input - Output'!A144>=360,'Input - Output'!A144<=830),'Input - Output'!A144,\"\")","v":""},"","","","","","","","","","","","","","","",""]
[495,0.218,0.19,0.17199999999999999,0.35199999999999998,0.41699999999999998,0.46899999999999997,0.34100000000000003,0.31,2.8000000000000001E-2,0.219,0.29099999999999998,0.23,0.42899999999999999,6.7000000000000004E-2,{"$f":"'Additional TCS'!B140","v":0.27600000000000002},1,{"$f":"IF(AND('Input - Output'!A145>=360,'Input - Output'!A145<=830),'Input - Output'!A145,\"\")","v":""},"","","","","","","","","","","","","","","",""]
[496,0.219,0.19339999999999999,0.1772,0.35560000000000003,0.41620000000000001,0.4652,0.33760000000000001,0.30780000000000002,2.8000000000000001E-2,0.2276,0.29780000000000001,0.2248,0.43180000000000002,6.8599999999999994E-2,{"$f":"'Additional TCS'!B141","v":0.27760000000000007},1,{"$f":"IF(AND('Input - Output'!A146>=360,'Input - Output'!A146<=830),'Input - Output'!A146,\"\")","v":""},"","","","","","","","","","","","","","","",""]
[497,0.22,0.1968,0.18240000000000001,0.35920000000000002,0.41539999999999999,0.46139999999999998,0.3342,0.30559999999999998,2.8000000000000001E-2,0.23619999999999999,0.30459999999999998,0.21959999999999999,0.43459999999999999,7.0199999999999999E-2,{"$f":"'Additional TCS'!B142","v":0.27920000000000011},1,{"$f":"IF(AND('Input - Output'!A147>=360,'Input - Output'!A147<=830),'Input - Output'!A147,\"\")","v":""},"","","","","","","","","","","","","","","",""]
[498,0.221,0.20019999999999999,0.18759999999999999,0.36280000000000001,0.41460000000000002,0.45760000000000001,0.33079999999999998,0.3034,2.8000000000000001E-2,0.24479999999999999,0.31140000000000001,0.21440000000000001,0.43740000000000001,7.1800000000000003E-2,{"$f":"'Additional TCS'!B143","v":0.28080000000000005},1,{"$f":"IF(AND('Input - Output'!A148>=360,'Input - Output'!A148<=830),'Input - Output'!A148,\"\")","v":""},"","","","","","","","","","","","","","","",""]
[499,0.222,0.2036,0.1928,0.3664,0.4138,0.45379999999999998,0.32740000000000002,0.30120000000000002,2.8000000000000001E-2,0.25340000000000001,0.31819999999999998,0.2092,0.44019999999999998,7.3400000000000007E-2,{"$f":"'Additional TCS'!B144","v":0.28239999999999998},1,{"$f":"IF(AND('Input - Output'!A149>=360,'Input - Output'!A149<=830),'Input - Output'!A149,\"\")","v":""},"","","","","","","","","","","","","","","",""]
[500,0.223,0.20699999999999999,0.19800000000000001,0.37,0.41299999999999998,0.45,0.32400000000000001,0.29899999999999999,2.8000000000000001E-2,0.26200000000000001,0.32500000000000001,0.20399999999999999,0.443,7.4999999999999997E-2,{"$f":"'Additional TCS'!B145","v":0.28399999999999992},1,{"$f":"IF(AND('Input - Output'!A150>=360,'Input - Output'!A150<=830),'Input - Output'!A150,\"\")","v":""},"","","","","","","","","","","","","","","",""]
[501,0.22339999999999999,0.21060000000000001,0.2026,0.37259999999999999,0.41220000000000001,0.44619999999999999,0.32140000000000002,0.29699999999999999,2.8199999999999999E-2,0.27060000000000001,0.32940000000000003,0.1988,0.44519999999999998,7.6600000000000001E-2,{"$f":"'Additional TCS'!B146","v":0.28539999999999999},1,{"$f":"IF(AND('Input - Output'!A151>=360,'Input - Output'!A151<=830),'Input - Output'!A151,\"\")","v":""},"","","","","","","","","","","","","","","",""]
[502,0.2238,0.2142,0.2072,0.37519999999999998,0.41139999999999999,0.44240000000000002,0.31879999999999997,0.29499999999999998,2.8400000000000002E-2,0.2792,0.33379999999999999,0.19359999999999999,0.44740000000000002,7.8200000000000006E-2,{"$f":"'Additional TCS'!B147","v":0.28679999999999994},1,{"$f":"IF(AND('Input - Output'!A152>=360,'Input - Output'!A152<=830),'Input - Output'!A152,\"\")","v":""},"","","","","","","","","","","","","","","",""]
[503,0.22420000000000001,0.21779999999999999,0.21179999999999999,0.37780000000000002,0.41060000000000002,0.43859999999999999,0.31619999999999998,0.29299999999999998,2.86E-2,0.2878,0.3382,0.18840000000000001,0.4496,7.9799999999999996E-2,{"$f":"'Additional TCS'!B148","v":0.2881999999999999},1,{"$f":"IF(AND('Input - Output'!A153>=360,'Input - Output'!A153<=830),'Input - Output'!A153,\"\")","v":""},"","","","","","","","","","","","","","","",""]
[504,0.22459999999999999,0.22140000000000001,0.21640000000000001,0.38040000000000002,0.4098,0.43480000000000002,0.31359999999999999,0.29099999999999998,2.8799999999999999E-2,0.2964,0.34260000000000002,0.1832,0.45179999999999998,8.14E-2,{"$f":"'Additional TCS'!B149","v":0.28959999999999997},1,{"$f":"IF(AND('Input - Output'!A154>=360,'Input - Output'!A154<=830),'Input - Output'!A154,\"\")","v":""},"","","","","","","","","","","","","","","",""]
[505,0.22500000000000001,0.22500000000000001,0.221,0.38300000000000001,0.40899999999999997,0.43099999999999999,0.311,0.28899999999999998,2.9000000000000001E-2,0.30499999999999999,0.34699999999999998,0.17799999999999999,0.45400000000000001,8.3000000000000004E-2,{"$f":"'Additional TCS'!B150","v":0.29099999999999993},1,{"$f":"IF(AND('Input - Output'!A155>=360,'Input - Output'!A155<=830),'Input - Output'!A155,\"\")","v":""},"","","","","","","","","","","","","","","",""]
[506,0.22520000000000001,0.22839999999999999,0.22500000000000001,0.38440000000000002,0.4078,0.42759999999999998,0.309,0.2878,2.92E-2,0.317,0.3488,0.17319999999999999,0.45540000000000003,8.48E-2,{"$f":"'Additional TCS'!B151","v":0.29199999999999993},1,{"$f":"IF(AND('Input - Output'!A156>=360,'Input - Output'!A156<=830),'Input - Output'!A156,\"\")","v":""},"","","","","","","","","","","","","","","",""]
[507,0.22539999999999999,0.23180000000000001,0.22900000000000001,0.38579999999999998,0.40660000000000002,0.42420000000000002,0.307,0.28660000000000002,2.9399999999999999E-2,0.32900000000000001,0.35060000000000002,0.16839999999999999,0.45679999999999998,8.6599999999999996E-2,{"$f":"'Additional TCS'!B152","v":0.29299999999999993},1,{"$f":"IF(AND('Input - Output'!A157>=360,'Input - Output'!A157<=830),'Input - Output'!A157,\"\")","v":""},"","","","","","","","","","","","","","","",""]
[508,0.22559999999999999,0.23519999999999999,0.23300000000000001,0.38719999999999999,0.40539999999999998,0.42080000000000001,0.30499999999999999,0.28539999999999999,2.9600000000000001E-2,0.34100000000000003,0.35239999999999999,0.1636,0.4582,8.8400000000000006E-2,{"$f":"'Additional TCS'!B153","v":0.29399999999999993},1,{"$f":"IF(AND('Input - Output'!A158>=360,'Input - Output'!A158<=830),'Input - Output'!A158,\"\")","v":""},"","","","","","","","","","","","","","","",""]
[509,0.2258,0.23860000000000001,0.23699999999999999,0.3886,0.4042,0.41739999999999999,0.30299999999999999,0.28420000000000001,2.98E-2,0.35299999999999998,0.35420000000000001,0.1588,0.45960000000000001,9.0200000000000002E-2,{"$f":"'Additional TCS'!B154","v":0.29499999999999993},1,{"$f":"IF(AND('Input - Output'!A159>=360,'Input - Output'!A159<=830),'Input - Output'!A159,\"\")","v":""},"","","","","","","","","","","","","","","",""]
[510,0.22600000000000001,0.24199999999999999,0.24099999999999999,0.39,0.40300000000000002,0.41399999999999998,0.30099999999999999,0.28299999999999997,0.03,0.36499999999999999,0.35599999999999998,0.154,0.46100000000000002,9.1999999999999998E-2,{"$f":"'Additional TCS'!B155","v":0.29599999999999999},1,{"$f":"IF(AND('Input - Output'!A160>=360,'Input - Output'!A160<=830),'Input - Output'!A160,\"\")","v":""},"","","","","","","","","","","","","","","",""]
[511,0.22600000000000001,0.2442,0.24479999999999999,0.39079999999999998,0.40160000000000001,0.41020000000000001,0.29899999999999999,0.28160000000000002,0.03,0.37519999999999998,0.35539999999999999,0.14899999999999999,0.46200000000000002,9.3600000000000003E-2,{"$f":"'Additional TCS'!B156","v":0.2964},1,{"$f":"IF(AND('Input - Output'!A161>=360,'Input - Output'!A161<=830),'Input - Output'!A161,\"\")","v":""},"","","","","","","","","","","","","","","",""]
[512,0.22600000000000001,0.24640000000000001,0.24859999999999999,0.3916,0.4002,0.40639999999999998,0.29699999999999999,0.2802,0.03,0.38540000000000002,0.3548,0.14399999999999999,0.46300000000000002,9.5200000000000007E-2,{"$f":"'Additional TCS'!B157","v":0.29679999999999995},1,{"$f":"IF(AND('Input - Output'!A162>=360,'Input - Output'!A162<=830),'Input - Output'!A162,\"\")","v":""},"","","","","","","","","","","","","","","",""]
[513,0.22600000000000001,0.24859999999999999,0.25240000000000001,0.39240000000000003,0.39879999999999999,0.40260000000000001,0.29499999999999998,0.27879999999999999,0.03,0.39560000000000001,0.35420000000000001,0.13900000000000001,0.46400000000000002,9.6799999999999997E-2,{"$f":"'Additional TCS'!B158","v":0.29720000000000002},1,{"$f":"IF(AND('Input - Output'!A163>=360,'Input - Output'!A163<=830),'Input - Output'!A163,\"\")","v":""},"","","","","","","","","","","","","","","",""]
[514,0.22600000000000001,0.25080000000000002,0.25619999999999998,0.39319999999999999,0.39739999999999998,0.39879999999999999,0.29299999999999998,0.27739999999999998,0.03,0.40579999999999999,0.35360000000000003,0.13400000000000001,0.46500000000000002,9.8400000000000001E-2,{"$f":"'Additional TCS'!B159","v":0.29759999999999998},1,{"$f":"IF(AND('Input - Output'!A164>=360,'Input - Output'!A164<=830),'Input - Output'!A164,\"\")","v":""},"","","","","","","","","","","","","","","",""]
[515,0.22600000000000001,0.253,0.26,0.39400000000000002,0.39600000000000002,0.39500000000000002,0.29099999999999998,0.27600000000000002,0.03,0.41599999999999998,0.35299999999999998,0.129,0.46600000000000003,0.1,{"$f":"'Additional TCS'!B160","v":0.29799999999999999},1,{"$f":"IF(AND('Input - Output'!A165>=360,'Input - Output'!A165<=830),'Input - Output'!A165,\"\")","v":""},"","","","","","","","","","","","","","","",""]
[516,0.2258,0.25440000000000002,0.2636,0.39419999999999999,0.39460000000000001,0.39140000000000003,0.28939999999999999,0.27479999999999999,3.0200000000000001E-2,0.42580000000000001,0.35160000000000002,0.125,0.46660000000000001,0.1016,{"$f":"'Additional TCS'!B161","v":0.29759999999999998},1,{"$f":"IF(AND('Input - Output'!A166>=360,'Input - Output'!A166<=830),'Input - Output'!A166,\"\")","v":""},"","","","","","","","","","","","","","","",""]
[517,0.22559999999999999,0.25580000000000003,0.26719999999999999,0.39439999999999997,0.39319999999999999,0.38779999999999998,0.2878,0.27360000000000001,3.04E-2,0.43559999999999999,0.35020000000000001,0.121,0.4672,0.1032,{"$f":"'Additional TCS'!B162","v":0.29720000000000002},1,{"$f":"IF(AND('Input - Output'!A167>=360,'Input - Output'!A167<=830),'Input - Output'!A167,\"\")","v":""},"","","","","","","","","","","","","","","",""]
[518,0.22539999999999999,0.25719999999999998,0.27079999999999999,0.39460000000000001,0.39179999999999998,0.38419999999999999,0.28620000000000001,0.27239999999999998,3.0599999999999999E-2,0.44540000000000002,0.3488,0.11700000000000001,0.46779999999999999,0.1048,{"$f":"'Additional TCS'!B163","v":0.29679999999999995},1,{"$f":"IF(AND('Input - Output'!A168>=360,'Input - Output'!A168<=830),'Input - Output'!A168,\"\")","v":""},"","","","","","","","","","","","","","","",""]
[519,0.22520000000000001,0.2586,0.27439999999999998,0.39479999999999998,0.39040000000000002,0.38059999999999999,0.28460000000000002,0.2712,3.0800000000000001E-2,0.45519999999999999,0.34739999999999999,0.113,0.46839999999999998,0.10639999999999999,{"$f":"'Additional TCS'!B164","v":0.2964},1,{"$f":"IF(AND('Input - Output'!A169>=360,'Input - Output'!A169<=830),'Input - Output'!A169,\"\")","v":""},"","","","","","","","","","","","","","","",""]
[520,0.22500000000000001,0.26,0.27800000000000002,0.39500000000000002,0.38900000000000001,0.377,0.28299999999999997,0.27,3.1E-2,0.46500000000000002,0.34599999999999997,0.109,0.46899999999999997,0.108,{"$f":"'Additional TCS'!B165","v":0.29599999999999993},1,{"$f":"IF(AND('Input - Output'!A170>=360,'Input - Output'!A170<=830),'Input - Output'!A170,\"\")","v":""},"","","","","","","","","","","","","","","",""]
[521,0.22500000000000001,0.26079999999999998,0.2828,0.39439999999999997,0.38740000000000002,0.37319999999999998,0.28100000000000003,0.26840000000000003,3.1E-2,0.4738,0.34339999999999998,0.1052,0.46939999999999998,0.1106,{"$f":"'Additional TCS'!B166","v":0.29459999999999986},1,{"$f":"IF(AND('Input - Output'!A171>=360,'Input - Output'!A171<=830),'Input - Output'!A171,\"\")","v":""},"","","","","","","","","","","","","","","",""]
[522,0.22500000000000001,0.2616,0.28760000000000002,0.39379999999999998,0.38579999999999998,0.36940000000000001,0.27900000000000003,0.26679999999999998,3.1E-2,0.48259999999999997,0.34079999999999999,0.1014,0.4698,0.1132,{"$f":"'Additional TCS'!B167","v":0.29319999999999991},1,{"$f":"IF(AND('Input - Output'!A172>=360,'Input - Output'!A172<=830),'Input - Output'!A172,\"\")","v":""},"","","","","","","","","","","","","","","",""]
[523,0.22500000000000001,0.26240000000000002,0.29239999999999999,0.39319999999999999,0.38419999999999999,0.36559999999999998,0.27700000000000002,0.26519999999999999,3.1E-2,0.4914,0.3382,9.7600000000000006E-2,0.47020000000000001,0.1158,{"$f":"'Additional TCS'!B168","v":0.29179999999999995},1,{"$f":"IF(AND('Input - Output'!A173>=360,'Input - Output'!A173<=830),'Input - Output'!A173,\"\")","v":""},"","","","","","","","","","","","","","","",""]
[524,0.22500000000000001,0.26319999999999999,0.29720000000000002,0.3926,0.3826,0.36180000000000001,0.27500000000000002,0.2636,3.1E-2,0.50019999999999998,0.33560000000000001,9.3799999999999994E-2,0.47060000000000002,0.11840000000000001,{"$f":"'Additional TCS'!B169","v":0.29039999999999988},1,{"$f":"IF(AND('Input - Output'!A174>=360,'Input - Output'!A174<=830),'Input - Output'!A174,\"\")","v":""},"","","","","","","","","","","","","","","",""]
[525,0.22500000000000001,0.26400000000000001,0.30199999999999999,0.39200000000000002,0.38100000000000001,0.35799999999999998,0.27300000000000002,0.26200000000000001,3.1E-2,0.50900000000000001,0.33300000000000002,0.09,0.47099999999999997,0.121,{"$f":"'Additional TCS'!B170","v":0.28899999999999992},1,{"$f":"IF(AND('Input - Output'!A175>=360,'Input - Output'!A175<=830),'Input - Output'!A175,\"\")","v":""},"","","","","","","","","","","","","","","",""]
[526,0.22539999999999999,0.2646,0.30940000000000001,0.3906,0.37919999999999998,0.35460000000000003,0.27139999999999997,0.26079999999999998,3.1199999999999999E-2,0.51639999999999997,0.32919999999999999,8.6999999999999994E-2,0.47160000000000002,0.1234,{"$f":"'Additional TCS'!B171","v":0.28759999999999986},1,{"$f":"IF(AND('Input - Output'!A176>=360,'Input - Output'!A176<=830),'Input - Output'!A176,\"\")","v":""},"","","","","","","","","","","","","","","",""]
[527,0.2258,0.26519999999999999,0.31680000000000003,0.38919999999999999,0.37740000000000001,0.35120000000000001,0.26979999999999998,0.2596,3.1399999999999997E-2,0.52380000000000004,0.32540000000000002,8.4000000000000005E-2,0.47220000000000001,0.1258,{"$f":"'Additional TCS'!B172","v":0.2861999999999999},1,{"$f":"IF(AND('Input - Output'!A177>=360,'Input - Output'!A177<=830),'Input - Output'!A177,\"\")","v":""},"","","","","","","","","","","","","","","",""]
[528,0.22620000000000001,0.26579999999999998,0.32419999999999999,0.38779999999999998,0.37559999999999999,0.3478,0.26819999999999999,0.25840000000000002,3.1600000000000003E-2,0.53120000000000001,0.3216,8.1000000000000003E-2,0.4728,0.12820000000000001,{"$f":"'Additional TCS'!B173","v":0.28479999999999994},1,{"$f":"IF(AND('Input - Output'!A178>=360,'Input - Output'!A178<=830),'Input - Output'!A178,\"\")","v":""},"","","","","","","","","","","","","","","",""]
[529,0.2266,0.26640000000000003,0.33160000000000001,0.38640000000000002,0.37380000000000002,0.34439999999999998,0.2666,0.25719999999999998,3.1800000000000002E-2,0.53859999999999997,0.31780000000000003,7.8E-2,0.47339999999999999,0.13059999999999999,{"$f":"'Additional TCS'!B174","v":0.28339999999999987},1,{"$f":"IF(AND('Input - Output'!A179>=360,'Input - Output'!A179<=830),'Input - Output'!A179,\"\")","v":""},"","","","","","","","","","","","","","","",""]
[530,0.22700000000000001,0.26700000000000002,0.33900000000000002,0.38500000000000001,0.372,0.34100000000000003,0.26500000000000001,0.25600000000000001,3.2000000000000001E-2,0.54600000000000004,0.314,7.4999999999999997E-2,0.47399999999999998,0.13300000000000001,{"$f":"'Additional TCS'!B175","v":0.28200000000000003},1,{"$f":"IF(AND('Input - Output'!A180>=360,'Input - Output'!A180<=830),'Input - Output'!A180,\"\")","v":""},"","","","","","","","","","","","","","","",""]
[531,0.2276,0.26740000000000003,0.34520000000000001,0.38340000000000002,0.37019999999999997,0.33779999999999999,0.26400000000000001,0.255,3.2000000000000001E-2,0.55300000000000005,0.31,7.2400000000000006E-2,0.47439999999999999,0.1348,{"$f":"'Additional TCS'!B176","v":0.28080000000000005},1,{"$f":"IF(AND('Input - Output'!A181>=360,'Input - Output'!A181<=830),'Input - Output'!A181,\"\")","v":""},"","","","","","","","","","","","","","","",""]
[532,0.22819999999999999,0.26779999999999998,0.35139999999999999,0.38179999999999997,0.36840000000000001,0.33460000000000001,0.26300000000000001,0.254,3.2000000000000001E-2,0.56000000000000005,0.30599999999999999,6.9800000000000001E-2,0.4748,0.1366,{"$f":"'Additional TCS'!B177","v":0.27960000000000007},1,{"$f":"IF(AND('Input - Output'!A182>=360,'Input - Output'!A182<=830),'Input - Output'!A182,\"\")","v":""},"","","","","","","","","","","","","","","",""]
[533,0.2288,0.26819999999999999,0.35759999999999997,0.38019999999999998,0.36659999999999998,0.33139999999999997,0.26200000000000001,0.253,3.2000000000000001E-2,0.56699999999999995,0.30199999999999999,6.7199999999999996E-2,0.47520000000000001,0.1384,{"$f":"'Additional TCS'!B178","v":0.27840000000000009},1,{"$f":"IF(AND('Input - Output'!A183>=360,'Input - Output'!A183<=830),'Input - Output'!A183,\"\")","v":""},"","","","","","","","","","","","","","","",""]
[534,0.22939999999999999,0.26860000000000001,0.36380000000000001,0.37859999999999999,0.36480000000000001,0.32819999999999999,0.26100000000000001,0.252,3.2000000000000001E-2,0.57399999999999995,0.29799999999999999,6.4600000000000005E-2,0.47560000000000002,0.14019999999999999,{"$f":"'Additional TCS'!B179","v":0.27720000000000011},1,{"$f":"IF(AND('Input - Output'!A184>=360,'Input - Output'!A184<=830),'Input - Output'!A184,\"\")","v":""},"","","","","","","","","","","","","","","",""]
[535,0.23,0.26900000000000002,0.37,0.377,0.36299999999999999,0.32500000000000001,0.26,0.251,3.2000000000000001E-2,0.58099999999999996,0.29399999999999998,6.2E-2,0.47599999999999998,0.14199999999999999,{"$f":"'Additional TCS'!B180","v":0.27600000000000002},1,{"$f":"IF(AND('Input - Output'!A185>=360,'Input - Output'!A185<=830),'Input - Output'!A185,\"\")","v":""},"","","","","","","","","","","","","","","",""]
[536,0.23119999999999999,0.26960000000000001,0.37440000000000001,0.375,0.36099999999999999,0.32179999999999997,0.25940000000000002,0.25080000000000002,3.2199999999999999E-2,0.58679999999999999,0.28939999999999999,5.9799999999999999E-2,0.47739999999999999,0.14360000000000001,{"$f":"'Additional TCS'!B181","v":0.27560000000000007},1,{"$f":"IF(AND('Input - Output'!A186>=360,'Input - Output'!A186<=830),'Input - Output'!A186,\"\")","v":""},"","","","","","","","","","","","","","","",""]
[537,0.2324,0.2702,0.37880000000000003,0.373,0.35899999999999999,0.31859999999999999,0.25879999999999997,0.25059999999999999,3.2399999999999998E-2,0.59260000000000002,0.2848,5.7599999999999998E-2,0.4788,0.1452,{"$f":"'Additional TCS'!B182","v":0.2752},1,{"$f":"IF(AND('Input - Output'!A187>=360,'Input - Output'!A187<=830),'Input - Output'!A187,\"\")","v":""},"","","","","","","","","","","","","","","",""]
[538,0.2336,0.27079999999999999,0.38319999999999999,0.371,0.35699999999999998,0.31540000000000001,0.25819999999999999,0.25040000000000001,3.2599999999999997E-2,0.59840000000000004,0.2802,5.5399999999999998E-2,0.48020000000000002,0.14680000000000001,{"$f":"'Additional TCS'!B183","v":0.27480000000000004},1,{"$f":"IF(AND('Input - Output'!A188>=360,'Input - Output'!A188<=830),'Input - Output'!A188,\"\")","v":""},"","","","","","","","","","","","","","","",""]
[539,0.23480000000000001,0.27139999999999997,0.3876,0.36899999999999999,0.35499999999999998,0.31219999999999998,0.2576,0.25019999999999998,3.2800000000000003E-2,0.60419999999999996,0.27560000000000001,5.3199999999999997E-2,0.48159999999999997,0.1484,{"$f":"'Additional TCS'!B184","v":0.27440000000000003},1,{"$f":"IF(AND('Input - Output'!A189>=360,'Input - Output'!A189<=830),'Input - Output'!A189,\"\")","v":""},"","","","","","","","","","","","","","","",""]
[540,0.23599999999999999,0.27200000000000002,0.39200000000000002,0.36699999999999999,0.35299999999999998,0.309,0.25700000000000001,0.25,3.3000000000000002E-2,0.61,0.27100000000000002,5.0999999999999997E-2,0.48299999999999998,0.15,{"$f":"'Additional TCS'!B185","v":0.27400000000000002},1,{"$f":"IF(AND('Input - Output'!A190>=360,'Input - Output'!A190<=830),'Input - Output'!A190,\"\")","v":""},"","","","","","","","","","","","","","","",""]
[541,0.23780000000000001,0.27279999999999999,0.39340000000000003,0.3644,0.3508,0.30580000000000002,0.25700000000000001,0.25019999999999998,3.32E-2,0.61480000000000001,0.26640000000000003,4.9000000000000002E-2,0.4844,0.15079999999999999,{"$f":"'Additional TCS'!B186","v":0.27439999999999998},1,{"$f":"IF(AND('Input - Output'!A191>=360,'Input - Output'!A191<=830),'Input - Output'!A191,\"\")","v":""},"","","","","","","","","","","","","","","",""]
[542,0.23960000000000001,0.27360000000000001,0.39479999999999998,0.36180000000000001,0.34860000000000002,0.30259999999999998,0.25700000000000001,0.25040000000000001,3.3399999999999999E-2,0.61960000000000004,0.26179999999999998,4.7E-2,0.48580000000000001,0.15160000000000001,{"$f":"'Additional TCS'!B187","v":0.27480000000000004},1,{"$f":"IF(AND('Input - Output'!A192>=360,'Input - Output'!A192<=830),'Input - Output'!A192,\"\")","v":""},"","","","","","","","","","","","","","","",""]
[543,0.2414,0.27439999999999998,0.3962,0.35920000000000002,0.34639999999999999,0.2994,0.25700000000000001,0.25059999999999999,3.3599999999999998E-2,0.62439999999999996,0.25719999999999998,4.4999999999999998E-2,0.48720000000000002,0.15240000000000001,{"$f":"'Additional TCS'!B188","v":0.2752},1,{"$f":"IF(AND('Input - Output'!A193>=360,'Input - Output'!A193<=830),'Input - Output'!A193,\"\")","v":""},"","","","","","","","","","","","","","","",""]
[544,0.2432,0.2752,0.39760000000000001,0.35659999999999997,0.34420000000000001,0.29620000000000002,0.25700000000000001,0.25080000000000002,3.3799999999999997E-2,0.62919999999999998,0.25259999999999999,4.2999999999999997E-2,0.48859999999999998,0.1532,{"$f":"'Additional TCS'!B189","v":0.27560000000000001},1,{"$f":"IF(AND('Input - Output'!A194>=360,'Input - Output'!A194<=830),'Input - Output'!A194,\"\")","v":""},"","","","","","","","","","","","","","","",""]
[545,0.245,0.27600000000000002,0.39900000000000002,0.35399999999999998,0.34200000000000003,0.29299999999999998,0.25700000000000001,0.251,3.4000000000000002E-2,0.63400000000000001,0.248,4.1000000000000002E-2,0.49,0.154,{"$f":"'Additional TCS'!B190","v":0.27600000000000008},1,{"$f":"IF(AND('Input - Output'!A195>=360,'Input - Output'!A195<=830),'Input - Output'!A195,\"\")","v":""},"","","","","","","","","","","","","","","",""]
[546,0.24660000000000001,0.2772,0.3992,0.35139999999999999,0.33979999999999999,0.29020000000000001,0.25740000000000002,0.25159999999999999,3.4200000000000001E-2,0.63780000000000003,0.24379999999999999,3.9800000000000002E-2,0.49320000000000003,0.1542,{"$f":"'Additional TCS'!B191","v":0.27700000000000008},1,{"$f":"IF(AND('Input - Output'!A196>=360,'Input - Output'!A196<=830),'Input - Output'!A196,\"\")","v":""},"","","","","","","","","","","","","","","",""]
[547,0.2482,0.27839999999999998,0.39939999999999998,0.3488,0.33760000000000001,0.28739999999999999,0.25779999999999997,0.25219999999999998,3.44E-2,0.64159999999999995,0.23960000000000001,3.8600000000000002E-2,0.49640000000000001,0.15440000000000001,{"$f":"'Additional TCS'!B192","v":0.27800000000000008},1,{"$f":"IF(AND('Input - Output'!A197>=360,'Input - Output'!A197<=830),'Input - Output'!A197,\"\")","v":""},"","","","","","","","","","","","","","","",""]
[548,0.24979999999999999,0.27960000000000002,0.39960000000000001,0.34620000000000001,0.33539999999999998,0.28460000000000002,0.25819999999999999,0.25280000000000002,3.4599999999999999E-2,0.64539999999999997,0.2354,3.7400000000000003E-2,0.49959999999999999,0.15459999999999999,{"$f":"'Additional TCS'!B193","v":0.27900000000000008},1,{"$f":"IF(AND('Input - Output'!A198>=360,'Input - Output'!A198<=830),'Input - Output'!A198,\"\")","v":""},"","","","","","","","","","","","","","","",""]
[549,0.25140000000000001,0.28079999999999999,0.39979999999999999,0.34360000000000002,0.3332,0.28179999999999999,0.2586,0.25340000000000001,3.4799999999999998E-2,0.6492,0.23119999999999999,3.6200000000000003E-2,0.50280000000000002,0.15479999999999999,{"$f":"'Additional TCS'!B194","v":0.28000000000000008},1,{"$f":"IF(AND('Input - Output'!A199>=360,'Input - Output'!A199<=830),'Input - Output'!A199,\"\")","v":""},"","","","","","","","","","","","","","","",""]
[550,0.253,0.28199999999999997,0.4,0.34100000000000003,0.33100000000000002,0.27900000000000003,0.25900000000000001,0.254,3.5000000000000003E-2,0.65300000000000002,0.22700000000000001,3.5000000000000003E-2,0.50600000000000001,0.155,{"$f":"'Additional TCS'!B195","v":0.28100000000000003},1,{"$f":"IF(AND('Input - Output'!A200>=360,'Input - Output'!A200<=830),'Input - Output'!A200,\"\")","v":""},"","","","","","","","","","","","","","","",""]
[551,0.25480000000000003,0.28339999999999999,0.39860000000000001,0.3382,0.32879999999999998,0.2762,0.25919999999999999,0.25480000000000003,3.5400000000000001E-2,0.65559999999999996,0.2228,3.3799999999999997E-2,0.51,0.15440000000000001,{"$f":"'Additional TCS'!B196","v":0.28200000000000003},1,{"$f":"IF(AND('Input - Output'!A201>=360,'Input - Output'!A201<=830),'Input - Output'!A201,\"\")","v":""},"","","","","","","","","","","","","","","",""]
[552,0.25659999999999999,0.2848,0.3972,0.33539999999999998,0.3266,0.27339999999999998,0.25940000000000002,0.25559999999999999,3.5799999999999998E-2,0.65820000000000001,0.21859999999999999,3.2599999999999997E-2,0.51400000000000001,0.15379999999999999,{"$f":"'Additional TCS'!B197","v":0.28300000000000003},1,{"$f":"IF(AND('Input - Output'!A202>=360,'Input - Output'!A202<=830),'Input - Output'!A202,\"\")","v":""},"","","","","","","","","","","","","","","",""]
[553,0.25840000000000002,0.28620000000000001,0.39579999999999999,0.33260000000000001,0.32440000000000002,0.27060000000000001,0.2596,0.25640000000000002,3.6200000000000003E-2,0.66080000000000005,0.21440000000000001,3.1399999999999997E-2,0.51800000000000002,0.1532,{"$f":"'Additional TCS'!B198","v":0.28400000000000003},1,{"$f":"IF(AND('Input - Output'!A203>=360,'Input - Output'!A203<=830),'Input - Output'!A203,\"\")","v":""},{"$f":"IF($R202<>\"\",TREND(OFFSET(B$9,MATCH($R202,$A$9:$A$485)-1,,2),OFFSET($A$9,MATCH($R202,$A$9:$A$485)-1,,2),$R202),\"\")","v":""},{"$f":"IF($R202<>\"\",TREND(OFFSET(C$9,MATCH($R202,$A$9:$A$485)-1,,2),OFFSET($A$9,MATCH($R202,$A$9:$A$485)-1,,2),$R202),\"\")","v":""},{"$f":"IF($R202<>\"\",TREND(OFFSET(D$9,MATCH($R202,$A$9:$A$485)-1,,2),OFFSET($A$9,MATCH($R202,$A$9:$A$485)-1,,2),$R202),\"\")","v":""},{"$f":"IF($R202<>\"\",TREND(OFFSET(E$9,MATCH($R202,$A$9:$A$485)-1,,2),OFFSET($A$9,MATCH($R202,$A$9:$A$485)-1,,2),$R202),\"\")","v":""},{"$f":"IF($R202<>\"\",TREND(OFFSET(F$9,MATCH($R202,$A$9:$A$485)-1,,2),OFFSET($A$9,MATCH($R202,$A$9:$A$485)-1,,2),$R202),\"\")","v":""},{"$f":"IF($R202<>\"\",TREND(OFFSET(G$9,MATCH($R202,$A$9:$A$485)-1,,2),OFFSET($A$9,MATCH($R202,$A$9:$A$485)-1,,2),$R202),\"\")","v":""},{"$f":"IF($R202<>\"\",TREND(OFFSET(H$9,MATCH($R202,$A$9:$A$485)-1,,2),OFFSET($A$9,MATCH($R202,$A$9:$A$485)-1,,2),$R202),\"\")","v":""},{"$f":"IF($R202<>\"\",TREND(OFFSET(I$9,MATCH($R202,$A$9:$A$485)-1,,2),OFFSET($A$9,MATCH($R202,$A$9:$A$485)-1,,2),$R202),\"\")","v":""},{"$f":"IF($R202<>\"\",TREND(OFFSET(J$9,MATCH($R202,$A$9:$A$485)-1,,2),OFFSET($A$9,MATCH($R202,$A$9:$A$485)-1,,2),$R202),\"\")","v":""},{"$f":"IF($R202<>\"\",TREND(OFFSET(K$9,MATCH($R202,$A$9:$A$485)-1,,2),OFFSET($A$9,MATCH($R202,$A$9:$A$485)-1,,2),$R202),\"\")","v":""},{"$f":"IF($R202<>\"\",TREND(OFFSET(L$9,MATCH($R202,$A$9:$A$485)-1,,2),OFFSET($A$9,MATCH($R202,$A$9:$A$485)-1,,2),$R202),\"\")","v":""},{"$f":"IF($R202<>\"\",TREND(OFFSET(M$9,MATCH($R202,$A$9:$A$485)-1,,2),OFFSET($A$9,MATCH($R202,$A$9:$A$485)-1,,2),$R202),\"\")","v":""},{"$f":"IF($R202<>\"\",TREND(OFFSET(N$9,MATCH($R202,$A$9:$A$485)-1,,2),OFFSET($A$9,MATCH($R202,$A$9:$A$485)-1,,2),$R202),\"\")","v":""},{"$f":"IF($R202<>\"\",TREND(OFFSET(O$9,MATCH($R202,$A$9:$A$485)-1,,2),OFFSET($A$9,MATCH($R202,$A$9:$A$485)-1,,2),$R202),\"\")","v":""},{"$f":"IF($R202<>\"\",TREND(OFFSET(P$9,MATCH($R202,$A$9:$A$485)-1,,2),OFFSET($A$9,MATCH($R202,$A$9:$A$485)-1,,2),$R202),\"\")","v":""},{"$f":"IF($R202<>\"\",TREND(OFFSET(Q$9,MATCH($R202,$A$9:$A$485)-1,,2),OFFSET($A$9,MATCH($R202,$A$9:$A$485)-1,,2),$R202),\"\")","v":""}]
[554,0.26019999999999999,0.28760000000000002,0.39439999999999997,0.32979999999999998,0.32219999999999999,0.26779999999999998,0.25979999999999998,0.25719999999999998,3.6600000000000001E-2,0.66339999999999999,0.2102,3.0200000000000001E-2,0.52200000000000002,0.15260000000000001,{"$f":"'Additional TCS'!B199","v":0.28500000000000003},1,{"$f":"IF(AND('Input - Output'!A204>=360,'Input - Output'!A204<=830),'Input - Output'!A204,\"\")","v":""},"","","","","","","","","","","","","","","",""]
[555,0.26200000000000001,0.28899999999999998,0.39300000000000002,0.32700000000000001,0.32,0.26500000000000001,0.26,0.25800000000000001,3.6999999999999998E-2,0.66600000000000004,0.20599999999999999,2.9000000000000001E-2,0.52600000000000002,0.152,{"$f":"'Additional TCS'!B200","v":0.28600000000000003},1,{"$f":"IF(AND('Input - Output'!A205>=360,'Input - Output'!A205<=830),'Input - Output'!A205,\"\")","v":""},"","","","","","","","","","","","","","","",""]
[556,0.26400000000000001,0.29099999999999998,0.39040000000000002,0.32400000000000001,0.31759999999999999,0.2626,0.26,0.25919999999999999,3.78E-2,0.66839999999999999,0.2024,2.8199999999999999E-2,0.53139999999999998,0.151,{"$f":"'Additional TCS'!B201","v":0.28700000000000003},1,{"$f":"IF(AND('Input - Output'!A206>=360,'Input - Output'!A206<=830),'Input - Output'!A206,\"\")","v":""},"","","","","","","","","","","","","","","",""]
[557,0.26600000000000001,0.29299999999999998,0.38779999999999998,0.32100000000000001,0.31519999999999998,0.26019999999999999,0.26,0.26040000000000002,3.8600000000000002E-2,0.67079999999999995,0.1988,2.7400000000000001E-2,0.53680000000000005,0.15,{"$f":"'Additional TCS'!B202","v":0.28800000000000003},1,{"$f":"IF(AND('Input - Output'!A207>=360,'Input - Output'!A207<=830),'Input - Output'!A207,\"\")","v":""},"","","","","","","","","","","","","","","",""]
[558,0.26800000000000002,0.29499999999999998,0.38519999999999999,0.318,0.31280000000000002,0.25779999999999997,0.26,0.2616,3.9399999999999998E-2,0.67320000000000002,0.19520000000000001,2.6599999999999999E-2,0.54220000000000002,0.14899999999999999,{"$f":"'Additional TCS'!B203","v":0.28900000000000003},1,{"$f":"IF(AND('Input - Output'!A208>=360,'Input - Output'!A208<=830),'Input - Output'!A208,\"\")","v":""},"","","","","","","","","","","","","","","",""]
[559,0.27,0.29699999999999999,0.3826,0.315,0.31040000000000001,0.25540000000000002,0.26,0.26279999999999998,4.02E-2,0.67559999999999998,0.19159999999999999,2.58E-2,0.54759999999999998,0.14799999999999999,{"$f":"'Additional TCS'!B204","v":0.29000000000000004},1,{"$f":"IF(AND('Input - Output'!A209>=360,'Input - Output'!A209<=830),'Input - Output'!A209,\"\")","v":""},"","","","","","","","","","","","","","","",""]
[560,0.27200000000000002,0.29899999999999999,0.38,0.312,0.308,0.253,0.26,0.26400000000000001,4.1000000000000002E-2,0.67800000000000005,0.188,2.5000000000000001E-2,0.55300000000000005,0.14699999999999999,{"$f":"'Additional TCS'!B205","v":0.29099999999999998},1,{"$f":"IF(AND('Input - Output'!A210>=360,'Input - Output'!A210<=830),'Input - Output'!A210,\"\")","v":""},"","","","","","","","","","","","","","","",""]
[561,0.2742,0.30099999999999999,0.377,0.30880000000000002,0.30559999999999998,0.25059999999999999,0.2596,0.26500000000000001,4.1599999999999998E-2,0.67979999999999996,0.18440000000000001,2.4400000000000002E-2,0.55879999999999996,0.14560000000000001,{"$f":"'Additional TCS'!B206","v":0.29059999999999997},1,{"$f":"IF(AND('Input - Output'!A211>=360,'Input - Output'!A211<=830),'Input - Output'!A211,\"\")","v":""},"","","","","","","","","","","","","","","",""]
[562,0.27639999999999998,0.30299999999999999,0.374,0.30559999999999998,0.30320000000000003,0.2482,0.25919999999999999,0.26600000000000001,4.2200000000000001E-2,0.68159999999999998,0.18079999999999999,2.3800000000000002E-2,0.56459999999999999,0.14419999999999999,{"$f":"'Additional TCS'!B207","v":0.29020000000000001},1,{"$f":"IF(AND('Input - Output'!A212>=360,'Input - Output'!A212<=830),'Input - Output'!A212,\"\")","v":""},"","","","","","","","","","","","","","","",""]
[563,0.27860000000000001,0.30499999999999999,0.371,0.3024,0.30080000000000001,0.24579999999999999,0.25879999999999997,0.26700000000000002,4.2799999999999998E-2,0.68340000000000001,0.1772,2.3199999999999998E-2,0.57040000000000002,0.14280000000000001,{"$f":"'Additional TCS'!B208","v":0.2898},1,{"$f":"IF(AND('Input - Output'!A213>=360,'Input - Output'!A213<=830),'Input - Output'!A213,\"\")","v":""},"","","","","","","","","","","","","","","",""]
[564,0.28079999999999999,0.307,0.36799999999999999,0.29920000000000002,0.2984,0.24340000000000001,0.25840000000000002,0.26800000000000002,4.3400000000000001E-2,0.68520000000000003,0.1736,2.2599999999999999E-2,0.57620000000000005,0.1414,{"$f":"'Additional TCS'!B209","v":0.28939999999999999},1,{"$f":"IF(AND('Input - Output'!A214>=360,'Input - Output'!A214<=830),'Input - Output'!A214,\"\")","v":""},"","","","","","","","","","","","","","","",""]
[565,0.28299999999999997,0.309,0.36499999999999999,0.29599999999999999,0.29599999999999999,0.24099999999999999,0.25800000000000001,0.26900000000000002,4.3999999999999997E-2,0.68700000000000006,0.17,2.1999999999999999E-2,0.58199999999999996,0.14000000000000001,{"$f":"'Additional TCS'!B210","v":0.28899999999999998},1,{"$f":"IF(AND('Input - Output'!A215>=360,'Input - Output'!A215<=830),'Input - Output'!A215,\"\")","v":""},"","","","","","","","","","","","","","","",""]
[566,0.28599999999999998,0.31159999999999999,0.36180000000000001,0.2928,0.29360000000000003,0.23960000000000001,0.2576,0.26960000000000001,4.48E-2,0.68820000000000003,0.1666,2.1399999999999999E-2,0.58919999999999995,0.1386,{"$f":"'Additional TCS'!B211","v":0.28839999999999999},1,{"$f":"IF(AND('Input - Output'!A216>=360,'Input - Output'!A216<=830),'Input - Output'!A216,\"\")","v":""},"","","","","","","","","","","","","","","",""]
[567,0.28899999999999998,0.31419999999999998,0.35859999999999997,0.28960000000000002,0.29120000000000001,0.2382,0.25719999999999998,0.2702,4.5600000000000002E-2,0.68940000000000001,0.16320000000000001,2.0799999999999999E-2,0.59640000000000004,0.13719999999999999,{"$f":"'Additional TCS'!B212","v":0.2878},1,{"$f":"IF(AND('Input - Output'!A217>=360,'Input - Output'!A217<=830),'Input - Output'!A217,\"\")","v":""},"","","","","","","","","","","","","","","",""]
[568,0.29199999999999998,0.31680000000000003,0.35539999999999999,0.28639999999999999,0.2888,0.23680000000000001,0.25679999999999997,0.27079999999999999,4.6399999999999997E-2,0.69059999999999999,0.1598,2.0199999999999999E-2,0.60360000000000003,0.1358,{"$f":"'Additional TCS'!B213","v":0.28720000000000001},1,{"$f":"IF(AND('Input - Output'!A218>=360,'Input - Output'!A218<=830),'Input - Output'!A218,\"\")","v":""},"","","","","","","","","","","","","","","",""]
[569,0.29499999999999998,0.31940000000000002,0.35220000000000001,0.28320000000000001,0.28639999999999999,0.2354,0.25640000000000002,0.27139999999999997,4.7199999999999999E-2,0.69179999999999997,0.15640000000000001,1.9599999999999999E-2,0.61080000000000001,0.13439999999999999,{"$f":"'Additional TCS'!B214","v":0.28660000000000002},1,{"$f":"IF(AND('Input - Output'!A219>=360,'Input - Output'!A219<=830),'Input - Output'!A219,\"\")","v":""},"","","","","","","","","","","","","","","",""]
[570,0.29799999999999999,0.32200000000000001,0.34899999999999998,0.28000000000000003,0.28399999999999997,0.23400000000000001,0.25600000000000001,0.27200000000000002,4.8000000000000001E-2,0.69299999999999995,0.153,1.9E-2,0.61799999999999999,0.13300000000000001,{"$f":"'Additional TCS'!B215","v":0.28600000000000003},1,{"$f":"IF(AND('Input - Output'!A220>=360,'Input - Output'!A220<=830),'Input - Output'!A220,\"\")","v":""},"","","","","","","","","","","","","","","",""]
[571,0.30199999999999999,0.32340000000000002,0.34560000000000002,0.27660000000000001,0.28139999999999998,0.2326,0.25559999999999999,0.27239999999999998,4.8800000000000003E-2,0.69399999999999995,0.15,1.8599999999999998E-2,0.62460000000000004,0.13139999999999999,{"$f":"'Additional TCS'!B216","v":0.28480000000000005},1,{"$f":"IF(AND('Input - Output'!A221>=360,'Input - Output'!A221<=830),'Input - Output'!A221,\"\")","v":""},"","","","","","","","","","","","","","","",""]
[572,0.30599999999999999,0.32479999999999998,0.3422,0.2732,0.27879999999999999,0.23119999999999999,0.25519999999999998,0.27279999999999999,4.9599999999999998E-2,0.69499999999999995,0.14699999999999999,1.8200000000000001E-2,0.63119999999999998,0.1298,{"$f":"'Additional TCS'!B217","v":0.28360000000000007},1,{"$f":"IF(AND('Input - Output'!A222>=360,'Input - Output'!A222<=830),'Input - Output'!A222,\"\")","v":""},"","","","","","","","","","","","","","","",""]
[573,0.31,0.32619999999999999,0.33879999999999999,0.26979999999999998,0.2762,0.2298,0.25480000000000003,0.2732,5.04E-2,0.69599999999999995,0.14399999999999999,1.78E-2,0.63780000000000003,0.12820000000000001,{"$f":"'Additional TCS'!B218","v":0.2824000000000001},1,{"$f":"IF(AND('Input - Output'!A223>=360,'Input - Output'!A223<=830),'Input - Output'!A223,\"\")","v":""},"","","","","","","","","","","","","","","",""]
[574,0.314,0.3276,0.33539999999999998,0.26640000000000003,0.27360000000000001,0.22839999999999999,0.25440000000000002,0.27360000000000001,5.1200000000000002E-2,0.69699999999999995,0.14099999999999999,1.7399999999999999E-2,0.64439999999999997,0.12659999999999999,{"$f":"'Additional TCS'!B219","v":0.28120000000000012},1,{"$f":"IF(AND('Input - Output'!A224>=360,'Input - Output'!A224<=830),'Input - Output'!A224,\"\")","v":""},"","","","","","","","","","","","","","","",""]
[575,0.318,0.32900000000000001,0.33200000000000002,0.26300000000000001,0.27100000000000002,0.22700000000000001,0.254,0.27400000000000002,5.1999999999999998E-2,0.69799999999999995,0.13800000000000001,1.7000000000000001E-2,0.65100000000000002,0.125,{"$f":"'Additional TCS'!B220","v":0.28000000000000003},1,{"$f":"IF(AND('Input - Output'!A225>=360,'Input - Output'!A225<=830),'Input - Output'!A225,\"\")","v":""},"","","","","","","","","","","","","","","",""]
[576,0.3226,0.33019999999999999,0.3286,0.25979999999999998,0.26879999999999998,0.2266,0.254,0.27479999999999999,5.3600000000000002E-2,0.6986,0.13539999999999999,1.7000000000000001E-2,0.65680000000000005,0.1236,{"$f":"'Additional TCS'!B221","v":0.28100000000000003},1,{"$f":"IF(AND('Input - Output'!A226>=360,'Input - Output'!A226<=830),'Input - Output'!A226,\"\")","v":""},"","","","","","","","","","","","","","","",""]
[577,0.32719999999999999,0.33139999999999997,0.32519999999999999,0.25659999999999999,0.2666,0.22620000000000001,0.254,0.27560000000000001,5.5199999999999999E-2,0.69920000000000004,0.1328,1.7000000000000001E-2,0.66259999999999997,0.1222,{"$f":"'Additional TCS'!B222","v":0.28200000000000003},1,{"$f":"IF(AND('Input - Output'!A227>=360,'Input - Output'!A227<=830),'Input - Output'!A227,\"\")","v":""},"","","","","","","","","","","","","","","",""]
[578,0.33179999999999998,0.33260000000000001,0.32179999999999997,0.25340000000000001,0.26440000000000002,0.2258,0.254,0.27639999999999998,5.6800000000000003E-2,0.69979999999999998,0.13020000000000001,1.7000000000000001E-2,0.66839999999999999,0.1208,{"$f":"'Additional TCS'!B223","v":0.28299999999999992},1,{"$f":"IF(AND('Input - Output'!A228>=360,'Input - Output'!A228<=830),'Input - Output'!A228,\"\")","v":""},"","","","","","","","","","","","","","","",""]
[579,0.33639999999999998,0.33379999999999999,0.31840000000000002,0.25019999999999998,0.26219999999999999,0.22539999999999999,0.254,0.2772,5.8400000000000001E-2,0.70040000000000002,0.12759999999999999,1.7000000000000001E-2,0.67420000000000002,0.11940000000000001,{"$f":"'Additional TCS'!B224","v":0.28399999999999992},1,{"$f":"IF(AND('Input - Output'!A229>=360,'Input - Output'!A229<=830),'Input - Output'!A229,\"\")","v":""},"","","","","","","","","","","","","","","",""]
[580,0.34100000000000003,0.33500000000000002,0.315,0.247,0.26,0.22500000000000001,0.254,0.27800000000000002,0.06,0.70099999999999996,0.125,1.7000000000000001E-2,0.68,0.11799999999999999,{"$f":"'Additional TCS'!B225","v":0.28500000000000014},1,{"$f":"IF(AND('Input - Output'!A230>=360,'Input - Output'!A230<=830),'Input - Output'!A230,\"\")","v":""},"","","","","","","","","","","","","","","",""]
[581,0.34620000000000001,0.33579999999999999,0.31180000000000002,0.24340000000000001,0.25740000000000002,0.22439999999999999,0.255,0.2792,6.3200000000000006E-2,0.7016,0.12280000000000001,1.7000000000000001E-2,0.68420000000000003,0.1168,{"$f":"'Additional TCS'!B226","v":0.29080000000000039},1,{"$f":"IF(AND('Input - Output'!A231>=360,'Input - Output'!A231<=830),'Input - Output'!A231,\"\")","v":""},"","","","","","","","","","","","","","","",""]
[582,0.35139999999999999,0.33660000000000001,0.30859999999999999,0.23980000000000001,0.25480000000000003,0.2238,0.25600000000000001,0.28039999999999998,6.6400000000000001E-2,0.70220000000000005,0.1206,1.7000000000000001E-2,0.68840000000000001,0.11559999999999999,{"$f":"'Additional TCS'!B227","v":0.2966000000000002},1,{"$f":"IF(AND('Input - Output'!A232>=360,'Input - Output'!A232<=830),'Input - Output'!A232,\"\")","v":""},"","","","","","","","","","","","","","","",""]
[583,0.35659999999999997,0.33739999999999998,0.3054,0.23619999999999999,0.25219999999999998,0.22320000000000001,0.25700000000000001,0.28160000000000002,6.9599999999999995E-2,0.70279999999999998,0.11840000000000001,1.7000000000000001E-2,0.69259999999999999,0.1144,{"$f":"'Additional TCS'!B228","v":0.30240000000000045},1,{"$f":"IF(AND('Input - Output'!A233>=360,'Input - Output'!A233<=830),'Input - Output'!A233,\"\")","v":""},"","","","","","","","","","","","","","","",""]
[584,0.36180000000000001,0.3382,0.30220000000000002,0.2326,0.24959999999999999,0.22259999999999999,0.25800000000000001,0.2828,7.2800000000000004E-2,0.70340000000000003,0.1162,1.7000000000000001E-2,0.69679999999999997,0.1132,{"$f":"'Additional TCS'!B229","v":0.30820000000000025},1,{"$f":"IF(AND('Input - Output'!A234>=360,'Input - Output'!A234<=830),'Input - Output'!A234,\"\")","v":""},"","","","","","","","","","","","","","","",""]
[585,0.36699999999999999,0.33900000000000002,0.29899999999999999,0.22900000000000001,0.247,0.222,0.25900000000000001,0.28399999999999997,7.5999999999999998E-2,0.70399999999999996,0.114,1.7000000000000001E-2,0.70099999999999996,0.112,{"$f":"'Additional TCS'!B230","v":0.31400000000000006},1,{"$f":"IF(AND('Input - Output'!A235>=360,'Input - Output'!A235<=830),'Input - Output'!A235,\"\")","v":""},"","","","","","","","","","","","","","","",""]
[586,0.37159999999999999,0.33939999999999998,0.29620000000000002,0.22600000000000001,0.24399999999999999,0.2218,0.26119999999999999,0.28620000000000001,8.1199999999999994E-2,0.70420000000000005,0.1124,1.6799999999999999E-2,0.70420000000000005,0.1108,{"$f":"'Additional TCS'!B231","v":0.32200000000000006},1,{"$f":"IF(AND('Input - Output'!A236>=360,'Input - Output'!A236<=830),'Input - Output'!A236,\"\")","v":""},"","","","","","","","","","","","","","","",""]
[587,0.37619999999999998,0.33979999999999999,0.29339999999999999,0.223,0.24099999999999999,0.22159999999999999,0.26340000000000002,0.28839999999999999,8.6400000000000005E-2,0.70440000000000003,0.1108,1.66E-2,0.70740000000000003,0.1096,{"$f":"'Additional TCS'!B232","v":0.33000000000000007},1,{"$f":"IF(AND('Input - Output'!A237>=360,'Input - Output'!A237<=830),'Input - Output'!A237,\"\")","v":""},"","","","","","","","","","","","","","","",""]
[588,0.38080000000000003,0.3402,0.29060000000000002,0.22,0.23799999999999999,0.22140000000000001,0.2656,0.29060000000000002,9.1600000000000001E-2,0.7046,0.10920000000000001,1.6400000000000001E-2,0.71060000000000001,0.1084,{"$f":"'Additional TCS'!B233","v":0.33800000000000008},1,{"$f":"IF(AND('Input - Output'!A238>=360,'Input - Output'!A238<=830),'Input - Output'!A238,\"\")","v":""},"","","","","","","","","","","","","","","",""]
[589,0.38540000000000002,0.34060000000000001,0.2878,0.217,0.23499999999999999,0.22120000000000001,0.26779999999999998,0.2928,9.6799999999999997E-2,0.70479999999999998,0.1076,1.6199999999999999E-2,0.71379999999999999,0.1072,{"$f":"'Additional TCS'!B234","v":0.34600000000000009},1,{"$f":"IF(AND('Input - Output'!A239>=360,'Input - Output'!A239<=830),'Input - Output'!A239,\"\")","v":""},"","","","","","","","","","","","","","","",""]
[590,0.39,0.34100000000000003,0.28499999999999998,0.214,0.23200000000000001,0.221,0.27,0.29499999999999998,0.10199999999999999,0.70499999999999996,0.106,1.6E-2,0.71699999999999997,0.106,{"$f":"'Additional TCS'!B235","v":0.35400000000000009},1,{"$f":"IF(AND('Input - Output'!A240>=360,'Input - Output'!A240<=830),'Input - Output'!A240,\"\")","v":""},"","","","","","","","","","","","","","","",""]
[591,0.39379999999999998,0.34100000000000003,0.28239999999999998,0.21079999999999999,0.2296,0.2208,0.27279999999999999,0.29920000000000002,0.10879999999999999,0.70499999999999996,0.1048,1.6E-2,0.71940000000000004,0.105,{"$f":"'Additional TCS'!B236","v":0.36280000000000001},1,{"$f":"IF(AND('Input - Output'!A241>=360,'Input - Output'!A241<=830),'Input - Output'!A241,\"\")","v":""},"","","","","","","","","","","","","","","",""]
[592,0.39760000000000001,0.34100000000000003,0.27979999999999999,0.20760000000000001,0.22720000000000001,0.22059999999999999,0.27560000000000001,0.3034,0.11559999999999999,0.70499999999999996,0.1036,1.6E-2,0.7218,0.104,{"$f":"'Additional TCS'!B237","v":0.37159999999999993},1,{"$f":"IF(AND('Input - Output'!A242>=360,'Input - Output'!A242<=830),'Input - Output'!A242,\"\")","v":""},"","","","","","","","","","","","","","","",""]
[593,0.40139999999999998,0.34100000000000003,0.2772,0.2044,0.2248,0.22040000000000001,0.27839999999999998,0.30759999999999998,0.12239999999999999,0.70499999999999996,0.1024,1.6E-2,0.72419999999999995,0.10299999999999999,{"$f":"'Additional TCS'!B238","v":0.38039999999999985},1,{"$f":"IF(AND('Input - Output'!A243>=360,'Input - Output'!A243<=830),'Input - Output'!A243,\"\")","v":""},"","","","","","","","","","","","","","","",""]
[594,0.4052,0.34100000000000003,0.27460000000000001,0.20119999999999999,0.22239999999999999,0.22020000000000001,0.28120000000000001,0.31180000000000002,0.12920000000000001,0.70499999999999996,0.1012,1.6E-2,0.72660000000000002,0.10199999999999999,{"$f":"'Additional TCS'!B239","v":0.38919999999999977},1,{"$f":"IF(AND('Input - Output'!A244>=360,'Input - Output'!A244<=830),'Input - Output'!A244,\"\")","v":""},"","","","","","","","","","","","","","","",""]
[595,0.40899999999999997,0.34100000000000003,0.27200000000000002,0.19800000000000001,0.22,0.22,0.28399999999999997,0.316,0.13600000000000001,0.70499999999999996,0.1,1.6E-2,0.72899999999999998,0.10100000000000001,{"$f":"'Additional TCS'!B240","v":0.39800000000000058},1,{"$f":"IF(AND('Input - Output'!A245>=360,'Input - Output'!A245<=830),'Input - Output'!A245,\"\")","v":""},"","","","","","","","","","","","","","","",""]
[596,0.41199999999999998,0.3412,0.27039999999999997,0.19539999999999999,0.218,0.22,0.28760000000000002,0.32240000000000002,0.14680000000000001,0.70520000000000005,9.9199999999999997E-2,1.6E-2,0.73040000000000005,0.1004,{"$f":"'Additional TCS'!B241","v":0.40640000000000054},1,{"$f":"IF(AND('Input - Output'!A246>=360,'Input - Output'!A246<=830),'Input - Output'!A246,\"\")","v":""},"","","","","","","","","","","","","","","",""]
[597,0.41499999999999998,0.34139999999999998,0.26879999999999998,0.1928,0.216,0.22,0.29120000000000001,0.32879999999999998,0.15759999999999999,0.70540000000000003,9.8400000000000001E-2,1.6E-2,0.73180000000000001,9.98E-2,{"$f":"'Additional TCS'!B242","v":0.4148000000000005},1,{"$f":"IF(AND('Input - Output'!A247>=360,'Input - Output'!A247<=830),'Input - Output'!A247,\"\")","v":""},"","","","","","","","","","","","","","","",""]
[598,0.41799999999999998,0.34160000000000001,0.26719999999999999,0.19020000000000001,0.214,0.22,0.29480000000000001,0.3352,0.16839999999999999,0.7056,9.7600000000000006E-2,1.6E-2,0.73319999999999996,9.9199999999999997E-2,{"$f":"'Additional TCS'!B243","v":0.42320000000000046},1,{"$f":"IF(AND('Input - Output'!A248>=360,'Input - Output'!A248<=830),'Input - Output'!A248,\"\")","v":""},"","","","","","","","","","","","","","","",""]
[599,0.42099999999999999,0.34179999999999999,0.2656,0.18759999999999999,0.21199999999999999,0.22,0.2984,0.34160000000000001,0.1792,0.70579999999999998,9.6799999999999997E-2,1.6E-2,0.73460000000000003,9.8599999999999993E-2,{"$f":"'Additional TCS'!B244","v":0.43160000000000043},1,{"$f":"IF(AND('Input - Output'!A249>=360,'Input - Output'!A249<=830),'Input - Output'!A249,\"\")","v":""},"","","","","","","","","","","","","","","",""]
[600,0.42399999999999999,0.34200000000000003,0.26400000000000001,0.185,0.21,0.22,0.30199999999999999,0.34799999999999998,0.19,0.70599999999999996,9.6000000000000002E-2,1.6E-2,0.73599999999999999,9.8000000000000004E-2,{"$f":"'Additional TCS'!B245","v":0.43999999999999995},1,{"$f":"IF(AND('Input - Output'!A250>=360,'Input - Output'!A250<=830),'Input - Output'!A250,\"\")","v":""},"","","","","","","","","","","","","","","",""]
[601,0.42620000000000002,0.34200000000000003,0.2626,0.183,0.20799999999999999,0.22,0.30640000000000001,0.35520000000000002,0.20319999999999999,0.70620000000000005,9.5200000000000007E-2,1.6E-2,0.73719999999999997,9.74E-2,{"$f":"'Additional TCS'!B246","v":0.44600000000000017},1,{"$f":"IF(AND('Input - Output'!A251>=360,'Input - Output'!A251<=830),'Input - Output'!A251,\"\")","v":""},"","","","","","","","","","","","","","","",""]
[602,0.4284,0.34200000000000003,0.26119999999999999,0.18099999999999999,0.20599999999999999,0.22,0.31080000000000002,0.3624,0.21640000000000001,0.70640000000000003,9.4399999999999998E-2,1.6E-2,0.73839999999999995,9.6799999999999997E-2,{"$f":"'Additional TCS'!B247","v":0.45199999999999996},1,{"$f":"IF(AND('Input - Output'!A252>=360,'Input - Output'!A252<=830),'Input - Output'!A252,\"\")","v":""},"","","","","","","","","","","","","","","",""]
[603,0.43059999999999998,0.34200000000000003,0.25979999999999998,0.17899999999999999,0.20399999999999999,0.22,0.31519999999999998,0.36959999999999998,0.2296,0.70660000000000001,9.3600000000000003E-2,1.6E-2,0.73960000000000004,9.6199999999999994E-2,{"$f":"'Additional TCS'!B248","v":0.45800000000000018},1,{"$f":"IF(AND('Input - Output'!A253>=360,'Input - Output'!A253<=830),'Input - Output'!A253,\"\")","v":""},"","","","","","","","","","","","","","","",""]
[604,0.43280000000000002,0.34200000000000003,0.25840000000000002,0.17699999999999999,0.20200000000000001,0.22,0.3196,0.37680000000000002,0.24279999999999999,0.70679999999999998,9.2799999999999994E-2,1.6E-2,0.74080000000000001,9.5600000000000004E-2,{"$f":"'Additional TCS'!B249","v":0.46399999999999997},1,{"$f":"IF(AND('Input - Output'!A254>=360,'Input - Output'!A254<=830),'Input - Output'!A254,\"\")","v":""},"","","","","","","","","","","","","","","",""]
[605,0.435,0.34200000000000003,0.25700000000000001,0.17499999999999999,0.2,0.22,0.32400000000000001,0.38400000000000001,0.25600000000000001,0.70699999999999996,9.1999999999999998E-2,1.6E-2,0.74199999999999999,9.5000000000000001E-2,{"$f":"'Additional TCS'!B250","v":0.4700000000000002},1,{"$f":"IF(AND('Input - Output'!A255>=360,'Input - Output'!A255<=830),'Input - Output'!A255,\"\")","v":""},"","","","","","","","","","","","","","","",""]
[606,0.43640000000000001,0.34200000000000003,0.25600000000000001,0.17380000000000001,0.1988,0.22,0.32800000000000001,0.39400000000000002,0.27200000000000002,0.70699999999999996,9.1600000000000001E-2,1.6E-2,0.74260000000000004,9.4600000000000004E-2,{"$f":"'Additional TCS'!B251","v":0.47480000000000011},1,{"$f":"IF(AND('Input - Output'!A256>=360,'Input - Output'!A256<=830),'Input - Output'!A256,\"\")","v":""},"","","","","","","","","","","","","","","",""]
[607,0.43780000000000002,0.34200000000000003,0.255,0.1726,0.1976,0.22,0.33200000000000002,0.40400000000000003,0.28799999999999998,0.70699999999999996,9.1200000000000003E-2,1.6E-2,0.74319999999999997,9.4200000000000006E-2,{"$f":"'Additional TCS'!B252","v":0.47960000000000003},1,{"$f":"IF(AND('Input - Output'!A257>=360,'Input - Output'!A257<=830),'Input - Output'!A257,\"\")","v":""},"","","","","","","","","","","","","","","",""]
[608,0.43919999999999998,0.34200000000000003,0.254,0.1714,0.19639999999999999,0.22,0.33600000000000002,0.41399999999999998,0.30399999999999999,0.70699999999999996,9.0800000000000006E-2,1.6E-2,0.74380000000000002,9.3799999999999994E-2,{"$f":"'Additional TCS'!B253","v":0.48439999999999994},1,{"$f":"IF(AND('Input - Output'!A258>=360,'Input - Output'!A258<=830),'Input - Output'!A258,\"\")","v":""},"","","","","","","","","","","","","","","",""]
[609,0.44059999999999999,0.34200000000000003,0.253,0.17019999999999999,0.19520000000000001,0.22,0.34,0.42399999999999999,0.32,0.70699999999999996,9.0399999999999994E-2,1.6E-2,0.74439999999999995,9.3399999999999997E-2,{"$f":"'Additional TCS'!B254","v":0.4892000000000003},1,{"$f":"IF(AND('Input - Output'!A259>=360,'Input - Output'!A259<=830),'Input - Output'!A259,\"\")","v":""},"","","","","","","","","","","","","","","",""]
[610,0.442,0.34200000000000003,0.252,0.16900000000000001,0.19400000000000001,0.22,0.34399999999999997,0.434,0.33600000000000002,0.70699999999999996,0.09,1.6E-2,0.745,9.2999999999999999E-2,{"$f":"'Additional TCS'!B255","v":0.49400000000000022},1,{"$f":"IF(AND('Input - Output'!A260>=360,'Input - Output'!A260<=830),'Input - Output'!A260,\"\")","v":""},"","","","","","","","","","","","","","","",""]
[611,0.44319999999999998,0.34179999999999999,0.251,0.16800000000000001,0.193,0.22,0.34760000000000002,0.44359999999999999,0.35239999999999999,0.70699999999999996,8.9399999999999993E-2,1.6E-2,0.74539999999999995,9.2399999999999996E-2,{"$f":"'Additional TCS'!B256","v":0.49740000000000029},1,{"$f":"IF(AND('Input - Output'!A261>=360,'Input - Output'!A261<=830),'Input - Output'!A261,\"\")","v":""},"","","","","","","","","","","","","","","",""]
[612,0.44440000000000002,0.34160000000000001,0.25,0.16700000000000001,0.192,0.22,0.35120000000000001,0.45319999999999999,0.36880000000000002,0.70699999999999996,8.8800000000000004E-2,1.6E-2,0.74580000000000002,9.1800000000000007E-2,{"$f":"'Additional TCS'!B257","v":0.50079999999999991},1,{"$f":"IF(AND('Input - Output'!A262>=360,'Input - Output'!A262<=830),'Input - Output'!A262,\"\")","v":""},"","","","","","","","","","","","","","","",""]
[613,0.4456,0.34139999999999998,0.249,0.16600000000000001,0.191,0.22,0.3548,0.46279999999999999,0.38519999999999999,0.70699999999999996,8.8200000000000001E-2,1.6E-2,0.74619999999999997,9.1200000000000003E-2,{"$f":"'Additional TCS'!B258","v":0.50419999999999998},1,{"$f":"IF(AND('Input - Output'!A263>=360,'Input - Output'!A263<=830),'Input - Output'!A263,\"\")","v":""},"","","","","","","","","","","","","","","",""]
[614,0.44679999999999997,0.3412,0.248,0.16500000000000001,0.19,0.22,0.3584,0.47239999999999999,0.40160000000000001,0.70699999999999996,8.7599999999999997E-2,1.6E-2,0.74660000000000004,9.06E-2,{"$f":"'Additional TCS'!B259","v":0.50760000000000005},1,{"$f":"IF(AND('Input - Output'!A264>=360,'Input - Output'!A264<=830),'Input - Output'!A264,\"\")","v":""},"","","","","","","","","","","","","","","",""]
[615,0.44800000000000001,0.34100000000000003,0.247,0.16400000000000001,0.189,0.22,0.36199999999999999,0.48199999999999998,0.41799999999999998,0.70699999999999996,8.6999999999999994E-2,1.6E-2,0.747,0.09,{"$f":"'Additional TCS'!B260","v":0.51100000000000012},1,{"$f":"IF(AND('Input - Output'!A265>=360,'Input - Output'!A265<=830),'Input - Output'!A265,\"\")","v":""},"","","","","","","","","","","","","","","",""]
[616,0.44840000000000002,0.34100000000000003,0.24579999999999999,0.16320000000000001,0.18820000000000001,0.22059999999999999,0.36499999999999999,0.49120000000000003,0.43540000000000001,0.70720000000000005,8.6599999999999996E-2,1.6E-2,0.74719999999999998,8.9800000000000005E-2,{"$f":"'Additional TCS'!B261","v":0.51360000000000006},1,{"$f":"IF(AND('Input - Output'!A266>=360,'Input - Output'!A266<=830),'Input - Output'!A266,\"\")","v":""},"","","","","","","","","","","","","","","",""]
[617,0.44879999999999998,0.34100000000000003,0.24460000000000001,0.16239999999999999,0.18740000000000001,0.22120000000000001,0.36799999999999999,0.50039999999999996,0.45279999999999998,0.70740000000000003,8.6199999999999999E-2,1.6E-2,0.74739999999999995,8.9599999999999999E-2,{"$f":"'Additional TCS'!B262","v":0.51619999999999999},1,{"$f":"IF(AND('Input - Output'!A267>=360,'Input - Output'!A267<=830),'Input - Output'!A267,\"\")","v":""},{"$f":"IF($R266<>\"\",TREND(OFFSET(B$9,MATCH($R266,$A$9:$A$485)-1,,2),OFFSET($A$9,MATCH($R266,$A$9:$A$485)-1,,2),$R266),\"\")","v":""},{"$f":"IF($R266<>\"\",TREND(OFFSET(C$9,MATCH($R266,$A$9:$A$485)-1,,2),OFFSET($A$9,MATCH($R266,$A$9:$A$485)-1,,2),$R266),\"\")","v":""},{"$f":"IF($R266<>\"\",TREND(OFFSET(D$9,MATCH($R266,$A$9:$A$485)-1,,2),OFFSET($A$9,MATCH($R266,$A$9:$A$485)-1,,2),$R266),\"\")","v":""},{"$f":"IF($R266<>\"\",TREND(OFFSET(E$9,MATCH($R266,$A$9:$A$485)-1,,2),OFFSET($A$9,MATCH($R266,$A$9:$A$485)-1,,2),$R266),\"\")","v":""},{"$f":"IF($R266<>\"\",TREND(OFFSET(F$9,MATCH($R266,$A$9:$A$485)-1,,2),OFFSET($A$9,MATCH($R266,$A$9:$A$485)-1,,2),$R266),\"\")","v":""},{"$f":"IF($R266<>\"\",TREND(OFFSET(G$9,MATCH($R266,$A$9:$A$485)-1,,2),OFFSET($A$9,MATCH($R266,$A$9:$A$485)-1,,2),$R266),\"\")","v":""},{"$f":"IF($R266<>\"\",TREND(OFFSET(H$9,MATCH($R266,$A$9:$A$485)-1,,2),OFFSET($A$9,MATCH($R266,$A$9:$A$485)-1,,2),$R266),\"\")","v":""},{"$f":"IF($R266<>\"\",TREND(OFFSET(I$9,MATCH($R266,$A$9:$A$485)-1,,2),OFFSET($A$9,MATCH($R266,$A$9:$A$485)-1,,2),$R266),\"\")","v":""},{"$f":"IF($R266<>\"\",TREND(OFFSET(J$9,MATCH($R266,$A$9:$A$485)-1,,2),OFFSET($A$9,MATCH($R266,$A$9:$A$485)-1,,2),$R266),\"\")","v":""},{"$f":"IF($R266<>\"\",TREND(OFFSET(K$9,MATCH($R266,$A$9:$A$485)-1,,2),OFFSET($A$9,MATCH($R266,$A$9:$A$485)-1,,2),$R266),\"\")","v":""},{"$f":"IF($R266<>\"\",TREND(OFFSET(L$9,MATCH($R266,$A$9:$A$485)-1,,2),OFFSET($A$9,MATCH($R266,$A$9:$A$485)-1,,2),$R266),\"\")","v":""},{"$f":"IF($R266<>\"\",TREND(OFFSET(M$9,MATCH($R266,$A$9:$A$485)-1,,2),OFFSET($A$9,MATCH($R266,$A$9:$A$485)-1,,2),$R266),\"\")","v":""},{"$f":"IF($R266<>\"\",TREND(OFFSET(N$9,MATCH($R266,$A$9:$A$485)-1,,2),OFFSET($A$9,MATCH($R266,$A$9:$A$485)-1,,2),$R266),\"\")","v":""},{"$f":"IF($R266<>\"\",TREND(OFFSET(O$9,MATCH($R266,$A$9:$A$485)-1,,2),OFFSET($A$9,MATCH($R266,$A$9:$A$485)-1,,2),$R266),\"\")","v":""},{"$f":"IF($R266<>\"\",TREND(OFFSET(P$9,MATCH($R266,$A$9:$A$485)-1,,2),OFFSET($A$9,MATCH($R266,$A$9:$A$485)-1,,2),$R266),\"\")","v":""},{"$f":"IF($R266<>\"\",TREND(OFFSET(Q$9,MATCH($R266,$A$9:$A$485)-1,,2),OFFSET($A$9,MATCH($R266,$A$9:$A$485)-1,,2),$R266),\"\")","v":""}]
[618,0.44919999999999999,0.34100000000000003,0.24340000000000001,0.16159999999999999,0.18659999999999999,0.2218,0.371,0.50960000000000005,0.47020000000000001,0.70760000000000001,8.5800000000000001E-2,1.6E-2,0.74760000000000004,8.9399999999999993E-2,{"$f":"'Additional TCS'!B263","v":0.51880000000000015},1,{"$f":"IF(AND('Input - Output'!A268>=360,'Input - Output'!A268<=830),'Input - Output'!A268,\"\")","v":""},"","","","","","","","","","","","","","","",""]
[619,0.4496,0.34100000000000003,0.2422,0.1608,0.18579999999999999,0.22239999999999999,0.374,0.51880000000000004,0.48759999999999998,0.70779999999999998,8.5400000000000004E-2,1.6E-2,0.74780000000000002,8.9200000000000002E-2,{"$f":"'Additional TCS'!B264","v":0.52140000000000009},1,{"$f":"IF(AND('Input - Output'!A269>=360,'Input - Output'!A269<=830),'Input - Output'!A269,\"\")","v":""},"","","","","","","","","","","","","","","",""]
[620,0.45,0.34100000000000003,0.24099999999999999,0.16,0.185,0.223,0.377,0.52800000000000002,0.505,0.70799999999999996,8.5000000000000006E-2,1.6E-2,0.748,8.8999999999999996E-2,{"$f":"'Additional TCS'!B265","v":0.52400000000000002},1,{"$f":"IF(AND('Input - Output'!A270>=360,'Input - Output'!A270<=830),'Input - Output'!A270,\"\")","v":""},"","","","","","","","","","","","","","","",""]
[621,0.45019999999999999,0.34060000000000001,0.23980000000000001,0.15920000000000001,0.18459999999999999,0.2238,0.37940000000000002,0.53600000000000003,0.5202,0.70799999999999996,8.4400000000000003E-2,1.6E-2,0.748,8.8599999999999998E-2,{"$f":"'Additional TCS'!B266","v":0.5262},1,{"$f":"IF(AND('Input - Output'!A271>=360,'Input - Output'!A271<=830),'Input - Output'!A271,\"\")","v":""},"","","","","","","","","","","","","","","",""]
[622,0.45040000000000002,0.3402,0.23860000000000001,0.15840000000000001,0.1842,0.22459999999999999,0.38179999999999997,0.54400000000000004,0.53539999999999999,0.70799999999999996,8.3799999999999999E-2,1.6E-2,0.748,8.8200000000000001E-2,{"$f":"'Additional TCS'!B267","v":0.52839999999999998},1,{"$f":"IF(AND('Input - Output'!A272>=360,'Input - Output'!A272<=830),'Input - Output'!A272,\"\")","v":""},"","","","","","","","","","","","","","","",""]
[623,0.4506,0.33979999999999999,0.2374,0.15759999999999999,0.18379999999999999,0.22539999999999999,0.38419999999999999,0.55200000000000005,0.55059999999999998,0.70799999999999996,8.3199999999999996E-2,1.6E-2,0.748,8.7800000000000003E-2,{"$f":"'Additional TCS'!B268","v":0.53059999999999996},1,{"$f":"IF(AND('Input - Output'!A273>=360,'Input - Output'!A273<=830),'Input - Output'!A273,\"\")","v":""},"","","","","","","","","","","","","","","",""]
[624,0.45079999999999998,0.33939999999999998,0.23619999999999999,0.15679999999999999,0.18340000000000001,0.22620000000000001,0.3866,0.56000000000000005,0.56579999999999997,0.70799999999999996,8.2600000000000007E-2,1.6E-2,0.748,8.7400000000000005E-2,{"$f":"'Additional TCS'!B269","v":0.53279999999999994},1,{"$f":"IF(AND('Input - Output'!A274>=360,'Input - Output'!A274<=830),'Input - Output'!A274,\"\")","v":""},"","","","","","","","","","","","","","","",""]
[625,0.45100000000000001,0.33900000000000002,0.23499999999999999,0.156,0.183,0.22700000000000001,0.38900000000000001,0.56799999999999995,0.58099999999999996,0.70799999999999996,8.2000000000000003E-2,1.6E-2,0.748,8.6999999999999994E-2,{"$f":"'Additional TCS'!B270","v":0.53499999999999992},1,{"$f":"IF(AND('Input - Output'!A275>=360,'Input - Output'!A275<=830),'Input - Output'!A275,\"\")","v":""},"","","","","","","","","","","","","","","",""]
[626,0.45100000000000001,0.33900000000000002,0.23380000000000001,0.15559999999999999,0.18240000000000001,0.22819999999999999,0.39119999999999999,0.57520000000000004,0.59299999999999997,0.70840000000000003,8.1600000000000006E-2,1.6400000000000001E-2,0.748,8.6800000000000002E-2,{"$f":"'Additional TCS'!B271","v":0.53679999999999994},1,{"$f":"IF(AND('Input - Output'!A276>=360,'Input - Output'!A276<=830),'Input - Output'!A276,\"\")","v":""},"","","","","","","","","","","","","","","",""]
[627,0.45100000000000001,0.33900000000000002,0.2326,0.1552,0.18179999999999999,0.22939999999999999,0.39340000000000003,0.58240000000000003,0.60499999999999998,0.70879999999999999,8.1199999999999994E-2,1.6799999999999999E-2,0.748,8.6599999999999996E-2,{"$f":"'Additional TCS'!B272","v":0.53859999999999997},1,{"$f":"IF(AND('Input - Output'!A277>=360,'Input - Output'!A277<=830),'Input - Output'!A277,\"\")","v":""},"","","","","","","","","","","","","","","",""]
[628,0.45100000000000001,0.33900000000000002,0.23139999999999999,0.15479999999999999,0.1812,0.2306,0.39560000000000001,0.58960000000000001,0.61699999999999999,0.70920000000000005,8.0799999999999997E-2,1.72E-2,0.748,8.6400000000000005E-2,{"$f":"'Additional TCS'!B273","v":0.54039999999999999},1,{"$f":"IF(AND('Input - Output'!A278>=360,'Input - Output'!A278<=830),'Input - Output'!A278,\"\")","v":""},"","","","","","","","","","","","","","","",""]
[629,0.45100000000000001,0.33900000000000002,0.23019999999999999,0.15440000000000001,0.18060000000000001,0.23180000000000001,0.39779999999999999,0.5968,0.629,0.70960000000000001,8.0399999999999999E-2,1.7600000000000001E-2,0.748,8.6199999999999999E-2,{"$f":"'Additional TCS'!B274","v":0.54220000000000002},1,{"$f":"IF(AND('Input - Output'!A279>=360,'Input - Output'!A279<=830),'Input - Output'!A279,\"\")","v":""},"","","","","","","","","","","","","","","",""]
[630,0.45100000000000001,0.33900000000000002,0.22900000000000001,0.154,0.18,0.23300000000000001,0.4,0.60399999999999998,0.64100000000000001,0.71,0.08,1.7999999999999999E-2,0.748,8.5999999999999993E-2,{"$f":"'Additional TCS'!B275","v":0.54400000000000004},1,{"$f":"IF(AND('Input - Output'!A280>=360,'Input - Output'!A280<=830),'Input - Output'!A280,\"\")","v":""},"","","","","","","","","","","","","","","",""]
[631,0.45100000000000001,0.33879999999999999,0.22800000000000001,0.15359999999999999,0.1794,0.23419999999999999,0.40200000000000002,0.60899999999999999,0.6492,0.71020000000000005,7.9799999999999996E-2,1.7999999999999999E-2,0.748,8.5800000000000001E-2,{"$f":"'Additional TCS'!B276","v":0.54559999999999986},1,{"$f":"IF(AND('Input - Output'!A281>=360,'Input - Output'!A281<=830),'Input - Output'!A281,\"\")","v":""},"","","","","","","","","","","","","","","",""]
[632,0.45100000000000001,0.33860000000000001,0.22700000000000001,0.1532,0.17879999999999999,0.2354,0.40400000000000003,0.61399999999999999,0.65739999999999998,0.71040000000000003,7.9600000000000004E-2,1.7999999999999999E-2,0.748,8.5599999999999996E-2,{"$f":"'Additional TCS'!B277","v":0.54719999999999991},1,{"$f":"IF(AND('Input - Output'!A282>=360,'Input - Output'!A282<=830),'Input - Output'!A282,\"\")","v":""},"","","","","","","","","","","","","","","",""]
[633,0.45100000000000001,0.33839999999999998,0.22600000000000001,0.15279999999999999,0.1782,0.2366,0.40600000000000003,0.61899999999999999,0.66559999999999997,0.71060000000000001,7.9399999999999998E-2,1.7999999999999999E-2,0.748,8.5400000000000004E-2,{"$f":"'Additional TCS'!B278","v":0.54879999999999995},1,{"$f":"IF(AND('Input - Output'!A283>=360,'Input - Output'!A283<=830),'Input - Output'!A283,\"\")","v":""},"","","","","","","","","","","","","","","",""]
[634,0.45100000000000001,0.3382,0.22500000000000001,0.15240000000000001,0.17760000000000001,0.23780000000000001,0.40799999999999997,0.624,0.67379999999999995,0.71079999999999999,7.9200000000000007E-2,1.7999999999999999E-2,0.748,8.5199999999999998E-2,{"$f":"'Additional TCS'!B279","v":0.5504},1,{"$f":"IF(AND('Input - Output'!A284>=360,'Input - Output'!A284<=830),'Input - Output'!A284,\"\")","v":""},"","","","","","","","","","","","","","","",""]
[635,0.45100000000000001,0.33800000000000002,0.224,0.152,0.17699999999999999,0.23899999999999999,0.41,0.629,0.68200000000000005,0.71099999999999997,7.9000000000000001E-2,1.7999999999999999E-2,0.748,8.5000000000000006E-2,{"$f":"'Additional TCS'!B280","v":0.55200000000000005},1,{"$f":"IF(AND('Input - Output'!A285>=360,'Input - Output'!A285<=830),'Input - Output'!A285,\"\")","v":""},"","","","","","","","","","","","","","","",""]
[636,0.45100000000000001,0.33800000000000002,0.22320000000000001,0.15179999999999999,0.17680000000000001,0.24,0.41199999999999998,0.63280000000000003,0.68899999999999995,0.71120000000000005,7.8799999999999995E-2,1.7999999999999999E-2,0.748,8.48E-2,{"$f":"'Additional TCS'!B281","v":0.55340000000000011},1,{"$f":"IF(AND('Input - Output'!A286>=360,'Input - Output'!A286<=830),'Input - Output'!A286,\"\")","v":""},"","","","","","","","","","","","","","","",""]
[637,0.45100000000000001,0.33800000000000002,0.22239999999999999,0.15160000000000001,0.17660000000000001,0.24099999999999999,0.41399999999999998,0.63660000000000005,0.69599999999999995,0.71140000000000003,7.8600000000000003E-2,1.7999999999999999E-2,0.748,8.4599999999999995E-2,{"$f":"'Additional TCS'!B282","v":0.55480000000000007},1,{"$f":"IF(AND('Input - Output'!A287>=360,'Input - Output'!A287<=830),'Input - Output'!A287,\"\")","v":""},"","","","","","","","","","","","","","","",""]
[638,0.45100000000000001,0.33800000000000002,0.22159999999999999,0.15140000000000001,0.1764,0.24199999999999999,0.41599999999999998,0.64039999999999997,0.70299999999999996,0.71160000000000001,7.8399999999999997E-2,1.7999999999999999E-2,0.748,8.4400000000000003E-2,{"$f":"'Additional TCS'!B283","v":0.55620000000000003},1,{"$f":"IF(AND('Input - Output'!A288>=360,'Input - Output'!A288<=830),'Input - Output'!A288,\"\")","v":""},"","","","","","","","","","","","","","","",""]
[639,0.45100000000000001,0.33800000000000002,0.2208,0.1512,0.1762,0.24299999999999999,0.41799999999999998,0.64419999999999999,0.71,0.71179999999999999,7.8200000000000006E-2,1.7999999999999999E-2,0.748,8.4199999999999997E-2,{"$f":"'Additional TCS'!B284","v":0.5576000000000001},1,{"$f":"IF(AND('Input - Output'!A289>=360,'Input - Output'!A289<=830),'Input - Output'!A289,\"\")","v":""},"","","","","","","","","","","","","","","",""]
[640,0.45100000000000001,0.33800000000000002,0.22,0.151,0.17599999999999999,0.24399999999999999,0.42,0.64800000000000002,0.71699999999999997,0.71199999999999997,7.8E-2,1.7999999999999999E-2,0.748,8.4000000000000005E-2,{"$f":"'Additional TCS'!B285","v":0.55900000000000005},1,{"$f":"IF(AND('Input - Output'!A290>=360,'Input - Output'!A290<=830),'Input - Output'!A290,\"\")","v":""},"","","","","","","","","","","","","","","",""]
[641,0.45100000000000001,0.33779999999999999,0.21940000000000001,0.15060000000000001,0.17580000000000001,0.24540000000000001,0.42180000000000001,0.65100000000000002,0.72160000000000002,0.71240000000000003,7.8E-2,1.7999999999999999E-2,0.748,8.4000000000000005E-2,{"$f":"'Additional TCS'!B286","v":0.56020000000000003},1,{"$f":"IF(AND('Input - Output'!A291>=360,'Input - Output'!A291<=830),'Input - Output'!A291,\"\")","v":""},"","","","","","","","","","","","","","","",""]
[642,0.45100000000000001,0.33760000000000001,0.21879999999999999,0.1502,0.17560000000000001,0.24679999999999999,0.42359999999999998,0.65400000000000003,0.72619999999999996,0.71279999999999999,7.8E-2,1.7999999999999999E-2,0.748,8.4000000000000005E-2,{"$f":"'Additional TCS'!B287","v":0.56140000000000001},1,{"$f":"IF(AND('Input - Output'!A292>=360,'Input - Output'!A292<=830),'Input - Output'!A292,\"\")","v":""},"","","","","","","","","","","","","","","",""]
[643,0.45100000000000001,0.33739999999999998,0.21820000000000001,0.14979999999999999,0.1754,0.2482,0.4254,0.65700000000000003,0.73080000000000001,0.71319999999999995,7.8E-2,1.7999999999999999E-2,0.748,8.4000000000000005E-2,{"$f":"'Additional TCS'!B288","v":0.56259999999999999},1,{"$f":"IF(AND('Input - Output'!A293>=360,'Input - Output'!A293<=830),'Input - Output'!A293,\"\")","v":""},"","","","","","","","","","","","","","","",""]
[644,0.45100000000000001,0.3372,0.21759999999999999,0.14940000000000001,0.17519999999999999,0.24959999999999999,0.42720000000000002,0.66,0.73540000000000005,0.71360000000000001,7.8E-2,1.7999999999999999E-2,0.748,8.4000000000000005E-2,{"$f":"'Additional TCS'!B289","v":0.56379999999999997},1,{"$f":"IF(AND('Input - Output'!A294>=360,'Input - Output'!A294<=830),'Input - Output'!A294,\"\")","v":""},"","","","","","","","","","","","","","","",""]
[645,0.45100000000000001,0.33700000000000002,0.217,0.14899999999999999,0.17499999999999999,0.251,0.42899999999999999,0.66300000000000003,0.74,0.71399999999999997,7.8E-2,1.7999999999999999E-2,0.748,8.4000000000000005E-2,{"$f":"'Additional TCS'!B290","v":0.56499999999999995},1,{"$f":"IF(AND('Input - Output'!A295>=360,'Input - Output'!A295<=830),'Input - Output'!A295,\"\")","v":""},"","","","","","","","","","","","","","","",""]
[646,0.45079999999999998,0.33679999999999999,0.21679999999999999,0.14879999999999999,0.17499999999999999,0.25240000000000001,0.43080000000000002,0.66559999999999997,0.74360000000000004,0.71440000000000003,7.8E-2,1.8200000000000001E-2,0.748,8.4000000000000005E-2,{"$f":"'Additional TCS'!B291","v":0.56619999999999993},1,{"$f":"IF(AND('Input - Output'!A296>=360,'Input - Output'!A296<=830),'Input - Output'!A296,\"\")","v":""},"","","","","","","","","","","","","","","",""]
[647,0.4506,0.33660000000000001,0.21659999999999999,0.14860000000000001,0.17499999999999999,0.25380000000000003,0.43259999999999998,0.66820000000000002,0.74719999999999998,0.71479999999999999,7.8E-2,1.84E-2,0.748,8.4000000000000005E-2,{"$f":"'Additional TCS'!B292","v":0.5673999999999999},1,{"$f":"IF(AND('Input - Output'!A297>=360,'Input - Output'!A297<=830),'Input - Output'!A297,\"\")","v":""},"","","","","","","","","","","","","","","",""]
[648,0.45040000000000002,0.33639999999999998,0.21640000000000001,0.1484,0.17499999999999999,0.25519999999999998,0.43440000000000001,0.67079999999999995,0.75080000000000002,0.71519999999999995,7.8E-2,1.8599999999999998E-2,0.748,8.4000000000000005E-2,{"$f":"'Additional TCS'!B293","v":0.56859999999999988},1,{"$f":"IF(AND('Input - Output'!A298>=360,'Input - Output'!A298<=830),'Input - Output'!A298,\"\")","v":""},"","","","","","","","","","","","","","","",""]
[649,0.45019999999999999,0.3362,0.2162,0.1482,0.17499999999999999,0.25659999999999999,0.43619999999999998,0.6734,0.75439999999999996,0.71560000000000001,7.8E-2,1.8800000000000001E-2,0.748,8.4000000000000005E-2,{"$f":"'Additional TCS'!B294","v":0.56979999999999997},1,{"$f":"IF(AND('Input - Output'!A299>=360,'Input - Output'!A299<=830),'Input - Output'!A299,\"\")","v":""},"","","","","","","","","","","","","","","",""]
[650,0.45,0.33600000000000002,0.216,0.14799999999999999,0.17499999999999999,0.25800000000000001,0.438,0.67600000000000005,0.75800000000000001,0.71599999999999997,7.8E-2,1.9E-2,0.748,8.4000000000000005E-2,{"$f":"'Additional TCS'!B295","v":0.57099999999999995},1,{"$f":"IF(AND('Input - Output'!A300>=360,'Input - Output'!A300<=830),'Input - Output'!A300,\"\")","v":""},"","","","","","","","","","","","","","","",""]
[651,0.45,0.33579999999999999,0.216,0.14799999999999999,0.17499999999999999,0.25900000000000001,0.43940000000000001,0.67779999999999996,0.76039999999999996,0.71640000000000004,7.8E-2,1.9199999999999998E-2,0.748,8.4000000000000005E-2,{"$f":"'Additional TCS'!B296","v":0.57199999999999995},1,{"$f":"IF(AND('Input - Output'!A301>=360,'Input - Output'!A301<=830),'Input - Output'!A301,\"\")","v":""},"","","","","","","","","","","","","","","",""]
[652,0.45,0.33560000000000001,0.216,0.14799999999999999,0.17499999999999999,0.26,0.44080000000000003,0.67959999999999998,0.76280000000000003,0.71679999999999999,7.8E-2,1.9400000000000001E-2,0.748,8.4000000000000005E-2,{"$f":"'Additional TCS'!B297","v":0.57299999999999995},1,{"$f":"IF(AND('Input - Output'!A302>=360,'Input - Output'!A302<=830),'Input - Output'!A302,\"\")","v":""},"","","","","","","","","","","","","","","",""]
[653,0.45,0.33539999999999998,0.216,0.14799999999999999,0.17499999999999999,0.26100000000000001,0.44219999999999998,0.68140000000000001,0.76519999999999999,0.71719999999999995,7.8E-2,1.9599999999999999E-2,0.748,8.4000000000000005E-2,{"$f":"'Additional TCS'!B298","v":0.57399999999999995},1,{"$f":"IF(AND('Input - Output'!A303>=360,'Input - Output'!A303<=830),'Input - Output'!A303,\"\")","v":""},"","","","","","","","","","","","","","","",""]
[654,0.45,0.3352,0.216,0.14799999999999999,0.17499999999999999,0.26200000000000001,0.44359999999999999,0.68320000000000003,0.76759999999999995,0.71760000000000002,7.8E-2,1.9800000000000002E-2,0.748,8.4000000000000005E-2,{"$f":"'Additional TCS'!B299","v":0.57499999999999996},1,{"$f":"IF(AND('Input - Output'!A304>=360,'Input - Output'!A304<=830),'Input - Output'!A304,\"\")","v":""},"","","","","","","","","","","","","","","",""]
[655,0.45,0.33500000000000002,0.216,0.14799999999999999,0.17499999999999999,0.26300000000000001,0.44500000000000001,0.68500000000000005,0.77,0.71799999999999997,7.8E-2,0.02,0.748,8.4000000000000005E-2,{"$f":"'Additional TCS'!B300","v":0.57600000000000007},1,{"$f":"IF(AND('Input - Output'!A305>=360,'Input - Output'!A305<=830),'Input - Output'!A305,\"\")","v":""},"","","","","","","","","","","","","","","",""]
[656,0.45019999999999999,0.33479999999999999,0.21659999999999999,0.14799999999999999,0.17499999999999999,0.26400000000000001,0.44640000000000002,0.68659999999999999,0.7722,0.71840000000000004,7.8600000000000003E-2,2.06E-2,0.74780000000000002,8.4199999999999997E-2,{"$f":"'Additional TCS'!B301","v":0.57700000000000007},1,{"$f":"IF(AND('Input - Output'!A306>=360,'Input - Output'!A306<=830),'Input - Output'!A306,\"\")","v":""},"","","","","","","","","","","","","","","",""]
[657,0.45040000000000002,0.33460000000000001,0.2172,0.14799999999999999,0.17499999999999999,0.26500000000000001,0.44779999999999998,0.68820000000000003,0.77439999999999998,0.71879999999999999,7.9200000000000007E-2,2.12E-2,0.74760000000000004,8.4400000000000003E-2,{"$f":"'Additional TCS'!B302","v":0.57800000000000007},1,{"$f":"IF(AND('Input - Output'!A307>=360,'Input - Output'!A307<=830),'Input - Output'!A307,\"\")","v":""},"","","","","","","","","","","","","","","",""]
[658,0.4506,0.33439999999999998,0.21779999999999999,0.14799999999999999,0.17499999999999999,0.26600000000000001,0.44919999999999999,0.68979999999999997,0.77659999999999996,0.71919999999999995,7.9799999999999996E-2,2.18E-2,0.74739999999999995,8.4599999999999995E-2,{"$f":"'Additional TCS'!B303","v":0.57900000000000007},1,{"$f":"IF(AND('Input - Output'!A308>=360,'Input - Output'!A308<=830),'Input - Output'!A308,\"\")","v":""},"","","","","","","","","","","","","","","",""]
[659,0.45079999999999998,0.3342,0.21840000000000001,0.14799999999999999,0.17499999999999999,0.26700000000000002,0.4506,0.69140000000000001,0.77880000000000005,0.71960000000000002,8.0399999999999999E-2,2.24E-2,0.74719999999999998,8.48E-2,{"$f":"'Additional TCS'!B304","v":0.58000000000000007},1,{"$f":"IF(AND('Input - Output'!A309>=360,'Input - Output'!A309<=830),'Input - Output'!A309,\"\")","v":""},"","","","","","","","","","","","","","","",""]
[660,0.45100000000000001,0.33400000000000002,0.219,0.14799999999999999,0.17499999999999999,0.26800000000000002,0.45200000000000001,0.69299999999999995,0.78100000000000003,0.72,8.1000000000000003E-2,2.3E-2,0.747,8.5000000000000006E-2,{"$f":"'Additional TCS'!B305","v":0.58099999999999996},1,{"$f":"IF(AND('Input - Output'!A310>=360,'Input - Output'!A310<=830),'Input - Output'!A310,\"\")","v":""},"","","","","","","","","","","","","","","",""]
[661,0.45100000000000001,0.33360000000000001,0.22,0.1482,0.1754,0.26900000000000002,0.45300000000000001,0.69440000000000002,0.78280000000000005,0.72040000000000004,8.14E-2,2.3199999999999998E-2,0.747,8.5400000000000004E-2,{"$f":"'Additional TCS'!B306","v":0.58199999999999996},1,{"$f":"IF(AND('Input - Output'!A311>=360,'Input - Output'!A311<=830),'Input - Output'!A311,\"\")","v":""},"","","","","","","","","","","","","","","",""]
[662,0.45100000000000001,0.3332,0.221,0.1484,0.17580000000000001,0.27,0.45400000000000001,0.69579999999999997,0.78459999999999996,0.7208,8.1799999999999998E-2,2.3400000000000001E-2,0.747,8.5800000000000001E-2,{"$f":"'Additional TCS'!B307","v":0.58299999999999996},1,{"$f":"IF(AND('Input - Output'!A312>=360,'Input - Output'!A312<=830),'Input - Output'!A312,\"\")","v":""},"","","","","","","","","","","","","","","",""]
[663,0.45100000000000001,0.33279999999999998,0.222,0.14860000000000001,0.1762,0.27100000000000002,0.45500000000000002,0.69720000000000004,0.78639999999999999,0.72119999999999995,8.2199999999999995E-2,2.3599999999999999E-2,0.747,8.6199999999999999E-2,{"$f":"'Additional TCS'!B308","v":0.58399999999999996},1,{"$f":"IF(AND('Input - Output'!A313>=360,'Input - Output'!A313<=830),'Input - Output'!A313,\"\")","v":""},"","","","","","","","","","","","","","","",""]
[664,0.45100000000000001,0.33239999999999997,0.223,0.14879999999999999,0.17660000000000001,0.27200000000000002,0.45600000000000002,0.6986,0.78820000000000001,0.72160000000000002,8.2600000000000007E-2,2.3800000000000002E-2,0.747,8.6599999999999996E-2,{"$f":"'Additional TCS'!B309","v":0.58499999999999996},1,{"$f":"IF(AND('Input - Output'!A314>=360,'Input - Output'!A314<=830),'Input - Output'!A314,\"\")","v":""},"","","","","","","","","","","","","","","",""]
[665,0.45100000000000001,0.33200000000000002,0.224,0.14899999999999999,0.17699999999999999,0.27300000000000002,0.45700000000000002,0.7,0.79,0.72199999999999998,8.3000000000000004E-2,2.4E-2,0.747,8.6999999999999994E-2,{"$f":"'Additional TCS'!B310","v":0.58599999999999997},1,{"$f":"IF(AND('Input - Output'!A315>=360,'Input - Output'!A315<=830),'Input - Output'!A315,\"\")","v":""},"","","","","","","","","","","","","","","",""]
[666,0.45140000000000002,0.33200000000000002,0.22520000000000001,0.14940000000000001,0.17760000000000001,0.27400000000000002,0.45800000000000002,0.70099999999999996,0.79139999999999999,0.72260000000000002,8.4000000000000005E-2,2.4400000000000002E-2,0.747,8.7999999999999995E-2,{"$f":"'Additional TCS'!B311","v":0.58679999999999988},1,{"$f":"IF(AND('Input - Output'!A316>=360,'Input - Output'!A316<=830),'Input - Output'!A316,\"\")","v":""},"","","","","","","","","","","","","","","",""]
[667,0.45179999999999998,0.33200000000000002,0.22639999999999999,0.14979999999999999,0.1782,0.27500000000000002,0.45900000000000002,0.70199999999999996,0.79279999999999995,0.72319999999999995,8.5000000000000006E-2,2.4799999999999999E-2,0.747,8.8999999999999996E-2,{"$f":"'Additional TCS'!B312","v":0.5875999999999999},1,{"$f":"IF(AND('Input - Output'!A317>=360,'Input - Output'!A317<=830),'Input - Output'!A317,\"\")","v":""},"","","","","","","","","","","","","","","",""]
[668,0.45219999999999999,0.33200000000000002,0.2276,0.1502,0.17879999999999999,0.27600000000000002,0.46,0.70299999999999996,0.79420000000000002,0.7238,8.5999999999999993E-2,2.52E-2,0.747,0.09,{"$f":"'Additional TCS'!B313","v":0.58839999999999992},1,{"$f":"IF(AND('Input - Output'!A318>=360,'Input - Output'!A318<=830),'Input - Output'!A318,\"\")","v":""},"","","","","","","","","","","","","","","",""]
[669,0.4526,0.33200000000000002,0.2288,0.15060000000000001,0.1794,0.27700000000000002,0.46100000000000002,0.70399999999999996,0.79559999999999997,0.72440000000000004,8.6999999999999994E-2,2.5600000000000001E-2,0.747,9.0999999999999998E-2,{"$f":"'Additional TCS'!B314","v":0.58919999999999995},1,{"$f":"IF(AND('Input - Output'!A319>=360,'Input - Output'!A319<=830),'Input - Output'!A319,\"\")","v":""},"","","","","","","","","","","","","","","",""]
[670,0.45300000000000001,0.33200000000000002,0.23,0.151,0.18,0.27800000000000002,0.46200000000000002,0.70499999999999996,0.79700000000000004,0.72499999999999998,8.7999999999999995E-2,2.5999999999999999E-2,0.747,9.1999999999999998E-2,{"$f":"'Additional TCS'!B315","v":0.59},1,{"$f":"IF(AND('Input - Output'!A320>=360,'Input - Output'!A320<=830),'Input - Output'!A320,\"\")","v":""},"","","","","","","","","","","","","","","",""]
[671,0.45319999999999999,0.33179999999999998,0.2316,0.15160000000000001,0.18060000000000001,0.27860000000000001,0.46279999999999999,0.70579999999999998,0.79820000000000002,0.7258,8.8999999999999996E-2,2.6800000000000001E-2,0.747,9.2799999999999994E-2,{"$f":"'Additional TCS'!B316","v":0.59079999999999988},1,{"$f":"IF(AND('Input - Output'!A321>=360,'Input - Output'!A321<=830),'Input - Output'!A321,\"\")","v":""},"","","","","","","","","","","","","","","",""]
[672,0.45340000000000003,0.33160000000000001,0.23319999999999999,0.1522,0.1812,0.2792,0.46360000000000001,0.70660000000000001,0.7994,0.72660000000000002,0.09,2.76E-2,0.747,9.3600000000000003E-2,{"$f":"'Additional TCS'!B317","v":0.5915999999999999},1,{"$f":"IF(AND('Input - Output'!A322>=360,'Input - Output'!A322<=830),'Input - Output'!A322,\"\")","v":""},"","","","","","","","","","","","","","","",""]
[673,0.4536,0.33139999999999997,0.23480000000000001,0.15279999999999999,0.18179999999999999,0.27979999999999999,0.46439999999999998,0.70740000000000003,0.80059999999999998,0.72740000000000005,9.0999999999999998E-2,2.8400000000000002E-2,0.747,9.4399999999999998E-2,{"$f":"'Additional TCS'!B318","v":0.59239999999999993},1,{"$f":"IF(AND('Input - Output'!A323>=360,'Input - Output'!A323<=830),'Input - Output'!A323,\"\")","v":""},"","","","","","","","","","","","","","","",""]
[674,0.45379999999999998,0.33119999999999999,0.2364,0.15340000000000001,0.18240000000000001,0.28039999999999998,0.4652,0.70820000000000005,0.80179999999999996,0.72819999999999996,9.1999999999999998E-2,2.92E-2,0.747,9.5200000000000007E-2,{"$f":"'Additional TCS'!B319","v":0.59319999999999995},1,{"$f":"IF(AND('Input - Output'!A324>=360,'Input - Output'!A324<=830),'Input - Output'!A324,\"\")","v":""},"","","","","","","","","","","","","","","",""]
[675,0.45400000000000001,0.33100000000000002,0.23799999999999999,0.154,0.183,0.28100000000000003,0.46600000000000003,0.70899999999999996,0.80300000000000005,0.72899999999999998,9.2999999999999999E-2,0.03,0.747,9.6000000000000002E-2,{"$f":"'Additional TCS'!B320","v":0.59400000000000008},1,{"$f":"IF(AND('Input - Output'!A325>=360,'Input - Output'!A325<=830),'Input - Output'!A325,\"\")","v":""},"","","","","","","","","","","","","","","",""]
[676,0.45419999999999999,0.33100000000000002,0.24060000000000001,0.15479999999999999,0.18360000000000001,0.28139999999999998,0.46639999999999998,0.70960000000000001,0.80420000000000003,0.72940000000000005,9.4799999999999995E-2,3.1E-2,0.747,9.7199999999999995E-2,{"$f":"'Additional TCS'!B321","v":0.59500000000000008},1,{"$f":"IF(AND('Input - Output'!A326>=360,'Input - Output'!A326<=830),'Input - Output'!A326,\"\")","v":""},"","","","","","","","","","","","","","","",""]
[677,0.45440000000000003,0.33100000000000002,0.2432,0.15559999999999999,0.1842,0.28179999999999999,0.46679999999999999,0.71020000000000005,0.8054,0.7298,9.6600000000000005E-2,3.2000000000000001E-2,0.747,9.8400000000000001E-2,{"$f":"'Additional TCS'!B322","v":0.59600000000000009},1,{"$f":"IF(AND('Input - Output'!A327>=360,'Input - Output'!A327<=830),'Input - Output'!A327,\"\")","v":""},"","","","","","","","","","","","","","","",""]
[678,0.4546,0.33100000000000002,0.24579999999999999,0.15640000000000001,0.18479999999999999,0.28220000000000001,0.4672,0.71079999999999999,0.80659999999999998,0.73019999999999996,9.8400000000000001E-2,3.3000000000000002E-2,0.747,9.9599999999999994E-2,{"$f":"'Additional TCS'!B323","v":0.59700000000000009},1,{"$f":"IF(AND('Input - Output'!A328>=360,'Input - Output'!A328<=830),'Input - Output'!A328,\"\")","v":""},"","","","","","","","","","","","","","","",""]
[679,0.45479999999999998,0.33100000000000002,0.24840000000000001,0.15720000000000001,0.18540000000000001,0.28260000000000002,0.46760000000000002,0.71140000000000003,0.80779999999999996,0.73060000000000003,0.1002,3.4000000000000002E-2,0.747,0.1008,{"$f":"'Additional TCS'!B324","v":0.59800000000000009},1,{"$f":"IF(AND('Input - Output'!A329>=360,'Input - Output'!A329<=830),'Input - Output'!A329,\"\")","v":""},"","","","","","","","","","","","","","","",""]
[680,0.45500000000000002,0.33100000000000002,0.251,0.158,0.186,0.28299999999999997,0.46800000000000003,0.71199999999999997,0.80900000000000005,0.73099999999999998,0.10199999999999999,3.5000000000000003E-2,0.747,0.10199999999999999,{"$f":"'Additional TCS'!B325","v":0.59899999999999998},1,{"$f":"IF(AND('Input - Output'!A330>=360,'Input - Output'!A330<=830),'Input - Output'!A330,\"\")","v":""},"","","","","","","","","","","","","","","",""]
[681,0.45540000000000003,0.33079999999999998,0.25459999999999999,0.1588,0.18659999999999999,0.28360000000000002,0.46839999999999998,0.71260000000000001,0.81,0.73180000000000001,0.104,3.6600000000000001E-2,0.747,0.1036,{"$f":"'Additional TCS'!B326","v":0.59979999999999989},1,{"$f":"IF(AND('Input - Output'!A331>=360,'Input - Output'!A331<=830),'Input - Output'!A331,\"\")","v":""},{"$f":"IF($R330<>\"\",TREND(OFFSET(B$9,MATCH($R330,$A$9:$A$485)-1,,2),OFFSET($A$9,MATCH($R330,$A$9:$A$485)-1,,2),$R330),\"\")","v":""},{"$f":"IF($R330<>\"\",TREND(OFFSET(C$9,MATCH($R330,$A$9:$A$485)-1,,2),OFFSET($A$9,MATCH($R330,$A$9:$A$485)-1,,2),$R330),\"\")","v":""},{"$f":"IF($R330<>\"\",TREND(OFFSET(D$9,MATCH($R330,$A$9:$A$485)-1,,2),OFFSET($A$9,MATCH($R330,$A$9:$A$485)-1,,2),$R330),\"\")","v":""},{"$f":"IF($R330<>\"\",TREND(OFFSET(E$9,MATCH($R330,$A$9:$A$485)-1,,2),OFFSET($A$9,MATCH($R330,$A$9:$A$485)-1,,2),$R330),\"\")","v":""},{"$f":"IF($R330<>\"\",TREND(OFFSET(F$9,MATCH($R330,$A$9:$A$485)-1,,2),OFFSET($A$9,MATCH($R330,$A$9:$A$485)-1,,2),$R330),\"\")","v":""},{"$f":"IF($R330<>\"\",TREND(OFFSET(G$9,MATCH($R330,$A$9:$A$485)-1,,2),OFFSET($A$9,MATCH($R330,$A$9:$A$485)-1,,2),$R330),\"\")","v":""},{"$f":"IF($R330<>\"\",TREND(OFFSET(H$9,MATCH($R330,$A$9:$A$485)-1,,2),OFFSET($A$9,MATCH($R330,$A$9:$A$485)-1,,2),$R330),\"\")","v":""},{"$f":"IF($R330<>\"\",TREND(OFFSET(I$9,MATCH($R330,$A$9:$A$485)-1,,2),OFFSET($A$9,MATCH($R330,$A$9:$A$485)-1,,2),$R330),\"\")","v":""},{"$f":"IF($R330<>\"\",TREND(OFFSET(J$9,MATCH($R330,$A$9:$A$485)-1,,2),OFFSET($A$9,MATCH($R330,$A$9:$A$485)-1,,2),$R330),\"\")","v":""},{"$f":"IF($R330<>\"\",TREND(OFFSET(K$9,MATCH($R330,$A$9:$A$485)-1,,2),OFFSET($A$9,MATCH($R330,$A$9:$A$485)-1,,2),$R330),\"\")","v":""},{"$f":"IF($R330<>\"\",TREND(OFFSET(L$9,MATCH($R330,$A$9:$A$485)-1,,2),OFFSET($A$9,MATCH($R330,$A$9:$A$485)-1,,2),$R330),\"\")","v":""},{"$f":"IF($R330<>\"\",TREND(OFFSET(M$9,MATCH($R330,$A$9:$A$485)-1,,2),OFFSET($A$9,MATCH($R330,$A$9:$A$485)-1,,2),$R330),\"\")","v":""},{"$f":"IF($R330<>\"\",TREND(OFFSET(N$9,MATCH($R330,$A$9:$A$485)-1,,2),OFFSET($A$9,MATCH($R330,$A$9:$A$485)-1,,2),$R330),\"\")","v":""},{"$f":"IF($R330<>\"\",TREND(OFFSET(O$9,MATCH($R330,$A$9:$A$485)-1,,2),OFFSET($A$9,MATCH($R330,$A$9:$A$485)-1,,2),$R330),\"\")","v":""},{"$f":"IF($R330<>\"\",TREND(OFFSET(P$9,MATCH($R330,$A$9:$A$485)-1,,2),OFFSET($A$9,MATCH($R330,$A$9:$A$485)-1,,2),$R330),\"\")","v":""},{"$f":"IF($R330<>\"\",TREND(OFFSET(Q$9,MATCH($R330,$A$9:$A$485)-1,,2),OFFSET($A$9,MATCH($R330,$A$9:$A$485)-1,,2),$R330),\"\")","v":""}]
[682,0.45579999999999998,0.3306,0.25819999999999999,0.15959999999999999,0.18720000000000001,0.28420000000000001,0.46879999999999999,0.71319999999999995,0.81100000000000005,0.73260000000000003,0.106,3.8199999999999998E-2,0.747,0.1052,{"$f":"'Additional TCS'!B327","v":0.60059999999999991},1,{"$f":"IF(AND('Input - Output'!A332>=360,'Input - Output'!A332<=830),'Input - Output'!A332,\"\")","v":""},"","","","","","","","","","","","","","","",""]
[683,0.45619999999999999,0.33040000000000003,0.26179999999999998,0.16039999999999999,0.18779999999999999,0.2848,0.46920000000000001,0.71379999999999999,0.81200000000000006,0.73340000000000005,0.108,3.9800000000000002E-2,0.747,0.10680000000000001,{"$f":"'Additional TCS'!B328","v":0.60139999999999993},1,{"$f":"IF(AND('Input - Output'!A333>=360,'Input - Output'!A333<=830),'Input - Output'!A333,\"\")","v":""},"","","","","","","","","","","","","","","",""]
[684,0.45660000000000001,0.33019999999999999,0.26540000000000002,0.16120000000000001,0.18840000000000001,0.28539999999999999,0.46960000000000002,0.71440000000000003,0.81299999999999994,0.73419999999999996,0.11,4.1399999999999999E-2,0.747,0.1084,{"$f":"'Additional TCS'!B329","v":0.60219999999999996},1,{"$f":"IF(AND('Input - Output'!A334>=360,'Input - Output'!A334<=830),'Input - Output'!A334,\"\")","v":""},"","","","","","","","","","","","","","","",""]
[685,0.45700000000000002,0.33,0.26900000000000002,0.16200000000000001,0.189,0.28599999999999998,0.47,0.71499999999999997,0.81399999999999995,0.73499999999999999,0.112,4.2999999999999997E-2,0.747,0.11,{"$f":"'Additional TCS'!B330","v":0.60299999999999998},1,{"$f":"IF(AND('Input - Output'!A335>=360,'Input - Output'!A335<=830),'Input - Output'!A335,\"\")","v":""},"","","","","","","","","","","","","","","",""]
[686,0.4572,0.32979999999999998,0.27279999999999999,0.16259999999999999,0.18959999999999999,0.28699999999999998,0.47060000000000002,0.71540000000000004,0.81499999999999995,0.73580000000000001,0.11459999999999999,4.5600000000000002E-2,0.747,0.11260000000000001,{"$f":"'Additional TCS'!B331","v":0.60360000000000003},1,{"$f":"IF(AND('Input - Output'!A336>=360,'Input - Output'!A336<=830),'Input - Output'!A336,\"\")","v":""},"","","","","","","","","","","","","","","",""]
[687,0.45739999999999997,0.3296,0.27660000000000001,0.16320000000000001,0.19020000000000001,0.28799999999999998,0.47120000000000001,0.71579999999999999,0.81599999999999995,0.73660000000000003,0.1172,4.82E-2,0.747,0.1152,{"$f":"'Additional TCS'!B332","v":0.60420000000000007},1,{"$f":"IF(AND('Input - Output'!A337>=360,'Input - Output'!A337<=830),'Input - Output'!A337,\"\")","v":""},"","","","","","","","","","","","","","","",""]
[688,0.45760000000000001,0.32940000000000003,0.28039999999999998,0.1638,0.1908,0.28899999999999998,0.4718,0.71619999999999995,0.81699999999999995,0.73740000000000006,0.1198,5.0799999999999998E-2,0.747,0.1178,{"$f":"'Additional TCS'!B333","v":0.6048},1,{"$f":"IF(AND('Input - Output'!A338>=360,'Input - Output'!A338<=830),'Input - Output'!A338,\"\")","v":""},"","","","","","","","","","","","","","","",""]
[689,0.45779999999999998,0.32919999999999999,0.28420000000000001,0.16439999999999999,0.19139999999999999,0.28999999999999998,0.47239999999999999,0.71660000000000001,0.81799999999999995,0.73819999999999997,0.12239999999999999,5.3400000000000003E-2,0.747,0.12039999999999999,{"$f":"'Additional TCS'!B334","v":0.60540000000000005},1,{"$f":"IF(AND('Input - Output'!A339>=360,'Input - Output'!A339<=830),'Input - Output'!A339,\"\")","v":""},"","","","","","","","","","","","","","","",""]
[690,0.45800000000000002,0.32900000000000001,0.28799999999999998,0.16500000000000001,0.192,0.29099999999999998,0.47299999999999998,0.71699999999999997,0.81899999999999995,0.73899999999999999,0.125,5.6000000000000001E-2,0.747,0.123,{"$f":"'Additional TCS'!B335","v":0.60599999999999998},1,{"$f":"IF(AND('Input - Output'!A340>=360,'Input - Output'!A340<=830),'Input - Output'!A340,\"\")","v":""},"","","","","","","","","","","","","","","",""]
[691,0.45839999999999997,0.32879999999999998,0.2928,0.1656,0.19259999999999999,0.29199999999999998,0.4738,0.71740000000000004,0.82,0.73960000000000004,0.12820000000000001,5.96E-2,0.74680000000000002,0.1258,{"$f":"'Additional TCS'!B336","v":0.6067999999999999},1,{"$f":"IF(AND('Input - Output'!A341>=360,'Input - Output'!A341<=830),'Input - Output'!A341,\"\")","v":""},"","","","","","","","","","","","","","","",""]
[692,0.45879999999999999,0.3286,0.29759999999999998,0.16619999999999999,0.19320000000000001,0.29299999999999998,0.47460000000000002,0.71779999999999999,0.82099999999999995,0.74019999999999997,0.13139999999999999,6.3200000000000006E-2,0.74660000000000004,0.12859999999999999,{"$f":"'Additional TCS'!B337","v":0.60759999999999992},1,{"$f":"IF(AND('Input - Output'!A342>=360,'Input - Output'!A342<=830),'Input - Output'!A342,\"\")","v":""},"","","","","","","","","","","","","","","",""]
[693,0.4592,0.32840000000000003,0.3024,0.1668,0.1938,0.29399999999999998,0.47539999999999999,0.71819999999999995,0.82199999999999995,0.74080000000000001,0.1346,6.6799999999999998E-2,0.74639999999999995,0.13139999999999999,{"$f":"'Additional TCS'!B338","v":0.60839999999999994},1,{"$f":"IF(AND('Input - Output'!A343>=360,'Input - Output'!A343<=830),'Input - Output'!A343,\"\")","v":""},"","","","","","","","","","","","","","","",""]
[694,0.45960000000000001,0.32819999999999999,0.30719999999999997,0.16739999999999999,0.19439999999999999,0.29499999999999998,0.47620000000000001,0.71860000000000002,0.82299999999999995,0.74139999999999995,0.13780000000000001,7.0400000000000004E-2,0.74619999999999997,0.13420000000000001,{"$f":"'Additional TCS'!B339","v":0.60919999999999996},1,{"$f":"IF(AND('Input - Output'!A344>=360,'Input - Output'!A344<=830),'Input - Output'!A344,\"\")","v":""},"","","","","","","","","","","","","","","",""]
[695,0.46,0.32800000000000001,0.312,0.16800000000000001,0.19500000000000001,0.29599999999999999,0.47699999999999998,0.71899999999999997,0.82399999999999995,0.74199999999999999,0.14099999999999999,7.3999999999999996E-2,0.746,0.13700000000000001,{"$f":"'Additional TCS'!B340","v":0.61},1,{"$f":"IF(AND('Input - Output'!A345>=360,'Input - Output'!A345<=830),'Input - Output'!A345,\"\")","v":""},"","","","","","","","","","","","","","","",""]
[696,0.46039999999999998,0.32800000000000001,0.31759999999999999,0.16839999999999999,0.1958,0.29720000000000002,0.47820000000000001,0.71940000000000004,0.82479999999999998,0.74280000000000002,0.14499999999999999,7.8600000000000003E-2,0.746,0.14000000000000001,{"$f":"'Additional TCS'!B341","v":0.61039999999999994},1,{"$f":"IF(AND('Input - Output'!A346>=360,'Input - Output'!A346<=830),'Input - Output'!A346,\"\")","v":""},"","","","","","","","","","","","","","","",""]
[697,0.46079999999999999,0.32800000000000001,0.32319999999999999,0.16880000000000001,0.1966,0.2984,0.47939999999999999,0.7198,0.8256,0.74360000000000004,0.14899999999999999,8.3199999999999996E-2,0.746,0.14299999999999999,{"$f":"'Additional TCS'!B342","v":0.61080000000000001},1,{"$f":"IF(AND('Input - Output'!A347>=360,'Input - Output'!A347<=830),'Input - Output'!A347,\"\")","v":""},"","","","","","","","","","","","","","","",""]
[698,0.4612,0.32800000000000001,0.32879999999999998,0.16919999999999999,0.19739999999999999,0.29959999999999998,0.48060000000000003,0.72019999999999995,0.82640000000000002,0.74439999999999995,0.153,8.7800000000000003E-2,0.746,0.14599999999999999,{"$f":"'Additional TCS'!B343","v":0.61119999999999997},1,{"$f":"IF(AND('Input - Output'!A348>=360,'Input - Output'!A348<=830),'Input - Output'!A348,\"\")","v":""},"","","","","","","","","","","","","","","",""]
[699,0.46160000000000001,0.32800000000000001,0.33439999999999998,0.1696,0.19819999999999999,0.30080000000000001,0.48180000000000001,0.72060000000000002,0.82720000000000005,0.74519999999999997,0.157,9.2399999999999996E-2,0.746,0.14899999999999999,{"$f":"'Additional TCS'!B344","v":0.61159999999999992},1,{"$f":"IF(AND('Input - Output'!A349>=360,'Input - Output'!A349<=830),'Input - Output'!A349,\"\")","v":""},"","","","","","","","","","","","","","","",""]
[700,0.46200000000000002,0.32800000000000001,0.34,0.17,0.19900000000000001,0.30199999999999999,0.48299999999999998,0.72099999999999997,0.82799999999999996,0.746,0.161,9.7000000000000003E-2,0.746,0.152,{"$f":"'Additional TCS'!B345","v":0.61199999999999999},1,{"$f":"IF(AND('Input - Output'!A350>=360,'Input - Output'!A350<=830),'Input - Output'!A350,\"\")","v":""},"","","","","","","","","","","","","","","",""]
[701,0.4622,0.32779999999999998,0.34520000000000001,0.17019999999999999,0.19919999999999999,0.30420000000000003,0.48420000000000002,0.7208,0.82840000000000003,0.74639999999999995,0.16520000000000001,0.1032,0.746,0.15540000000000001,{"$f":"'Additional TCS'!B346","v":0.61240000000000006},1,{"$f":"IF(AND('Input - Output'!A351>=360,'Input - Output'!A351<=830),'Input - Output'!A351,\"\")","v":""},"","","","","","","","","","","","","","","",""]
[702,0.46239999999999998,0.3276,0.35039999999999999,0.1704,0.19939999999999999,0.30640000000000001,0.4854,0.72060000000000002,0.82879999999999998,0.74680000000000002,0.1694,0.1094,0.746,0.1588,{"$f":"'Additional TCS'!B347","v":0.61280000000000001},1,{"$f":"IF(AND('Input - Output'!A352>=360,'Input - Output'!A352<=830),'Input - Output'!A352,\"\")","v":""},"","","","","","","","","","","","","","","",""]
[703,0.46260000000000001,0.32740000000000002,0.35560000000000003,0.1706,0.1996,0.30859999999999999,0.48659999999999998,0.72040000000000004,0.82920000000000005,0.74719999999999998,0.1736,0.11559999999999999,0.746,0.16220000000000001,{"$f":"'Additional TCS'!B348","v":0.61319999999999997},1,{"$f":"IF(AND('Input - Output'!A353>=360,'Input - Output'!A353<=830),'Input - Output'!A353,\"\")","v":""},"","","","","","","","","","","","","","","",""]
[704,0.46279999999999999,0.32719999999999999,0.36080000000000001,0.17080000000000001,0.19980000000000001,0.31080000000000002,0.48780000000000001,0.72019999999999995,0.8296,0.74760000000000004,0.17780000000000001,0.12180000000000001,0.746,0.1656,{"$f":"'Additional TCS'!B349","v":0.61360000000000003},1,{"$f":"IF(AND('Input - Output'!A354>=360,'Input - Output'!A354<=830),'Input - Output'!A354,\"\")","v":""},"","","","","","","","","","","","","","","",""]
[705,0.46300000000000002,0.32700000000000001,0.36599999999999999,0.17100000000000001,0.2,0.313,0.48899999999999999,0.72,0.83,0.748,0.182,0.128,0.746,0.16900000000000001,{"$f":"'Additional TCS'!B350","v":0.61399999999999999},1,{"$f":"IF(AND('Input - Output'!A355>=360,'Input - Output'!A355<=830),'Input - Output'!A355,\"\")","v":""},"","","","","","","","","","","","","","","",""]
[706,0.4632,0.32679999999999998,0.37080000000000002,0.17080000000000001,0.19980000000000001,0.31540000000000001,0.4904,0.7198,0.83020000000000005,0.74819999999999998,0.1862,0.1356,0.74580000000000002,0.17280000000000001,{"$f":"'Additional TCS'!B351","v":0.61440000000000006},1,{"$f":"IF(AND('Input - Output'!A356>=360,'Input - Output'!A356<=830),'Input - Output'!A356,\"\")","v":""},"","","","","","","","","","","","","","","",""]
[707,0.46339999999999998,0.3266,0.37559999999999999,0.1706,0.1996,0.31780000000000003,0.49180000000000001,0.71960000000000002,0.83040000000000003,0.74839999999999995,0.19040000000000001,0.14319999999999999,0.74560000000000004,0.17660000000000001,{"$f":"'Additional TCS'!B352","v":0.61480000000000001},1,{"$f":"IF(AND('Input - Output'!A357>=360,'Input - Output'!A357<=830),'Input - Output'!A357,\"\")","v":""},"","","","","","","","","","","","","","","",""]
[708,0.46360000000000001,0.32640000000000002,0.38040000000000002,0.1704,0.19939999999999999,0.32019999999999998,0.49320000000000003,0.71940000000000004,0.8306,0.74860000000000004,0.1946,0.15079999999999999,0.74539999999999995,0.1804,{"$f":"'Additional TCS'!B353","v":0.61519999999999997},1,{"$f":"IF(AND('Input - Output'!A358>=360,'Input - Output'!A358<=830),'Input - Output'!A358,\"\")","v":""},"","","","","","","","","","","","","","","",""]
[709,0.46379999999999999,0.32619999999999999,0.38519999999999999,0.17019999999999999,0.19919999999999999,0.3226,0.49459999999999998,0.71919999999999995,0.83079999999999998,0.74880000000000002,0.1988,0.15840000000000001,0.74519999999999997,0.1842,{"$f":"'Additional TCS'!B354","v":0.61560000000000004},1,{"$f":"IF(AND('Input - Output'!A359>=360,'Input - Output'!A359<=830),'Input - Output'!A359,\"\")","v":""},"","","","","","","","","","","","","","","",""]
[710,0.46400000000000002,0.32600000000000001,0.39,0.17,0.19900000000000001,0.32500000000000001,0.496,0.71899999999999997,0.83099999999999996,0.749,0.20300000000000001,0.16600000000000001,0.745,0.188,{"$f":"'Additional TCS'!B355","v":0.61599999999999999},1,{"$f":"IF(AND('Input - Output'!A360>=360,'Input - Output'!A360<=830),'Input - Output'!A360,\"\")","v":""},"","","","","","","","","","","","","","","",""]
[711,0.4642,0.32579999999999998,0.39439999999999997,0.1696,0.1988,0.3276,0.49740000000000001,0.71960000000000002,0.83140000000000003,0.74939999999999996,0.20699999999999999,0.17480000000000001,0.74480000000000002,0.1918,{"$f":"'Additional TCS'!B356","v":0.61599999999999999},1,{"$f":"IF(AND('Input - Output'!A361>=360,'Input - Output'!A361<=830),'Input - Output'!A361,\"\")","v":""},"","","","","","","","","","","","","","","",""]
[712,0.46439999999999998,0.3256,0.39879999999999999,0.16919999999999999,0.1986,0.33019999999999999,0.49880000000000002,0.72019999999999995,0.83179999999999998,0.74980000000000002,0.21099999999999999,0.18360000000000001,0.74460000000000004,0.1956,{"$f":"'Additional TCS'!B357","v":0.61599999999999999},1,{"$f":"IF(AND('Input - Output'!A362>=360,'Input - Output'!A362<=830),'Input - Output'!A362,\"\")","v":""},"","","","","","","","","","","","","","","",""]
[713,0.46460000000000001,0.32540000000000002,0.4032,0.16880000000000001,0.19839999999999999,0.33279999999999998,0.50019999999999998,0.7208,0.83220000000000005,0.75019999999999998,0.215,0.19239999999999999,0.74439999999999995,0.19939999999999999,{"$f":"'Additional TCS'!B358","v":0.61599999999999999},1,{"$f":"IF(AND('Input - Output'!A363>=360,'Input - Output'!A363<=830),'Input - Output'!A363,\"\")","v":""},"","","","","","","","","","","","","","","",""]
[714,0.46479999999999999,0.32519999999999999,0.40760000000000002,0.16839999999999999,0.19819999999999999,0.33539999999999998,0.50160000000000005,0.72140000000000004,0.83260000000000001,0.75060000000000004,0.219,0.20119999999999999,0.74419999999999997,0.20319999999999999,{"$f":"'Additional TCS'!B359","v":0.61599999999999999},1,{"$f":"IF(AND('Input - Output'!A364>=360,'Input - Output'!A364<=830),'Input - Output'!A364,\"\")","v":""},"","","","","","","","","","","","","","","",""]
[715,0.46500000000000002,0.32500000000000001,0.41199999999999998,0.16800000000000001,0.19800000000000001,0.33800000000000002,0.503,0.72199999999999998,0.83299999999999996,0.751,0.223,0.21,0.74399999999999999,0.20699999999999999,{"$f":"'Additional TCS'!B360","v":0.61599999999999999},1,{"$f":"IF(AND('Input - Output'!A365>=360,'Input - Output'!A365<=830),'Input - Output'!A365,\"\")","v":""},"","","","","","","","","","","","","","","",""]
[716,0.4652,0.32479999999999998,0.4158,0.1676,0.1976,0.34060000000000001,0.50460000000000005,0.72260000000000002,0.83340000000000003,0.75139999999999996,0.2268,0.21940000000000001,0.74380000000000002,0.21079999999999999,{"$f":"'Additional TCS'!B361","v":0.61599999999999999},1,{"$f":"IF(AND('Input - Output'!A366>=360,'Input - Output'!A366<=830),'Input - Output'!A366,\"\")","v":""},"","","","","","","","","","","","","","","",""]
[717,0.46539999999999998,0.3246,0.41959999999999997,0.16719999999999999,0.19719999999999999,0.34320000000000001,0.50619999999999998,0.72319999999999995,0.83379999999999999,0.75180000000000002,0.2306,0.2288,0.74360000000000004,0.21460000000000001,{"$f":"'Additional TCS'!B362","v":0.61599999999999999},1,{"$f":"IF(AND('Input - Output'!A367>=360,'Input - Output'!A367<=830),'Input - Output'!A367,\"\")","v":""},"","","","","","","","","","","","","","","",""]
[718,0.46560000000000001,0.32440000000000002,0.4234,0.1668,0.1968,0.3458,0.50780000000000003,0.7238,0.83420000000000005,0.75219999999999998,0.2344,0.2382,0.74339999999999995,0.21840000000000001,{"$f":"'Additional TCS'!B363","v":0.61599999999999999},1,{"$f":"IF(AND('Input - Output'!A368>=360,'Input - Output'!A368<=830),'Input - Output'!A368,\"\")","v":""},"","","","","","","","","","","","","","","",""]
[719,0.46579999999999999,0.32419999999999999,0.42720000000000002,0.16639999999999999,0.19639999999999999,0.34839999999999999,0.50939999999999996,0.72440000000000004,0.83460000000000001,0.75260000000000005,0.2382,0.24759999999999999,0.74319999999999997,0.22220000000000001,{"$f":"'Additional TCS'!B364","v":0.61599999999999999},1,{"$f":"IF(AND('Input - Output'!A369>=360,'Input - Output'!A369<=830),'Input - Output'!A369,\"\")","v":""},"","","","","","","","","","","","","","","",""]
[720,0.46600000000000003,0.32400000000000001,0.43099999999999999,0.16600000000000001,0.19600000000000001,0.35099999999999998,0.51100000000000001,0.72499999999999998,0.83499999999999996,0.753,0.24199999999999999,0.25700000000000001,0.74299999999999999,0.22600000000000001,{"$f":"'Additional TCS'!B365","v":0.61599999999999999},1,{"$f":"IF(AND('Input - Output'!A370>=360,'Input - Output'!A370<=830),'Input - Output'!A370,\"\")","v":""},"","","","","","","","","","","","","","","",""]
[721,0.46600000000000003,0.32400000000000001,0.43419999999999997,0.1656,0.1958,0.35360000000000003,0.51239999999999997,0.72540000000000004,0.83520000000000005,0.75319999999999998,0.245,0.2666,0.74319999999999997,0.22939999999999999,{"$f":"'Additional TCS'!B366","v":0.61599999999999999},1,{"$f":"IF(AND('Input - Output'!A371>=360,'Input - Output'!A371<=830),'Input - Output'!A371,\"\")","v":""},"","","","","","","","","","","","","","","",""]
[722,0.46600000000000003,0.32400000000000001,0.43740000000000001,0.16520000000000001,0.1956,0.35620000000000002,0.51380000000000003,0.7258,0.83540000000000003,0.75339999999999996,0.248,0.2762,0.74339999999999995,0.23280000000000001,{"$f":"'Additional TCS'!B367","v":0.61599999999999999},1,{"$f":"IF(AND('Input - Output'!A372>=360,'Input - Output'!A372<=830),'Input - Output'!A372,\"\")","v":""},"","","","","","","","","","","","","","","",""]
[723,0.46600000000000003,0.32400000000000001,0.44059999999999999,0.1648,0.19539999999999999,0.35880000000000001,0.51519999999999999,0.72619999999999996,0.83560000000000001,0.75360000000000005,0.251,0.2858,0.74360000000000004,0.23619999999999999,{"$f":"'Additional TCS'!B368","v":0.61599999999999999},1,{"$f":"IF(AND('Input - Output'!A373>=360,'Input - Output'!A373<=830),'Input - Output'!A373,\"\")","v":""},"","","","","","","","","","","","","","","",""]
[724,0.46600000000000003,0.32400000000000001,0.44379999999999997,0.16439999999999999,0.19520000000000001,0.3614,0.51659999999999995,0.72660000000000002,0.83579999999999999,0.75380000000000003,0.254,0.2954,0.74380000000000002,0.23960000000000001,{"$f":"'Additional TCS'!B369","v":0.61599999999999999},1,{"$f":"IF(AND('Input - Output'!A374>=360,'Input - Output'!A374<=830),'Input - Output'!A374,\"\")","v":""},"","","","","","","","","","","","","","","",""]
[725,0.46600000000000003,0.32400000000000001,0.44700000000000001,0.16400000000000001,0.19500000000000001,0.36399999999999999,0.51800000000000002,0.72699999999999998,0.83599999999999997,0.754,0.25700000000000001,0.30499999999999999,0.74399999999999999,0.24299999999999999,{"$f":"'Additional TCS'!B370","v":0.61599999999999988},1,{"$f":"IF(AND('Input - Output'!A375>=360,'Input - Output'!A375<=830),'Input - Output'!A375,\"\")","v":""},"","","","","","","","","","","","","","","",""]
[726,0.46600000000000003,0.32400000000000001,0.4496,0.16400000000000001,0.19500000000000001,0.3664,0.51939999999999997,0.72740000000000005,0.83599999999999997,0.75419999999999998,0.2596,0.31480000000000002,0.74419999999999997,0.24640000000000001,{"$f":"'Additional TCS'!B371","v":0.6157999999999999},1,{"$f":"IF(AND('Input - Output'!A376>=360,'Input - Output'!A376<=830),'Input - Output'!A376,\"\")","v":""},"","","","","","","","","","","","","","","",""]
[727,0.46600000000000003,0.32400000000000001,0.45219999999999999,0.16400000000000001,0.19500000000000001,0.36880000000000002,0.52080000000000004,0.7278,0.83599999999999997,0.75439999999999996,0.26219999999999999,0.3246,0.74439999999999995,0.24979999999999999,{"$f":"'Additional TCS'!B372","v":0.61559999999999993},1,{"$f":"IF(AND('Input - Output'!A377>=360,'Input - Output'!A377<=830),'Input - Output'!A377,\"\")","v":""},"","","","","","","","","","","","","","","",""]
[728,0.46600000000000003,0.32400000000000001,0.45479999999999998,0.16400000000000001,0.19500000000000001,0.37119999999999997,0.5222,0.72819999999999996,0.83599999999999997,0.75460000000000005,0.26479999999999998,0.33439999999999998,0.74460000000000004,0.25319999999999998,{"$f":"'Additional TCS'!B373","v":0.61539999999999995},1,{"$f":"IF(AND('Input - Output'!A378>=360,'Input - Output'!A378<=830),'Input - Output'!A378,\"\")","v":""},"","","","","","","","","","","","","","","",""]
[729,0.46600000000000003,0.32400000000000001,0.45739999999999997,0.16400000000000001,0.19500000000000001,0.37359999999999999,0.52359999999999995,0.72860000000000003,0.83599999999999997,0.75480000000000003,0.26740000000000003,0.34420000000000001,0.74480000000000002,0.25659999999999999,{"$f":"'Additional TCS'!B374","v":0.61519999999999997},1,{"$f":"IF(AND('Input - Output'!A379>=360,'Input - Output'!A379<=830),'Input - Output'!A379,\"\")","v":""},"","","","","","","","","","","","","","","",""]
[730,0.46600000000000003,0.32400000000000001,0.46,0.16400000000000001,0.19500000000000001,0.376,0.52500000000000002,0.72899999999999998,0.83599999999999997,0.755,0.27,0.35399999999999998,0.745,0.26,{"$f":"'Additional TCS'!B375","v":0.61499999999999999},1,{"$f":"IF(AND('Input - Output'!A380>=360,'Input - Output'!A380<=830),'Input - Output'!A380,\"\")","v":""},"","","","","","","","","","","","","","","",""]
[731,0.46600000000000003,0.32379999999999998,0.46239999999999998,0.16420000000000001,0.19520000000000001,0.37859999999999999,0.52639999999999998,0.72919999999999996,0.83620000000000005,0.755,0.27239999999999998,0.3634,0.74560000000000004,0.26340000000000002,{"$f":"'Additional TCS'!B376","v":0.61460000000000004},1,{"$f":"IF(AND('Input - Output'!A381>=360,'Input - Output'!A381<=830),'Input - Output'!A381,\"\")","v":""},"","","","","","","","","","","","","","","",""]
[732,0.46600000000000003,0.3236,0.46479999999999999,0.16439999999999999,0.19539999999999999,0.38119999999999998,0.52780000000000005,0.72940000000000005,0.83640000000000003,0.755,0.27479999999999999,0.37280000000000002,0.74619999999999997,0.26679999999999998,{"$f":"'Additional TCS'!B377","v":0.61419999999999997},1,{"$f":"IF(AND('Input - Output'!A382>=360,'Input - Output'!A382<=830),'Input - Output'!A382,\"\")","v":""},"","","","","","","","","","","","","","","",""]
[733,0.46600000000000003,0.32340000000000002,0.4672,0.1646,0.1956,0.38379999999999997,0.5292,0.72960000000000003,0.83660000000000001,0.755,0.2772,0.38219999999999998,0.74680000000000002,0.2702,{"$f":"'Additional TCS'!B378","v":0.6137999999999999},1,{"$f":"IF(AND('Input - Output'!A383>=360,'Input - Output'!A383<=830),'Input - Output'!A383,\"\")","v":""},"","","","","","","","","","","","","","","",""]
[734,0.46600000000000003,0.32319999999999999,0.46960000000000002,0.1648,0.1958,0.38640000000000002,0.53059999999999996,0.7298,0.83679999999999999,0.755,0.27960000000000002,0.3916,0.74739999999999995,0.27360000000000001,{"$f":"'Additional TCS'!B379","v":0.61339999999999995},1,{"$f":"IF(AND('Input - Output'!A384>=360,'Input - Output'!A384<=830),'Input - Output'!A384,\"\")","v":""},"","","","","","","","","","","","","","","",""]
[735,0.46600000000000003,0.32300000000000001,0.47199999999999998,0.16500000000000001,0.19600000000000001,0.38900000000000001,0.53200000000000003,0.73,0.83699999999999997,0.755,0.28199999999999997,0.40100000000000002,0.748,0.27700000000000002,{"$f":"'Additional TCS'!B380","v":0.61299999999999999},1,{"$f":"IF(AND('Input - Output'!A385>=360,'Input - Output'!A385<=830),'Input - Output'!A385,\"\")","v":""},"","","","","","","","","","","","","","","",""]
[736,0.4662,0.32279999999999998,0.4738,0.1656,0.19620000000000001,0.39140000000000003,0.53339999999999999,0.73,0.83720000000000006,0.755,0.28399999999999997,0.41,0.74839999999999995,0.28039999999999998,{"$f":"'Additional TCS'!B381","v":0.61280000000000001},1,{"$f":"IF(AND('Input - Output'!A386>=360,'Input - Output'!A386<=830),'Input - Output'!A386,\"\")","v":""},"","","","","","","","","","","","","","","",""]
[737,0.46639999999999998,0.3226,0.47560000000000002,0.16619999999999999,0.19639999999999999,0.39379999999999998,0.53480000000000005,0.73,0.83740000000000003,0.755,0.28599999999999998,0.41899999999999998,0.74880000000000002,0.2838,{"$f":"'Additional TCS'!B382","v":0.61260000000000003},1,{"$f":"IF(AND('Input - Output'!A387>=360,'Input - Output'!A387<=830),'Input - Output'!A387,\"\")","v":""},"","","","","","","","","","","","","","","",""]
[738,0.46660000000000001,0.32240000000000002,0.47739999999999999,0.1668,0.1966,0.3962,0.53620000000000001,0.73,0.83760000000000001,0.755,0.28799999999999998,0.42799999999999999,0.74919999999999998,0.28720000000000001,{"$f":"'Additional TCS'!B383","v":0.61240000000000006},1,{"$f":"IF(AND('Input - Output'!A388>=360,'Input - Output'!A388<=830),'Input - Output'!A388,\"\")","v":""},"","","","","","","","","","","","","","","",""]
[739,0.46679999999999999,0.32219999999999999,0.47920000000000001,0.16739999999999999,0.1968,0.39860000000000001,0.53759999999999997,0.73,0.83779999999999999,0.755,0.28999999999999998,0.437,0.74960000000000004,0.29060000000000002,{"$f":"'Additional TCS'!B384","v":0.61220000000000008},1,{"$f":"IF(AND('Input - Output'!A389>=360,'Input - Output'!A389<=830),'Input - Output'!A389,\"\")","v":""},"","","","","","","","","","","","","","","",""]
[740,0.46700000000000003,0.32200000000000001,0.48099999999999998,0.16800000000000001,0.19700000000000001,0.40100000000000002,0.53900000000000003,0.73,0.83799999999999997,0.755,0.29199999999999998,0.44600000000000001,0.75,0.29399999999999998,{"$f":"'Additional TCS'!B385","v":0.61199999999999999},1,{"$f":"IF(AND('Input - Output'!A390>=360,'Input - Output'!A390<=830),'Input - Output'!A390,\"\")","v":""},"","","","","","","","","","","","","","","",""]
[741,0.46700000000000003,0.32179999999999997,0.4824,0.16880000000000001,0.1976,0.40339999999999998,0.54039999999999999,0.73,0.83819999999999995,0.755,0.29399999999999998,0.45379999999999998,0.75,0.29720000000000002,{"$f":"'Additional TCS'!B386","v":0.61159999999999992},1,{"$f":"IF(AND('Input - Output'!A391>=360,'Input - Output'!A391<=830),'Input - Output'!A391,\"\")","v":""},"","","","","","","","","","","","","","","",""]
[742,0.46700000000000003,0.3216,0.48380000000000001,0.1696,0.19819999999999999,0.40579999999999999,0.54179999999999995,0.73,0.83840000000000003,0.755,0.29599999999999999,0.46160000000000001,0.75,0.3004,{"$f":"'Additional TCS'!B387","v":0.61119999999999997},1,{"$f":"IF(AND('Input - Output'!A392>=360,'Input - Output'!A392<=830),'Input - Output'!A392,\"\")","v":""},"","","","","","","","","","","","","","","",""]
[743,0.46700000000000003,0.32140000000000002,0.48520000000000002,0.1704,0.1988,0.40820000000000001,0.54320000000000002,0.73,0.83860000000000001,0.755,0.29799999999999999,0.46939999999999998,0.75,0.30359999999999998,{"$f":"'Additional TCS'!B388","v":0.61080000000000001},1,{"$f":"IF(AND('Input - Output'!A393>=360,'Input - Output'!A393<=830),'Input - Output'!A393,\"\")","v":""},"","","","","","","","","","","","","","","",""]
[744,0.46700000000000003,0.32119999999999999,0.48659999999999998,0.17119999999999999,0.19939999999999999,0.41060000000000002,0.54459999999999997,0.73,0.83879999999999999,0.755,0.3,0.47720000000000001,0.75,0.30680000000000002,{"$f":"'Additional TCS'!B389","v":0.61039999999999994},1,{"$f":"IF(AND('Input - Output'!A394>=360,'Input - Output'!A394<=830),'Input - Output'!A394,\"\")","v":""},"","","","","","","","","","","","","","","",""]
[745,0.46700000000000003,0.32100000000000001,0.48799999999999999,0.17199999999999999,0.2,0.41299999999999998,0.54600000000000004,0.73,0.83899999999999997,0.755,0.30199999999999999,0.48499999999999999,0.75,0.31,{"$f":"'Additional TCS'!B390","v":0.60999999999999988},1,{"$f":"IF(AND('Input - Output'!A395>=360,'Input - Output'!A395<=830),'Input - Output'!A395,\"\")","v":""},{"$f":"IF($R394<>\"\",TREND(OFFSET(B$9,MATCH($R394,$A$9:$A$485)-1,,2),OFFSET($A$9,MATCH($R394,$A$9:$A$485)-1,,2),$R394),\"\")","v":""},{"$f":"IF($R394<>\"\",TREND(OFFSET(C$9,MATCH($R394,$A$9:$A$485)-1,,2),OFFSET($A$9,MATCH($R394,$A$9:$A$485)-1,,2),$R394),\"\")","v":""},{"$f":"IF($R394<>\"\",TREND(OFFSET(D$9,MATCH($R394,$A$9:$A$485)-1,,2),OFFSET($A$9,MATCH($R394,$A$9:$A$485)-1,,2),$R394),\"\")","v":""},{"$f":"IF($R394<>\"\",TREND(OFFSET(E$9,MATCH($R394,$A$9:$A$485)-1,,2),OFFSET($A$9,MATCH($R394,$A$9:$A$485)-1,,2),$R394),\"\")","v":""},{"$f":"IF($R394<>\"\",TREND(OFFSET(F$9,MATCH($R394,$A$9:$A$485)-1,,2),OFFSET($A$9,MATCH($R394,$A$9:$A$485)-1,,2),$R394),\"\")","v":""},{"$f":"IF($R394<>\"\",TREND(OFFSET(G$9,MATCH($R394,$A$9:$A$485)-1,,2),OFFSET($A$9,MATCH($R394,$A$9:$A$485)-1,,2),$R394),\"\")","v":""},{"$f":"IF($R394<>\"\",TREND(OFFSET(H$9,MATCH($R394,$A$9:$A$485)-1,,2),OFFSET($A$9,MATCH($R394,$A$9:$A$485)-1,,2),$R394),\"\")","v":""},{"$f":"IF($R394<>\"\",TREND(OFFSET(I$9,MATCH($R394,$A$9:$A$485)-1,,2),OFFSET($A$9,MATCH($R394,$A$9:$A$485)-1,,2),$R394),\"\")","v":""},{"$f":"IF($R394<>\"\",TREND(OFFSET(J$9,MATCH($R394,$A$9:$A$485)-1,,2),OFFSET($A$9,MATCH($R394,$A$9:$A$485)-1,,2),$R394),\"\")","v":""},{"$f":"IF($R394<>\"\",TREND(OFFSET(K$9,MATCH($R394,$A$9:$A$485)-1,,2),OFFSET($A$9,MATCH($R394,$A$9:$A$485)-1,,2),$R394),\"\")","v":""},{"$f":"IF($R394<>\"\",TREND(OFFSET(L$9,MATCH($R394,$A$9:$A$485)-1,,2),OFFSET($A$9,MATCH($R394,$A$9:$A$485)-1,,2),$R394),\"\")","v":""},{"$f":"IF($R394<>\"\",TREND(OFFSET(M$9,MATCH($R394,$A$9:$A$485)-1,,2),OFFSET($A$9,MATCH($R394,$A$9:$A$485)-1,,2),$R394),\"\")","v":""},{"$f":"IF($R394<>\"\",TREND(OFFSET(N$9,MATCH($R394,$A$9:$A$485)-1,,2),OFFSET($A$9,MATCH($R394,$A$9:$A$485)-1,,2),$R394),\"\")","v":""},{"$f":"IF($R394<>\"\",TREND(OFFSET(O$9,MATCH($R394,$A$9:$A$485)-1,,2),OFFSET($A$9,MATCH($R394,$A$9:$A$485)-1,,2),$R394),\"\")","v":""},{"$f":"IF($R394<>\"\",TREND(OFFSET(P$9,MATCH($R394,$A$9:$A$485)-1,,2),OFFSET($A$9,MATCH($R394,$A$9:$A$485)-1,,2),$R394),\"\")","v":""},{"$f":"IF($R394<>\"\",TREND(OFFSET(Q$9,MATCH($R394,$A$9:$A$485)-1,,2),OFFSET($A$9,MATCH($R394,$A$9:$A$485)-1,,2),$R394),\"\")","v":""}]
[746,0.46700000000000003,0.32079999999999997,0.48899999999999999,0.17299999999999999,0.2006,0.41539999999999999,0.5474,0.73,0.83899999999999997,0.75519999999999998,0.30359999999999998,0.49199999999999999,0.74980000000000002,0.313,{"$f":"'Additional TCS'!B391","v":0.6097999999999999},1,{"$f":"IF(AND('Input - Output'!A396>=360,'Input - Output'!A396<=830),'Input - Output'!A396,\"\")","v":""},"","","","","","","","","","","","","","","",""]
[747,0.46700000000000003,0.3206,0.49,0.17399999999999999,0.20119999999999999,0.4178,0.54879999999999995,0.73,0.83899999999999997,0.75539999999999996,0.30520000000000003,0.499,0.74960000000000004,0.316,{"$f":"'Additional TCS'!B392","v":0.60959999999999992},1,{"$f":"IF(AND('Input - Output'!A397>=360,'Input - Output'!A397<=830),'Input - Output'!A397,\"\")","v":""},"","","","","","","","","","","","","","","",""]
[748,0.46700000000000003,0.32040000000000002,0.49099999999999999,0.17499999999999999,0.20180000000000001,0.42020000000000002,0.55020000000000002,0.73,0.83899999999999997,0.75560000000000005,0.30680000000000002,0.50600000000000001,0.74939999999999996,0.31900000000000001,{"$f":"'Additional TCS'!B393","v":0.60939999999999994},1,{"$f":"IF(AND('Input - Output'!A398>=360,'Input - Output'!A398<=830),'Input - Output'!A398,\"\")","v":""},"","","","","","","","","","","","","","","",""]
[749,0.46700000000000003,0.32019999999999998,0.49199999999999999,0.17599999999999999,0.2024,0.42259999999999998,0.55159999999999998,0.73,0.83899999999999997,0.75580000000000003,0.30840000000000001,0.51300000000000001,0.74919999999999998,0.32200000000000001,{"$f":"'Additional TCS'!B394","v":0.60919999999999996},1,{"$f":"IF(AND('Input - Output'!A399>=360,'Input - Output'!A399<=830),'Input - Output'!A399,\"\")","v":""},"","","","","","","","","","","","","","","",""]
[750,0.46700000000000003,0.32,0.49299999999999999,0.17699999999999999,0.20300000000000001,0.42499999999999999,0.55300000000000005,0.73,0.83899999999999997,0.75600000000000001,0.31,0.52,0.749,0.32500000000000001,{"$f":"'Additional TCS'!B395","v":0.60899999999999999},1,{"$f":"IF(AND('Input - Output'!A400>=360,'Input - Output'!A400<=830),'Input - Output'!A400,\"\")","v":""},"","","","","","","","","","","","","","","",""]
[751,0.46700000000000003,0.3196,0.49380000000000002,0.17780000000000001,0.2034,0.42720000000000002,0.55420000000000003,0.73,0.83899999999999997,0.75619999999999998,0.31080000000000002,0.5262,0.74880000000000002,0.32779999999999998,{"$f":"'Additional TCS'!B396","v":0.60880000000000001},1,{"$f":"IF(AND('Input - Output'!A401>=360,'Input - Output'!A401<=830),'Input - Output'!A401,\"\")","v":""},"","","","","","","","","","","","","","","",""]
[752,0.46700000000000003,0.31919999999999998,0.49459999999999998,0.17860000000000001,0.20380000000000001,0.4294,0.5554,0.73,0.83899999999999997,0.75639999999999996,0.31159999999999999,0.53239999999999998,0.74860000000000004,0.3306,{"$f":"'Additional TCS'!B397","v":0.60860000000000003},1,{"$f":"IF(AND('Input - Output'!A402>=360,'Input - Output'!A402<=830),'Input - Output'!A402,\"\")","v":""},"","","","","","","","","","","","","","","",""]
[753,0.46700000000000003,0.31879999999999997,0.49540000000000001,0.1794,0.20419999999999999,0.43159999999999998,0.55659999999999998,0.73,0.83899999999999997,0.75660000000000005,0.31240000000000001,0.53859999999999997,0.74839999999999995,0.33339999999999997,{"$f":"'Additional TCS'!B398","v":0.60840000000000005},1,{"$f":"IF(AND('Input - Output'!A403>=360,'Input - Output'!A403<=830),'Input - Output'!A403,\"\")","v":""},"","","","","","","","","","","","","","","",""]
[754,0.46700000000000003,0.31840000000000002,0.49619999999999997,0.1802,0.2046,0.43380000000000002,0.55779999999999996,0.73,0.83899999999999997,0.75680000000000003,0.31319999999999998,0.54479999999999995,0.74819999999999998,0.3362,{"$f":"'Additional TCS'!B399","v":0.60820000000000007},1,{"$f":"IF(AND('Input - Output'!A404>=360,'Input - Output'!A404<=830),'Input - Output'!A404,\"\")","v":""},"","","","","","","","","","","","","","","",""]
[755,0.46700000000000003,0.318,0.497,0.18099999999999999,0.20499999999999999,0.436,0.55900000000000005,0.73,0.83899999999999997,0.75700000000000001,0.314,0.55100000000000005,0.748,0.33900000000000002,{"$f":"'Additional TCS'!B400","v":0.60799999999999987},1,{"$f":"IF(AND('Input - Output'!A405>=360,'Input - Output'!A405<=830),'Input - Output'!A405,\"\")","v":""},"","","","","","","","","","","","","","","",""]
[756,0.46700000000000003,0.31759999999999999,0.49759999999999999,0.18179999999999999,0.2056,0.43819999999999998,0.56020000000000003,0.73,0.83899999999999997,0.75719999999999998,0.31459999999999999,0.55620000000000003,0.748,0.34179999999999999,{"$f":"'Additional TCS'!B401","v":0.6077999999999999},1,{"$f":"IF(AND('Input - Output'!A406>=360,'Input - Output'!A406<=830),'Input - Output'!A406,\"\")","v":""},"","","","","","","","","","","","","","","",""]
[757,0.46700000000000003,0.31719999999999998,0.49819999999999998,0.18260000000000001,0.20619999999999999,0.44040000000000001,0.56140000000000001,0.73,0.83899999999999997,0.75739999999999996,0.31519999999999998,0.56140000000000001,0.748,0.34460000000000002,{"$f":"'Additional TCS'!B402","v":0.60759999999999992},1,{"$f":"IF(AND('Input - Output'!A407>=360,'Input - Output'!A407<=830),'Input - Output'!A407,\"\")","v":""},"","","","","","","","","","","","","","","",""]
[758,0.46700000000000003,0.31680000000000003,0.49880000000000002,0.18340000000000001,0.20680000000000001,0.44259999999999999,0.56259999999999999,0.73,0.83899999999999997,0.75760000000000005,0.31580000000000003,0.56659999999999999,0.748,0.34739999999999999,{"$f":"'Additional TCS'!B403","v":0.60739999999999994},1,{"$f":"IF(AND('Input - Output'!A408>=360,'Input - Output'!A408<=830),'Input - Output'!A408,\"\")","v":""},"","","","","","","","","","","","","","","",""]
[759,0.46700000000000003,0.31640000000000001,0.49940000000000001,0.1842,0.2074,0.44479999999999997,0.56379999999999997,0.73,0.83899999999999997,0.75780000000000003,0.31640000000000001,0.57179999999999997,0.748,0.35020000000000001,{"$f":"'Additional TCS'!B404","v":0.60719999999999996},1,{"$f":"IF(AND('Input - Output'!A409>=360,'Input - Output'!A409<=830),'Input - Output'!A409,\"\")","v":""},"","","","","","","","","","","","","","","",""]
[760,0.46700000000000003,0.316,0.5,0.185,0.20799999999999999,0.44700000000000001,0.56499999999999995,0.73,0.83899999999999997,0.75800000000000001,0.317,0.57699999999999996,0.748,0.35299999999999998,{"$f":"'Additional TCS'!B405","v":0.60699999999999998},1,{"$f":"IF(AND('Input - Output'!A410>=360,'Input - Output'!A410<=830),'Input - Output'!A410,\"\")","v":""},"","","","","","","","","","","","","","","",""]
[761,0.46700000000000003,0.31580000000000003,0.50039999999999996,0.18579999999999999,0.20880000000000001,0.44919999999999999,0.56599999999999995,0.73,0.83899999999999997,0.75819999999999999,0.31819999999999998,0.58140000000000003,0.74780000000000002,0.35560000000000003,{"$f":"'Additional TCS'!B406","v":0.60699999999999998},1,{"$f":"IF(AND('Input - Output'!A411>=360,'Input - Output'!A411<=830),'Input - Output'!A411,\"\")","v":""},"","","","","","","","","","","","","","","",""]
[762,0.46700000000000003,0.31559999999999999,0.50080000000000002,0.18659999999999999,0.20960000000000001,0.45140000000000002,0.56699999999999995,0.73,0.83899999999999997,0.75839999999999996,0.31940000000000002,0.58579999999999999,0.74760000000000004,0.35820000000000002,{"$f":"'Additional TCS'!B407","v":0.60699999999999998},1,{"$f":"IF(AND('Input - Output'!A412>=360,'Input - Output'!A412<=830),'Input - Output'!A412,\"\")","v":""},"","","","","","","","","","","","","","","",""]
[763,0.46700000000000003,0.31540000000000001,0.50119999999999998,0.18740000000000001,0.2104,0.4536,0.56799999999999995,0.73,0.83899999999999997,0.75860000000000005,0.3206,0.59019999999999995,0.74739999999999995,0.36080000000000001,{"$f":"'Additional TCS'!B408","v":0.60699999999999998},1,{"$f":"IF(AND('Input - Output'!A413>=360,'Input - Output'!A413<=830),'Input - Output'!A413,\"\")","v":""},"","","","","","","","","","","","","","","",""]
[764,0.46700000000000003,0.31519999999999998,0.50160000000000005,0.18820000000000001,0.2112,0.45579999999999998,0.56899999999999995,0.73,0.83899999999999997,0.75880000000000003,0.32179999999999997,0.59460000000000002,0.74719999999999998,0.3634,{"$f":"'Additional TCS'!B409","v":0.60699999999999998},1,{"$f":"IF(AND('Input - Output'!A414>=360,'Input - Output'!A414<=830),'Input - Output'!A414,\"\")","v":""},"","","","","","","","","","","","","","","",""]
[765,0.46700000000000003,0.315,0.502,0.189,0.21199999999999999,0.45800000000000002,0.56999999999999995,0.73,0.83899999999999997,0.75900000000000001,0.32300000000000001,0.59899999999999998,0.747,0.36599999999999999,{"$f":"'Additional TCS'!B410","v":0.60699999999999998},1,{"$f":"IF(AND('Input - Output'!A415>=360,'Input - Output'!A415<=830),'Input - Output'!A415,\"\")","v":""},"","","","","","","","","","","","","","","",""]
[766,0.46700000000000003,0.315,0.50260000000000005,0.18959999999999999,0.21260000000000001,0.4602,0.57099999999999995,0.73,0.83899999999999997,0.75900000000000001,0.32440000000000002,0.6028,0.747,0.36859999999999998,{"$f":"'Additional TCS'!B411","v":0.60739999999999994},1,{"$f":"IF(AND('Input - Output'!A416>=360,'Input - Output'!A416<=830),'Input - Output'!A416,\"\")","v":""},"","","","","","","","","","","","","","","",""]
[767,0.46700000000000003,0.315,0.50319999999999998,0.19020000000000001,0.2132,0.46239999999999998,0.57199999999999995,0.73,0.83899999999999997,0.75900000000000001,0.32579999999999998,0.60660000000000003,0.747,0.37119999999999997,{"$f":"'Additional TCS'!B412","v":0.60780000000000001},1,{"$f":"IF(AND('Input - Output'!A417>=360,'Input - Output'!A417<=830),'Input - Output'!A417,\"\")","v":""},"","","","","","","","","","","","","","","",""]
[768,0.46700000000000003,0.315,0.50380000000000003,0.1908,0.21379999999999999,0.46460000000000001,0.57299999999999995,0.73,0.83899999999999997,0.75900000000000001,0.32719999999999999,0.61040000000000005,0.747,0.37380000000000002,{"$f":"'Additional TCS'!B413","v":0.60820000000000007},1,{"$f":"IF(AND('Input - Output'!A418>=360,'Input - Output'!A418<=830),'Input - Output'!A418,\"\")","v":""},"","","","","","","","","","","","","","","",""]
[769,0.46700000000000003,0.315,0.50439999999999996,0.19139999999999999,0.21440000000000001,0.46679999999999999,0.57399999999999995,0.73,0.83899999999999997,0.75900000000000001,0.3286,0.61419999999999997,0.747,0.37640000000000001,{"$f":"'Additional TCS'!B414","v":0.60860000000000003},1,{"$f":"IF(AND('Input - Output'!A419>=360,'Input - Output'!A419<=830),'Input - Output'!A419,\"\")","v":""},"","","","","","","","","","","","","","","",""]
[770,0.46700000000000003,0.315,0.505,0.192,0.215,0.46899999999999997,0.57499999999999996,0.73,0.83899999999999997,0.75900000000000001,0.33,0.61799999999999999,0.747,0.379,{"$f":"'Additional TCS'!B415","v":0.60899999999999999},1,{"$f":"IF(AND('Input - Output'!A420>=360,'Input - Output'!A420<=830),'Input - Output'!A420,\"\")","v":""},"","","","","","","","","","","","","","","",""]
[771,0.46700000000000003,0.31480000000000002,0.50600000000000001,0.19239999999999999,0.21540000000000001,0.47060000000000002,0.5756,0.73,0.83899999999999997,0.75900000000000001,0.33079999999999998,0.621,0.747,0.38119999999999998,{"$f":"'Additional TCS'!B416","v":0.60919999999999996},1,{"$f":"IF(AND('Input - Output'!A421>=360,'Input - Output'!A421<=830),'Input - Output'!A421,\"\")","v":""},"","","","","","","","","","","","","","","",""]
[772,0.46700000000000003,0.31459999999999999,0.50700000000000001,0.1928,0.21579999999999999,0.47220000000000001,0.57620000000000005,0.73,0.83899999999999997,0.75900000000000001,0.33160000000000001,0.624,0.747,0.38340000000000002,{"$f":"'Additional TCS'!B417","v":0.60939999999999994},1,{"$f":"IF(AND('Input - Output'!A422>=360,'Input - Output'!A422<=830),'Input - Output'!A422,\"\")","v":""},"","","","","","","","","","","","","","","",""]
[773,0.46700000000000003,0.31440000000000001,0.50800000000000001,0.19320000000000001,0.2162,0.4738,0.57679999999999998,0.73,0.83899999999999997,0.75900000000000001,0.33239999999999997,0.627,0.747,0.3856,{"$f":"'Additional TCS'!B418","v":0.60959999999999992},1,{"$f":"IF(AND('Input - Output'!A423>=360,'Input - Output'!A423<=830),'Input - Output'!A423,\"\")","v":""},"","","","","","","","","","","","","","","",""]
[774,0.46700000000000003,0.31419999999999998,0.50900000000000001,0.19359999999999999,0.21659999999999999,0.47539999999999999,0.57740000000000002,0.73,0.83899999999999997,0.75900000000000001,0.3332,0.63,0.747,0.38779999999999998,{"$f":"'Additional TCS'!B419","v":0.6097999999999999},1,{"$f":"IF(AND('Input - Output'!A424>=360,'Input - Output'!A424<=830),'Input - Output'!A424,\"\")","v":""},"","","","","","","","","","","","","","","",""]
[775,0.46700000000000003,0.314,0.51,0.19400000000000001,0.217,0.47699999999999998,0.57799999999999996,0.73,0.83899999999999997,0.75900000000000001,0.33400000000000002,0.63300000000000001,0.747,0.39,{"$f":"'Additional TCS'!B420","v":0.6100000000000001},1,{"$f":"IF(AND('Input - Output'!A425>=360,'Input - Output'!A425<=830),'Input - Output'!A425,\"\")","v":""},"","","","","","","","","","","","","","","",""]
[776,0.46700000000000003,0.314,0.51119999999999999,0.1946,0.21740000000000001,0.47860000000000003,0.5786,0.73,0.83899999999999997,0.75900000000000001,0.33479999999999999,0.63539999999999996,0.747,0.39179999999999998,{"$f":"'Additional TCS'!B421","v":0.61020000000000008},1,{"$f":"IF(AND('Input - Output'!A426>=360,'Input - Output'!A426<=830),'Input - Output'!A426,\"\")","v":""},"","","","","","","","","","","","","","","",""]
[777,0.46700000000000003,0.314,0.51239999999999997,0.19520000000000001,0.21779999999999999,0.48020000000000002,0.57920000000000005,0.73,0.83899999999999997,0.75900000000000001,0.33560000000000001,0.63780000000000003,0.747,0.39360000000000001,{"$f":"'Additional TCS'!B422","v":0.61040000000000005},1,{"$f":"IF(AND('Input - Output'!A427>=360,'Input - Output'!A427<=830),'Input - Output'!A427,\"\")","v":""},"","","","","","","","","","","","","","","",""]
[778,0.46700000000000003,0.314,0.51359999999999995,0.1958,0.21820000000000001,0.48180000000000001,0.57979999999999998,0.73,0.83899999999999997,0.75900000000000001,0.33639999999999998,0.64019999999999999,0.747,0.39539999999999997,{"$f":"'Additional TCS'!B423","v":0.61060000000000003},1,{"$f":"IF(AND('Input - Output'!A428>=360,'Input - Output'!A428<=830),'Input - Output'!A428,\"\")","v":""},"","","","","","","","","","","","","","","",""]
[779,0.46700000000000003,0.314,0.51480000000000004,0.19639999999999999,0.21859999999999999,0.4834,0.58040000000000003,0.73,0.83899999999999997,0.75900000000000001,0.3372,0.64259999999999995,0.747,0.3972,{"$f":"'Additional TCS'!B424","v":0.61080000000000001},1,{"$f":"IF(AND('Input - Output'!A429>=360,'Input - Output'!A429<=830),'Input - Output'!A429,\"\")","v":""},"","","","","","","","","","","","","","","",""]
[780,0.46700000000000003,0.314,0.51600000000000001,0.19700000000000001,0.219,0.48499999999999999,0.58099999999999996,0.73,0.83899999999999997,0.75900000000000001,0.33800000000000002,0.64500000000000002,0.747,0.39900000000000002,{"$f":"'Additional TCS'!B425","v":0.61099999999999999},1,{"$f":"IF(AND('Input - Output'!A430>=360,'Input - Output'!A430<=830),'Input - Output'!A430,\"\")","v":""},"","","","","","","","","","","","","","","",""]
[781,0.46700000000000003,0.31380000000000002,0.51680000000000004,0.1976,0.21959999999999999,0.48659999999999998,0.58140000000000003,0.73,0.83899999999999997,0.75900000000000001,0.33900000000000002,0.6472,0.74680000000000002,0.40079999999999999,{"$f":"'Additional TCS'!B426","v":0.61099999999999999},1,{"$f":"IF(AND('Input - Output'!A431>=360,'Input - Output'!A431<=830),'Input - Output'!A431,\"\")","v":""},"","","","","","","","","","","","","","","",""]
[782,0.46700000000000003,0.31359999999999999,0.51759999999999995,0.19819999999999999,0.22020000000000001,0.48820000000000002,0.58179999999999998,0.73,0.83899999999999997,0.75900000000000001,0.34,0.64939999999999998,0.74660000000000004,0.40260000000000001,{"$f":"'Additional TCS'!B427","v":0.61099999999999999},1,{"$f":"IF(AND('Input - Output'!A432>=360,'Input - Output'!A432<=830),'Input - Output'!A432,\"\")","v":""},"","","","","","","","","","","","","","","",""]
[783,0.46700000000000003,0.31340000000000001,0.51839999999999997,0.1988,0.2208,0.48980000000000001,0.58220000000000005,0.73,0.83899999999999997,0.75900000000000001,0.34100000000000003,0.65159999999999996,0.74639999999999995,0.40439999999999998,{"$f":"'Additional TCS'!B428","v":0.61099999999999999},1,{"$f":"IF(AND('Input - Output'!A433>=360,'Input - Output'!A433<=830),'Input - Output'!A433,\"\")","v":""},"","","","","","","","","","","","","","","",""]
[784,0.46700000000000003,0.31319999999999998,0.51919999999999999,0.19939999999999999,0.22140000000000001,0.4914,0.58260000000000001,0.73,0.83899999999999997,0.75900000000000001,0.34200000000000003,0.65380000000000005,0.74619999999999997,0.40620000000000001,{"$f":"'Additional TCS'!B429","v":0.61099999999999999},1,{"$f":"IF(AND('Input - Output'!A434>=360,'Input - Output'!A434<=830),'Input - Output'!A434,\"\")","v":""},"","","","","","","","","","","","","","","",""]
[785,0.46700000000000003,0.313,0.52,0.2,0.222,0.49299999999999999,0.58299999999999996,0.73,0.83899999999999997,0.75900000000000001,0.34300000000000003,0.65600000000000003,0.746,0.40799999999999997,{"$f":"'Additional TCS'!B430","v":0.61099999999999999},1,{"$f":"IF(AND('Input - Output'!A435>=360,'Input - Output'!A435<=830),'Input - Output'!A435,\"\")","v":""},"","","","","","","","","","","","","","","",""]
[786,0.46700000000000003,0.313,0.52080000000000004,0.20080000000000001,0.2228,0.49440000000000001,0.58340000000000003,0.73019999999999996,0.83899999999999997,0.75900000000000001,0.34399999999999997,0.65800000000000003,0.746,0.40960000000000002,{"$f":"'Additional TCS'!B431","v":0.61099999999999999},1,{"$f":"IF(AND('Input - Output'!A436>=360,'Input - Output'!A436<=830),'Input - Output'!A436,\"\")","v":""},"","","","","","","","","","","","","","","",""]
[787,0.46700000000000003,0.313,0.52159999999999995,0.2016,0.22359999999999999,0.49580000000000002,0.58379999999999999,0.73040000000000005,0.83899999999999997,0.75900000000000001,0.34499999999999997,0.66,0.746,0.41120000000000001,{"$f":"'Additional TCS'!B432","v":0.61099999999999999},1,{"$f":"IF(AND('Input - Output'!A437>=360,'Input - Output'!A437<=830),'Input - Output'!A437,\"\")","v":""},"","","","","","","","","","","","","","","",""]
[788,0.46700000000000003,0.313,0.52239999999999998,0.2024,0.22439999999999999,0.49719999999999998,0.58420000000000005,0.73060000000000003,0.83899999999999997,0.75900000000000001,0.34599999999999997,0.66200000000000003,0.746,0.4128,{"$f":"'Additional TCS'!B433","v":0.61099999999999999},1,{"$f":"IF(AND('Input - Output'!A438>=360,'Input - Output'!A438<=830),'Input - Output'!A438,\"\")","v":""},"","","","","","","","","","","","","","","",""]
[789,0.46700000000000003,0.313,0.5232,0.20319999999999999,0.22520000000000001,0.49859999999999999,0.58460000000000001,0.73080000000000001,0.83899999999999997,0.75900000000000001,0.34699999999999998,0.66400000000000003,0.746,0.41439999999999999,{"$f":"'Additional TCS'!B434","v":0.61099999999999999},1,{"$f":"IF(AND('Input - Output'!A439>=360,'Input - Output'!A439<=830),'Input - Output'!A439,\"\")","v":""},"","","","","","","","","","","","","","","",""]
[790,0.46700000000000003,0.313,0.52400000000000002,0.20399999999999999,0.22600000000000001,0.5,0.58499999999999996,0.73099999999999998,0.83899999999999997,0.75900000000000001,0.34799999999999998,0.66600000000000004,0.746,0.41599999999999998,{"$f":"'Additional TCS'!B435","v":0.61099999999999999},1,{"$f":"IF(AND('Input - Output'!A440>=360,'Input - Output'!A440<=830),'Input - Output'!A440,\"\")","v":""},"","","","","","","","","","","","","","","",""]
[791,0.46679999999999999,0.31280000000000002,0.52459999999999996,0.20519999999999999,0.22700000000000001,0.50119999999999998,0.58540000000000003,0.73099999999999998,0.83899999999999997,0.75900000000000001,0.34899999999999998,0.66759999999999997,0.746,0.41720000000000002,{"$f":"'Additional TCS'!B436","v":0.61099999999999999},1,{"$f":"IF(AND('Input - Output'!A441>=360,'Input - Output'!A441<=830),'Input - Output'!A441,\"\")","v":""},"","","","","","","","","","","","","","","",""]
[792,0.46660000000000001,0.31259999999999999,0.5252,0.2064,0.22800000000000001,0.50239999999999996,0.58579999999999999,0.73099999999999998,0.83899999999999997,0.75900000000000001,0.35,0.66920000000000002,0.746,0.41839999999999999,{"$f":"'Additional TCS'!B437","v":0.61099999999999999},1,{"$f":"IF(AND('Input - Output'!A442>=360,'Input - Output'!A442<=830),'Input - Output'!A442,\"\")","v":""},"","","","","","","","","","","","","","","",""]
[793,0.46639999999999998,0.31240000000000001,0.52580000000000005,0.20760000000000001,0.22900000000000001,0.50360000000000005,0.58620000000000005,0.73099999999999998,0.83899999999999997,0.75900000000000001,0.35099999999999998,0.67079999999999995,0.746,0.41959999999999997,{"$f":"'Additional TCS'!B438","v":0.61099999999999999},1,{"$f":"IF(AND('Input - Output'!A443>=360,'Input - Output'!A443<=830),'Input - Output'!A443,\"\")","v":""},"","","","","","","","","","","","","","","",""]
[794,0.4662,0.31219999999999998,0.52639999999999998,0.20880000000000001,0.23,0.50480000000000003,0.58660000000000001,0.73099999999999998,0.83899999999999997,0.75900000000000001,0.35199999999999998,0.6724,0.746,0.42080000000000001,{"$f":"'Additional TCS'!B439","v":0.61099999999999999},1,{"$f":"IF(AND('Input - Output'!A444>=360,'Input - Output'!A444<=830),'Input - Output'!A444,\"\")","v":""},"","","","","","","","","","","","","","","",""]
[795,0.46600000000000003,0.312,0.52700000000000002,0.21,0.23100000000000001,0.50600000000000001,0.58699999999999997,0.73099999999999998,0.83899999999999997,0.75900000000000001,0.35299999999999998,0.67400000000000004,0.746,0.42199999999999999,{"$f":"'Additional TCS'!B440","v":0.61099999999999999},1,{"$f":"IF(AND('Input - Output'!A445>=360,'Input - Output'!A445<=830),'Input - Output'!A445,\"\")","v":""},"","","","","","","","","","","","","","","",""]
[796,0.46600000000000003,0.312,0.52780000000000005,0.21160000000000001,0.23219999999999999,0.50719999999999998,0.58720000000000006,0.73099999999999998,0.83899999999999997,0.75900000000000001,0.35420000000000001,0.67520000000000002,0.746,0.42320000000000002,{"$f":"'Additional TCS'!B441","v":0.61099999999999999},1,{"$f":"IF(AND('Input - Output'!A446>=360,'Input - Output'!A446<=830),'Input - Output'!A446,\"\")","v":""},"","","","","","","","","","","","","","","",""]
[797,0.46600000000000003,0.312,0.52859999999999996,0.2132,0.2334,0.50839999999999996,0.58740000000000003,0.73099999999999998,0.83899999999999997,0.75900000000000001,0.35539999999999999,0.6764,0.746,0.4244,{"$f":"'Additional TCS'!B442","v":0.61099999999999999},1,{"$f":"IF(AND('Input - Output'!A447>=360,'Input - Output'!A447<=830),'Input - Output'!A447,\"\")","v":""},"","","","","","","","","","","","","","","",""]
[798,0.46600000000000003,0.312,0.52939999999999998,0.21479999999999999,0.2346,0.50960000000000005,0.58760000000000001,0.73099999999999998,0.83899999999999997,0.75900000000000001,0.35659999999999997,0.67759999999999998,0.746,0.42559999999999998,{"$f":"'Additional TCS'!B443","v":0.61099999999999999},1,{"$f":"IF(AND('Input - Output'!A448>=360,'Input - Output'!A448<=830),'Input - Output'!A448,\"\")","v":""},"","","","","","","","","","","","","","","",""]
[799,0.46600000000000003,0.312,0.5302,0.21640000000000001,0.23580000000000001,0.51080000000000003,0.58779999999999999,0.73099999999999998,0.83899999999999997,0.75900000000000001,0.35780000000000001,0.67879999999999996,0.746,0.42680000000000001,{"$f":"'Additional TCS'!B444","v":0.61099999999999999},1,{"$f":"IF(AND('Input - Output'!A449>=360,'Input - Output'!A449<=830),'Input - Output'!A449,\"\")","v":""},"","","","","","","","","","","","","","","",""]
[800,0.46600000000000003,0.312,0.53100000000000003,0.218,0.23699999999999999,0.51200000000000001,0.58799999999999997,0.73099999999999998,0.83899999999999997,0.75900000000000001,0.35899999999999999,0.68,0.746,0.42799999999999999,{"$f":"'Additional TCS'!B445","v":0.61099999999999999},1,{"$f":"IF(AND('Input - Output'!A450>=360,'Input - Output'!A450<=830),'Input - Output'!A450,\"\")","v":""},"","","","","","","","","","","","","","","",""]
[801,0.46600000000000003,0.31180000000000002,0.53180000000000005,0.21940000000000001,0.2382,0.51300000000000001,0.58819999999999995,0.73099999999999998,0.83899999999999997,0.75900000000000001,0.36020000000000002,0.68120000000000003,0.74580000000000002,0.42920000000000003,{"$f":"'Additional TCS'!B446","v":0.61099999999999999},1,{"$f":"IF(AND('Input - Output'!A451>=360,'Input - Output'!A451<=830),'Input - Output'!A451,\"\")","v":""},"","","","","","","","","","","","","","","",""]
[802,0.46600000000000003,0.31159999999999999,0.53259999999999996,0.2208,0.2394,0.51400000000000001,0.58840000000000003,0.73099999999999998,0.83899999999999997,0.75900000000000001,0.3614,0.68240000000000001,0.74560000000000004,0.4304,{"$f":"'Additional TCS'!B447","v":0.61099999999999999},1,{"$f":"IF(AND('Input - Output'!A452>=360,'Input - Output'!A452<=830),'Input - Output'!A452,\"\")","v":""},"","","","","","","","","","","","","","","",""]
[803,0.46600000000000003,0.31140000000000001,0.53339999999999999,0.22220000000000001,0.24060000000000001,0.51500000000000001,0.58860000000000001,0.73099999999999998,0.83899999999999997,0.75900000000000001,0.36259999999999998,0.68359999999999999,0.74539999999999995,0.43159999999999998,{"$f":"'Additional TCS'!B448","v":0.61099999999999999},1,{"$f":"IF(AND('Input - Output'!A453>=360,'Input - Output'!A453<=830),'Input - Output'!A453,\"\")","v":""},"","","","","","","","","","","","","","","",""]
[804,0.46600000000000003,0.31119999999999998,0.53420000000000001,0.22359999999999999,0.24179999999999999,0.51600000000000001,0.58879999999999999,0.73099999999999998,0.83899999999999997,0.75900000000000001,0.36380000000000001,0.68479999999999996,0.74519999999999997,0.43280000000000002,{"$f":"'Additional TCS'!B449","v":0.61099999999999999},1,{"$f":"IF(AND('Input - Output'!A454>=360,'Input - Output'!A454<=830),'Input - Output'!A454,\"\")","v":""},"","","","","","","","","","","","","","","",""]
[805,0.46600000000000003,0.311,0.53500000000000003,0.22500000000000001,0.24299999999999999,0.51700000000000002,0.58899999999999997,0.73099999999999998,0.83899999999999997,0.75900000000000001,0.36499999999999999,0.68600000000000005,0.745,0.434,{"$f":"'Additional TCS'!B450","v":0.61099999999999999},1,{"$f":"IF(AND('Input - Output'!A455>=360,'Input - Output'!A455<=830),'Input - Output'!A455,\"\")","v":""},"","","","","","","","","","","","","","","",""]
[806,0.46600000000000003,0.311,0.53580000000000005,0.2266,0.2442,0.51780000000000004,0.58919999999999995,0.73099999999999998,0.83879999999999999,0.75880000000000003,0.3664,0.68700000000000006,0.745,0.435,{"$f":"'Additional TCS'!B451","v":0.61099999999999999},1,{"$f":"IF(AND('Input - Output'!A456>=360,'Input - Output'!A456<=830),'Input - Output'!A456,\"\")","v":""},"","","","","","","","","","","","","","","",""]
[807,0.46600000000000003,0.311,0.53659999999999997,0.22819999999999999,0.24540000000000001,0.51859999999999995,0.58940000000000003,0.73099999999999998,0.83860000000000001,0.75860000000000005,0.36780000000000002,0.68799999999999994,0.745,0.436,{"$f":"'Additional TCS'!B452","v":0.61099999999999999},1,{"$f":"IF(AND('Input - Output'!A457>=360,'Input - Output'!A457<=830),'Input - Output'!A457,\"\")","v":""},"","","","","","","","","","","","","","","",""]
[808,0.46600000000000003,0.311,0.53739999999999999,0.2298,0.24660000000000001,0.51939999999999997,0.58960000000000001,0.73099999999999998,0.83840000000000003,0.75839999999999996,0.36919999999999997,0.68899999999999995,0.745,0.437,{"$f":"'Additional TCS'!B453","v":0.61099999999999999},1,{"$f":"IF(AND('Input - Output'!A458>=360,'Input - Output'!A458<=830),'Input - Output'!A458,\"\")","v":""},"","","","","","","","","","","","","","","",""]
[809,0.46600000000000003,0.311,0.53820000000000001,0.23139999999999999,0.24779999999999999,0.5202,0.58979999999999999,0.73099999999999998,0.83819999999999995,0.75819999999999999,0.37059999999999998,0.69,0.745,0.438,{"$f":"'Additional TCS'!B454","v":0.61099999999999999},1,{"$f":"IF(AND('Input - Output'!A459>=360,'Input - Output'!A459<=830),'Input - Output'!A459,\"\")","v":""},{"$f":"IF($R458<>\"\",TREND(OFFSET(B$9,MATCH($R458,$A$9:$A$485)-1,,2),OFFSET($A$9,MATCH($R458,$A$9:$A$485)-1,,2),$R458),\"\")","v":""},{"$f":"IF($R458<>\"\",TREND(OFFSET(C$9,MATCH($R458,$A$9:$A$485)-1,,2),OFFSET($A$9,MATCH($R458,$A$9:$A$485)-1,,2),$R458),\"\")","v":""},{"$f":"IF($R458<>\"\",TREND(OFFSET(D$9,MATCH($R458,$A$9:$A$485)-1,,2),OFFSET($A$9,MATCH($R458,$A$9:$A$485)-1,,2),$R458),\"\")","v":""},{"$f":"IF($R458<>\"\",TREND(OFFSET(E$9,MATCH($R458,$A$9:$A$485)-1,,2),OFFSET($A$9,MATCH($R458,$A$9:$A$485)-1,,2),$R458),\"\")","v":""},{"$f":"IF($R458<>\"\",TREND(OFFSET(F$9,MATCH($R458,$A$9:$A$485)-1,,2),OFFSET($A$9,MATCH($R458,$A$9:$A$485)-1,,2),$R458),\"\")","v":""},{"$f":"IF($R458<>\"\",TREND(OFFSET(G$9,MATCH($R458,$A$9:$A$485)-1,,2),OFFSET($A$9,MATCH($R458,$A$9:$A$485)-1,,2),$R458),\"\")","v":""},{"$f":"IF($R458<>\"\",TREND(OFFSET(H$9,MATCH($R458,$A$9:$A$485)-1,,2),OFFSET($A$9,MATCH($R458,$A$9:$A$485)-1,,2),$R458),\"\")","v":""},{"$f":"IF($R458<>\"\",TREND(OFFSET(I$9,MATCH($R458,$A$9:$A$485)-1,,2),OFFSET($A$9,MATCH($R458,$A$9:$A$485)-1,,2),$R458),\"\")","v":""},{"$f":"IF($R458<>\"\",TREND(OFFSET(J$9,MATCH($R458,$A$9:$A$485)-1,,2),OFFSET($A$9,MATCH($R458,$A$9:$A$485)-1,,2),$R458),\"\")","v":""},{"$f":"IF($R458<>\"\",TREND(OFFSET(K$9,MATCH($R458,$A$9:$A$485)-1,,2),OFFSET($A$9,MATCH($R458,$A$9:$A$485)-1,,2),$R458),\"\")","v":""},{"$f":"IF($R458<>\"\",TREND(OFFSET(L$9,MATCH($R458,$A$9:$A$485)-1,,2),OFFSET($A$9,MATCH($R458,$A$9:$A$485)-1,,2),$R458),\"\")","v":""},{"$f":"IF($R458<>\"\",TREND(OFFSET(M$9,MATCH($R458,$A$9:$A$485)-1,,2),OFFSET($A$9,MATCH($R458,$A$9:$A$485)-1,,2),$R458),\"\")","v":""},{"$f":"IF($R458<>\"\",TREND(OFFSET(N$9,MATCH($R458,$A$9:$A$485)-1,,2),OFFSET($A$9,MATCH($R458,$A$9:$A$485)-1,,2),$R458),\"\")","v":""},{"$f":"IF($R458<>\"\",TREND(OFFSET(O$9,MATCH($R458,$A$9:$A$485)-1,,2),OFFSET($A$9,MATCH($R458,$A$9:$A$485)-1,,2),$R458),\"\")","v":""},{"$f":"IF($R458<>\"\",TREND(OFFSET(P$9,MATCH($R458,$A$9:$A$485)-1,,2),OFFSET($A$9,MATCH($R458,$A$9:$A$485)-1,,2),$R458),\"\")","v":""},{"$f":"IF($R458<>\"\",TREND(OFFSET(Q$9,MATCH($R458,$A$9:$A$485)-1,,2),OFFSET($A$9,MATCH($R458,$A$9:$A$485)-1,,2),$R458),\"\")","v":""}]
[810,0.46600000000000003,0.311,0.53900000000000003,0.23300000000000001,0.249,0.52100000000000002,0.59,0.73099999999999998,0.83799999999999997,0.75800000000000001,0.372,0.69099999999999995,0.745,0.439,{"$f":"'Additional TCS'!B455","v":0.61099999999999999},1,{"$f":"IF(AND('Input - Output'!A460>=360,'Input - Output'!A460<=830),'Input - Output'!A460,\"\")","v":""},"","","","","","","","","","","","","","","",""]
[811,0.46600000000000003,0.311,0.54,0.23499999999999999,0.25059999999999999,0.52180000000000004,0.59,0.73099999999999998,0.83779999999999999,0.75780000000000003,0.37359999999999999,0.69159999999999999,0.745,0.44,{"$f":"'Additional TCS'!B456","v":0.61099999999999999},1,{"$f":"IF(AND('Input - Output'!A461>=360,'Input - Output'!A461<=830),'Input - Output'!A461,\"\")","v":""},"","","","","","","","","","","","","","","",""]
[812,0.46600000000000003,0.311,0.54100000000000004,0.23699999999999999,0.25219999999999998,0.52259999999999995,0.59,0.73099999999999998,0.83760000000000001,0.75760000000000005,0.37519999999999998,0.69220000000000004,0.745,0.441,{"$f":"'Additional TCS'!B457","v":0.61099999999999999},1,{"$f":"IF(AND('Input - Output'!A462>=360,'Input - Output'!A462<=830),'Input - Output'!A462,\"\")","v":""},"","","","","","","","","","","","","","","",""]
[813,0.46600000000000003,0.311,0.54200000000000004,0.23899999999999999,0.25380000000000003,0.52339999999999998,0.59,0.73099999999999998,0.83740000000000003,0.75739999999999996,0.37680000000000002,0.69279999999999997,0.745,0.442,{"$f":"'Additional TCS'!B458","v":0.61099999999999999},1,{"$f":"IF(AND('Input - Output'!A463>=360,'Input - Output'!A463<=830),'Input - Output'!A463,\"\")","v":""},"","","","","","","","","","","","","","","",""]
[814,0.46600000000000003,0.311,0.54300000000000004,0.24099999999999999,0.25540000000000002,0.5242,0.59,0.73099999999999998,0.83720000000000006,0.75719999999999998,0.37840000000000001,0.69340000000000002,0.745,0.443,{"$f":"'Additional TCS'!B459","v":0.61099999999999999},1,{"$f":"IF(AND('Input - Output'!A464>=360,'Input - Output'!A464<=830),'Input - Output'!A464,\"\")","v":""},"","","","","","","","","","","","","","","",""]
[815,0.46600000000000003,0.311,0.54400000000000004,0.24299999999999999,0.25700000000000001,0.52500000000000002,0.59,0.73099999999999998,0.83699999999999997,0.75700000000000001,0.38,0.69399999999999995,0.745,0.44400000000000001,{"$f":"'Additional TCS'!B460","v":0.61099999999999999},1,{"$f":"IF(AND('Input - Output'!A465>=360,'Input - Output'!A465<=830),'Input - Output'!A465,\"\")","v":""},"","","","","","","","","","","","","","","",""]
[816,0.46579999999999999,0.311,0.54479999999999995,0.2452,0.2586,0.52580000000000005,0.59,0.73099999999999998,0.83699999999999997,0.75700000000000001,0.38159999999999999,0.6946,0.745,0.44479999999999997,{"$f":"'Additional TCS'!B461","v":0.61099999999999999},1,{"$f":"IF(AND('Input - Output'!A466>=360,'Input - Output'!A466<=830),'Input - Output'!A466,\"\")","v":""},"","","","","","","","","","","","","","","",""]
[817,0.46560000000000001,0.311,0.54559999999999997,0.24740000000000001,0.26019999999999999,0.52659999999999996,0.59,0.73099999999999998,0.83699999999999997,0.75700000000000001,0.38319999999999999,0.69520000000000004,0.745,0.4456,{"$f":"'Additional TCS'!B462","v":0.61099999999999999},1,{"$f":"IF(AND('Input - Output'!A467>=360,'Input - Output'!A467<=830),'Input - Output'!A467,\"\")","v":""},"","","","","","","","","","","","","","","",""]
[818,0.46539999999999998,0.311,0.5464,0.24959999999999999,0.26179999999999998,0.52739999999999998,0.59,0.73099999999999998,0.83699999999999997,0.75700000000000001,0.38479999999999998,0.69579999999999997,0.745,0.44640000000000002,{"$f":"'Additional TCS'!B463","v":0.61099999999999999},1,{"$f":"IF(AND('Input - Output'!A468>=360,'Input - Output'!A468<=830),'Input - Output'!A468,\"\")","v":""},"","","","","","","","","","","","","","","",""]
[819,0.4652,0.311,0.54720000000000002,0.25180000000000002,0.26340000000000002,0.5282,0.59,0.73099999999999998,0.83699999999999997,0.75700000000000001,0.38640000000000002,0.69640000000000002,0.745,0.44719999999999999,{"$f":"'Additional TCS'!B464","v":0.61099999999999999},1,{"$f":"IF(AND('Input - Output'!A469>=360,'Input - Output'!A469<=830),'Input - Output'!A469,\"\")","v":""},"","","","","","","","","","","","","","","",""]
[820,0.46500000000000002,0.311,0.54800000000000004,0.254,0.26500000000000001,0.52900000000000003,0.59,0.73099999999999998,0.83699999999999997,0.75700000000000001,0.38800000000000001,0.69699999999999995,0.745,0.44800000000000001,{"$f":"'Additional TCS'!B465","v":0.61099999999999999},1,{"$f":"IF(AND('Input - Output'!A470>=360,'Input - Output'!A470<=830),'Input - Output'!A470,\"\")","v":""},"","","","","","","","","","","","","","","",""]
[821,0.46479999999999999,0.311,0.54879999999999995,0.25600000000000001,0.2666,0.52959999999999996,0.59019999999999995,0.73099999999999998,0.83679999999999999,0.75680000000000003,0.3896,0.6976,0.745,0.4486,{"$f":"'Additional TCS'!B466","v":0.61099999999999999},1,{"$f":"IF(AND('Input - Output'!A471>=360,'Input - Output'!A471<=830),'Input - Output'!A471,\"\")","v":""},"","","","","","","","","","","","","","","",""]
[822,0.46460000000000001,0.311,0.54959999999999998,0.25800000000000001,0.26819999999999999,0.5302,0.59040000000000004,0.73099999999999998,0.83660000000000001,0.75660000000000005,0.39119999999999999,0.69820000000000004,0.745,0.44919999999999999,{"$f":"'Additional TCS'!B467","v":0.61099999999999999},1,{"$f":"IF(AND('Input - Output'!A472>=360,'Input - Output'!A472<=830),'Input - Output'!A472,\"\")","v":""},"","","","","","","","","","","","","","","",""]
[823,0.46439999999999998,0.311,0.5504,0.26,0.26979999999999998,0.53080000000000005,0.59060000000000001,0.73099999999999998,0.83640000000000003,0.75639999999999996,0.39279999999999998,0.69879999999999998,0.745,0.44979999999999998,{"$f":"'Additional TCS'!B468","v":0.61099999999999999},1,{"$f":"IF(AND('Input - Output'!A473>=360,'Input - Output'!A473<=830),'Input - Output'!A473,\"\")","v":""},"","","","","","","","","","","","","","","",""]
[824,0.4642,0.311,0.55120000000000002,0.26200000000000001,0.27139999999999997,0.53139999999999998,0.59079999999999999,0.73099999999999998,0.83620000000000005,0.75619999999999998,0.39439999999999997,0.69940000000000002,0.745,0.45040000000000002,{"$f":"'Additional TCS'!B469","v":0.61099999999999999},1,{"$f":"IF(AND('Input - Output'!A474>=360,'Input - Output'!A474<=830),'Input - Output'!A474,\"\")","v":""},"","","","","","","","","","","","","","","",""]
[825,0.46400000000000002,0.311,0.55200000000000005,0.26400000000000001,0.27300000000000002,0.53200000000000003,0.59099999999999997,0.73099999999999998,0.83599999999999997,0.75600000000000001,0.39600000000000002,0.7,0.745,0.45100000000000001,{"$f":"'Additional TCS'!B470","v":0.61099999999999999},1,{"$f":"IF(AND('Input - Output'!A475>=360,'Input - Output'!A475<=830),'Input - Output'!A475,\"\")","v":""},"","","","","","","","","","","","","","","",""]
[826,0.46400000000000002,0.31080000000000002,0.55259999999999998,0.26600000000000001,0.27439999999999998,0.53259999999999996,0.59119999999999995,0.73099999999999998,0.83599999999999997,0.75600000000000001,0.39739999999999998,0.70040000000000002,0.745,0.4516,{"$f":"'Additional TCS'!B471","v":0.61099999999999999},1,{"$f":"IF(AND('Input - Output'!A476>=360,'Input - Output'!A476<=830),'Input - Output'!A476,\"\")","v":""},"","","","","","","","","","","","","","","",""]
[827,0.46400000000000002,0.31059999999999999,0.55320000000000003,0.26800000000000002,0.27579999999999999,0.53320000000000001,0.59140000000000004,0.73099999999999998,0.83599999999999997,0.75600000000000001,0.39879999999999999,0.70079999999999998,0.745,0.45219999999999999,{"$f":"'Additional TCS'!B472","v":0.61099999999999999},1,{"$f":"IF(AND('Input - Output'!A477>=360,'Input - Output'!A477<=830),'Input - Output'!A477,\"\")","v":""},"","","","","","","","","","","","","","","",""]
[828,0.46400000000000002,0.31040000000000001,0.55379999999999996,0.27,0.2772,0.53380000000000005,0.59160000000000001,0.73099999999999998,0.83599999999999997,0.75600000000000001,0.4002,0.70120000000000005,0.745,0.45279999999999998,{"$f":"'Additional TCS'!B473","v":0.61099999999999999},1,{"$f":"IF(AND('Input - Output'!A478>=360,'Input - Output'!A478<=830),'Input - Output'!A478,\"\")","v":""},"","","","","","","","","","","","","","","",""]
[829,0.46400000000000002,0.31019999999999998,0.5544,0.27200000000000002,0.27860000000000001,0.53439999999999999,0.59179999999999999,0.73099999999999998,0.83599999999999997,0.75600000000000001,0.40160000000000001,0.7016,0.745,0.45340000000000003,{"$f":"'Additional TCS'!B474","v":0.61099999999999999},1,{"$f":"IF(AND('Input - Output'!A479>=360,'Input - Output'!A479<=830),'Input - Output'!A479,\"\")","v":""},"","","","","","","","","","","","","","","",""]
[830,0.46400000000000002,0.31,0.55500000000000005,0.27400000000000002,0.28000000000000003,0.53500000000000003,0.59199999999999997,0.73099999999999998,0.83599999999999997,0.75600000000000001,0.40300000000000002,0.70199999999999996,0.745,0.45400000000000001,{"$f":"'Additional TCS'!B475","v":0.61099999999999999},1,{"$f":"IF(AND('Input - Output'!A480>=360,'Input - Output'!A480<=830),'Input - Output'!A480,\"\")","v":""},"","","","","","","","","","","","","","","",""]
[831,0.46400000000000002,0.30980000000000002,0.55559999999999998,0.27600000000000002,0.28139999999999998,0.53559999999999997,0.59219999999999995,0.73099999999999998,0.83599999999999997,0.75600000000000001,0.40439999999999998,0.70240000000000002,0.745,0.4546,{"$f":"P479","v":0.61099999999999999},1]
[832,0.46400000000000002,0.30959999999999999,0.55620000000000003,0.27800000000000002,0.2828,0.53620000000000001,0.59240000000000004,0.73099999999999998,0.83599999999999997,0.75600000000000001,0.40579999999999999,0.70279999999999998,0.745,0.45519999999999999,{"$f":"P480","v":0.61099999999999999},1]
[833,0.46400000000000002,0.30940000000000001,0.55679999999999996,0.28000000000000003,0.28420000000000001,0.53680000000000005,0.59260000000000101,0.73099999999999998,0.83599999999999997,0.75600000000000001,0.40720000000000001,0.70320000000000005,0.745,0.45579999999999998,0.61099999999999999,1]
[834,0.46400000000000002,0.30919999999999997,0.55740000000000001,0.28199999999999997,0.28560000000000002,0.53739999999999999,0.59280000000000099,0.73099999999999998,0.83599999999999997,0.75600000000000001,0.40860000000000002,0.7036,0.745,0.45639999999999997,0.61099999999999999,1]
[835,0.46400000000000002,0.309,0.55800000000000005,0.28399999999999997,0.28699999999999998,0.53800000000000003,0.59300000000000097,0.73099999999999998,0.83599999999999997,0.75600000000000001,0.41,0.70399999999999996,0.745,0.45700000000000002,0.61099999999999999,1]
[836,0,0,0,0,0,0,0,0,0,0,0,0,0,0,0,0]
[837,0,0,0,0,0,0,0,0,0,0,0,0,0,0,0,0]
[]
[]
["L"]

{"sheet":"CIE1931 1-nm","index":7,"n_rows":484,"n_cols":11,"rows_kept":484,"cut":false,"hidden":true,"merged":[]}
["ISO 11664-1:2007(E) / CIE S 014-1/E:2006 ; TABLE 1. COLOUR-MATCHING FUNCTIONS AND CHROMATICITY COORDINATES OF CIE 1931 STANDARD COLORIMETRIC OBSERVER"]
[]
[]
[null,null,null,null,"max",{"$f":"MAX(F9:F479)","v":4.6791664506120041},{"$f":"MAX(G9:G479)","v":4.6791664506120059},"x","y","CCT","Duv"]
[null,null,null,null,"X",null,{"$f":"IF($G$4>0,SUMPRODUCT($G$9:$G$479,$H$9:$H$479),1)","v":100.00092375463026},{"$f":"IF(G4>0,G5/SUM(G5:G7),0)","v":0.3333342817333253},{"$f":"IF(G4>0,G6/SUM(G5:G7),0)","v":0.33333120257090737},5455,-4.4000000000000003E-3]
[null,null,null,null,"Y",{"$f":"IF($F$4>0,SUMPRODUCT($I$9:$I$479,$F$9:$F$479)/100,1)","v":0.99999999999999956},{"$f":"IF($G$4>0,SUMPRODUCT($I$9:$I$479,$G$9:$G$479),1)","v":99.999999999999986}]
[null,null,null,null,"Z",null,{"$f":"IF($G$4>0,SUMPRODUCT($J$9:$J$479,$G$9:$G$479),1)","v":100.00099394381151},null,null,null,{"$f":"IF('Input - Output'!D482>0,'Input - Output'!D482,100000000000000000000)","v":5}]
[null,"x(λ)","y(λ)","z(λ)","WL","SPD","Y=100","x(λ)","y(λ)","z(λ)","SPD"]
[360,1.2990000000000001E-4,3.9169999999999999E-6,6.0610000000000004E-4,{"$f":"IF(AND('Input - Output'!A10>=360,'Input - Output'!A10<=830),'Input - Output'!A10,831)","v":380},{"$f":"IF(E9<>\"\",'Input - Output'!B10,\"\")","v":4.6791664506120041},{"$f":"IF(F9<>0,F9/$F$6,0)","v":4.6791664506120059},{"$f":"IF($E9<>0,TREND(OFFSET(B$9,MATCH($E9,$A$9:$A$480)-1,,2),OFFSET($A$9,MATCH($E9,$A$9:$A$480)-1,,2),$E9),0)","v":1.3680000000000012E-3},{"$f":"IF($E9<>0,TREND(OFFSET(C$9,MATCH($E9,$A$9:$A$480)-1,,2),OFFSET($A$9,MATCH($E9,$A$9:$A$480)-1,,2),$E9),0)","v":3.8999999999999972E-5},{"$f":"IF($E9<>0,TREND(OFFSET(D$9,MATCH($E9,$A$9:$A$480)-1,,2),OFFSET($A$9,MATCH($E9,$A$9:$A$480)-1,,2),$E9),0)","v":6.450000999999983E-3},{"$f":"G9/$K$7","v":0.93583329012240113}]
[361,1.45847E-4,4.3935810000000003E-6,6.8087919999999997E-4,{"$f":"IF(AND('Input - Output'!A11>=360,'Input - Output'!A11<=830),'Input - Output'!A11,831)","v":385},{"$f":"IF(E10<>\"\",'Input - Output'!B11,\"\")","v":4.6791664506120041},{"$f":"IF(F10<>0,F10/$F$6,0)","v":4.6791664506120059},2.2360000000000019E-3,6.4000000000000255E-5,1.0549990000000009E-2,{"$f":"G10/$K$7","v":0.93583329012240113}]
[362,1.6380210000000001E-4,4.9296040000000003E-6,7.6514560000000005E-4,{"$f":"IF(AND('Input - Output'!A12>=360,'Input - Output'!A12<=830),'Input - Output'!A12,831)","v":390},{"$f":"IF(E11<>\"\",'Input - Output'!B12,\"\")","v":4.6791664506120041},4.6791664506120059,4.2429999999999968E-3,1.2000000000000031E-4,2.0050009999999951E-2,0.93583329012240113]
[363,1.8400369999999999E-4,5.5321360000000001E-6,8.6001239999999998E-4,{"$f":"IF(AND('Input - Output'!A13>=360,'Input - Output'!A13<=830),'Input - Output'!A13,831)","v":395},{"$f":"IF(E12<>\"\",'Input - Output'!B13,\"\")","v":4.6791664506120041},4.6791664506120059,7.6499999999999901E-3,2.1699999999999844E-4,3.6210000000000075E-2,0.93583329012240113]
[364,2.066902E-4,6.2082449999999999E-6,9.6659280000000001E-4,{"$f":"IF(AND('Input - Output'!A14>=360,'Input - Output'!A14<=830),'Input - Output'!A14,831)","v":400},{"$f":"IF(E13<>\"\",'Input - Output'!B14,\"\")","v":4.6791664506120041},4.6791664506120059,1.4310000000000045E-2,3.9600000000000052E-4,6.7850009999999905E-2,0.93583329012240113]
[365,2.321E-4,6.9650000000000002E-6,1.0859999999999999E-3,{"$f":"IF(AND('Input - Output'!A15>=360,'Input - Output'!A15<=830),'Input - Output'!A15,831)","v":405},{"$f":"IF(E14<>\"\",'Input - Output'!B15,\"\")","v":4.6791664506120041},4.6791664506120059,2.3190000000000044E-2,6.4000000000000168E-4,0.11019999999999985,0.93583329012240113]
[366,2.60728E-4,7.8132190000000003E-6,1.2205860000000001E-3,{"$f":"IF(AND('Input - Output'!A16>=360,'Input - Output'!A16<=830),'Input - Output'!A16,831)","v":410},{"$f":"IF(E15<>\"\",'Input - Output'!B16,\"\")","v":4.6791664506120041},4.6791664506120059,4.3509999999999938E-2,1.2100000000000027E-3,0.20739999999999981,0.93583329012240113]
[367,2.9307500000000001E-4,8.767336E-6,1.372729E-3,{"$f":"IF(AND('Input - Output'!A17>=360,'Input - Output'!A17<=830),'Input - Output'!A17,831)","v":415},{"$f":"IF(E16<>\"\",'Input - Output'!B17,\"\")","v":4.6791664506120041},4.6791664506120059,7.7630000000000088E-2,2.1800000000000014E-3,0.37130000000000152,0.93583329012240113]
[368,3.2938800000000001E-4,9.8398440000000006E-6,1.543579E-3,{"$f":"IF(AND('Input - Output'!A18>=360,'Input - Output'!A18<=830),'Input - Output'!A18,831)","v":420},{"$f":"IF(E17<>\"\",'Input - Output'!B18,\"\")","v":4.6791664506120041},4.6791664506120059,0.13438000000000017,4.0000000000000036E-3,0.64560000000000173,0.93583329012240113]
[369,3.69914E-4,1.104323E-5,1.734286E-3,{"$f":"IF(AND('Input - Output'!A19>=360,'Input - Output'!A19<=830),'Input - Output'!A19,831)","v":425},{"$f":"IF(E18<>\"\",'Input - Output'!B19,\"\")","v":4.6791664506120041},4.6791664506120059,0.21476999999999968,7.3000000000000287E-3,1.0390500999999972,0.93583329012240113]
[370,4.149E-4,1.239E-5,1.946E-3,{"$f":"IF(AND('Input - Output'!A20>=360,'Input - Output'!A20<=830),'Input - Output'!A20,831)","v":430},{"$f":"IF(E19<>\"\",'Input - Output'!B20,\"\")","v":4.6791664506120041},4.6791664506120059,0.28390000000000004,1.1599999999999999E-2,1.3856000000000037,0.93583329012240113]
[371,4.6415870000000002E-4,1.388641E-5,2.1777770000000001E-3,{"$f":"IF(AND('Input - Output'!A21>=360,'Input - Output'!A21<=830),'Input - Output'!A21,831)","v":435},{"$f":"IF(E20<>\"\",'Input - Output'!B21,\"\")","v":4.6791664506120041},4.6791664506120059,0.32849999999999957,1.6839999999999911E-2,1.6229599999999991,0.93583329012240113]
[372,5.1898600000000003E-4,1.555728E-5,2.4358090000000002E-3,{"$f":"IF(AND('Input - Output'!A22>=360,'Input - Output'!A22<=830),'Input - Output'!A22,831)","v":440},{"$f":"IF(E21<>\"\",'Input - Output'!B22,\"\")","v":4.6791664506120041},4.6791664506120059,0.34828000000000003,2.300000000000002E-2,1.7470600000000003,0.93583329012240113]
[373,5.8185400000000003E-4,1.7442959999999999E-5,2.7319530000000001E-3,{"$f":"IF(AND('Input - Output'!A23>=360,'Input - Output'!A23<=830),'Input - Output'!A23,831)","v":445},{"$f":"IF(E22<>\"\",'Input - Output'!B23,\"\")","v":4.6791664506120041},4.6791664506120059,0.34806000000000004,2.9800000000000049E-2,1.7826,0.93583329012240113]
[374,6.552347E-4,1.958375E-5,3.0780640000000001E-3,{"$f":"IF(AND('Input - Output'!A24>=360,'Input - Output'!A24<=830),'Input - Output'!A24,831)","v":450},{"$f":"IF(E23<>\"\",'Input - Output'!B24,\"\")","v":4.6791664506120041},4.6791664506120059,0.33620000000000005,3.8000000000000034E-2,1.7721100000000001,0.93583329012240113]
[375,7.4160000000000003E-4,2.2019999999999999E-5,3.4859999999999999E-3,{"$f":"IF(AND('Input - Output'!A25>=360,'Input - Output'!A25<=830),'Input - Output'!A25,831)","v":455},{"$f":"IF(E24<>\"\",'Input - Output'!B25,\"\")","v":4.6791664506120041},4.6791664506120059,0.31869999999999976,4.7999999999999821E-2,1.7440999999999995,0.93583329012240113]
[376,8.4502959999999995E-4,2.4839649999999999E-5,3.9752269999999996E-3,{"$f":"IF(AND('Input - Output'!A26>=360,'Input - Output'!A26<=830),'Input - Output'!A26,831)","v":460},{"$f":"IF(E25<>\"\",'Input - Output'!B26,\"\")","v":4.6791664506120041},4.6791664506120059,0.29080000000000039,5.9999999999999831E-2,1.6692,0.93583329012240113]
[377,9.645268E-4,2.8041259999999999E-5,4.5408799999999997E-3,{"$f":"IF(AND('Input - Output'!A27>=360,'Input - Output'!A27<=830),'Input - Output'!A27,831)","v":465},{"$f":"IF(E26<>\"\",'Input - Output'!B27,\"\")","v":4.6791664506120041},4.6791664506120059,0.2511000000000001,7.3899999999999855E-2,1.528100000000002,0.93583329012240113]
[378,1.094949E-3,3.1531040000000003E-5,5.1583200000000001E-3,{"$f":"IF(AND('Input - Output'!A28>=360,'Input - Output'!A28<=830),'Input - Output'!A28,831)","v":470},{"$f":"IF(E27<>\"\",'Input - Output'!B28,\"\")","v":4.6791664506120041},4.6791664506120059,0.19535999999999998,9.0980000000000061E-2,1.2876399999999997,0.93583329012240113]
[379,1.2311539999999999E-3,3.5215210000000002E-5,5.8029070000000004E-3,{"$f":"IF(AND('Input - Output'!A29>=360,'Input - Output'!A29<=830),'Input - Output'!A29,831)","v":475},{"$f":"IF(E28<>\"\",'Input - Output'!B29,\"\")","v":4.6791664506120041},4.6791664506120059,0.14210000000000012,0.11260000000000003,1.0418999999999983,0.93583329012240113]
[380,1.3680000000000001E-3,3.8999999999999999E-5,6.4500010000000003E-3,{"$f":"IF(AND('Input - Output'!A30>=360,'Input - Output'!A30<=830),'Input - Output'!A30,831)","v":480},{"$f":"IF(E29<>\"\",'Input - Output'!B30,\"\")","v":4.6791664506120041},4.6791664506120059,9.5640000000000391E-2,0.13901999999999992,0.81295009999999834,0.93583329012240113]
[381,1.50205E-3,4.28264E-5,7.0832159999999998E-3,{"$f":"IF(AND('Input - Output'!A31>=360,'Input - Output'!A31<=830),'Input - Output'!A31,831)","v":485},{"$f":"IF(E30<>\"\",'Input - Output'!B31,\"\")","v":4.6791664506120041},4.6791664506120059,5.7950010000000329E-2,0.16929999999999978,0.61619999999999919,0.93583329012240113]
[382,1.642328E-3,4.69146E-5,7.745488E-3,{"$f":"IF(AND('Input - Output'!A32>=360,'Input - Output'!A32<=830),'Input - Output'!A32,831)","v":490},{"$f":"IF(E31<>\"\",'Input - Output'!B32,\"\")","v":4.6791664506120041},4.6791664506120059,3.200999999999965E-2,0.20802000000000032,0.46518000000000015,0.93583329012240113]
[383,1.8023819999999999E-3,5.1589599999999998E-5,8.5011519999999997E-3,{"$f":"IF(AND('Input - Output'!A33>=360,'Input - Output'!A33<=830),'Input - Output'!A33,831)","v":495},{"$f":"IF(E32<>\"\",'Input - Output'!B33,\"\")","v":4.6791664506120041},4.6791664506120059,1.4699999999999935E-2,0.25860000000000039,0.35329999999999906,0.93583329012240113]
[384,1.9957569999999999E-3,5.7176399999999997E-5,9.4145440000000004E-3,{"$f":"IF(AND('Input - Output'!A34>=360,'Input - Output'!A34<=830),'Input - Output'!A34,831)","v":500},{"$f":"IF(E33<>\"\",'Input - Output'!B34,\"\")","v":4.6791664506120041},4.6791664506120059,4.9000000000000155E-3,0.3230000000000004,0.27200000000000024,0.93583329012240113]
[385,2.2360000000000001E-3,6.3999999999999997E-5,1.054999E-2,{"$f":"IF(AND('Input - Output'!A35>=360,'Input - Output'!A35<=830),'Input - Output'!A35,831)","v":505},{"$f":"IF(E34<>\"\",'Input - Output'!B35,\"\")","v":4.6791664506120041},4.6791664506120059,2.3999999999999577E-3,0.40730000000000111,0.21229999999999993,0.93583329012240113]
[386,2.5353849999999998E-3,7.2344209999999998E-5,1.19658E-2,{"$f":"IF(AND('Input - Output'!A36>=360,'Input - Output'!A36<=830),'Input - Output'!A36,831)","v":510},{"$f":"IF(E35<>\"\",'Input - Output'!B36,\"\")","v":4.6791664506120041},4.6791664506120059,9.300000000000086E-3,0.50299999999999834,0.1581999999999999,0.93583329012240113]
[387,2.8926030000000001E-3,8.2212239999999995E-5,1.3655870000000001E-2,{"$f":"IF(AND('Input - Output'!A37>=360,'Input - Output'!A37<=830),'Input - Output'!A37,831)","v":515},{"$f":"IF(E36<>\"\",'Input - Output'!B37,\"\")","v":4.6791664506120041},4.6791664506120059,2.9099999999999682E-2,0.60820000000000007,0.11169999999999991,0.93583329012240113]
[388,3.3008289999999999E-3,9.3508159999999998E-5,1.5588050000000001E-2,{"$f":"IF(AND('Input - Output'!A38>=360,'Input - Output'!A38<=830),'Input - Output'!A38,831)","v":520},{"$f":"IF(E37<>\"\",'Input - Output'!B38,\"\")","v":4.6791664506120041},4.6791664506120059,6.3270000000000159E-2,0.70999999999999908,7.8249989999999769E-2,0.93583329012240113]
[389,3.7532360000000001E-3,1.061361E-4,1.773015E-2,{"$f":"IF(AND('Input - Output'!A39>=360,'Input - Output'!A39<=830),'Input - Output'!A39,831)","v":525},{"$f":"IF(E38<>\"\",'Input - Output'!B39,\"\")","v":4.6791664506120041},4.6791664506120059,0.10960000000000036,0.79320000000000057,5.7250009999999962E-2,0.93583329012240113]
[390,4.2430000000000002E-3,1.2E-4,2.005001E-2,{"$f":"IF(AND('Input - Output'!A40>=360,'Input - Output'!A40<=830),'Input - Output'!A40,831)","v":530},{"$f":"IF(E39<>\"\",'Input - Output'!B40,\"\")","v":4.6791664506120041},4.6791664506120059,0.16549999999999976,0.8620000000000001,4.2159999999999975E-2,0.93583329012240113]
[391,4.7623889999999997E-3,1.3498399999999999E-4,2.2511360000000001E-2,{"$f":"IF(AND('Input - Output'!A41>=360,'Input - Output'!A41<=830),'Input - Output'!A41,831)","v":535},{"$f":"IF(E40<>\"\",'Input - Output'!B41,\"\")","v":4.6791664506120041},4.6791664506120059,0.22574989999999939,0.91485009999999933,2.9840000000000089E-2,0.93583329012240113]
[392,5.3300480000000004E-3,1.5149200000000001E-4,2.520288E-2,{"$f":"IF(AND('Input - Output'!A42>=360,'Input - Output'!A42<=830),'Input - Output'!A42,831)","v":540},{"$f":"IF(E41<>\"\",'Input - Output'!B42,\"\")","v":4.6791664506120041},4.6791664506120059,0.29039999999999999,0.95399999999999974,2.0299999999999985E-2,0.93583329012240113]
[393,5.9787119999999997E-3,1.7020800000000001E-4,2.8279720000000001E-2,{"$f":"IF(AND('Input - Output'!A43>=360,'Input - Output'!A43<=830),'Input - Output'!A43,831)","v":545},{"$f":"IF(E42<>\"\",'Input - Output'!B43,\"\")","v":4.6791664506120041},4.6791664506120059,0.35970000000000013,0.98029999999999995,1.3400000000000079E-2,0.93583329012240113]
[394,6.7411169999999996E-3,1.9181600000000001E-4,3.1897040000000002E-2,{"$f":"IF(AND('Input - Output'!A44>=360,'Input - Output'!A44<=830),'Input - Output'!A44,831)","v":550},{"$f":"IF(E43<>\"\",'Input - Output'!B44,\"\")","v":4.6791664506120041},4.6791664506120059,0.43344989999999939,0.99495009999999984,8.7499990000000083E-3,0.93583329012240113]
[395,7.6499999999999997E-3,2.1699999999999999E-4,3.6209999999999999E-2,{"$f":"IF(AND('Input - Output'!A45>=360,'Input - Output'!A45<=830),'Input - Output'!A45,831)","v":555},{"$f":"IF(E44<>\"\",'Input - Output'!B45,\"\")","v":4.6791664506120041},4.6791664506120059,0.51205009999999973,1,5.7499989999999779E-3,0.93583329012240113]
[396,8.7513729999999998E-3,2.4690669999999999E-4,4.1437710000000003E-2,{"$f":"IF(AND('Input - Output'!A46>=360,'Input - Output'!A46<=830),'Input - Output'!A46,831)","v":560},{"$f":"IF(E45<>\"\",'Input - Output'!B46,\"\")","v":4.6791664506120041},4.6791664506120059,0.59450000000000003,0.99500000000000011,3.9000000000000146E-3,0.93583329012240113]
[397,1.002888E-2,2.8123999999999998E-4,4.7503719999999999E-2,{"$f":"IF(AND('Input - Output'!A47>=360,'Input - Output'!A47<=830),'Input - Output'!A47,831)","v":565},{"$f":"IF(E46<>\"\",'Input - Output'!B47,\"\")","v":4.6791664506120041},4.6791664506120059,0.67839999999999989,0.97860000000000014,2.749999000000003E-3,0.93583329012240113]
[398,1.14217E-2,3.1851999999999998E-4,5.4119880000000002E-2,{"$f":"IF(AND('Input - Output'!A48>=360,'Input - Output'!A48<=830),'Input - Output'!A48,831)","v":570},{"$f":"IF(E47<>\"\",'Input - Output'!B48,\"\")","v":4.6791664506120041},4.6791664506120059,0.76210000000000022,0.95199999999999951,2.1000000000000046E-3,0.93583329012240113]
[399,1.286901E-2,3.5726669999999999E-4,6.0998030000000002E-2,{"$f":"IF(AND('Input - Output'!A49>=360,'Input - Output'!A49<=830),'Input - Output'!A49,831)","v":575},{"$f":"IF(E48<>\"\",'Input - Output'!B49,\"\")","v":4.6791664506120041},4.6791664506120059,0.84250000000000114,0.91539999999999999,1.7999999999999995E-3,0.93583329012240113]
[400,1.431E-2,3.9599999999999998E-4,6.7850010000000002E-2,{"$f":"IF(AND('Input - Output'!A50>=360,'Input - Output'!A50<=830),'Input - Output'!A50,831)","v":580},{"$f":"IF(E49<>\"\",'Input - Output'!B50,\"\")","v":4.6791664506120041},4.6791664506120059,0.91629999999999967,0.87000000000000011,1.6500009999999982E-3,0.93583329012240113]
[401,1.5704429999999998E-2,4.337147E-4,7.4486319999999995E-2,{"$f":"IF(AND('Input - Output'!A51>=360,'Input - Output'!A51<=830),'Input - Output'!A51,831)","v":585},{"$f":"IF(E50<>\"\",'Input - Output'!B51,\"\")","v":4.6791664506120041},4.6791664506120059,0.97860000000000014,0.81630000000000091,1.3999999999999985E-3,0.93583329012240113]
[402,1.714744E-2,4.73024E-4,8.1361559999999999E-2,{"$f":"IF(AND('Input - Output'!A52>=360,'Input - Output'!A52<=830),'Input - Output'!A52,831)","v":590},{"$f":"IF(E51<>\"\",'Input - Output'!B52,\"\")","v":4.6791664506120041},4.6791664506120059,1.0263,0.75699999999999967,1.1000000000000003E-3,0.93583329012240113]
[403,1.8781220000000001E-2,5.1787600000000001E-4,8.9153640000000006E-2,{"$f":"IF(AND('Input - Output'!A53>=360,'Input - Output'!A53<=830),'Input - Output'!A53,831)","v":595},{"$f":"IF(E52<>\"\",'Input - Output'!B53,\"\")","v":4.6791664506120041},4.6791664506120059,1.0566999999999998,0.69489999999999963,1.0000000000000009E-3,0.93583329012240113]
[404,2.0748010000000001E-2,5.7221870000000001E-4,9.854048E-2,{"$f":"IF(AND('Input - Output'!A54>=360,'Input - Output'!A54<=830),'Input - Output'!A54,831)","v":600},{"$f":"IF(E53<>\"\",'Input - Output'!B54,\"\")","v":4.6791664506120041},4.6791664506120059,1.0622000000000003,0.63099999999999934,8.000000000000021E-4,0.93583329012240113]
[405,2.3189999999999999E-2,6.4000000000000005E-4,0.11020000000000001,{"$f":"IF(AND('Input - Output'!A55>=360,'Input - Output'!A55<=830),'Input - Output'!A55,831)","v":605},{"$f":"IF(E54<>\"\",'Input - Output'!B55,\"\")","v":4.6791664506120041},4.6791664506120059,1.0456000000000003,0.56680000000000064,6.0000000000000331E-4,0.93583329012240113]
[406,2.6207359999999999E-2,7.2455999999999996E-4,0.1246133,{"$f":"IF(AND('Input - Output'!A56>=360,'Input - Output'!A56<=830),'Input - Output'!A56,831)","v":610},{"$f":"IF(E55<>\"\",'Input - Output'!B56,\"\")","v":4.6791664506120041},4.6791664506120059,1.0025999999999993,0.503000000000001,3.4000000000000002E-4,0.93583329012240113]
[407,2.978248E-2,8.2549999999999995E-4,0.14170170000000001,{"$f":"IF(AND('Input - Output'!A57>=360,'Input - Output'!A57<=830),'Input - Output'!A57,831)","v":615},{"$f":"IF(E56<>\"\",'Input - Output'!B57,\"\")","v":4.6791664506120041},4.6791664506120059,0.93839999999999968,0.44119999999999937,2.4000000000000063E-4,0.93583329012240113]
[408,3.3880920000000002E-2,9.4116000000000002E-4,0.16130349999999999,{"$f":"IF(AND('Input - Output'!A58>=360,'Input - Output'!A58<=830),'Input - Output'!A58,831)","v":620},{"$f":"IF(E57<>\"\",'Input - Output'!B58,\"\")","v":4.6791664506120041},4.6791664506120059,0.85444990000000054,0.38100000000000023,1.899999999999992E-4,0.93583329012240113]
[409,3.8468240000000001E-2,1.06988E-3,0.1832568,{"$f":"IF(AND('Input - Output'!A59>=360,'Input - Output'!A59<=830),'Input - Output'!A59,831)","v":625},{"$f":"IF(E58<>\"\",'Input - Output'!B59,\"\")","v":4.6791664506120041},4.6791664506120059,0.75139999999999851,0.32099999999999973,1.0000000000000113E-4,0.93583329012240113]
[410,4.351E-2,1.2099999999999999E-3,0.2074,{"$f":"IF(AND('Input - Output'!A60>=360,'Input - Output'!A60<=830),'Input - Output'!A60,831)","v":630},{"$f":"IF(E59<>\"\",'Input - Output'!B60,\"\")","v":4.6791664506120041},4.6791664506120059,0.64239999999999853,0.26499999999999968,4.9999990000000171E-5,0.93583329012240113]
[411,4.89956E-2,1.362091E-3,0.23369210000000001,{"$f":"IF(AND('Input - Output'!A61>=360,'Input - Output'!A61<=830),'Input - Output'!A61,831)","v":635},{"$f":"IF(E60<>\"\",'Input - Output'!B61,\"\")","v":4.6791664506120041},4.6791664506120059,0.54190000000000005,0.21699999999999964,2.9999999999999862E-5,0.93583329012240113]
[412,5.5022599999999998E-2,1.530752E-3,0.26261139999999999,{"$f":"IF(AND('Input - Output'!A62>=360,'Input - Output'!A62<=830),'Input - Output'!A62,831)","v":640},{"$f":"IF(E61<>\"\",'Input - Output'!B62,\"\")","v":4.6791664506120041},4.6791664506120059,0.44790000000000063,0.17499999999999893,2.0000000000000052E-5,0.93583329012240113]
[413,6.1718799999999997E-2,1.7203679999999999E-3,0.2947746,{"$f":"IF(AND('Input - Output'!A63>=360,'Input - Output'!A63<=830),'Input - Output'!A63,831)","v":645},{"$f":"IF(E62<>\"\",'Input - Output'!B63,\"\")","v":4.6791664506120041},4.6791664506120059,0.36079999999999934,0.13820000000000032,1.0000000000000243E-5,0.93583329012240113]
[414,6.9211999999999996E-2,1.9353230000000001E-3,0.3307985,{"$f":"IF(AND('Input - Output'!A64>=360,'Input - Output'!A64<=830),'Input - Output'!A64,831)","v":650},{"$f":"IF(E63<>\"\",'Input - Output'!B64,\"\")","v":4.6791664506120041},4.6791664506120059,0.28349999999999831,0.10700000000000021,0,0.93583329012240113]
[415,7.7630000000000005E-2,2.1800000000000001E-3,0.37130000000000002,{"$f":"IF(AND('Input - Output'!A65>=360,'Input - Output'!A65<=830),'Input - Output'!A65,831)","v":655},{"$f":"IF(E64<>\"\",'Input - Output'!B65,\"\")","v":4.6791664506120041},4.6791664506120059,0.218700000000001,8.1600000000000339E-2,0,0.93583329012240113]
[416,8.6958110000000005E-2,2.4548E-3,0.4162091,{"$f":"IF(AND('Input - Output'!A66>=360,'Input - Output'!A66<=830),'Input - Output'!A66,831)","v":660},{"$f":"IF(E65<>\"\",'Input - Output'!B66,\"\")","v":4.6791664506120041},4.6791664506120059,0.16490000000000027,6.0999999999999943E-2,0,0.93583329012240113]
[417,9.7176719999999994E-2,2.764E-3,0.46546419999999999,{"$f":"IF(AND('Input - Output'!A67>=360,'Input - Output'!A67<=830),'Input - Output'!A67,831)","v":665},{"$f":"IF(E66<>\"\",'Input - Output'!B67,\"\")","v":4.6791664506120041},4.6791664506120059,0.12120000000000086,4.4580000000000064E-2,0,0.93583329012240113]
[418,0.1084063,3.1178E-3,0.51969480000000001,{"$f":"IF(AND('Input - Output'!A68>=360,'Input - Output'!A68<=830),'Input - Output'!A68,831)","v":670},{"$f":"IF(E67<>\"\",'Input - Output'!B68,\"\")","v":4.6791664506120041},4.6791664506120059,8.7400000000000144E-2,3.2000000000000028E-2,0,0.93583329012240113]
[419,0.12076720000000001,3.5263999999999998E-3,0.57953030000000005,{"$f":"IF(AND('Input - Output'!A69>=360,'Input - Output'!A69<=830),'Input - Output'!A69,831)","v":675},{"$f":"IF(E68<>\"\",'Input - Output'!B69,\"\")","v":4.6791664506120041},4.6791664506120059,6.3600000000000101E-2,2.3199999999999887E-2,0,0.93583329012240113]
[420,0.13438,4.0000000000000001E-3,0.64559999999999995,{"$f":"IF(AND('Input - Output'!A70>=360,'Input - Output'!A70<=830),'Input - Output'!A70,831)","v":680},{"$f":"IF(E69<>\"\",'Input - Output'!B70,\"\")","v":4.6791664506120041},4.6791664506120059,4.6769999999999534E-2,1.7000000000000015E-2,0,0.93583329012240113]
[421,0.1493582,4.54624E-3,0.71848380000000001,{"$f":"IF(AND('Input - Output'!A71>=360,'Input - Output'!A71<=830),'Input - Output'!A71,831)","v":685},{"$f":"IF(E70<>\"\",'Input - Output'!B71,\"\")","v":4.6791664506120041},4.6791664506120059,3.2899999999999929E-2,1.1919999999999931E-2,0,0.93583329012240113]
[422,0.16539570000000001,5.1593200000000002E-3,0.79671329999999996,{"$f":"IF(AND('Input - Output'!A72>=360,'Input - Output'!A72<=830),'Input - Output'!A72,831)","v":690},{"$f":"IF(E71<>\"\",'Input - Output'!B72,\"\")","v":4.6791664506120041},4.6791664506120059,2.2699999999999942E-2,8.2099999999999951E-3,0,0.93583329012240113]
[423,0.18198310000000001,5.8292800000000001E-3,0.87784589999999996,{"$f":"IF(AND('Input - Output'!A73>=360,'Input - Output'!A73<=830),'Input - Output'!A73,831)","v":695},{"$f":"IF(E72<>\"\",'Input - Output'!B73,\"\")","v":4.6791664506120041},4.6791664506120059,1.5839999999999965E-2,5.7229999999999781E-3,0,0.93583329012240113]
[424,0.19861100000000001,6.5461599999999997E-3,0.95943900000000004,{"$f":"IF(AND('Input - Output'!A74>=360,'Input - Output'!A74<=830),'Input - Output'!A74,831)","v":700},{"$f":"IF(E73<>\"\",'Input - Output'!B74,\"\")","v":4.6791664506120041},4.6791664506120059,{"$f":"IF($E73<>0,TREND(OFFSET(B$9,MATCH($E73,$A$9:$A$480)-1,,2),OFFSET($A$9,MATCH($E73,$A$9:$A$480)-1,,2),$E73),0)","v":1.1359159999999924E-2},{"$f":"IF($E73<>0,TREND(OFFSET(C$9,MATCH($E73,$A$9:$A$480)-1,,2),OFFSET($A$9,MATCH($E73,$A$9:$A$480)-1,,2),$E73),0)","v":4.1020000000000223E-3},{"$f":"IF($E73<>0,TREND(OFFSET(D$9,MATCH($E73,$A$9:$A$480)-1,,2),OFFSET($A$9,MATCH($E73,$A$9:$A$480)-1,,2),$E73),0)","v":0},0.93583329012240113]
[425,0.21476999999999999,7.3000000000000001E-3,1.0390501000000001,{"$f":"IF(AND('Input - Output'!A75>=360,'Input - Output'!A75<=830),'Input - Output'!A75,831)","v":705},{"$f":"IF(E74<>\"\",'Input - Output'!B75,\"\")","v":4.6791664506120041},{"$f":"IF(F74<>0,F74/$F$6,0)","v":4.6791664506120059},8.1109160000000236E-3,2.9289999999999872E-3,0,{"$f":"G74/$K$7","v":0.93583329012240113}]
[426,0.2301868,8.0865069999999997E-3,1.1153673,{"$f":"IF(AND('Input - Output'!A76>=360,'Input - Output'!A76<=830),'Input - Output'!A76,831)","v":710},{"$f":"IF(E75<>\"\",'Input - Output'!B76,\"\")","v":4.6791664506120041},4.6791664506120059,5.7903460000000018E-3,2.0909999999999956E-3,0,0.93583329012240113]
[427,0.24487970000000001,8.9087200000000002E-3,1.1884971,{"$f":"IF(AND('Input - Output'!A77>=360,'Input - Output'!A77<=830),'Input - Output'!A77,831)","v":715},{"$f":"IF(E76<>\"\",'Input - Output'!B77,\"\")","v":4.6791664506120041},4.6791664506120059,4.1094570000000108E-3,1.4839999999999992E-3,0,0.93583329012240113]
[428,0.25877729999999999,9.7676800000000008E-3,1.2581233000000001,{"$f":"IF(AND('Input - Output'!A78>=360,'Input - Output'!A78<=830),'Input - Output'!A78,831)","v":720},{"$f":"IF(E77<>\"\",'Input - Output'!B78,\"\")","v":4.6791664506120041},4.6791664506120059,2.8993269999999793E-3,1.0469999999999993E-3,0,0.93583329012240113]
[429,0.27180789999999999,1.0664430000000001E-2,1.3239296,{"$f":"IF(AND('Input - Output'!A79>=360,'Input - Output'!A79<=830),'Input - Output'!A79,831)","v":725},{"$f":"IF(E78<>\"\",'Input - Output'!B79,\"\")","v":4.6791664506120041},4.6791664506120059,2.0491899999999924E-3,7.4000000000000454E-4,0,0.93583329012240113]
[430,0.28389999999999999,1.1599999999999999E-2,1.3855999999999999,{"$f":"IF(AND('Input - Output'!A80>=360,'Input - Output'!A80<=830),'Input - Output'!A80,831)","v":730},{"$f":"IF(E79<>\"\",'Input - Output'!B80,\"\")","v":4.6791664506120041},4.6791664506120059,1.4399709999999982E-3,5.200000000000031E-4,0,0.93583329012240113]
[431,0.29494379999999998,1.257317E-2,1.4426352,{"$f":"IF(AND('Input - Output'!A81>=360,'Input - Output'!A81<=830),'Input - Output'!A81,831)","v":735},{"$f":"IF(E80<>\"\",'Input - Output'!B81,\"\")","v":4.6791664506120041},4.6791664506120059,9.9994929999999704E-4,3.6109999999999615E-4,0,0.93583329012240113]
[432,0.30489650000000001,1.358272E-2,1.4948035,{"$f":"IF(AND('Input - Output'!A82>=360,'Input - Output'!A82<=830),'Input - Output'!A82,831)","v":740},{"$f":"IF(E81<>\"\",'Input - Output'!B82,\"\")","v":4.6791664506120041},4.6791664506120059,6.9007860000000476E-4,2.4919999999999977E-4,0,0.93583329012240113]
[433,0.31378729999999999,1.4629680000000001E-2,1.5421902999999999,{"$f":"IF(AND('Input - Output'!A83>=360,'Input - Output'!A83<=830),'Input - Output'!A83,831)","v":745},{"$f":"IF(E82<>\"\",'Input - Output'!B83,\"\")","v":4.6791664506120041},4.6791664506120059,4.7602130000000062E-4,1.7189999999999914E-4,0,0.93583329012240113]
[434,0.32164540000000003,1.5715090000000001E-2,1.5848807,{"$f":"IF(AND('Input - Output'!A84>=360,'Input - Output'!A84<=830),'Input - Output'!A84,831)","v":750},{"$f":"IF(E83<>\"\",'Input - Output'!B84,\"\")","v":4.6791664506120041},4.6791664506120059,3.3230110000000146E-4,1.2000000000000031E-4,0,0.93583329012240113]
[435,0.32850000000000001,1.6840000000000001E-2,1.62296,{"$f":"IF(AND('Input - Output'!A85>=360,'Input - Output'!A85<=830),'Input - Output'!A85,831)","v":755},{"$f":"IF(E84<>\"\",'Input - Output'!B85,\"\")","v":4.6791664506120041},4.6791664506120059,2.3482609999999834E-4,8.4799999999999459E-5,0,0.93583329012240113]
[436,0.33435130000000002,1.800736E-2,1.6564048,{"$f":"IF(AND('Input - Output'!A86>=360,'Input - Output'!A86<=830),'Input - Output'!A86,831)","v":760},{"$f":"IF(E85<>\"\",'Input - Output'!B86,\"\")","v":4.6791664506120041},4.6791664506120059,1.6615049999999833E-4,6.0000000000000157E-5,0,0.93583329012240113]
[437,0.33921010000000001,1.9214479999999999E-2,1.6852959000000001,{"$f":"IF(AND('Input - Output'!A87>=360,'Input - Output'!A87<=830),'Input - Output'!A87,831)","v":765},{"$f":"IF(E86<>\"\",'Input - Output'!B87,\"\")","v":4.6791664506120041},4.6791664506120059,1.1741299999999937E-4,4.239999999999973E-5,0,0.93583329012240113]
[438,0.34312130000000002,2.045392E-2,1.7098745,{"$f":"IF(AND('Input - Output'!A88>=360,'Input - Output'!A88<=830),'Input - Output'!A88,831)","v":770},{"$f":"IF(E87<>\"\",'Input - Output'!B88,\"\")","v":4.6791664506120041},4.6791664506120059,8.3075269999999951E-5,3.0000000000000079E-5,0,0.93583329012240113]
[439,0.34612959999999998,2.171824E-2,1.7303820999999999,{"$f":"IF(AND('Input - Output'!A89>=360,'Input - Output'!A89<=830),'Input - Output'!A89,831)","v":775},{"$f":"IF(E88<>\"\",'Input - Output'!B89,\"\")","v":4.6791664506120041},4.6791664506120059,5.870652000000004E-5,2.1200000000000082E-5,0,0.93583329012240113]
[440,0.34827999999999998,2.3E-2,1.7470600000000001,{"$f":"IF(AND('Input - Output'!A90>=360,'Input - Output'!A90<=830),'Input - Output'!A90,831)","v":780},{"$f":"IF(E89<>\"\",'Input - Output'!B90,\"\")","v":4.6791664506120041},4.6791664506120059,4.1509940000000051E-5,1.4990000000000099E-5,0,0.93583329012240113]
[441,0.34959990000000002,2.4294610000000001E-2,1.7600446000000001,{"$f":"IF(AND('Input - Output'!A91>=360,'Input - Output'!A91<=830),'Input - Output'!A91,831)","v":831},{"$f":"IF(E90<>\"\",'Input - Output'!B91,\"\")","v":0},0,0,0,0,0]
[442,0.3501474,2.5610239999999999E-2,1.7696232999999999,{"$f":"IF(AND('Input - Output'!A92>=360,'Input - Output'!A92<=830),'Input - Output'!A92,831)","v":831},{"$f":"IF(E91<>\"\",'Input - Output'!B92,\"\")","v":0},0,0,0,0,0]
[443,0.35001300000000002,2.6958570000000001E-2,1.7762636999999999,{"$f":"IF(AND('Input - Output'!A93>=360,'Input - Output'!A93<=830),'Input - Output'!A93,831)","v":831},{"$f":"IF(E92<>\"\",'Input - Output'!B93,\"\")","v":0},0,0,0,0,0]
[444,0.34928700000000001,2.8351250000000001E-2,1.7804333999999999,{"$f":"IF(AND('Input - Output'!A94>=360,'Input - Output'!A94<=830),'Input - Output'!A94,831)","v":831},{"$f":"IF(E93<>\"\",'Input - Output'!B94,\"\")","v":0},0,0,0,0,0]
[445,0.34805999999999998,2.98E-2,1.7826,{"$f":"IF(AND('Input - Output'!A95>=360,'Input - Output'!A95<=830),'Input - Output'!A95,831)","v":831},{"$f":"IF(E94<>\"\",'Input - Output'!B95,\"\")","v":0},0,0,0,0,0]
[446,0.3463733,3.1310829999999998E-2,1.7829682,{"$f":"IF(AND('Input - Output'!A96>=360,'Input - Output'!A96<=830),'Input - Output'!A96,831)","v":831},{"$f":"IF(E95<>\"\",'Input - Output'!B96,\"\")","v":0},0,0,0,0,0]
[447,0.34426240000000002,3.2883679999999998E-2,1.7816997999999999,{"$f":"IF(AND('Input - Output'!A97>=360,'Input - Output'!A97<=830),'Input - Output'!A97,831)","v":831},{"$f":"IF(E96<>\"\",'Input - Output'!B97,\"\")","v":0},0,0,0,0,0]
[448,0.34180880000000002,3.4521120000000002E-2,1.7791982,{"$f":"IF(AND('Input - Output'!A98>=360,'Input - Output'!A98<=830),'Input - Output'!A98,831)","v":831},{"$f":"IF(E97<>\"\",'Input - Output'!B98,\"\")","v":0},0,0,0,0,0]
[449,0.33909410000000001,3.6225710000000001E-2,1.7758670999999999,{"$f":"IF(AND('Input - Output'!A99>=360,'Input - Output'!A99<=830),'Input - Output'!A99,831)","v":831},{"$f":"IF(E98<>\"\",'Input - Output'!B99,\"\")","v":0},0,0,0,0,0]
[450,0.3362,3.7999999999999999E-2,1.7721100000000001,{"$f":"IF(AND('Input - Output'!A100>=360,'Input - Output'!A100<=830),'Input - Output'!A100,831)","v":831},{"$f":"IF(E99<>\"\",'Input - Output'!B100,\"\")","v":0},0,0,0,0,0]
[451,0.33319769999999999,3.9846670000000001E-2,1.7682589,{"$f":"IF(AND('Input - Output'!A101>=360,'Input - Output'!A101<=830),'Input - Output'!A101,831)","v":831},{"$f":"IF(E100<>\"\",'Input - Output'!B101,\"\")","v":0},0,0,0,0,0]
[452,0.33004109999999998,4.1768E-2,1.7640389999999999,{"$f":"IF(AND('Input - Output'!A102>=360,'Input - Output'!A102<=830),'Input - Output'!A102,831)","v":831},{"$f":"IF(E101<>\"\",'Input - Output'!B102,\"\")","v":0},0,0,0,0,0]
[453,0.32663569999999997,4.3765999999999999E-2,1.7589437999999999,{"$f":"IF(AND('Input - Output'!A103>=360,'Input - Output'!A103<=830),'Input - Output'!A103,831)","v":831},{"$f":"IF(E102<>\"\",'Input - Output'!B103,\"\")","v":0},0,0,0,0,0]
[454,0.32288679999999997,4.5842670000000002E-2,1.7524663,{"$f":"IF(AND('Input - Output'!A104>=360,'Input - Output'!A104<=830),'Input - Output'!A104,831)","v":831},{"$f":"IF(E103<>\"\",'Input - Output'!B104,\"\")","v":0},0,0,0,0,0]
[455,0.31869999999999998,4.8000000000000001E-2,1.7441,{"$f":"IF(AND('Input - Output'!A105>=360,'Input - Output'!A105<=830),'Input - Output'!A105,831)","v":831},{"$f":"IF(E104<>\"\",'Input - Output'!B105,\"\")","v":0},0,0,0,0,0]
[456,0.3140251,5.0243679999999999E-2,1.7335594999999999,{"$f":"IF(AND('Input - Output'!A106>=360,'Input - Output'!A106<=830),'Input - Output'!A106,831)","v":831},{"$f":"IF(E105<>\"\",'Input - Output'!B106,\"\")","v":0},0,0,0,0,0]
[457,0.30888399999999999,5.2573040000000001E-2,1.7208581000000001,{"$f":"IF(AND('Input - Output'!A107>=360,'Input - Output'!A107<=830),'Input - Output'!A107,831)","v":831},{"$f":"IF(E106<>\"\",'Input - Output'!B107,\"\")","v":0},0,0,0,0,0]
[458,0.30329040000000002,5.4980559999999998E-2,1.7059369,{"$f":"IF(AND('Input - Output'!A108>=360,'Input - Output'!A108<=830),'Input - Output'!A108,831)","v":831},{"$f":"IF(E107<>\"\",'Input - Output'!B108,\"\")","v":0},0,0,0,0,0]
[459,0.29725790000000002,5.7458719999999998E-2,1.6887372,{"$f":"IF(AND('Input - Output'!A109>=360,'Input - Output'!A109<=830),'Input - Output'!A109,831)","v":831},{"$f":"IF(E108<>\"\",'Input - Output'!B109,\"\")","v":0},0,0,0,0,0]
[460,0.2908,0.06,1.6692,{"$f":"IF(AND('Input - Output'!A110>=360,'Input - Output'!A110<=830),'Input - Output'!A110,831)","v":831},{"$f":"IF(E109<>\"\",'Input - Output'!B110,\"\")","v":0},0,0,0,0,0]
[461,0.2839701,6.2601970000000007E-2,1.6475287000000001,{"$f":"IF(AND('Input - Output'!A111>=360,'Input - Output'!A111<=830),'Input - Output'!A111,831)","v":831},{"$f":"IF(E110<>\"\",'Input - Output'!B111,\"\")","v":0},0,0,0,0,0]
[462,0.27672140000000001,6.5277520000000006E-2,1.6234127,{"$f":"IF(AND('Input - Output'!A112>=360,'Input - Output'!A112<=830),'Input - Output'!A112,831)","v":831},{"$f":"IF(E111<>\"\",'Input - Output'!B112,\"\")","v":0},0,0,0,0,0]
[463,0.26891779999999998,6.8042080000000005E-2,1.5960223,{"$f":"IF(AND('Input - Output'!A113>=360,'Input - Output'!A113<=830),'Input - Output'!A113,831)","v":831},{"$f":"IF(E112<>\"\",'Input - Output'!B113,\"\")","v":0},0,0,0,0,0]
[464,0.26042270000000001,7.0911089999999996E-2,1.5645279999999999,{"$f":"IF(AND('Input - Output'!A114>=360,'Input - Output'!A114<=830),'Input - Output'!A114,831)","v":831},{"$f":"IF(E113<>\"\",'Input - Output'!B114,\"\")","v":0},0,0,0,0,0]
[465,0.25109999999999999,7.3899999999999993E-2,1.5281,{"$f":"IF(AND('Input - Output'!A115>=360,'Input - Output'!A115<=830),'Input - Output'!A115,831)","v":831},{"$f":"IF(E114<>\"\",'Input - Output'!B115,\"\")","v":0},0,0,0,0,0]
[466,0.24084749999999999,7.7016000000000001E-2,1.4861114,{"$f":"IF(AND('Input - Output'!A116>=360,'Input - Output'!A116<=830),'Input - Output'!A116,831)","v":831},{"$f":"IF(E115<>\"\",'Input - Output'!B116,\"\")","v":0},0,0,0,0,0]
[467,0.22985120000000001,8.0266400000000002E-2,1.4395214999999999,{"$f":"IF(AND('Input - Output'!A117>=360,'Input - Output'!A117<=830),'Input - Output'!A117,831)","v":831},{"$f":"IF(E116<>\"\",'Input - Output'!B117,\"\")","v":0},0,0,0,0,0]
[468,0.2184072,8.36668E-2,1.3898798999999999,{"$f":"IF(AND('Input - Output'!A118>=360,'Input - Output'!A118<=830),'Input - Output'!A118,831)","v":831},{"$f":"IF(E117<>\"\",'Input - Output'!B118,\"\")","v":0},0,0,0,0,0]
[469,0.20681150000000001,8.7232799999999999E-2,1.3387362,{"$f":"IF(AND('Input - Output'!A119>=360,'Input - Output'!A119<=830),'Input - Output'!A119,831)","v":831},{"$f":"IF(E118<>\"\",'Input - Output'!B119,\"\")","v":0},0,0,0,0,0]
[470,0.19536000000000001,9.0980000000000005E-2,1.2876399999999999,{"$f":"IF(AND('Input - Output'!A120>=360,'Input - Output'!A120<=830),'Input - Output'!A120,831)","v":831},{"$f":"IF(E119<>\"\",'Input - Output'!B120,\"\")","v":0},0,0,0,0,0]
[471,0.18421360000000001,9.4917550000000003E-2,1.2374223,{"$f":"IF(AND('Input - Output'!A121>=360,'Input - Output'!A121<=830),'Input - Output'!A121,831)","v":831},{"$f":"IF(E120<>\"\",'Input - Output'!B121,\"\")","v":0},0,0,0,0,0]
[472,0.17332729999999999,9.9045839999999996E-2,1.1878242999999999,{"$f":"IF(AND('Input - Output'!A122>=360,'Input - Output'!A122<=830),'Input - Output'!A122,831)","v":831},{"$f":"IF(E121<>\"\",'Input - Output'!B122,\"\")","v":0},0,0,0,0,0]
[473,0.1626881,0.1033674,1.1387611,{"$f":"IF(AND('Input - Output'!A123>=360,'Input - Output'!A123<=830),'Input - Output'!A123,831)","v":831},{"$f":"IF(E122<>\"\",'Input - Output'!B123,\"\")","v":0},0,0,0,0,0]
[474,0.15228330000000001,0.1078846,1.0901479999999999,{"$f":"IF(AND('Input - Output'!A124>=360,'Input - Output'!A124<=830),'Input - Output'!A124,831)","v":831},{"$f":"IF(E123<>\"\",'Input - Output'!B124,\"\")","v":0},0,0,0,0,0]
[475,0.1421,0.11260000000000001,1.0419,{"$f":"IF(AND('Input - Output'!A125>=360,'Input - Output'!A125<=830),'Input - Output'!A125,831)","v":831},{"$f":"IF(E124<>\"\",'Input - Output'!B125,\"\")","v":0},0,0,0,0,0]
[476,0.13217860000000001,0.117532,0.99419760000000001,{"$f":"IF(AND('Input - Output'!A126>=360,'Input - Output'!A126<=830),'Input - Output'!A126,831)","v":831},{"$f":"IF(E125<>\"\",'Input - Output'!B126,\"\")","v":0},0,0,0,0,0]
[477,0.1225696,0.1226744,0.9473473,{"$f":"IF(AND('Input - Output'!A127>=360,'Input - Output'!A127<=830),'Input - Output'!A127,831)","v":831},{"$f":"IF(E126<>\"\",'Input - Output'!B127,\"\")","v":0},0,0,0,0,0]
[478,0.11327520000000001,0.12799279999999999,0.90145310000000001,{"$f":"IF(AND('Input - Output'!A128>=360,'Input - Output'!A128<=830),'Input - Output'!A128,831)","v":831},{"$f":"IF(E127<>\"\",'Input - Output'!B128,\"\")","v":0},0,0,0,0,0]
[479,0.1042979,0.13345280000000001,0.85661929999999997,{"$f":"IF(AND('Input - Output'!A129>=360,'Input - Output'!A129<=830),'Input - Output'!A129,831)","v":831},{"$f":"IF(E128<>\"\",'Input - Output'!B129,\"\")","v":0},0,0,0,0,0]
[480,9.5640000000000003E-2,0.13902,0.81295010000000001,{"$f":"IF(AND('Input - Output'!A130>=360,'Input - Output'!A130<=830),'Input - Output'!A130,831)","v":831},{"$f":"IF(E129<>\"\",'Input - Output'!B130,\"\")","v":0},0,0,0,0,0]
[481,8.7299550000000004E-2,0.14467640000000001,0.77051729999999996,{"$f":"IF(AND('Input - Output'!A131>=360,'Input - Output'!A131<=830),'Input - Output'!A131,831)","v":831},{"$f":"IF(E130<>\"\",'Input - Output'!B131,\"\")","v":0},0,0,0,0,0]
[482,7.9308039999999996E-2,0.1504693,0.7294448,{"$f":"IF(AND('Input - Output'!A132>=360,'Input - Output'!A132<=830),'Input - Output'!A132,831)","v":831},{"$f":"IF(E131<>\"\",'Input - Output'!B132,\"\")","v":0},0,0,0,0,0]
[483,7.1717760000000005E-2,0.15646189999999999,0.68991360000000002,{"$f":"IF(AND('Input - Output'!A133>=360,'Input - Output'!A133<=830),'Input - Output'!A133,831)","v":831},{"$f":"IF(E132<>\"\",'Input - Output'!B133,\"\")","v":0},0,0,0,0,0]
[484,6.4580990000000005E-2,0.16271769999999999,0.65210489999999999,{"$f":"IF(AND('Input - Output'!A134>=360,'Input - Output'!A134<=830),'Input - Output'!A134,831)","v":831},{"$f":"IF(E133<>\"\",'Input - Output'!B134,\"\")","v":0},0,0,0,0,0]
[485,5.7950010000000003E-2,0.16930000000000001,0.61619999999999997,{"$f":"IF(AND('Input - Output'!A135>=360,'Input - Output'!A135<=830),'Input - Output'!A135,831)","v":831},{"$f":"IF(E134<>\"\",'Input - Output'!B135,\"\")","v":0},0,0,0,0,0]
[486,5.1862110000000003E-2,0.17624310000000001,0.58232859999999997,{"$f":"IF(AND('Input - Output'!A136>=360,'Input - Output'!A136<=830),'Input - Output'!A136,831)","v":831},{"$f":"IF(E135<>\"\",'Input - Output'!B136,\"\")","v":0},0,0,0,0,0]
[487,4.628152E-2,0.1835581,0.55041620000000002,{"$f":"IF(AND('Input - Output'!A137>=360,'Input - Output'!A137<=830),'Input - Output'!A137,831)","v":831},{"$f":"IF(E136<>\"\",'Input - Output'!B137,\"\")","v":0},0,0,0,0,0]
[488,4.1150880000000001E-2,0.19127350000000001,0.52033759999999996,{"$f":"IF(AND('Input - Output'!A138>=360,'Input - Output'!A138<=830),'Input - Output'!A138,831)","v":831},{"$f":"IF(E137<>\"\",'Input - Output'!B138,\"\")","v":0},0,{"$f":"IF($E137<>0,TREND(OFFSET(B$9,MATCH($E137,$A$9:$A$480)-1,,2),OFFSET($A$9,MATCH($E137,$A$9:$A$480)-1,,2),$E137),0)","v":0},{"$f":"IF($E137<>0,TREND(OFFSET(C$9,MATCH($E137,$A$9:$A$480)-1,,2),OFFSET($A$9,MATCH($E137,$A$9:$A$480)-1,,2),$E137),0)","v":0},{"$f":"IF($E137<>0,TREND(OFFSET(D$9,MATCH($E137,$A$9:$A$480)-1,,2),OFFSET($A$9,MATCH($E137,$A$9:$A$480)-1,,2),$E137),0)","v":0},0]
[489,3.641283E-2,0.19941800000000001,0.4919673,{"$f":"IF(AND('Input - Output'!A139>=360,'Input - Output'!A139<=830),'Input - Output'!A139,831)","v":831},{"$f":"IF(E138<>\"\",'Input - Output'!B139,\"\")","v":0},{"$f":"IF(F138<>0,F138/$F$6,0)","v":0},0,0,0,{"$f":"G138/$K$7","v":0}]
[490,3.2009999999999997E-2,0.20802000000000001,0.46517999999999998,{"$f":"IF(AND('Input - Output'!A140>=360,'Input - Output'!A140<=830),'Input - Output'!A140,831)","v":831},{"$f":"IF(E139<>\"\",'Input - Output'!B140,\"\")","v":0},0,0,0,0,0]
[491,2.79172E-2,0.2171199,0.4399246,{"$f":"IF(AND('Input - Output'!A141>=360,'Input - Output'!A141<=830),'Input - Output'!A141,831)","v":831},{"$f":"IF(E140<>\"\",'Input - Output'!B141,\"\")","v":0},0,0,0,0,0]
[492,2.41444E-2,0.22673450000000001,0.41618359999999999,{"$f":"IF(AND('Input - Output'!A142>=360,'Input - Output'!A142<=830),'Input - Output'!A142,831)","v":831},{"$f":"IF(E141<>\"\",'Input - Output'!B142,\"\")","v":0},0,0,0,0,0]
[493,2.0687000000000001E-2,0.23685709999999999,0.39388220000000002,{"$f":"IF(AND('Input - Output'!A143>=360,'Input - Output'!A143<=830),'Input - Output'!A143,831)","v":831},{"$f":"IF(E142<>\"\",'Input - Output'!B143,\"\")","v":0},0,0,0,0,0]
[494,1.7540400000000001E-2,0.24748120000000001,0.3729459,{"$f":"IF(AND('Input - Output'!A144>=360,'Input - Output'!A144<=830),'Input - Output'!A144,831)","v":831},{"$f":"IF(E143<>\"\",'Input - Output'!B144,\"\")","v":0},0,0,0,0,0]
[495,1.47E-2,0.2586,0.3533,{"$f":"IF(AND('Input - Output'!A145>=360,'Input - Output'!A145<=830),'Input - Output'!A145,831)","v":831},{"$f":"IF(E144<>\"\",'Input - Output'!B145,\"\")","v":0},0,0,0,0,0]
[496,1.216179E-2,0.27018490000000001,0.33485779999999998,{"$f":"IF(AND('Input - Output'!A146>=360,'Input - Output'!A146<=830),'Input - Output'!A146,831)","v":831},{"$f":"IF(E145<>\"\",'Input - Output'!B146,\"\")","v":0},0,0,0,0,0]
[497,9.9199600000000002E-3,0.28229389999999999,0.3175521,{"$f":"IF(AND('Input - Output'!A147>=360,'Input - Output'!A147<=830),'Input - Output'!A147,831)","v":831},{"$f":"IF(E146<>\"\",'Input - Output'!B147,\"\")","v":0},0,0,0,0,0]
[498,7.9672400000000004E-3,0.29505049999999999,0.30133749999999998,{"$f":"IF(AND('Input - Output'!A148>=360,'Input - Output'!A148<=830),'Input - Output'!A148,831)","v":831},{"$f":"IF(E147<>\"\",'Input - Output'!B148,\"\")","v":0},0,0,0,0,0]
[499,6.2963460000000004E-3,0.30857800000000002,0.2861686,{"$f":"IF(AND('Input - Output'!A149>=360,'Input - Output'!A149<=830),'Input - Output'!A149,831)","v":831},{"$f":"IF(E148<>\"\",'Input - Output'!B149,\"\")","v":0},0,0,0,0,0]
[500,4.8999999999999998E-3,0.32300000000000001,0.27200000000000002,{"$f":"IF(AND('Input - Output'!A150>=360,'Input - Output'!A150<=830),'Input - Output'!A150,831)","v":831},{"$f":"IF(E149<>\"\",'Input - Output'!B150,\"\")","v":0},0,0,0,0,0]
[501,3.777173E-3,0.33840209999999998,0.25881710000000002,{"$f":"IF(AND('Input - Output'!A151>=360,'Input - Output'!A151<=830),'Input - Output'!A151,831)","v":831},{"$f":"IF(E150<>\"\",'Input - Output'!B151,\"\")","v":0},0,0,0,0,0]
[502,2.94532E-3,0.3546858,0.2464838,{"$f":"IF(AND('Input - Output'!A152>=360,'Input - Output'!A152<=830),'Input - Output'!A152,831)","v":831},{"$f":"IF(E151<>\"\",'Input - Output'!B152,\"\")","v":0},0,0,0,0,0]
[503,2.4248799999999999E-3,0.37169859999999999,0.2347718,{"$f":"IF(AND('Input - Output'!A153>=360,'Input - Output'!A153<=830),'Input - Output'!A153,831)","v":831},{"$f":"IF(E152<>\"\",'Input - Output'!B153,\"\")","v":0},0,0,0,0,0]
[504,2.2362929999999999E-3,0.38928750000000001,0.22345329999999999,{"$f":"IF(AND('Input - Output'!A154>=360,'Input - Output'!A154<=830),'Input - Output'!A154,831)","v":831},{"$f":"IF(E153<>\"\",'Input - Output'!B154,\"\")","v":0},0,0,0,0,0]
[505,2.3999999999999998E-3,0.4073,0.21229999999999999,{"$f":"IF(AND('Input - Output'!A155>=360,'Input - Output'!A155<=830),'Input - Output'!A155,831)","v":831},{"$f":"IF(E154<>\"\",'Input - Output'!B155,\"\")","v":0},0,0,0,0,0]
[506,2.92552E-3,0.42562990000000001,0.20116919999999999,{"$f":"IF(AND('Input - Output'!A156>=360,'Input - Output'!A156<=830),'Input - Output'!A156,831)","v":831},{"$f":"IF(E155<>\"\",'Input - Output'!B156,\"\")","v":0},0,0,0,0,0]
[507,3.8365600000000001E-3,0.44430960000000003,0.1901196,{"$f":"IF(AND('Input - Output'!A157>=360,'Input - Output'!A157<=830),'Input - Output'!A157,831)","v":831},{"$f":"IF(E156<>\"\",'Input - Output'!B157,\"\")","v":0},0,0,0,0,0]
[508,5.17484E-3,0.46339439999999998,0.17922540000000001,{"$f":"IF(AND('Input - Output'!A158>=360,'Input - Output'!A158<=830),'Input - Output'!A158,831)","v":831},{"$f":"IF(E157<>\"\",'Input - Output'!B158,\"\")","v":0},0,0,0,0,0]
[509,6.9820799999999999E-3,0.48293950000000002,0.16856080000000001,{"$f":"IF(AND('Input - Output'!A159>=360,'Input - Output'!A159<=830),'Input - Output'!A159,831)","v":831},{"$f":"IF(E158<>\"\",'Input - Output'!B159,\"\")","v":0},0,0,0,0,0]
[510,9.2999999999999992E-3,0.503,0.15820000000000001,{"$f":"IF(AND('Input - Output'!A160>=360,'Input - Output'!A160<=830),'Input - Output'!A160,831)","v":831},{"$f":"IF(E159<>\"\",'Input - Output'!B160,\"\")","v":0},0,0,0,0,0]
[511,1.2149490000000001E-2,0.52356930000000002,0.1481383,{"$f":"IF(AND('Input - Output'!A161>=360,'Input - Output'!A161<=830),'Input - Output'!A161,831)","v":831},{"$f":"IF(E160<>\"\",'Input - Output'!B161,\"\")","v":0},0,0,0,0,0]
[512,1.553588E-2,0.544512,0.13837579999999999,{"$f":"IF(AND('Input - Output'!A162>=360,'Input - Output'!A162<=830),'Input - Output'!A162,831)","v":831},{"$f":"IF(E161<>\"\",'Input - Output'!B162,\"\")","v":0},0,0,0,0,0]
[513,1.9477520000000002E-2,0.56569000000000003,0.1289942,{"$f":"IF(AND('Input - Output'!A163>=360,'Input - Output'!A163<=830),'Input - Output'!A163,831)","v":831},{"$f":"IF(E162<>\"\",'Input - Output'!B163,\"\")","v":0},0,0,0,0,0]
[514,2.399277E-2,0.58696530000000002,0.1200751,{"$f":"IF(AND('Input - Output'!A164>=360,'Input - Output'!A164<=830),'Input - Output'!A164,831)","v":831},{"$f":"IF(E163<>\"\",'Input - Output'!B164,\"\")","v":0},0,0,0,0,0]
[515,2.9100000000000001E-2,0.60819999999999996,0.11169999999999999,{"$f":"IF(AND('Input - Output'!A165>=360,'Input - Output'!A165<=830),'Input - Output'!A165,831)","v":831},{"$f":"IF(E164<>\"\",'Input - Output'!B165,\"\")","v":0},0,0,0,0,0]
[516,3.4814850000000001E-2,0.62934559999999995,0.10390480000000001,{"$f":"IF(AND('Input - Output'!A166>=360,'Input - Output'!A166<=830),'Input - Output'!A166,831)","v":831},{"$f":"IF(E165<>\"\",'Input - Output'!B166,\"\")","v":0},0,0,0,0,0]
[517,4.1120160000000003E-2,0.65030679999999996,9.666748E-2,{"$f":"IF(AND('Input - Output'!A167>=360,'Input - Output'!A167<=830),'Input - Output'!A167,831)","v":831},{"$f":"IF(E166<>\"\",'Input - Output'!B167,\"\")","v":0},0,0,0,0,0]
[518,4.798504E-2,0.6708752,8.9982720000000002E-2,{"$f":"IF(AND('Input - Output'!A168>=360,'Input - Output'!A168<=830),'Input - Output'!A168,831)","v":831},{"$f":"IF(E167<>\"\",'Input - Output'!B168,\"\")","v":0},0,0,0,0,0]
[519,5.5378610000000002E-2,0.69084239999999997,8.3845310000000006E-2,{"$f":"IF(AND('Input - Output'!A169>=360,'Input - Output'!A169<=830),'Input - Output'!A169,831)","v":831},{"$f":"IF(E168<>\"\",'Input - Output'!B169,\"\")","v":0},0,0,0,0,0]
[520,6.3270000000000007E-2,0.71,7.8249990000000005E-2,{"$f":"IF(AND('Input - Output'!A170>=360,'Input - Output'!A170<=830),'Input - Output'!A170,831)","v":831},{"$f":"IF(E169<>\"\",'Input - Output'!B170,\"\")","v":0},0,0,0,0,0]
[521,7.1635009999999999E-2,0.72818519999999998,7.3208990000000002E-2,{"$f":"IF(AND('Input - Output'!A171>=360,'Input - Output'!A171<=830),'Input - Output'!A171,831)","v":831},{"$f":"IF(E170<>\"\",'Input - Output'!B171,\"\")","v":0},0,0,0,0,0]
[522,8.0462240000000004E-2,0.7454636,6.8678160000000002E-2,{"$f":"IF(AND('Input - Output'!A172>=360,'Input - Output'!A172<=830),'Input - Output'!A172,831)","v":831},{"$f":"IF(E171<>\"\",'Input - Output'!B172,\"\")","v":0},0,0,0,0,0]
[523,8.9739959999999994E-2,0.76196940000000002,6.4567840000000001E-2,{"$f":"IF(AND('Input - Output'!A173>=360,'Input - Output'!A173<=830),'Input - Output'!A173,831)","v":831},{"$f":"IF(E172<>\"\",'Input - Output'!B173,\"\")","v":0},0,0,0,0,0]
[524,9.9456450000000002E-2,0.77783679999999999,6.0788349999999998E-2,{"$f":"IF(AND('Input - Output'!A174>=360,'Input - Output'!A174<=830),'Input - Output'!A174,831)","v":831},{"$f":"IF(E173<>\"\",'Input - Output'!B174,\"\")","v":0},0,0,0,0,0]
[525,0.1096,0.79320000000000002,5.7250009999999997E-2,{"$f":"IF(AND('Input - Output'!A175>=360,'Input - Output'!A175<=830),'Input - Output'!A175,831)","v":831},{"$f":"IF(E174<>\"\",'Input - Output'!B175,\"\")","v":0},0,0,0,0,0]
[526,0.12016739999999999,0.80811040000000001,5.3904349999999997E-2,{"$f":"IF(AND('Input - Output'!A176>=360,'Input - Output'!A176<=830),'Input - Output'!A176,831)","v":831},{"$f":"IF(E175<>\"\",'Input - Output'!B176,\"\")","v":0},0,0,0,0,0]
[527,0.13111449999999999,0.82249620000000001,5.0746640000000003E-2,{"$f":"IF(AND('Input - Output'!A177>=360,'Input - Output'!A177<=830),'Input - Output'!A177,831)","v":831},{"$f":"IF(E176<>\"\",'Input - Output'!B177,\"\")","v":0},0,0,0,0,0]
[528,0.14236789999999999,0.83630680000000002,4.7752759999999998E-2,{"$f":"IF(AND('Input - Output'!A178>=360,'Input - Output'!A178<=830),'Input - Output'!A178,831)","v":831},{"$f":"IF(E177<>\"\",'Input - Output'!B178,\"\")","v":0},0,0,0,0,0]
[529,0.1538542,0.84949160000000001,4.4898590000000002E-2,{"$f":"IF(AND('Input - Output'!A179>=360,'Input - Output'!A179<=830),'Input - Output'!A179,831)","v":831},{"$f":"IF(E178<>\"\",'Input - Output'!B179,\"\")","v":0},0,0,0,0,0]
[530,0.16550000000000001,0.86199999999999999,4.2160000000000003E-2,{"$f":"IF(AND('Input - Output'!A180>=360,'Input - Output'!A180<=830),'Input - Output'!A180,831)","v":831},{"$f":"IF(E179<>\"\",'Input - Output'!B180,\"\")","v":0},0,0,0,0,0]
[531,0.1772571,0.8738108,3.9507279999999999E-2,{"$f":"IF(AND('Input - Output'!A181>=360,'Input - Output'!A181<=830),'Input - Output'!A181,831)","v":831},{"$f":"IF(E180<>\"\",'Input - Output'!B181,\"\")","v":0},0,0,0,0,0]
[532,0.18914,0.88496240000000004,3.6935639999999999E-2,{"$f":"IF(AND('Input - Output'!A182>=360,'Input - Output'!A182<=830),'Input - Output'!A182,831)","v":831},{"$f":"IF(E181<>\"\",'Input - Output'!B182,\"\")","v":0},0,0,0,0,0]
[533,0.2011694,0.8954936,3.445836E-2,{"$f":"IF(AND('Input - Output'!A183>=360,'Input - Output'!A183<=830),'Input - Output'!A183,831)","v":831},{"$f":"IF(E182<>\"\",'Input - Output'!B183,\"\")","v":0},0,0,0,0,0]
[534,0.21336579999999999,0.9054432,3.2088720000000001E-2,{"$f":"IF(AND('Input - Output'!A184>=360,'Input - Output'!A184<=830),'Input - Output'!A184,831)","v":831},{"$f":"IF(E183<>\"\",'Input - Output'!B184,\"\")","v":0},0,0,0,0,0]
[535,0.2257499,0.9148501,2.9839999999999998E-2,{"$f":"IF(AND('Input - Output'!A185>=360,'Input - Output'!A185<=830),'Input - Output'!A185,831)","v":831},{"$f":"IF(E184<>\"\",'Input - Output'!B185,\"\")","v":0},0,0,0,0,0]
[536,0.2383209,0.92373479999999997,2.771181E-2,{"$f":"IF(AND('Input - Output'!A186>=360,'Input - Output'!A186<=830),'Input - Output'!A186,831)","v":831},{"$f":"IF(E185<>\"\",'Input - Output'!B186,\"\")","v":0},0,0,0,0,0]
[537,0.25106679999999998,0.93209240000000004,2.5694439999999999E-2,{"$f":"IF(AND('Input - Output'!A187>=360,'Input - Output'!A187<=830),'Input - Output'!A187,831)","v":831},{"$f":"IF(E186<>\"\",'Input - Output'!B187,\"\")","v":0},0,0,0,0,0]
[538,0.26399220000000001,0.93992260000000005,2.3787160000000002E-2,{"$f":"IF(AND('Input - Output'!A188>=360,'Input - Output'!A188<=830),'Input - Output'!A188,831)","v":831},{"$f":"IF(E187<>\"\",'Input - Output'!B188,\"\")","v":0},0,0,0,0,0]
[539,0.27710170000000001,0.94722519999999999,2.1989249999999998E-2,{"$f":"IF(AND('Input - Output'!A189>=360,'Input - Output'!A189<=830),'Input - Output'!A189,831)","v":831},{"$f":"IF(E188<>\"\",'Input - Output'!B189,\"\")","v":0},0,0,0,0,0]
[540,0.29039999999999999,0.95399999999999996,2.0299999999999999E-2,{"$f":"IF(AND('Input - Output'!A190>=360,'Input - Output'!A190<=830),'Input - Output'!A190,831)","v":831},{"$f":"IF(E189<>\"\",'Input - Output'!B190,\"\")","v":0},0,0,0,0,0]
[541,0.30389119999999997,0.96025609999999995,1.871805E-2,{"$f":"IF(AND('Input - Output'!A191>=360,'Input - Output'!A191<=830),'Input - Output'!A191,831)","v":831},{"$f":"IF(E190<>\"\",'Input - Output'!B191,\"\")","v":0},0,0,0,0,0]
[542,0.31757259999999998,0.96600739999999996,1.724036E-2,{"$f":"IF(AND('Input - Output'!A192>=360,'Input - Output'!A192<=830),'Input - Output'!A192,831)","v":831},{"$f":"IF(E191<>\"\",'Input - Output'!B192,\"\")","v":0},0,0,0,0,0]
[543,0.33143840000000002,0.97126060000000003,1.5863639999999998E-2,{"$f":"IF(AND('Input - Output'!A193>=360,'Input - Output'!A193<=830),'Input - Output'!A193,831)","v":831},{"$f":"IF(E192<>\"\",'Input - Output'!B193,\"\")","v":0},0,0,0,0,0]
[544,0.34548279999999998,0.97602250000000002,1.458461E-2,{"$f":"IF(AND('Input - Output'!A194>=360,'Input - Output'!A194<=830),'Input - Output'!A194,831)","v":831},{"$f":"IF(E193<>\"\",'Input - Output'!B194,\"\")","v":0},0,0,0,0,0]
[545,0.35970000000000002,0.98029999999999995,1.34E-2,{"$f":"IF(AND('Input - Output'!A195>=360,'Input - Output'!A195<=830),'Input - Output'!A195,831)","v":831},{"$f":"IF(E194<>\"\",'Input - Output'!B195,\"\")","v":0},0,0,0,0,0]
[546,0.37408390000000002,0.98409239999999998,1.2307230000000001E-2,{"$f":"IF(AND('Input - Output'!A196>=360,'Input - Output'!A196<=830),'Input - Output'!A196,831)","v":831},{"$f":"IF(E195<>\"\",'Input - Output'!B196,\"\")","v":0},0,0,0,0,0]
[547,0.38863959999999997,0.98741820000000002,1.130188E-2,{"$f":"IF(AND('Input - Output'!A197>=360,'Input - Output'!A197<=830),'Input - Output'!A197,831)","v":831},{"$f":"IF(E196<>\"\",'Input - Output'!B197,\"\")","v":0},0,0,0,0,0]
[548,0.40337840000000003,0.99031279999999999,1.0377920000000001E-2,{"$f":"IF(AND('Input - Output'!A198>=360,'Input - Output'!A198<=830),'Input - Output'!A198,831)","v":831},{"$f":"IF(E197<>\"\",'Input - Output'!B198,\"\")","v":0},0,0,0,0,0]
[549,0.4183115,0.99281160000000002,9.5293059999999995E-3,{"$f":"IF(AND('Input - Output'!A199>=360,'Input - Output'!A199<=830),'Input - Output'!A199,831)","v":831},{"$f":"IF(E198<>\"\",'Input - Output'!B199,\"\")","v":0},0,0,0,0,0]
[550,0.4334499,0.99495009999999995,8.7499989999999996E-3,{"$f":"IF(AND('Input - Output'!A200>=360,'Input - Output'!A200<=830),'Input - Output'!A200,831)","v":831},{"$f":"IF(E199<>\"\",'Input - Output'!B200,\"\")","v":0},0,0,0,0,0]
[551,0.44879530000000001,0.99671080000000001,8.0351999999999993E-3,{"$f":"IF(AND('Input - Output'!A201>=360,'Input - Output'!A201<=830),'Input - Output'!A201,831)","v":831},{"$f":"IF(E200<>\"\",'Input - Output'!B201,\"\")","v":0},0,0,0,0,0]
[552,0.46433600000000003,0.99809829999999999,7.3816000000000003E-3,{"$f":"IF(AND('Input - Output'!A202>=360,'Input - Output'!A202<=830),'Input - Output'!A202,831)","v":831},{"$f":"IF(E201<>\"\",'Input - Output'!B202,\"\")","v":0},0,{"$f":"IF($E201<>0,TREND(OFFSET(B$9,MATCH($E201,$A$9:$A$480)-1,,2),OFFSET($A$9,MATCH($E201,$A$9:$A$480)-1,,2),$E201),0)","v":0},{"$f":"IF($E201<>0,TREND(OFFSET(C$9,MATCH($E201,$A$9:$A$480)-1,,2),OFFSET($A$9,MATCH($E201,$A$9:$A$480)-1,,2),$E201),0)","v":0},{"$f":"IF($E201<>0,TREND(OFFSET(D$9,MATCH($E201,$A$9:$A$480)-1,,2),OFFSET($A$9,MATCH($E201,$A$9:$A$480)-1,,2),$E201),0)","v":0},0]
[553,0.48006399999999999,0.999112,6.7853999999999996E-3,{"$f":"IF(AND('Input - Output'!A203>=360,'Input - Output'!A203<=830),'Input - Output'!A203,831)","v":831},{"$f":"IF(E202<>\"\",'Input - Output'!B203,\"\")","v":0},{"$f":"IF(F202<>0,F202/$F$6,0)","v":0},0,0,0,{"$f":"G202/$K$7","v":0}]
[554,0.4959713,0.99974819999999998,6.2427999999999997E-3,{"$f":"IF(AND('Input - Output'!A204>=360,'Input - Output'!A204<=830),'Input - Output'!A204,831)","v":831},{"$f":"IF(E203<>\"\",'Input - Output'!B204,\"\")","v":0},0,0,0,0,0]
[555,0.51205009999999995,1,5.7499990000000004E-3,{"$f":"IF(AND('Input - Output'!A205>=360,'Input - Output'!A205<=830),'Input - Output'!A205,831)","v":831},{"$f":"IF(E204<>\"\",'Input - Output'!B205,\"\")","v":0},0,0,0,0,0]
[556,0.52829590000000004,0.99985670000000004,5.3036000000000003E-3,{"$f":"IF(AND('Input - Output'!A206>=360,'Input - Output'!A206<=830),'Input - Output'!A206,831)","v":831},{"$f":"IF(E205<>\"\",'Input - Output'!B206,\"\")","v":0},0,0,0,0,0]
[557,0.54469160000000005,0.99930459999999999,4.8998000000000002E-3,{"$f":"IF(AND('Input - Output'!A207>=360,'Input - Output'!A207<=830),'Input - Output'!A207,831)","v":831},{"$f":"IF(E206<>\"\",'Input - Output'!B207,\"\")","v":0},0,0,0,0,0]
[558,0.56120939999999997,0.99832549999999998,4.5342000000000004E-3,{"$f":"IF(AND('Input - Output'!A208>=360,'Input - Output'!A208<=830),'Input - Output'!A208,831)","v":831},{"$f":"IF(E207<>\"\",'Input - Output'!B208,\"\")","v":0},0,0,0,0,0]
[559,0.57782149999999999,0.99689870000000003,4.2024000000000002E-3,{"$f":"IF(AND('Input - Output'!A209>=360,'Input - Output'!A209<=830),'Input - Output'!A209,831)","v":831},{"$f":"IF(E208<>\"\",'Input - Output'!B209,\"\")","v":0},0,0,0,0,0]
[560,0.59450000000000003,0.995,3.8999999999999998E-3,{"$f":"IF(AND('Input - Output'!A210>=360,'Input - Output'!A210<=830),'Input - Output'!A210,831)","v":831},{"$f":"IF(E209<>\"\",'Input - Output'!B210,\"\")","v":0},0,0,0,0,0]
[561,0.61122089999999996,0.9926005,3.6232E-3,{"$f":"IF(AND('Input - Output'!A211>=360,'Input - Output'!A211<=830),'Input - Output'!A211,831)","v":831},{"$f":"IF(E210<>\"\",'Input - Output'!B211,\"\")","v":0},0,0,0,0,0]
[562,0.62797579999999997,0.98974260000000003,3.3706000000000001E-3,{"$f":"IF(AND('Input - Output'!A212>=360,'Input - Output'!A212<=830),'Input - Output'!A212,831)","v":831},{"$f":"IF(E211<>\"\",'Input - Output'!B212,\"\")","v":0},0,0,0,0,0]
[563,0.64476020000000001,0.9864444,3.1413999999999999E-3,{"$f":"IF(AND('Input - Output'!A213>=360,'Input - Output'!A213<=830),'Input - Output'!A213,831)","v":831},{"$f":"IF(E212<>\"\",'Input - Output'!B213,\"\")","v":0},0,0,0,0,0]
[564,0.66156970000000004,0.98272409999999999,2.9348E-3,{"$f":"IF(AND('Input - Output'!A214>=360,'Input - Output'!A214<=830),'Input - Output'!A214,831)","v":831},{"$f":"IF(E213<>\"\",'Input - Output'!B214,\"\")","v":0},0,0,0,0,0]
[565,0.6784,0.97860000000000003,2.7499989999999999E-3,{"$f":"IF(AND('Input - Output'!A215>=360,'Input - Output'!A215<=830),'Input - Output'!A215,831)","v":831},{"$f":"IF(E214<>\"\",'Input - Output'!B215,\"\")","v":0},0,0,0,0,0]
[566,0.69523919999999995,0.9740837,2.5852000000000002E-3,{"$f":"IF(AND('Input - Output'!A216>=360,'Input - Output'!A216<=830),'Input - Output'!A216,831)","v":831},{"$f":"IF(E215<>\"\",'Input - Output'!B216,\"\")","v":0},0,0,0,0,0]
[567,0.71205859999999999,0.96917120000000001,2.4386E-3,{"$f":"IF(AND('Input - Output'!A217>=360,'Input - Output'!A217<=830),'Input - Output'!A217,831)","v":831},{"$f":"IF(E216<>\"\",'Input - Output'!B217,\"\")","v":0},0,0,0,0,0]
[568,0.72882840000000004,0.96385679999999996,2.3094000000000001E-3,{"$f":"IF(AND('Input - Output'!A218>=360,'Input - Output'!A218<=830),'Input - Output'!A218,831)","v":831},{"$f":"IF(E217<>\"\",'Input - Output'!B218,\"\")","v":0},0,0,0,0,0]
[569,0.74551880000000004,0.95813490000000001,2.1968000000000001E-3,{"$f":"IF(AND('Input - Output'!A219>=360,'Input - Output'!A219<=830),'Input - Output'!A219,831)","v":831},{"$f":"IF(E218<>\"\",'Input - Output'!B219,\"\")","v":0},0,0,0,0,0]
[570,0.7621,0.95199999999999996,2.0999999999999999E-3,{"$f":"IF(AND('Input - Output'!A220>=360,'Input - Output'!A220<=830),'Input - Output'!A220,831)","v":831},{"$f":"IF(E219<>\"\",'Input - Output'!B220,\"\")","v":0},0,0,0,0,0]
[571,0.77854319999999999,0.94545040000000002,2.0177329999999999E-3,{"$f":"IF(AND('Input - Output'!A221>=360,'Input - Output'!A221<=830),'Input - Output'!A221,831)","v":831},{"$f":"IF(E220<>\"\",'Input - Output'!B221,\"\")","v":0},0,0,0,0,0]
[572,0.79482560000000002,0.93849919999999998,1.9482E-3,{"$f":"IF(AND('Input - Output'!A222>=360,'Input - Output'!A222<=830),'Input - Output'!A222,831)","v":831},{"$f":"IF(E221<>\"\",'Input - Output'!B222,\"\")","v":0},0,0,0,0,0]
[573,0.81092640000000005,0.93116279999999996,1.8898000000000001E-3,{"$f":"IF(AND('Input - Output'!A223>=360,'Input - Output'!A223<=830),'Input - Output'!A223,831)","v":831},{"$f":"IF(E222<>\"\",'Input - Output'!B223,\"\")","v":0},0,0,0,0,0]
[574,0.82682480000000003,0.92345759999999999,1.8409329999999999E-3,{"$f":"IF(AND('Input - Output'!A224>=360,'Input - Output'!A224<=830),'Input - Output'!A224,831)","v":831},{"$f":"IF(E223<>\"\",'Input - Output'!B224,\"\")","v":0},0,0,0,0,0]
[575,0.84250000000000003,0.91539999999999999,1.8E-3,{"$f":"IF(AND('Input - Output'!A225>=360,'Input - Output'!A225<=830),'Input - Output'!A225,831)","v":831},{"$f":"IF(E224<>\"\",'Input - Output'!B225,\"\")","v":0},0,0,0,0,0]
[576,0.85793249999999999,0.90700639999999999,1.766267E-3,{"$f":"IF(AND('Input - Output'!A226>=360,'Input - Output'!A226<=830),'Input - Output'!A226,831)","v":831},{"$f":"IF(E225<>\"\",'Input - Output'!B226,\"\")","v":0},0,0,0,0,0]
[577,0.87308160000000001,0.8982772,1.7378000000000001E-3,{"$f":"IF(AND('Input - Output'!A227>=360,'Input - Output'!A227<=830),'Input - Output'!A227,831)","v":831},{"$f":"IF(E226<>\"\",'Input - Output'!B227,\"\")","v":0},0,0,0,0,0]
[578,0.88789439999999997,0.88920480000000002,1.7112E-3,{"$f":"IF(AND('Input - Output'!A228>=360,'Input - Output'!A228<=830),'Input - Output'!A228,831)","v":831},{"$f":"IF(E227<>\"\",'Input - Output'!B228,\"\")","v":0},0,0,0,0,0]
[579,0.90231810000000001,0.87978160000000005,1.6830669999999999E-3,{"$f":"IF(AND('Input - Output'!A229>=360,'Input - Output'!A229<=830),'Input - Output'!A229,831)","v":831},{"$f":"IF(E228<>\"\",'Input - Output'!B229,\"\")","v":0},0,0,0,0,0]
[580,0.9163,0.87,1.6500009999999999E-3,{"$f":"IF(AND('Input - Output'!A230>=360,'Input - Output'!A230<=830),'Input - Output'!A230,831)","v":831},{"$f":"IF(E229<>\"\",'Input - Output'!B230,\"\")","v":0},0,0,0,0,0]
[581,0.9297995,0.85986130000000005,1.6101329999999999E-3,{"$f":"IF(AND('Input - Output'!A231>=360,'Input - Output'!A231<=830),'Input - Output'!A231,831)","v":831},{"$f":"IF(E230<>\"\",'Input - Output'!B231,\"\")","v":0},0,0,0,0,0]
[582,0.94279840000000004,0.84939200000000004,1.5644000000000001E-3,{"$f":"IF(AND('Input - Output'!A232>=360,'Input - Output'!A232<=830),'Input - Output'!A232,831)","v":831},{"$f":"IF(E231<>\"\",'Input - Output'!B232,\"\")","v":0},0,0,0,0,0]
[583,0.95527759999999995,0.83862199999999998,1.5135999999999999E-3,{"$f":"IF(AND('Input - Output'!A233>=360,'Input - Output'!A233<=830),'Input - Output'!A233,831)","v":831},{"$f":"IF(E232<>\"\",'Input - Output'!B233,\"\")","v":0},0,0,0,0,0]
[584,0.96721789999999996,0.82758129999999996,1.4585329999999999E-3,{"$f":"IF(AND('Input - Output'!A234>=360,'Input - Output'!A234<=830),'Input - Output'!A234,831)","v":831},{"$f":"IF(E233<>\"\",'Input - Output'!B234,\"\")","v":0},0,0,0,0,0]
[585,0.97860000000000003,0.81630000000000003,1.4E-3,{"$f":"IF(AND('Input - Output'!A235>=360,'Input - Output'!A235<=830),'Input - Output'!A235,831)","v":831},{"$f":"IF(E234<>\"\",'Input - Output'!B235,\"\")","v":0},0,0,0,0,0]
[586,0.98938559999999998,0.80479469999999997,1.3366669999999999E-3,{"$f":"IF(AND('Input - Output'!A236>=360,'Input - Output'!A236<=830),'Input - Output'!A236,831)","v":831},{"$f":"IF(E235<>\"\",'Input - Output'!B236,\"\")","v":0},0,0,0,0,0]
[587,0.99954880000000002,0.79308199999999995,1.2700000000000001E-3,{"$f":"IF(AND('Input - Output'!A237>=360,'Input - Output'!A237<=830),'Input - Output'!A237,831)","v":831},{"$f":"IF(E236<>\"\",'Input - Output'!B237,\"\")","v":0},0,0,0,0,0]
[588,1.0090892,0.781192,1.2049999999999999E-3,{"$f":"IF(AND('Input - Output'!A238>=360,'Input - Output'!A238<=830),'Input - Output'!A238,831)","v":831},{"$f":"IF(E237<>\"\",'Input - Output'!B238,\"\")","v":0},0,0,0,0,0]
[589,1.0180064,0.76915469999999997,1.1466670000000001E-3,{"$f":"IF(AND('Input - Output'!A239>=360,'Input - Output'!A239<=830),'Input - Output'!A239,831)","v":831},{"$f":"IF(E238<>\"\",'Input - Output'!B239,\"\")","v":0},0,0,0,0,0]
[590,1.0263,0.75700000000000001,1.1000000000000001E-3,{"$f":"IF(AND('Input - Output'!A240>=360,'Input - Output'!A240<=830),'Input - Output'!A240,831)","v":831},{"$f":"IF(E239<>\"\",'Input - Output'!B240,\"\")","v":0},0,0,0,0,0]
[591,1.0339826999999999,0.74475409999999997,1.0688E-3,{"$f":"IF(AND('Input - Output'!A241>=360,'Input - Output'!A241<=830),'Input - Output'!A241,831)","v":831},{"$f":"IF(E240<>\"\",'Input - Output'!B241,\"\")","v":0},0,0,0,0,0]
[592,1.040986,0.73242240000000003,1.0494E-3,{"$f":"IF(AND('Input - Output'!A242>=360,'Input - Output'!A242<=830),'Input - Output'!A242,831)","v":831},{"$f":"IF(E241<>\"\",'Input - Output'!B242,\"\")","v":0},0,0,0,0,0]
[593,1.047188,0.72000359999999997,1.0356E-3,{"$f":"IF(AND('Input - Output'!A243>=360,'Input - Output'!A243<=830),'Input - Output'!A243,831)","v":831},{"$f":"IF(E242<>\"\",'Input - Output'!B243,\"\")","v":0},0,0,0,0,0]
[594,1.0524667000000001,0.70749649999999997,1.0212000000000001E-3,{"$f":"IF(AND('Input - Output'!A244>=360,'Input - Output'!A244<=830),'Input - Output'!A244,831)","v":831},{"$f":"IF(E243<>\"\",'Input - Output'!B244,\"\")","v":0},0,0,0,0,0]
[595,1.0567,0.69489999999999996,1E-3,{"$f":"IF(AND('Input - Output'!A245>=360,'Input - Output'!A245<=830),'Input - Output'!A245,831)","v":831},{"$f":"IF(E244<>\"\",'Input - Output'!B245,\"\")","v":0},0,0,0,0,0]
[596,1.0597943999999999,0.68221920000000003,9.6864E-4,{"$f":"IF(AND('Input - Output'!A246>=360,'Input - Output'!A246<=830),'Input - Output'!A246,831)","v":831},{"$f":"IF(E245<>\"\",'Input - Output'!B246,\"\")","v":0},0,0,0,0,0]
[597,1.0617992000000001,0.66947159999999994,9.2991999999999999E-4,{"$f":"IF(AND('Input - Output'!A247>=360,'Input - Output'!A247<=830),'Input - Output'!A247,831)","v":831},{"$f":"IF(E246<>\"\",'Input - Output'!B247,\"\")","v":0},0,0,0,0,0]
[598,1.0628067999999999,0.65667439999999999,8.8688000000000005E-4,{"$f":"IF(AND('Input - Output'!A248>=360,'Input - Output'!A248<=830),'Input - Output'!A248,831)","v":831},{"$f":"IF(E247<>\"\",'Input - Output'!B248,\"\")","v":0},0,0,0,0,0]
[599,1.0629096,0.64384479999999999,8.4256000000000001E-4,{"$f":"IF(AND('Input - Output'!A249>=360,'Input - Output'!A249<=830),'Input - Output'!A249,831)","v":831},{"$f":"IF(E248<>\"\",'Input - Output'!B249,\"\")","v":0},0,0,0,0,0]
[600,1.0622,0.63100000000000001,8.0000000000000004E-4,{"$f":"IF(AND('Input - Output'!A250>=360,'Input - Output'!A250<=830),'Input - Output'!A250,831)","v":831},{"$f":"IF(E249<>\"\",'Input - Output'!B250,\"\")","v":0},0,0,0,0,0]
[601,1.0607352000000001,0.61815549999999997,7.6095999999999998E-4,{"$f":"IF(AND('Input - Output'!A251>=360,'Input - Output'!A251<=830),'Input - Output'!A251,831)","v":831},{"$f":"IF(E250<>\"\",'Input - Output'!B251,\"\")","v":0},0,0,0,0,0]
[602,1.0584435999999999,0.60531440000000003,7.2367999999999998E-4,{"$f":"IF(AND('Input - Output'!A252>=360,'Input - Output'!A252<=830),'Input - Output'!A252,831)","v":831},{"$f":"IF(E251<>\"\",'Input - Output'!B252,\"\")","v":0},0,0,0,0,0]
[603,1.0552244,0.59247559999999999,6.8592000000000002E-4,{"$f":"IF(AND('Input - Output'!A253>=360,'Input - Output'!A253<=830),'Input - Output'!A253,831)","v":831},{"$f":"IF(E252<>\"\",'Input - Output'!B253,\"\")","v":0},0,0,0,0,0]
[604,1.0509767999999999,0.57963790000000004,6.4543999999999995E-4,{"$f":"IF(AND('Input - Output'!A254>=360,'Input - Output'!A254<=830),'Input - Output'!A254,831)","v":831},{"$f":"IF(E253<>\"\",'Input - Output'!B254,\"\")","v":0},0,0,0,0,0]
[605,1.0456000000000001,0.56679999999999997,5.9999999999999995E-4,{"$f":"IF(AND('Input - Output'!A255>=360,'Input - Output'!A255<=830),'Input - Output'!A255,831)","v":831},{"$f":"IF(E254<>\"\",'Input - Output'!B255,\"\")","v":0},0,0,0,0,0]
[606,1.0390368999999999,0.55396109999999998,5.4786669999999996E-4,{"$f":"IF(AND('Input - Output'!A256>=360,'Input - Output'!A256<=830),'Input - Output'!A256,831)","v":831},{"$f":"IF(E255<>\"\",'Input - Output'!B256,\"\")","v":0},0,0,0,0,0]
[607,1.0313608000000001,0.54113719999999998,4.9160000000000002E-4,{"$f":"IF(AND('Input - Output'!A257>=360,'Input - Output'!A257<=830),'Input - Output'!A257,831)","v":831},{"$f":"IF(E256<>\"\",'Input - Output'!B257,\"\")","v":0},0,0,0,0,0]
[608,1.0226662,0.52835279999999996,4.3540000000000001E-4,{"$f":"IF(AND('Input - Output'!A258>=360,'Input - Output'!A258<=830),'Input - Output'!A258,831)","v":831},{"$f":"IF(E257<>\"\",'Input - Output'!B258,\"\")","v":0},0,0,0,0,0]
[609,1.0130477,0.51563230000000004,3.8346670000000003E-4,{"$f":"IF(AND('Input - Output'!A259>=360,'Input - Output'!A259<=830),'Input - Output'!A259,831)","v":831},{"$f":"IF(E258<>\"\",'Input - Output'!B259,\"\")","v":0},0,0,0,0,0]
[610,1.0025999999999999,0.503,3.4000000000000002E-4,{"$f":"IF(AND('Input - Output'!A260>=360,'Input - Output'!A260<=830),'Input - Output'!A260,831)","v":831},{"$f":"IF(E259<>\"\",'Input - Output'!B260,\"\")","v":0},0,0,0,0,0]
[611,0.99136749999999996,0.49046879999999998,3.072533E-4,{"$f":"IF(AND('Input - Output'!A261>=360,'Input - Output'!A261<=830),'Input - Output'!A261,831)","v":831},{"$f":"IF(E260<>\"\",'Input - Output'!B261,\"\")","v":0},0,0,0,0,0]
[612,0.97933139999999996,0.47803040000000002,2.8316000000000002E-4,{"$f":"IF(AND('Input - Output'!A262>=360,'Input - Output'!A262<=830),'Input - Output'!A262,831)","v":831},{"$f":"IF(E261<>\"\",'Input - Output'!B262,\"\")","v":0},0,0,0,0,0]
[613,0.96649160000000001,0.46567760000000002,2.6543999999999998E-4,{"$f":"IF(AND('Input - Output'!A263>=360,'Input - Output'!A263<=830),'Input - Output'!A263,831)","v":831},{"$f":"IF(E262<>\"\",'Input - Output'!B263,\"\")","v":0},0,0,0,0,0]
[614,0.95284789999999997,0.45340320000000001,2.5181329999999998E-4,{"$f":"IF(AND('Input - Output'!A264>=360,'Input - Output'!A264<=830),'Input - Output'!A264,831)","v":831},{"$f":"IF(E263<>\"\",'Input - Output'!B264,\"\")","v":0},0,0,0,0,0]
[615,0.93840000000000001,0.44119999999999998,2.4000000000000001E-4,{"$f":"IF(AND('Input - Output'!A265>=360,'Input - Output'!A265<=830),'Input - Output'!A265,831)","v":831},{"$f":"IF(E264<>\"\",'Input - Output'!B265,\"\")","v":0},0,0,0,0,0]
[616,0.92319399999999996,0.42908000000000002,2.2954670000000001E-4,{"$f":"IF(AND('Input - Output'!A266>=360,'Input - Output'!A266<=830),'Input - Output'!A266,831)","v":831},{"$f":"IF(E265<>\"\",'Input - Output'!B266,\"\")","v":0},0,{"$f":"IF($E265<>0,TREND(OFFSET(B$9,MATCH($E265,$A$9:$A$480)-1,,2),OFFSET($A$9,MATCH($E265,$A$9:$A$480)-1,,2),$E265),0)","v":0},{"$f":"IF($E265<>0,TREND(OFFSET(C$9,MATCH($E265,$A$9:$A$480)-1,,2),OFFSET($A$9,MATCH($E265,$A$9:$A$480)-1,,2),$E265),0)","v":0},{"$f":"IF($E265<>0,TREND(OFFSET(D$9,MATCH($E265,$A$9:$A$480)-1,,2),OFFSET($A$9,MATCH($E265,$A$9:$A$480)-1,,2),$E265),0)","v":0},0]
[617,0.90724400000000005,0.41703600000000002,2.2064E-4,{"$f":"IF(AND('Input - Output'!A267>=360,'Input - Output'!A267<=830),'Input - Output'!A267,831)","v":831},{"$f":"IF(E266<>\"\",'Input - Output'!B267,\"\")","v":0},{"$f":"IF(F266<>0,F266/$F$6,0)","v":0},0,0,0,{"$f":"G266/$K$7","v":0}]
[618,0.89050200000000002,0.405032,2.1196E-4,{"$f":"IF(AND('Input - Output'!A268>=360,'Input - Output'!A268<=830),'Input - Output'!A268,831)","v":831},{"$f":"IF(E267<>\"\",'Input - Output'!B268,\"\")","v":0},0,0,0,0,0]
[619,0.87292000000000003,0.39303199999999999,2.021867E-4,{"$f":"IF(AND('Input - Output'!A269>=360,'Input - Output'!A269<=830),'Input - Output'!A269,831)","v":831},{"$f":"IF(E268<>\"\",'Input - Output'!B269,\"\")","v":0},0,0,0,0,0]
[620,0.85444989999999998,0.38100000000000001,1.9000000000000001E-4,{"$f":"IF(AND('Input - Output'!A270>=360,'Input - Output'!A270<=830),'Input - Output'!A270,831)","v":831},{"$f":"IF(E269<>\"\",'Input - Output'!B270,\"\")","v":0},0,0,0,0,0]
[621,0.83508400000000005,0.36891839999999998,1.7421329999999999E-4,{"$f":"IF(AND('Input - Output'!A271>=360,'Input - Output'!A271<=830),'Input - Output'!A271,831)","v":831},{"$f":"IF(E270<>\"\",'Input - Output'!B271,\"\")","v":0},0,0,0,0,0]
[622,0.81494599999999995,0.35682720000000001,1.5563999999999999E-4,{"$f":"IF(AND('Input - Output'!A272>=360,'Input - Output'!A272<=830),'Input - Output'!A272,831)","v":831},{"$f":"IF(E271<>\"\",'Input - Output'!B272,\"\")","v":0},0,0,0,0,0]
[623,0.79418599999999995,0.34477679999999999,1.3595999999999999E-4,{"$f":"IF(AND('Input - Output'!A273>=360,'Input - Output'!A273<=830),'Input - Output'!A273,831)","v":831},{"$f":"IF(E272<>\"\",'Input - Output'!B273,\"\")","v":0},0,0,0,0,0]
[624,0.77295400000000003,0.33281759999999999,1.1685329999999999E-4,{"$f":"IF(AND('Input - Output'!A274>=360,'Input - Output'!A274<=830),'Input - Output'!A274,831)","v":831},{"$f":"IF(E273<>\"\",'Input - Output'!B274,\"\")","v":0},0,0,0,0,0]
[625,0.75139999999999996,0.32100000000000001,1E-4,{"$f":"IF(AND('Input - Output'!A275>=360,'Input - Output'!A275<=830),'Input - Output'!A275,831)","v":831},{"$f":"IF(E274<>\"\",'Input - Output'!B275,\"\")","v":0},0,0,0,0,0]
[626,0.7295836,0.3093381,8.6133330000000006E-5,{"$f":"IF(AND('Input - Output'!A276>=360,'Input - Output'!A276<=830),'Input - Output'!A276,831)","v":831},{"$f":"IF(E275<>\"\",'Input - Output'!B276,\"\")","v":0},0,0,0,0,0]
[627,0.70758880000000002,0.29785040000000002,7.4599999999999997E-5,{"$f":"IF(AND('Input - Output'!A277>=360,'Input - Output'!A277<=830),'Input - Output'!A277,831)","v":831},{"$f":"IF(E276<>\"\",'Input - Output'!B277,\"\")","v":0},0,0,0,0,0]
[628,0.68560220000000005,0.2865936,6.4999999999999994E-5,{"$f":"IF(AND('Input - Output'!A278>=360,'Input - Output'!A278<=830),'Input - Output'!A278,831)","v":831},{"$f":"IF(E277<>\"\",'Input - Output'!B278,\"\")","v":0},0,0,0,0,0]
[629,0.66381040000000002,0.27562449999999999,5.6933330000000001E-5,{"$f":"IF(AND('Input - Output'!A279>=360,'Input - Output'!A279<=830),'Input - Output'!A279,831)","v":831},{"$f":"IF(E278<>\"\",'Input - Output'!B279,\"\")","v":0},0,0,0,0,0]
[630,0.64239999999999997,0.26500000000000001,4.9999990000000002E-5,{"$f":"IF(AND('Input - Output'!A280>=360,'Input - Output'!A280<=830),'Input - Output'!A280,831)","v":831},{"$f":"IF(E279<>\"\",'Input - Output'!B280,\"\")","v":0},0,0,0,0,0]
[631,0.62151489999999998,0.25476320000000002,4.4159999999999997E-5,{"$f":"IF(AND('Input - Output'!A281>=360,'Input - Output'!A281<=830),'Input - Output'!A281,831)","v":831},{"$f":"IF(E280<>\"\",'Input - Output'!B281,\"\")","v":0},0,0,0,0,0]
[632,0.60111380000000003,0.24488960000000001,3.9480000000000001E-5,{"$f":"IF(AND('Input - Output'!A282>=360,'Input - Output'!A282<=830),'Input - Output'!A282,831)","v":831},{"$f":"IF(E281<>\"\",'Input - Output'!B282,\"\")","v":0},0,0,0,0,0]
[633,0.58110519999999999,0.2353344,3.5719999999999997E-5,{"$f":"IF(AND('Input - Output'!A283>=360,'Input - Output'!A283<=830),'Input - Output'!A283,831)","v":831},{"$f":"IF(E282<>\"\",'Input - Output'!B283,\"\")","v":0},0,0,0,0,0]
[634,0.5613977,0.2260528,3.2639999999999999E-5,{"$f":"IF(AND('Input - Output'!A284>=360,'Input - Output'!A284<=830),'Input - Output'!A284,831)","v":831},{"$f":"IF(E283<>\"\",'Input - Output'!B284,\"\")","v":0},0,0,0,0,0]
[635,0.54190000000000005,0.217,3.0000000000000001E-5,{"$f":"IF(AND('Input - Output'!A285>=360,'Input - Output'!A285<=830),'Input - Output'!A285,831)","v":831},{"$f":"IF(E284<>\"\",'Input - Output'!B285,\"\")","v":0},0,0,0,0,0]
[636,0.52259949999999999,0.2081616,2.765333E-5,{"$f":"IF(AND('Input - Output'!A286>=360,'Input - Output'!A286<=830),'Input - Output'!A286,831)","v":831},{"$f":"IF(E285<>\"\",'Input - Output'!B286,\"\")","v":0},0,0,0,0,0]
[637,0.50354639999999995,0.1995488,2.5559999999999999E-5,{"$f":"IF(AND('Input - Output'!A287>=360,'Input - Output'!A287<=830),'Input - Output'!A287,831)","v":831},{"$f":"IF(E286<>\"\",'Input - Output'!B287,\"\")","v":0},0,0,0,0,0]
[638,0.4847436,0.1911552,2.3640000000000001E-5,{"$f":"IF(AND('Input - Output'!A288>=360,'Input - Output'!A288<=830),'Input - Output'!A288,831)","v":831},{"$f":"IF(E287<>\"\",'Input - Output'!B288,\"\")","v":0},0,0,0,0,0]
[639,0.46619389999999999,0.18297440000000001,2.1813329999999999E-5,{"$f":"IF(AND('Input - Output'!A289>=360,'Input - Output'!A289<=830),'Input - Output'!A289,831)","v":831},{"$f":"IF(E288<>\"\",'Input - Output'!B289,\"\")","v":0},0,0,0,0,0]
[640,0.44790000000000002,0.17499999999999999,2.0000000000000002E-5,{"$f":"IF(AND('Input - Output'!A290>=360,'Input - Output'!A290<=830),'Input - Output'!A290,831)","v":831},{"$f":"IF(E289<>\"\",'Input - Output'!B290,\"\")","v":0},0,0,0,0,0]
[641,0.4298613,0.1672235,1.813333E-5,{"$f":"IF(AND('Input - Output'!A291>=360,'Input - Output'!A291<=830),'Input - Output'!A291,831)","v":831},{"$f":"IF(E290<>\"\",'Input - Output'!B291,\"\")","v":0},0,0,0,0,0]
[642,0.41209800000000002,0.15964639999999999,1.6200000000000001E-5,{"$f":"IF(AND('Input - Output'!A292>=360,'Input - Output'!A292<=830),'Input - Output'!A292,831)","v":831},{"$f":"IF(E291<>\"\",'Input - Output'!B292,\"\")","v":0},0,0,0,0,0]
[643,0.39464399999999999,0.15227760000000001,1.42E-5,{"$f":"IF(AND('Input - Output'!A293>=360,'Input - Output'!A293<=830),'Input - Output'!A293,831)","v":831},{"$f":"IF(E292<>\"\",'Input - Output'!B293,\"\")","v":0},0,0,0,0,0]
[644,0.37753330000000002,0.1451259,1.213333E-5,{"$f":"IF(AND('Input - Output'!A294>=360,'Input - Output'!A294<=830),'Input - Output'!A294,831)","v":831},{"$f":"IF(E293<>\"\",'Input - Output'!B294,\"\")","v":0},0,0,0,0,0]
[645,0.36080000000000001,0.13819999999999999,1.0000000000000001E-5,{"$f":"IF(AND('Input - Output'!A295>=360,'Input - Output'!A295<=830),'Input - Output'!A295,831)","v":831},{"$f":"IF(E294<>\"\",'Input - Output'!B295,\"\")","v":0},0,0,0,0,0]
[646,0.34445629999999999,0.13150029999999999,7.7333329999999996E-6,{"$f":"IF(AND('Input - Output'!A296>=360,'Input - Output'!A296<=830),'Input - Output'!A296,831)","v":831},{"$f":"IF(E295<>\"\",'Input - Output'!B296,\"\")","v":0},0,0,0,0,0]
[647,0.3285168,0.12502479999999999,5.4E-6,{"$f":"IF(AND('Input - Output'!A297>=360,'Input - Output'!A297<=830),'Input - Output'!A297,831)","v":831},{"$f":"IF(E296<>\"\",'Input - Output'!B297,\"\")","v":0},0,0,0,0,0]
[648,0.3130192,0.1187792,3.1999999999999999E-6,{"$f":"IF(AND('Input - Output'!A298>=360,'Input - Output'!A298<=830),'Input - Output'!A298,831)","v":831},{"$f":"IF(E297<>\"\",'Input - Output'!B298,\"\")","v":0},0,0,0,0,0]
[649,0.29800110000000002,0.1127691,1.3333330000000001E-6,{"$f":"IF(AND('Input - Output'!A299>=360,'Input - Output'!A299<=830),'Input - Output'!A299,831)","v":831},{"$f":"IF(E298<>\"\",'Input - Output'!B299,\"\")","v":0},0,0,0,0,0]
[650,0.28349999999999997,0.107,0,{"$f":"IF(AND('Input - Output'!A300>=360,'Input - Output'!A300<=830),'Input - Output'!A300,831)","v":831},{"$f":"IF(E299<>\"\",'Input - Output'!B300,\"\")","v":0},0,0,0,0,0]
[651,0.26954479999999997,0.1014762,0,{"$f":"IF(AND('Input - Output'!A301>=360,'Input - Output'!A301<=830),'Input - Output'!A301,831)","v":831},{"$f":"IF(E300<>\"\",'Input - Output'!B301,\"\")","v":0},0,0,0,0,0]
[652,0.25611840000000002,9.6188640000000006E-2,0,{"$f":"IF(AND('Input - Output'!A302>=360,'Input - Output'!A302<=830),'Input - Output'!A302,831)","v":831},{"$f":"IF(E301<>\"\",'Input - Output'!B302,\"\")","v":0},0,0,0,0,0]
[653,0.24318960000000001,9.1122960000000003E-2,0,{"$f":"IF(AND('Input - Output'!A303>=360,'Input - Output'!A303<=830),'Input - Output'!A303,831)","v":831},{"$f":"IF(E302<>\"\",'Input - Output'!B303,\"\")","v":0},0,0,0,0,0]
[654,0.23072719999999999,8.6264850000000004E-2,0,{"$f":"IF(AND('Input - Output'!A304>=360,'Input - Output'!A304<=830),'Input - Output'!A304,831)","v":831},{"$f":"IF(E303<>\"\",'Input - Output'!B304,\"\")","v":0},0,0,0,0,0]
[655,0.21870000000000001,8.1600000000000006E-2,0,{"$f":"IF(AND('Input - Output'!A305>=360,'Input - Output'!A305<=830),'Input - Output'!A305,831)","v":831},{"$f":"IF(E304<>\"\",'Input - Output'!B305,\"\")","v":0},0,0,0,0,0]
[656,0.20709710000000001,7.7120640000000004E-2,0,{"$f":"IF(AND('Input - Output'!A306>=360,'Input - Output'!A306<=830),'Input - Output'!A306,831)","v":831},{"$f":"IF(E305<>\"\",'Input - Output'!B306,\"\")","v":0},0,0,0,0,0]
[657,0.19592319999999999,7.2825520000000005E-2,0,{"$f":"IF(AND('Input - Output'!A307>=360,'Input - Output'!A307<=830),'Input - Output'!A307,831)","v":831},{"$f":"IF(E306<>\"\",'Input - Output'!B307,\"\")","v":0},0,0,0,0,0]
[658,0.1851708,6.8710080000000007E-2,0,{"$f":"IF(AND('Input - Output'!A308>=360,'Input - Output'!A308<=830),'Input - Output'!A308,831)","v":831},{"$f":"IF(E307<>\"\",'Input - Output'!B308,\"\")","v":0},0,0,0,0,0]
[659,0.1748323,6.4769759999999996E-2,0,{"$f":"IF(AND('Input - Output'!A309>=360,'Input - Output'!A309<=830),'Input - Output'!A309,831)","v":831},{"$f":"IF(E308<>\"\",'Input - Output'!B309,\"\")","v":0},0,0,0,0,0]
[660,0.16489999999999999,6.0999999999999999E-2,0,{"$f":"IF(AND('Input - Output'!A310>=360,'Input - Output'!A310<=830),'Input - Output'!A310,831)","v":831},{"$f":"IF(E309<>\"\",'Input - Output'!B310,\"\")","v":0},0,0,0,0,0]
[661,0.1553667,5.7396210000000003E-2,0,{"$f":"IF(AND('Input - Output'!A311>=360,'Input - Output'!A311<=830),'Input - Output'!A311,831)","v":831},{"$f":"IF(E310<>\"\",'Input - Output'!B311,\"\")","v":0},0,0,0,0,0]
[662,0.14623,5.3955040000000003E-2,0,{"$f":"IF(AND('Input - Output'!A312>=360,'Input - Output'!A312<=830),'Input - Output'!A312,831)","v":831},{"$f":"IF(E311<>\"\",'Input - Output'!B312,\"\")","v":0},0,0,0,0,0]
[663,0.13749,5.0673759999999998E-2,0,{"$f":"IF(AND('Input - Output'!A313>=360,'Input - Output'!A313<=830),'Input - Output'!A313,831)","v":831},{"$f":"IF(E312<>\"\",'Input - Output'!B313,\"\")","v":0},0,0,0,0,0]
[664,0.1291467,4.7549649999999999E-2,0,{"$f":"IF(AND('Input - Output'!A314>=360,'Input - Output'!A314<=830),'Input - Output'!A314,831)","v":831},{"$f":"IF(E313<>\"\",'Input - Output'!B314,\"\")","v":0},0,0,0,0,0]
[665,0.1212,4.4580000000000002E-2,0,{"$f":"IF(AND('Input - Output'!A315>=360,'Input - Output'!A315<=830),'Input - Output'!A315,831)","v":831},{"$f":"IF(E314<>\"\",'Input - Output'!B315,\"\")","v":0},0,0,0,0,0]
[666,0.1136397,4.1758719999999999E-2,0,{"$f":"IF(AND('Input - Output'!A316>=360,'Input - Output'!A316<=830),'Input - Output'!A316,831)","v":831},{"$f":"IF(E315<>\"\",'Input - Output'!B316,\"\")","v":0},0,0,0,0,0]
[667,0.106465,3.9084960000000002E-2,0,{"$f":"IF(AND('Input - Output'!A317>=360,'Input - Output'!A317<=830),'Input - Output'!A317,831)","v":831},{"$f":"IF(E316<>\"\",'Input - Output'!B317,\"\")","v":0},0,0,0,0,0]
[668,9.9690440000000005E-2,3.656384E-2,0,{"$f":"IF(AND('Input - Output'!A318>=360,'Input - Output'!A318<=830),'Input - Output'!A318,831)","v":831},{"$f":"IF(E317<>\"\",'Input - Output'!B318,\"\")","v":0},0,0,0,0,0]
[669,9.3330609999999994E-2,3.4200479999999998E-2,0,{"$f":"IF(AND('Input - Output'!A319>=360,'Input - Output'!A319<=830),'Input - Output'!A319,831)","v":831},{"$f":"IF(E318<>\"\",'Input - Output'!B319,\"\")","v":0},0,0,0,0,0]
[670,8.7400000000000005E-2,3.2000000000000001E-2,0,{"$f":"IF(AND('Input - Output'!A320>=360,'Input - Output'!A320<=830),'Input - Output'!A320,831)","v":831},{"$f":"IF(E319<>\"\",'Input - Output'!B320,\"\")","v":0},0,0,0,0,0]
[671,8.1900959999999995E-2,2.9962610000000001E-2,0,{"$f":"IF(AND('Input - Output'!A321>=360,'Input - Output'!A321<=830),'Input - Output'!A321,831)","v":831},{"$f":"IF(E320<>\"\",'Input - Output'!B321,\"\")","v":0},0,0,0,0,0]
[672,7.6804280000000003E-2,2.807664E-2,0,{"$f":"IF(AND('Input - Output'!A322>=360,'Input - Output'!A322<=830),'Input - Output'!A322,831)","v":831},{"$f":"IF(E321<>\"\",'Input - Output'!B322,\"\")","v":0},0,0,0,0,0]
[673,7.2077119999999995E-2,2.632936E-2,0,{"$f":"IF(AND('Input - Output'!A323>=360,'Input - Output'!A323<=830),'Input - Output'!A323,831)","v":831},{"$f":"IF(E322<>\"\",'Input - Output'!B323,\"\")","v":0},0,0,0,0,0]
[674,6.7686640000000006E-2,2.4708049999999999E-2,0,{"$f":"IF(AND('Input - Output'!A324>=360,'Input - Output'!A324<=830),'Input - Output'!A324,831)","v":831},{"$f":"IF(E323<>\"\",'Input - Output'!B324,\"\")","v":0},0,0,0,0,0]
[675,6.3600000000000004E-2,2.3199999999999998E-2,0,{"$f":"IF(AND('Input - Output'!A325>=360,'Input - Output'!A325<=830),'Input - Output'!A325,831)","v":831},{"$f":"IF(E324<>\"\",'Input - Output'!B325,\"\")","v":0},0,0,0,0,0]
[676,5.9806850000000002E-2,2.1800770000000001E-2,0,{"$f":"IF(AND('Input - Output'!A326>=360,'Input - Output'!A326<=830),'Input - Output'!A326,831)","v":831},{"$f":"IF(E325<>\"\",'Input - Output'!B326,\"\")","v":0},0,0,0,0,0]
[677,5.6282159999999998E-2,2.0501120000000001E-2,0,{"$f":"IF(AND('Input - Output'!A327>=360,'Input - Output'!A327<=830),'Input - Output'!A327,831)","v":831},{"$f":"IF(E326<>\"\",'Input - Output'!B327,\"\")","v":0},0,0,0,0,0]
[678,5.2971039999999997E-2,1.9281079999999999E-2,0,{"$f":"IF(AND('Input - Output'!A328>=360,'Input - Output'!A328<=830),'Input - Output'!A328,831)","v":831},{"$f":"IF(E327<>\"\",'Input - Output'!B328,\"\")","v":0},0,0,0,0,0]
[679,4.9818609999999999E-2,1.8120689999999998E-2,0,{"$f":"IF(AND('Input - Output'!A329>=360,'Input - Output'!A329<=830),'Input - Output'!A329,831)","v":831},{"$f":"IF(E328<>\"\",'Input - Output'!B329,\"\")","v":0},0,0,0,0,0]
[680,4.6769999999999999E-2,1.7000000000000001E-2,0,{"$f":"IF(AND('Input - Output'!A330>=360,'Input - Output'!A330<=830),'Input - Output'!A330,831)","v":831},{"$f":"IF(E329<>\"\",'Input - Output'!B330,\"\")","v":0},0,{"$f":"IF($E329<>0,TREND(OFFSET(B$9,MATCH($E329,$A$9:$A$480)-1,,2),OFFSET($A$9,MATCH($E329,$A$9:$A$480)-1,,2),$E329),0)","v":0},{"$f":"IF($E329<>0,TREND(OFFSET(C$9,MATCH($E329,$A$9:$A$480)-1,,2),OFFSET($A$9,MATCH($E329,$A$9:$A$480)-1,,2),$E329),0)","v":0},{"$f":"IF($E329<>0,TREND(OFFSET(D$9,MATCH($E329,$A$9:$A$480)-1,,2),OFFSET($A$9,MATCH($E329,$A$9:$A$480)-1,,2),$E329),0)","v":0},0]
[681,4.3784049999999998E-2,1.5903790000000001E-2,0,{"$f":"IF(AND('Input - Output'!A331>=360,'Input - Output'!A331<=830),'Input - Output'!A331,831)","v":831},{"$f":"IF(E330<>\"\",'Input - Output'!B331,\"\")","v":0},{"$f":"IF(F330<>0,F330/$F$6,0)","v":0},0,0,0,{"$f":"G330/$K$7","v":0}]
[682,4.0875359999999999E-2,1.483718E-2,0,{"$f":"IF(AND('Input - Output'!A332>=360,'Input - Output'!A332<=830),'Input - Output'!A332,831)","v":831},{"$f":"IF(E331<>\"\",'Input - Output'!B332,\"\")","v":0},0,0,0,0,0]
[683,3.8072639999999998E-2,1.3810680000000001E-2,0,{"$f":"IF(AND('Input - Output'!A333>=360,'Input - Output'!A333<=830),'Input - Output'!A333,831)","v":831},{"$f":"IF(E332<>\"\",'Input - Output'!B333,\"\")","v":0},0,0,0,0,0]
[684,3.5404610000000003E-2,1.283478E-2,0,{"$f":"IF(AND('Input - Output'!A334>=360,'Input - Output'!A334<=830),'Input - Output'!A334,831)","v":831},{"$f":"IF(E333<>\"\",'Input - Output'!B334,\"\")","v":0},0,0,0,0,0]
[685,3.2899999999999999E-2,1.192E-2,0,{"$f":"IF(AND('Input - Output'!A335>=360,'Input - Output'!A335<=830),'Input - Output'!A335,831)","v":831},{"$f":"IF(E334<>\"\",'Input - Output'!B335,\"\")","v":0},0,0,0,0,0]
[686,3.0564190000000001E-2,1.106831E-2,0,{"$f":"IF(AND('Input - Output'!A336>=360,'Input - Output'!A336<=830),'Input - Output'!A336,831)","v":831},{"$f":"IF(E335<>\"\",'Input - Output'!B336,\"\")","v":0},0,0,0,0,0]
[687,2.8380559999999999E-2,1.027339E-2,0,{"$f":"IF(AND('Input - Output'!A337>=360,'Input - Output'!A337<=830),'Input - Output'!A337,831)","v":831},{"$f":"IF(E336<>\"\",'Input - Output'!B337,\"\")","v":0},0,0,0,0,0]
[688,2.6344840000000001E-2,9.5333109999999992E-3,0,{"$f":"IF(AND('Input - Output'!A338>=360,'Input - Output'!A338<=830),'Input - Output'!A338,831)","v":831},{"$f":"IF(E337<>\"\",'Input - Output'!B338,\"\")","v":0},0,0,0,0,0]
[689,2.4452749999999999E-2,8.8461570000000003E-3,0,{"$f":"IF(AND('Input - Output'!A339>=360,'Input - Output'!A339<=830),'Input - Output'!A339,831)","v":831},{"$f":"IF(E338<>\"\",'Input - Output'!B339,\"\")","v":0},0,0,0,0,0]
[690,2.2700000000000001E-2,8.2100000000000003E-3,0,{"$f":"IF(AND('Input - Output'!A340>=360,'Input - Output'!A340<=830),'Input - Output'!A340,831)","v":831},{"$f":"IF(E339<>\"\",'Input - Output'!B340,\"\")","v":0},0,0,0,0,0]
[691,2.1084289999999999E-2,7.6237809999999996E-3,0,{"$f":"IF(AND('Input - Output'!A341>=360,'Input - Output'!A341<=830),'Input - Output'!A341,831)","v":831},{"$f":"IF(E340<>\"\",'Input - Output'!B341,\"\")","v":0},0,0,0,0,0]
[692,1.959988E-2,7.0854239999999999E-3,0,{"$f":"IF(AND('Input - Output'!A342>=360,'Input - Output'!A342<=830),'Input - Output'!A342,831)","v":831},{"$f":"IF(E341<>\"\",'Input - Output'!B342,\"\")","v":0},0,0,0,0,0]
[693,1.8237320000000001E-2,6.5914759999999998E-3,0,{"$f":"IF(AND('Input - Output'!A343>=360,'Input - Output'!A343<=830),'Input - Output'!A343,831)","v":831},{"$f":"IF(E342<>\"\",'Input - Output'!B343,\"\")","v":0},0,0,0,0,0]
[694,1.6987169999999999E-2,6.1384849999999999E-3,0,{"$f":"IF(AND('Input - Output'!A344>=360,'Input - Output'!A344<=830),'Input - Output'!A344,831)","v":831},{"$f":"IF(E343<>\"\",'Input - Output'!B344,\"\")","v":0},0,0,0,0,0]
[695,1.584E-2,5.7229999999999998E-3,0,{"$f":"IF(AND('Input - Output'!A345>=360,'Input - Output'!A345<=830),'Input - Output'!A345,831)","v":831},{"$f":"IF(E344<>\"\",'Input - Output'!B345,\"\")","v":0},0,0,0,0,0]
[696,1.4790640000000001E-2,5.3430589999999998E-3,0,{"$f":"IF(AND('Input - Output'!A346>=360,'Input - Output'!A346<=830),'Input - Output'!A346,831)","v":831},{"$f":"IF(E345<>\"\",'Input - Output'!B346,\"\")","v":0},0,0,0,0,0]
[697,1.3831319999999999E-2,4.9957960000000003E-3,0,{"$f":"IF(AND('Input - Output'!A347>=360,'Input - Output'!A347<=830),'Input - Output'!A347,831)","v":831},{"$f":"IF(E346<>\"\",'Input - Output'!B347,\"\")","v":0},0,0,0,0,0]
[698,1.2948680000000001E-2,4.6764040000000003E-3,0,{"$f":"IF(AND('Input - Output'!A348>=360,'Input - Output'!A348<=830),'Input - Output'!A348,831)","v":831},{"$f":"IF(E347<>\"\",'Input - Output'!B348,\"\")","v":0},0,0,0,0,0]
[699,1.21292E-2,4.3800749999999998E-3,0,{"$f":"IF(AND('Input - Output'!A349>=360,'Input - Output'!A349<=830),'Input - Output'!A349,831)","v":831},{"$f":"IF(E348<>\"\",'Input - Output'!B349,\"\")","v":0},0,0,0,0,0]
[700,1.135916E-2,4.1019999999999997E-3,0,{"$f":"IF(AND('Input - Output'!A350>=360,'Input - Output'!A350<=830),'Input - Output'!A350,831)","v":831},{"$f":"IF(E349<>\"\",'Input - Output'!B350,\"\")","v":0},0,0,0,0,0]
[701,1.0629349999999999E-2,3.8384529999999999E-3,0,{"$f":"IF(AND('Input - Output'!A351>=360,'Input - Output'!A351<=830),'Input - Output'!A351,831)","v":831},{"$f":"IF(E350<>\"\",'Input - Output'!B351,\"\")","v":0},0,0,0,0,0]
[702,9.9388459999999994E-3,3.5890990000000001E-3,0,{"$f":"IF(AND('Input - Output'!A352>=360,'Input - Output'!A352<=830),'Input - Output'!A352,831)","v":831},{"$f":"IF(E351<>\"\",'Input - Output'!B352,\"\")","v":0},0,0,0,0,0]
[703,9.2884219999999993E-3,3.3542189999999999E-3,0,{"$f":"IF(AND('Input - Output'!A353>=360,'Input - Output'!A353<=830),'Input - Output'!A353,831)","v":831},{"$f":"IF(E352<>\"\",'Input - Output'!B353,\"\")","v":0},0,0,0,0,0]
[704,8.6788539999999997E-3,3.1340930000000001E-3,0,{"$f":"IF(AND('Input - Output'!A354>=360,'Input - Output'!A354<=830),'Input - Output'!A354,831)","v":831},{"$f":"IF(E353<>\"\",'Input - Output'!B354,\"\")","v":0},0,0,0,0,0]
[705,8.1109159999999993E-3,2.9290000000000002E-3,0,{"$f":"IF(AND('Input - Output'!A355>=360,'Input - Output'!A355<=830),'Input - Output'!A355,831)","v":831},{"$f":"IF(E354<>\"\",'Input - Output'!B355,\"\")","v":0},0,0,0,0,0]
[706,7.5823879999999998E-3,2.7381390000000001E-3,0,{"$f":"IF(AND('Input - Output'!A356>=360,'Input - Output'!A356<=830),'Input - Output'!A356,831)","v":831},{"$f":"IF(E355<>\"\",'Input - Output'!B356,\"\")","v":0},0,0,0,0,0]
[707,7.0887459999999999E-3,2.559876E-3,0,{"$f":"IF(AND('Input - Output'!A357>=360,'Input - Output'!A357<=830),'Input - Output'!A357,831)","v":831},{"$f":"IF(E356<>\"\",'Input - Output'!B357,\"\")","v":0},0,0,0,0,0]
[708,6.6273130000000001E-3,2.3932440000000001E-3,0,{"$f":"IF(AND('Input - Output'!A358>=360,'Input - Output'!A358<=830),'Input - Output'!A358,831)","v":831},{"$f":"IF(E357<>\"\",'Input - Output'!B358,\"\")","v":0},0,0,0,0,0]
[709,6.1954080000000003E-3,2.2372749999999999E-3,0,{"$f":"IF(AND('Input - Output'!A359>=360,'Input - Output'!A359<=830),'Input - Output'!A359,831)","v":831},{"$f":"IF(E358<>\"\",'Input - Output'!B359,\"\")","v":0},0,0,0,0,0]
[710,5.790346E-3,2.091E-3,0,{"$f":"IF(AND('Input - Output'!A360>=360,'Input - Output'!A360<=830),'Input - Output'!A360,831)","v":831},{"$f":"IF(E359<>\"\",'Input - Output'!B360,\"\")","v":0},0,0,0,0,0]
[711,5.4098260000000004E-3,1.9535870000000001E-3,0,{"$f":"IF(AND('Input - Output'!A361>=360,'Input - Output'!A361<=830),'Input - Output'!A361,831)","v":831},{"$f":"IF(E360<>\"\",'Input - Output'!B361,\"\")","v":0},0,0,0,0,0]
[712,5.0525830000000002E-3,1.8245799999999999E-3,0,{"$f":"IF(AND('Input - Output'!A362>=360,'Input - Output'!A362<=830),'Input - Output'!A362,831)","v":831},{"$f":"IF(E361<>\"\",'Input - Output'!B362,\"\")","v":0},0,0,0,0,0]
[713,4.7175120000000001E-3,1.7035799999999999E-3,0,{"$f":"IF(AND('Input - Output'!A363>=360,'Input - Output'!A363<=830),'Input - Output'!A363,831)","v":831},{"$f":"IF(E362<>\"\",'Input - Output'!B363,\"\")","v":0},0,0,0,0,0]
[714,4.4035070000000001E-3,1.5901870000000001E-3,0,{"$f":"IF(AND('Input - Output'!A364>=360,'Input - Output'!A364<=830),'Input - Output'!A364,831)","v":831},{"$f":"IF(E363<>\"\",'Input - Output'!B364,\"\")","v":0},0,0,0,0,0]
[715,4.1094570000000004E-3,1.4840000000000001E-3,0,{"$f":"IF(AND('Input - Output'!A365>=360,'Input - Output'!A365<=830),'Input - Output'!A365,831)","v":831},{"$f":"IF(E364<>\"\",'Input - Output'!B365,\"\")","v":0},0,0,0,0,0]
[716,3.833913E-3,1.384496E-3,0,{"$f":"IF(AND('Input - Output'!A366>=360,'Input - Output'!A366<=830),'Input - Output'!A366,831)","v":831},{"$f":"IF(E365<>\"\",'Input - Output'!B366,\"\")","v":0},0,0,0,0,0]
[717,3.5757480000000001E-3,1.2912679999999999E-3,0,{"$f":"IF(AND('Input - Output'!A367>=360,'Input - Output'!A367<=830),'Input - Output'!A367,831)","v":831},{"$f":"IF(E366<>\"\",'Input - Output'!B367,\"\")","v":0},0,0,0,0,0]
[718,3.3343420000000001E-3,1.2040919999999999E-3,0,{"$f":"IF(AND('Input - Output'!A368>=360,'Input - Output'!A368<=830),'Input - Output'!A368,831)","v":831},{"$f":"IF(E367<>\"\",'Input - Output'!B368,\"\")","v":0},0,0,0,0,0]
[719,3.1090750000000002E-3,1.122744E-3,0,{"$f":"IF(AND('Input - Output'!A369>=360,'Input - Output'!A369<=830),'Input - Output'!A369,831)","v":831},{"$f":"IF(E368<>\"\",'Input - Output'!B369,\"\")","v":0},0,0,0,0,0]
[720,2.8993270000000002E-3,1.047E-3,0,{"$f":"IF(AND('Input - Output'!A370>=360,'Input - Output'!A370<=830),'Input - Output'!A370,831)","v":831},{"$f":"IF(E369<>\"\",'Input - Output'!B370,\"\")","v":0},0,0,0,0,0]
[721,2.7043480000000001E-3,9.7658959999999992E-4,0,{"$f":"IF(AND('Input - Output'!A371>=360,'Input - Output'!A371<=830),'Input - Output'!A371,831)","v":831},{"$f":"IF(E370<>\"\",'Input - Output'!B371,\"\")","v":0},0,0,0,0,0]
[722,2.52302E-3,9.1110880000000005E-4,0,{"$f":"IF(AND('Input - Output'!A372>=360,'Input - Output'!A372<=830),'Input - Output'!A372,831)","v":831},{"$f":"IF(E371<>\"\",'Input - Output'!B372,\"\")","v":0},0,0,0,0,0]
[723,2.3541679999999998E-3,8.5013319999999995E-4,0,{"$f":"IF(AND('Input - Output'!A373>=360,'Input - Output'!A373<=830),'Input - Output'!A373,831)","v":831},{"$f":"IF(E372<>\"\",'Input - Output'!B373,\"\")","v":0},0,0,0,0,0]
[724,2.1966160000000002E-3,7.9323839999999996E-4,0,{"$f":"IF(AND('Input - Output'!A374>=360,'Input - Output'!A374<=830),'Input - Output'!A374,831)","v":831},{"$f":"IF(E373<>\"\",'Input - Output'!B374,\"\")","v":0},0,0,0,0,0]
[725,2.0491900000000002E-3,7.3999999999999999E-4,0,{"$f":"IF(AND('Input - Output'!A375>=360,'Input - Output'!A375<=830),'Input - Output'!A375,831)","v":831},{"$f":"IF(E374<>\"\",'Input - Output'!B375,\"\")","v":0},0,0,0,0,0]
[726,1.91096E-3,6.9008269999999998E-4,0,{"$f":"IF(AND('Input - Output'!A376>=360,'Input - Output'!A376<=830),'Input - Output'!A376,831)","v":831},{"$f":"IF(E375<>\"\",'Input - Output'!B376,\"\")","v":0},0,0,0,0,0]
[727,1.781438E-3,6.4331000000000002E-4,0,{"$f":"IF(AND('Input - Output'!A377>=360,'Input - Output'!A377<=830),'Input - Output'!A377,831)","v":831},{"$f":"IF(E376<>\"\",'Input - Output'!B377,\"\")","v":0},0,0,0,0,0]
[728,1.66011E-3,5.9949600000000003E-4,0,{"$f":"IF(AND('Input - Output'!A378>=360,'Input - Output'!A378<=830),'Input - Output'!A378,831)","v":831},{"$f":"IF(E377<>\"\",'Input - Output'!B378,\"\")","v":0},0,0,0,0,0]
[729,1.546459E-3,5.5845470000000003E-4,0,{"$f":"IF(AND('Input - Output'!A379>=360,'Input - Output'!A379<=830),'Input - Output'!A379,831)","v":831},{"$f":"IF(E378<>\"\",'Input - Output'!B379,\"\")","v":0},0,0,0,0,0]
[730,1.439971E-3,5.1999999999999995E-4,0,{"$f":"IF(AND('Input - Output'!A380>=360,'Input - Output'!A380<=830),'Input - Output'!A380,831)","v":831},{"$f":"IF(E379<>\"\",'Input - Output'!B380,\"\")","v":0},0,0,0,0,0]
[731,1.3400420000000001E-3,4.8391359999999997E-4,0,{"$f":"IF(AND('Input - Output'!A381>=360,'Input - Output'!A381<=830),'Input - Output'!A381,831)","v":831},{"$f":"IF(E380<>\"\",'Input - Output'!B381,\"\")","v":0},0,0,0,0,0]
[732,1.246275E-3,4.500528E-4,0,{"$f":"IF(AND('Input - Output'!A382>=360,'Input - Output'!A382<=830),'Input - Output'!A382,831)","v":831},{"$f":"IF(E381<>\"\",'Input - Output'!B382,\"\")","v":0},0,0,0,0,0]
[733,1.1584709999999999E-3,4.1834519999999999E-4,0,{"$f":"IF(AND('Input - Output'!A383>=360,'Input - Output'!A383<=830),'Input - Output'!A383,831)","v":831},{"$f":"IF(E382<>\"\",'Input - Output'!B383,\"\")","v":0},0,0,0,0,0]
[734,1.07643E-3,3.887184E-4,0,{"$f":"IF(AND('Input - Output'!A384>=360,'Input - Output'!A384<=830),'Input - Output'!A384,831)","v":831},{"$f":"IF(E383<>\"\",'Input - Output'!B384,\"\")","v":0},0,0,0,0,0]
[735,9.9994930000000008E-4,3.611E-4,0,{"$f":"IF(AND('Input - Output'!A385>=360,'Input - Output'!A385<=830),'Input - Output'!A385,831)","v":831},{"$f":"IF(E384<>\"\",'Input - Output'!B385,\"\")","v":0},0,0,0,0,0]
[736,9.2873580000000003E-4,3.3538349999999998E-4,0,{"$f":"IF(AND('Input - Output'!A386>=360,'Input - Output'!A386<=830),'Input - Output'!A386,831)","v":831},{"$f":"IF(E385<>\"\",'Input - Output'!B386,\"\")","v":0},0,0,0,0,0]
[737,8.6243319999999997E-4,3.1144039999999999E-4,0,{"$f":"IF(AND('Input - Output'!A387>=360,'Input - Output'!A387<=830),'Input - Output'!A387,831)","v":831},{"$f":"IF(E386<>\"\",'Input - Output'!B387,\"\")","v":0},0,0,0,0,0]
[738,8.0075030000000002E-4,2.8916560000000002E-4,0,{"$f":"IF(AND('Input - Output'!A388>=360,'Input - Output'!A388<=830),'Input - Output'!A388,831)","v":831},{"$f":"IF(E387<>\"\",'Input - Output'!B388,\"\")","v":0},0,0,0,0,0]
[739,7.4339600000000001E-4,2.6845390000000002E-4,0,{"$f":"IF(AND('Input - Output'!A389>=360,'Input - Output'!A389<=830),'Input - Output'!A389,831)","v":831},{"$f":"IF(E388<>\"\",'Input - Output'!B389,\"\")","v":0},0,0,0,0,0]
[740,6.9007859999999999E-4,2.4919999999999999E-4,0,{"$f":"IF(AND('Input - Output'!A390>=360,'Input - Output'!A390<=830),'Input - Output'!A390,831)","v":831},{"$f":"IF(E389<>\"\",'Input - Output'!B390,\"\")","v":0},0,0,0,0,0]
[741,6.4051560000000002E-4,2.3130190000000001E-4,0,{"$f":"IF(AND('Input - Output'!A391>=360,'Input - Output'!A391<=830),'Input - Output'!A391,831)","v":831},{"$f":"IF(E390<>\"\",'Input - Output'!B391,\"\")","v":0},0,0,0,0,0]
[742,5.9450210000000004E-4,2.1468560000000001E-4,0,{"$f":"IF(AND('Input - Output'!A392>=360,'Input - Output'!A392<=830),'Input - Output'!A392,831)","v":831},{"$f":"IF(E391<>\"\",'Input - Output'!B392,\"\")","v":0},0,0,0,0,0]
[743,5.5186459999999999E-4,1.9928839999999999E-4,0,{"$f":"IF(AND('Input - Output'!A393>=360,'Input - Output'!A393<=830),'Input - Output'!A393,831)","v":831},{"$f":"IF(E392<>\"\",'Input - Output'!B393,\"\")","v":0},0,0,0,0,0]
[744,5.1242900000000001E-4,1.8504750000000001E-4,0,{"$f":"IF(AND('Input - Output'!A394>=360,'Input - Output'!A394<=830),'Input - Output'!A394,831)","v":831},{"$f":"IF(E393<>\"\",'Input - Output'!B394,\"\")","v":0},0,{"$f":"IF($E393<>0,TREND(OFFSET(B$9,MATCH($E393,$A$9:$A$480)-1,,2),OFFSET($A$9,MATCH($E393,$A$9:$A$480)-1,,2),$E393),0)","v":0},{"$f":"IF($E393<>0,TREND(OFFSET(C$9,MATCH($E393,$A$9:$A$480)-1,,2),OFFSET($A$9,MATCH($E393,$A$9:$A$480)-1,,2),$E393),0)","v":0},{"$f":"IF($E393<>0,TREND(OFFSET(D$9,MATCH($E393,$A$9:$A$480)-1,,2),OFFSET($A$9,MATCH($E393,$A$9:$A$480)-1,,2),$E393),0)","v":0},0]
[745,4.7602130000000002E-4,1.719E-4,0,{"$f":"IF(AND('Input - Output'!A395>=360,'Input - Output'!A395<=830),'Input - Output'!A395,831)","v":831},{"$f":"IF(E394<>\"\",'Input - Output'!B395,\"\")","v":0},{"$f":"IF(F394<>0,F394/$F$6,0)","v":0},0,0,0,{"$f":"G394/$K$7","v":0}]
[746,4.4245359999999997E-4,1.5977809999999999E-4,0,{"$f":"IF(AND('Input - Output'!A396>=360,'Input - Output'!A396<=830),'Input - Output'!A396,831)","v":831},{"$f":"IF(E395<>\"\",'Input - Output'!B396,\"\")","v":0},0,0,0,0,0]
[747,4.1151170000000001E-4,1.4860439999999999E-4,0,{"$f":"IF(AND('Input - Output'!A397>=360,'Input - Output'!A397<=830),'Input - Output'!A397,831)","v":831},{"$f":"IF(E396<>\"\",'Input - Output'!B397,\"\")","v":0},0,0,0,0,0]
[748,3.8298139999999999E-4,1.383016E-4,0,{"$f":"IF(AND('Input - Output'!A398>=360,'Input - Output'!A398<=830),'Input - Output'!A398,831)","v":831},{"$f":"IF(E397<>\"\",'Input - Output'!B398,\"\")","v":0},0,0,0,0,0]
[749,3.5664909999999999E-4,1.287925E-4,0,{"$f":"IF(AND('Input - Output'!A399>=360,'Input - Output'!A399<=830),'Input - Output'!A399,831)","v":831},{"$f":"IF(E398<>\"\",'Input - Output'!B399,\"\")","v":0},0,0,0,0,0]
[750,3.323011E-4,1.2E-4,0,{"$f":"IF(AND('Input - Output'!A400>=360,'Input - Output'!A400<=830),'Input - Output'!A400,831)","v":831},{"$f":"IF(E399<>\"\",'Input - Output'!B400,\"\")","v":0},0,0,0,0,0]
[751,3.0975860000000003E-4,1.118595E-4,0,{"$f":"IF(AND('Input - Output'!A401>=360,'Input - Output'!A401<=830),'Input - Output'!A401,831)","v":831},{"$f":"IF(E400<>\"\",'Input - Output'!B401,\"\")","v":0},0,0,0,0,0]
[752,2.8888710000000002E-4,1.043224E-4,0,{"$f":"IF(AND('Input - Output'!A402>=360,'Input - Output'!A402<=830),'Input - Output'!A402,831)","v":831},{"$f":"IF(E401<>\"\",'Input - Output'!B402,\"\")","v":0},0,0,0,0,0]
[753,2.6953939999999998E-4,9.7335600000000004E-5,0,{"$f":"IF(AND('Input - Output'!A403>=360,'Input - Output'!A403<=830),'Input - Output'!A403,831)","v":831},{"$f":"IF(E402<>\"\",'Input - Output'!B403,\"\")","v":0},0,0,0,0,0]
[754,2.5156819999999999E-4,9.0845869999999995E-5,0,{"$f":"IF(AND('Input - Output'!A404>=360,'Input - Output'!A404<=830),'Input - Output'!A404,831)","v":831},{"$f":"IF(E403<>\"\",'Input - Output'!B404,\"\")","v":0},0,0,0,0,0]
[755,2.348261E-4,8.4800000000000001E-5,0,{"$f":"IF(AND('Input - Output'!A405>=360,'Input - Output'!A405<=830),'Input - Output'!A405,831)","v":831},{"$f":"IF(E404<>\"\",'Input - Output'!B405,\"\")","v":0},0,0,0,0,0]
[756,2.1917099999999999E-4,7.9146669999999997E-5,0,{"$f":"IF(AND('Input - Output'!A406>=360,'Input - Output'!A406<=830),'Input - Output'!A406,831)","v":831},{"$f":"IF(E405<>\"\",'Input - Output'!B406,\"\")","v":0},0,0,0,0,0]
[757,2.045258E-4,7.3857999999999997E-5,0,{"$f":"IF(AND('Input - Output'!A407>=360,'Input - Output'!A407<=830),'Input - Output'!A407,831)","v":831},{"$f":"IF(E406<>\"\",'Input - Output'!B407,\"\")","v":0},0,0,0,0,0]
[758,1.9084049999999999E-4,6.8916000000000002E-5,0,{"$f":"IF(AND('Input - Output'!A408>=360,'Input - Output'!A408<=830),'Input - Output'!A408,831)","v":831},{"$f":"IF(E407<>\"\",'Input - Output'!B408,\"\")","v":0},0,0,0,0,0]
[759,1.7806540000000001E-4,6.4302670000000001E-5,0,{"$f":"IF(AND('Input - Output'!A409>=360,'Input - Output'!A409<=830),'Input - Output'!A409,831)","v":831},{"$f":"IF(E408<>\"\",'Input - Output'!B409,\"\")","v":0},0,0,0,0,0]
[760,1.6615050000000001E-4,6.0000000000000002E-5,0,{"$f":"IF(AND('Input - Output'!A410>=360,'Input - Output'!A410<=830),'Input - Output'!A410,831)","v":831},{"$f":"IF(E409<>\"\",'Input - Output'!B410,\"\")","v":0},0,0,0,0,0]
[761,1.550236E-4,5.5981869999999998E-5,0,{"$f":"IF(AND('Input - Output'!A411>=360,'Input - Output'!A411<=830),'Input - Output'!A411,831)","v":831},{"$f":"IF(E410<>\"\",'Input - Output'!B411,\"\")","v":0},0,0,0,0,0]
[762,1.4462190000000001E-4,5.2225599999999997E-5,0,{"$f":"IF(AND('Input - Output'!A412>=360,'Input - Output'!A412<=830),'Input - Output'!A412,831)","v":831},{"$f":"IF(E411<>\"\",'Input - Output'!B412,\"\")","v":0},0,0,0,0,0]
[763,1.3490980000000001E-4,4.8718399999999998E-5,0,{"$f":"IF(AND('Input - Output'!A413>=360,'Input - Output'!A413<=830),'Input - Output'!A413,831)","v":831},{"$f":"IF(E412<>\"\",'Input - Output'!B413,\"\")","v":0},0,0,0,0,0]
[764,1.25852E-4,4.5447469999999999E-5,0,{"$f":"IF(AND('Input - Output'!A414>=360,'Input - Output'!A414<=830),'Input - Output'!A414,831)","v":831},{"$f":"IF(E413<>\"\",'Input - Output'!B414,\"\")","v":0},0,0,0,0,0]
[765,1.17413E-4,4.2400000000000001E-5,0,{"$f":"IF(AND('Input - Output'!A415>=360,'Input - Output'!A415<=830),'Input - Output'!A415,831)","v":831},{"$f":"IF(E414<>\"\",'Input - Output'!B415,\"\")","v":0},0,0,0,0,0]
[766,1.095515E-4,3.9561039999999999E-5,0,{"$f":"IF(AND('Input - Output'!A416>=360,'Input - Output'!A416<=830),'Input - Output'!A416,831)","v":831},{"$f":"IF(E415<>\"\",'Input - Output'!B416,\"\")","v":0},0,0,0,0,0]
[767,1.022245E-4,3.6915120000000003E-5,0,{"$f":"IF(AND('Input - Output'!A417>=360,'Input - Output'!A417<=830),'Input - Output'!A417,831)","v":831},{"$f":"IF(E416<>\"\",'Input - Output'!B417,\"\")","v":0},0,0,0,0,0]
[768,9.5394450000000006E-5,3.444868E-5,0,{"$f":"IF(AND('Input - Output'!A418>=360,'Input - Output'!A418<=830),'Input - Output'!A418,831)","v":831},{"$f":"IF(E417<>\"\",'Input - Output'!B418,\"\")","v":0},0,0,0,0,0]
[769,8.90239E-5,3.2148160000000002E-5,0,{"$f":"IF(AND('Input - Output'!A419>=360,'Input - Output'!A419<=830),'Input - Output'!A419,831)","v":831},{"$f":"IF(E418<>\"\",'Input - Output'!B419,\"\")","v":0},0,0,0,0,0]
[770,8.3075270000000005E-5,3.0000000000000001E-5,0,{"$f":"IF(AND('Input - Output'!A420>=360,'Input - Output'!A420<=830),'Input - Output'!A420,831)","v":831},{"$f":"IF(E419<>\"\",'Input - Output'!B420,\"\")","v":0},0,0,0,0,0]
[771,7.7512689999999993E-5,2.7991250000000001E-5,0,{"$f":"IF(AND('Input - Output'!A421>=360,'Input - Output'!A421<=830),'Input - Output'!A421,831)","v":831},{"$f":"IF(E420<>\"\",'Input - Output'!B421,\"\")","v":0},0,0,0,0,0]
[772,7.231304E-5,2.6113560000000001E-5,0,{"$f":"IF(AND('Input - Output'!A422>=360,'Input - Output'!A422<=830),'Input - Output'!A422,831)","v":831},{"$f":"IF(E421<>\"\",'Input - Output'!B422,\"\")","v":0},0,0,0,0,0]
[773,6.7457780000000002E-5,2.436024E-5,0,{"$f":"IF(AND('Input - Output'!A423>=360,'Input - Output'!A423<=830),'Input - Output'!A423,831)","v":831},{"$f":"IF(E422<>\"\",'Input - Output'!B423,\"\")","v":0},0,0,0,0,0]
[774,6.2928439999999995E-5,2.272461E-5,0,{"$f":"IF(AND('Input - Output'!A424>=360,'Input - Output'!A424<=830),'Input - Output'!A424,831)","v":831},{"$f":"IF(E423<>\"\",'Input - Output'!B424,\"\")","v":0},0,0,0,0,0]
[775,5.8706519999999999E-5,2.12E-5,0,{"$f":"IF(AND('Input - Output'!A425>=360,'Input - Output'!A425<=830),'Input - Output'!A425,831)","v":831},{"$f":"IF(E424<>\"\",'Input - Output'!B425,\"\")","v":0},0,0,0,0,0]
[776,5.4770279999999998E-5,1.9778550000000001E-5,0,{"$f":"IF(AND('Input - Output'!A426>=360,'Input - Output'!A426<=830),'Input - Output'!A426,831)","v":831},{"$f":"IF(E425<>\"\",'Input - Output'!B426,\"\")","v":0},0,0,0,0,0]
[777,5.1099179999999999E-5,1.8452850000000001E-5,0,{"$f":"IF(AND('Input - Output'!A427>=360,'Input - Output'!A427<=830),'Input - Output'!A427,831)","v":831},{"$f":"IF(E426<>\"\",'Input - Output'!B427,\"\")","v":0},0,0,0,0,0]
[778,4.7676539999999999E-5,1.7216869999999999E-5,0,{"$f":"IF(AND('Input - Output'!A428>=360,'Input - Output'!A428<=830),'Input - Output'!A428,831)","v":831},{"$f":"IF(E427<>\"\",'Input - Output'!B428,\"\")","v":0},0,0,0,0,0]
[779,4.4485669999999998E-5,1.6064590000000001E-5,0,{"$f":"IF(AND('Input - Output'!A429>=360,'Input - Output'!A429<=830),'Input - Output'!A429,831)","v":831},{"$f":"IF(E428<>\"\",'Input - Output'!B429,\"\")","v":0},0,0,0,0,0]
[780,4.1509940000000003E-5,1.499E-5,0,{"$f":"IF(AND('Input - Output'!A430>=360,'Input - Output'!A430<=830),'Input - Output'!A430,831)","v":831},{"$f":"IF(E429<>\"\",'Input - Output'!B430,\"\")","v":0},0,0,0,0,0]
[781,3.873324E-5,1.3987279999999999E-5,0,{"$f":"IF(AND('Input - Output'!A431>=360,'Input - Output'!A431<=830),'Input - Output'!A431,831)","v":831},{"$f":"IF(E430<>\"\",'Input - Output'!B431,\"\")","v":0},0,0,0,0,0]
[782,3.6142030000000003E-5,1.305155E-5,0,{"$f":"IF(AND('Input - Output'!A432>=360,'Input - Output'!A432<=830),'Input - Output'!A432,831)","v":831},{"$f":"IF(E431<>\"\",'Input - Output'!B432,\"\")","v":0},0,0,0,0,0]
[783,3.3723519999999998E-5,1.217818E-5,0,{"$f":"IF(AND('Input - Output'!A433>=360,'Input - Output'!A433<=830),'Input - Output'!A433,831)","v":831},{"$f":"IF(E432<>\"\",'Input - Output'!B433,\"\")","v":0},0,0,0,0,0]
[784,3.1464870000000002E-5,1.1362539999999999E-5,0,{"$f":"IF(AND('Input - Output'!A434>=360,'Input - Output'!A434<=830),'Input - Output'!A434,831)","v":831},{"$f":"IF(E433<>\"\",'Input - Output'!B434,\"\")","v":0},0,0,0,0,0]
[785,2.935326E-5,1.06E-5,0,{"$f":"IF(AND('Input - Output'!A435>=360,'Input - Output'!A435<=830),'Input - Output'!A435,831)","v":831},{"$f":"IF(E434<>\"\",'Input - Output'!B435,\"\")","v":0},0,0,0,0,0]
[786,2.7375730000000002E-5,9.8858770000000001E-6,0,{"$f":"IF(AND('Input - Output'!A436>=360,'Input - Output'!A436<=830),'Input - Output'!A436,831)","v":831},{"$f":"IF(E435<>\"\",'Input - Output'!B436,\"\")","v":0},0,0,0,0,0]
[787,2.5524330000000001E-5,9.2173039999999999E-6,0,{"$f":"IF(AND('Input - Output'!A437>=360,'Input - Output'!A437<=830),'Input - Output'!A437,831)","v":831},{"$f":"IF(E436<>\"\",'Input - Output'!B437,\"\")","v":0},0,0,0,0,0]
[788,2.379376E-5,8.5923620000000003E-6,0,{"$f":"IF(AND('Input - Output'!A438>=360,'Input - Output'!A438<=830),'Input - Output'!A438,831)","v":831},{"$f":"IF(E437<>\"\",'Input - Output'!B438,\"\")","v":0},0,0,0,0,0]
[789,2.2178700000000002E-5,8.0091329999999995E-6,0,{"$f":"IF(AND('Input - Output'!A439>=360,'Input - Output'!A439<=830),'Input - Output'!A439,831)","v":831},{"$f":"IF(E438<>\"\",'Input - Output'!B439,\"\")","v":0},0,0,0,0,0]
[790,2.0673830000000001E-5,7.4657000000000004E-6,0,{"$f":"IF(AND('Input - Output'!A440>=360,'Input - Output'!A440<=830),'Input - Output'!A440,831)","v":831},{"$f":"IF(E439<>\"\",'Input - Output'!B440,\"\")","v":0},0,0,0,0,0]
[791,1.9272259999999999E-5,6.959567E-6,0,{"$f":"IF(AND('Input - Output'!A441>=360,'Input - Output'!A441<=830),'Input - Output'!A441,831)","v":831},{"$f":"IF(E440<>\"\",'Input - Output'!B441,\"\")","v":0},0,0,0,0,0]
[792,1.7966400000000001E-5,6.487995E-6,0,{"$f":"IF(AND('Input - Output'!A442>=360,'Input - Output'!A442<=830),'Input - Output'!A442,831)","v":831},{"$f":"IF(E441<>\"\",'Input - Output'!B442,\"\")","v":0},0,0,0,0,0]
[793,1.6749910000000001E-5,6.048699E-6,0,{"$f":"IF(AND('Input - Output'!A443>=360,'Input - Output'!A443<=830),'Input - Output'!A443,831)","v":831},{"$f":"IF(E442<>\"\",'Input - Output'!B443,\"\")","v":0},0,0,0,0,0]
[794,1.5616480000000001E-5,5.6393959999999996E-6,0,{"$f":"IF(AND('Input - Output'!A444>=360,'Input - Output'!A444<=830),'Input - Output'!A444,831)","v":831},{"$f":"IF(E443<>\"\",'Input - Output'!B444,\"\")","v":0},0,0,0,0,0]
[795,1.455977E-5,5.2577999999999999E-6,0,{"$f":"IF(AND('Input - Output'!A445>=360,'Input - Output'!A445<=830),'Input - Output'!A445,831)","v":831},{"$f":"IF(E444<>\"\",'Input - Output'!B445,\"\")","v":0},0,0,0,0,0]
[796,1.357387E-5,4.9017710000000001E-6,0,{"$f":"IF(AND('Input - Output'!A446>=360,'Input - Output'!A446<=830),'Input - Output'!A446,831)","v":831},{"$f":"IF(E445<>\"\",'Input - Output'!B446,\"\")","v":0},0,0,0,0,0]
[797,1.2654359999999999E-5,4.5697200000000002E-6,0,{"$f":"IF(AND('Input - Output'!A447>=360,'Input - Output'!A447<=830),'Input - Output'!A447,831)","v":831},{"$f":"IF(E446<>\"\",'Input - Output'!B447,\"\")","v":0},0,0,0,0,0]
[798,1.179723E-5,4.2601939999999997E-6,0,{"$f":"IF(AND('Input - Output'!A448>=360,'Input - Output'!A448<=830),'Input - Output'!A448,831)","v":831},{"$f":"IF(E447<>\"\",'Input - Output'!B448,\"\")","v":0},0,0,0,0,0]
[799,1.0998440000000001E-5,3.9717389999999996E-6,0,{"$f":"IF(AND('Input - Output'!A449>=360,'Input - Output'!A449<=830),'Input - Output'!A449,831)","v":831},{"$f":"IF(E448<>\"\",'Input - Output'!B449,\"\")","v":0},0,0,0,0,0]
[800,1.0253980000000001E-5,3.7029000000000002E-6,0,{"$f":"IF(AND('Input - Output'!A450>=360,'Input - Output'!A450<=830),'Input - Output'!A450,831)","v":831},{"$f":"IF(E449<>\"\",'Input - Output'!B450,\"\")","v":0},0,0,0,0,0]
[801,9.5596459999999999E-6,3.4521630000000002E-6,0,{"$f":"IF(AND('Input - Output'!A451>=360,'Input - Output'!A451<=830),'Input - Output'!A451,831)","v":831},{"$f":"IF(E450<>\"\",'Input - Output'!B451,\"\")","v":0},0,0,0,0,0]
[802,8.9120440000000008E-6,3.2183019999999998E-6,0,{"$f":"IF(AND('Input - Output'!A452>=360,'Input - Output'!A452<=830),'Input - Output'!A452,831)","v":831},{"$f":"IF(E451<>\"\",'Input - Output'!B452,\"\")","v":0},0,0,0,0,0]
[803,8.308358E-6,3.0002999999999999E-6,0,{"$f":"IF(AND('Input - Output'!A453>=360,'Input - Output'!A453<=830),'Input - Output'!A453,831)","v":831},{"$f":"IF(E452<>\"\",'Input - Output'!B453,\"\")","v":0},0,0,0,0,0]
[804,7.7457689999999998E-6,2.7971389999999999E-6,0,{"$f":"IF(AND('Input - Output'!A454>=360,'Input - Output'!A454<=830),'Input - Output'!A454,831)","v":831},{"$f":"IF(E453<>\"\",'Input - Output'!B454,\"\")","v":0},0,0,0,0,0]
[805,7.2214559999999999E-6,2.6077999999999998E-6,0,{"$f":"IF(AND('Input - Output'!A455>=360,'Input - Output'!A455<=830),'Input - Output'!A455,831)","v":831},{"$f":"IF(E454<>\"\",'Input - Output'!B455,\"\")","v":0},0,0,0,0,0]
[806,6.7324750000000003E-6,2.4312199999999998E-6,0,{"$f":"IF(AND('Input - Output'!A456>=360,'Input - Output'!A456<=830),'Input - Output'!A456,831)","v":831},{"$f":"IF(E455<>\"\",'Input - Output'!B456,\"\")","v":0},0,0,0,0,0]
[807,6.2764230000000002E-6,2.266531E-6,0,{"$f":"IF(AND('Input - Output'!A457>=360,'Input - Output'!A457<=830),'Input - Output'!A457,831)","v":831},{"$f":"IF(E456<>\"\",'Input - Output'!B457,\"\")","v":0},0,0,0,0,0]
[808,5.8513040000000003E-6,2.1130130000000001E-6,0,{"$f":"IF(AND('Input - Output'!A458>=360,'Input - Output'!A458<=830),'Input - Output'!A458,831)","v":831},{"$f":"IF(E457<>\"\",'Input - Output'!B458,\"\")","v":0},0,{"$f":"IF($E457<>0,TREND(OFFSET(B$9,MATCH($E457,$A$9:$A$480)-1,,2),OFFSET($A$9,MATCH($E457,$A$9:$A$480)-1,,2),$E457),0)","v":0},{"$f":"IF($E457<>0,TREND(OFFSET(C$9,MATCH($E457,$A$9:$A$480)-1,,2),OFFSET($A$9,MATCH($E457,$A$9:$A$480)-1,,2),$E457),0)","v":0},{"$f":"IF($E457<>0,TREND(OFFSET(D$9,MATCH($E457,$A$9:$A$480)-1,,2),OFFSET($A$9,MATCH($E457,$A$9:$A$480)-1,,2),$E457),0)","v":0},0]
[809,5.4551179999999997E-6,1.9699430000000001E-6,0,{"$f":"IF(AND('Input - Output'!A459>=360,'Input - Output'!A459<=830),'Input - Output'!A459,831)","v":831},{"$f":"IF(E458<>\"\",'Input - Output'!B459,\"\")","v":0},{"$f":"IF(F458<>0,F458/$F$6,0)","v":0},0,0,0,{"$f":"G458/$K$7","v":0}]
[810,5.0858679999999998E-6,1.8365999999999999E-6,0,{"$f":"IF(AND('Input - Output'!A460>=360,'Input - Output'!A460<=830),'Input - Output'!A460,831)","v":831},{"$f":"IF(E459<>\"\",'Input - Output'!B460,\"\")","v":0},0,0,0,0,0]
[811,4.7414659999999997E-6,1.7122300000000001E-6,0,{"$f":"IF(AND('Input - Output'!A461>=360,'Input - Output'!A461<=830),'Input - Output'!A461,831)","v":831},{"$f":"IF(E460<>\"\",'Input - Output'!B461,\"\")","v":0},0,0,0,0,0]
[812,4.4202359999999998E-6,1.596228E-6,0,{"$f":"IF(AND('Input - Output'!A462>=360,'Input - Output'!A462<=830),'Input - Output'!A462,831)","v":831},{"$f":"IF(E461<>\"\",'Input - Output'!B462,\"\")","v":0},0,0,0,0,0]
[813,4.1207829999999997E-6,1.4880899999999999E-6,0,{"$f":"IF(AND('Input - Output'!A463>=360,'Input - Output'!A463<=830),'Input - Output'!A463,831)","v":831},{"$f":"IF(E462<>\"\",'Input - Output'!B463,\"\")","v":0},0,0,0,0,0]
[814,3.8417159999999996E-6,1.387314E-6,0,{"$f":"IF(AND('Input - Output'!A464>=360,'Input - Output'!A464<=830),'Input - Output'!A464,831)","v":831},{"$f":"IF(E463<>\"\",'Input - Output'!B464,\"\")","v":0},0,0,0,0,0]
[815,3.5816519999999999E-6,1.2934E-6,0,{"$f":"IF(AND('Input - Output'!A465>=360,'Input - Output'!A465<=830),'Input - Output'!A465,831)","v":831},{"$f":"IF(E464<>\"\",'Input - Output'!B465,\"\")","v":0},0,0,0,0,0]
[816,3.339127E-6,1.2058200000000001E-6,0,{"$f":"IF(AND('Input - Output'!A466>=360,'Input - Output'!A466<=830),'Input - Output'!A466,831)","v":831},{"$f":"IF(E465<>\"\",'Input - Output'!B466,\"\")","v":0},0,0,0,0,0]
[817,3.1129490000000002E-6,1.1241430000000001E-6,0,{"$f":"IF(AND('Input - Output'!A467>=360,'Input - Output'!A467<=830),'Input - Output'!A467,831)","v":831},{"$f":"IF(E466<>\"\",'Input - Output'!B467,\"\")","v":0},0,0,0,0,0]
[818,2.9021210000000001E-6,1.048009E-6,0,{"$f":"IF(AND('Input - Output'!A468>=360,'Input - Output'!A468<=830),'Input - Output'!A468,831)","v":831},{"$f":"IF(E467<>\"\",'Input - Output'!B468,\"\")","v":0},0,0,0,0,0]
[819,2.7056450000000002E-6,9.7705779999999995E-7,0,{"$f":"IF(AND('Input - Output'!A469>=360,'Input - Output'!A469<=830),'Input - Output'!A469,831)","v":831},{"$f":"IF(E468<>\"\",'Input - Output'!B469,\"\")","v":0},0,0,0,0,0]
[820,2.522525E-6,9.1093000000000002E-7,0,{"$f":"IF(AND('Input - Output'!A470>=360,'Input - Output'!A470<=830),'Input - Output'!A470,831)","v":831},{"$f":"IF(E469<>\"\",'Input - Output'!B470,\"\")","v":0},0,0,0,0,0]
[821,2.3517260000000002E-6,8.4925130000000002E-7,0,{"$f":"IF(AND('Input - Output'!A471>=360,'Input - Output'!A471<=830),'Input - Output'!A471,831)","v":831},{"$f":"IF(E470<>\"\",'Input - Output'!B471,\"\")","v":0},0,0,0,0,0]
[822,2.1924150000000002E-6,7.9172120000000001E-7,0,{"$f":"IF(AND('Input - Output'!A472>=360,'Input - Output'!A472<=830),'Input - Output'!A472,831)","v":831},{"$f":"IF(E471<>\"\",'Input - Output'!B472,\"\")","v":0},0,0,0,0,0]
[823,2.0439020000000001E-6,7.3809039999999998E-7,0,{"$f":"IF(AND('Input - Output'!A473>=360,'Input - Output'!A473<=830),'Input - Output'!A473,831)","v":831},{"$f":"IF(E472<>\"\",'Input - Output'!B473,\"\")","v":0},0,0,0,0,0]
[824,1.9054969999999999E-6,6.881098E-7,0,{"$f":"IF(AND('Input - Output'!A474>=360,'Input - Output'!A474<=830),'Input - Output'!A474,831)","v":831},{"$f":"IF(E473<>\"\",'Input - Output'!B474,\"\")","v":0},0,0,0,0,0]
[825,1.7765090000000001E-6,6.4153E-7,0,{"$f":"IF(AND('Input - Output'!A475>=360,'Input - Output'!A475<=830),'Input - Output'!A475,831)","v":831},{"$f":"IF(E474<>\"\",'Input - Output'!B475,\"\")","v":0},0,0,0,0,0]
[826,1.6562149999999999E-6,5.9808949999999996E-7,0,{"$f":"IF(AND('Input - Output'!A476>=360,'Input - Output'!A476<=830),'Input - Output'!A476,831)","v":831},{"$f":"IF(E475<>\"\",'Input - Output'!B476,\"\")","v":0},0,0,0,0,0]
[827,1.5440219999999999E-6,5.5757460000000005E-7,0,{"$f":"IF(AND('Input - Output'!A477>=360,'Input - Output'!A477<=830),'Input - Output'!A477,831)","v":831},{"$f":"IF(E476<>\"\",'Input - Output'!B477,\"\")","v":0},0,0,0,0,0]
[828,1.43944E-6,5.1980799999999999E-7,0,{"$f":"IF(AND('Input - Output'!A478>=360,'Input - Output'!A478<=830),'Input - Output'!A478,831)","v":831},{"$f":"IF(E477<>\"\",'Input - Output'!B478,\"\")","v":0},0,0,0,0,0]
[829,1.341977E-6,4.8461230000000003E-7,0,{"$f":"IF(AND('Input - Output'!A479>=360,'Input - Output'!A479<=830),'Input - Output'!A479,831)","v":831},{"$f":"IF(E478<>\"\",'Input - Output'!B479,\"\")","v":0},0,0,0,0,0]
[830,1.251141E-6,4.5181000000000002E-7,0,{"$f":"IF(AND('Input - Output'!A480>=360,'Input - Output'!A480<=830),'Input - Output'!A480,831)","v":831},{"$f":"IF(E479<>\"\",'Input - Output'!B480,\"\")","v":0},{"$f":"IF(F479<>0,F479/$F$6,0)","v":0},{"$f":"IF($E479<>0,TREND(OFFSET(B$9,MATCH($E479,$A$9:$A$480)-1,,2),OFFSET($A$9,MATCH($E479,$A$9:$A$480)-1,,2),$E479),0)","v":0},{"$f":"IF($E479<>0,TREND(OFFSET(C$9,MATCH($E479,$A$9:$A$480)-1,,2),OFFSET($A$9,MATCH($E479,$A$9:$A$480)-1,,2),$E479),0)","v":0},{"$f":"IF($E479<>0,TREND(OFFSET(D$9,MATCH($E479,$A$9:$A$480)-1,,2),OFFSET($A$9,MATCH($E479,$A$9:$A$480)-1,,2),$E479),0)","v":0},0]
[831,0,0,0]
[832,0,0,0]
[833,0,0,0]
[834,0,0,0]
[835,0,0,0]

{"sheet":"Reference","index":8,"n_rows":479,"n_cols":9,"rows_kept":479,"cut":false,"hidden":true,"merged":[[1,2,2,4],[0,2,0,4]]}
[null,{"$f":"IF('CIE1931 1-nm'!J5>0,'CIE1931 1-nm'!J5,998)","v":5455},"CCT test source"]
[null,{"$f":"3.741771E-16*0.000000000001","v":3.7417709999999996E-28},"Constants for Planckian Locus"]
[null,1.4388E-2]
[null,0.93583085412543043]
["X",null,{"$f":"SUMPRODUCT($C$9:$C$479,'CIE1931 1-nm'!$B$9:$B$479)","v":95.738409730923323},"x","y","CCT","Duv"]
["Y",{"$f":"IF(B1<5000,SUMPRODUCT(B9:B479,'CIE1931 1-nm'!C9:C479)/100,1)","v":1},{"$f":"SUMPRODUCT($C$9:$C$479,'CIE1931 1-nm'!$C$9:$C$479)","v":100.00000000000011},{"$f":"C5/SUM(C5:C7)","v":0.3335894254543012},{"$f":"C6/SUM(C5:C7)","v":0.3484384442898813},5454,3.2000000000000002E-3,"Y",{"$f":"IF(B1>=5000,SUMPRODUCT(I9:I479,'CIE1931 1-nm'!C9:C479)/100,1)","v":105.08570478575581}]
["Z",null,{"$f":"SUMPRODUCT($C$9:$C$479,'CIE1931 1-nm'!$D$9:$D$479)","v":91.256328188425428}]
["Wavelength (nm)","Planck's Law","Ref Illuminant","S0","S1","S2",null,null,"Illuminant D"]
[360,{"$f":"$B$2/((A9*0.000000001)^5)/(EXP($B$3/(A9*0.000000001*$B$1))-1)","v":40.732723893312986},{"$f":"IF('CIE1931 1-nm'!$J$5>0,IF($B$1<5000,B9/$B$6,I9/$I$6),$B$4)","v":0.28476703878497206},61.5,38,5.3,null,null,{"$f":"D9+E9*H$20+F9*H$21","v":29.924944970471447}]
[361,{"$f":"$B$2/((A10*0.000000001)^5)/(EXP($B$3/(A10*0.000000001*$B$1))-1)","v":40.995855680413619},{"$f":"IF('CIE1931 1-nm'!$J$5>0,IF($B$1<5000,B10/$B$6,I10/$I$6),$B$4)","v":0.28820694707877403},62.23,38.44,5.38,"4000-7000K",null,{"$f":"D10+E10*H$20+F10*H$21","v":30.286430157923995}]
[362,41.257652186098433,{"$f":"IF('CIE1931 1-nm'!$J$5>0,IF($B$1<5000,B11/$B$6,I11/$I$6),$B$4)","v":0.29164685537257601},62.96,38.880000000000003,5.46,"XD=",{"$f":"-4.607*10^9/B1^3+2.9678*10^6/B1^2+0.09911*10^3/B1+0.244063","v":0.33358467638366573},30.647915345376543]
[363,41.518095998528288,{"$f":"IF('CIE1931 1-nm'!$J$5>0,IF($B$1<5000,B12/$B$6,I12/$I$6),$B$4)","v":0.29508676366637804},63.690000000000005,39.32,5.54,null,null,31.009400532829098]
[364,41.777170102397207,{"$f":"IF('CIE1931 1-nm'!$J$5>0,IF($B$1<5000,B13/$B$6,I13/$I$6),$B$4)","v":0.29852667196018001},64.42,39.76,5.62,"7000-25000K",null,31.370885720281645]
[365,42.034857876816218,{"$f":"IF('CIE1931 1-nm'!$J$5>0,IF($B$1<5000,B14/$B$6,I14/$I$6),$B$4)","v":0.30196658025398193},65.150000000000006,40.200000000000003,5.7,"XD=",{"$f":"-2.0064*10^9/B1^3+1.9018*10^6/B1^2+0.24748*10^3/B1+0.23704","v":0.33395809079634475},31.732370907734186]
[366,42.291143093107742,{"$f":"IF('CIE1931 1-nm'!$J$5>0,IF($B$1<5000,B15/$B$6,I15/$I$6),$B$4)","v":0.30540648854778391},65.88,40.64,5.78,null,null,32.09385609518673]
[367,42.546009912514378,{"$f":"IF('CIE1931 1-nm'!$J$5>0,IF($B$1<5000,B16/$B$6,I16/$I$6),$B$4)","v":0.30884639684158588},66.61,41.08,5.86,"Automatic selection",null,32.455341282639282]
[368,42.799442883824497,{"$f":"IF('CIE1931 1-nm'!$J$5>0,IF($B$1<5000,B17/$B$6,I17/$I$6),$B$4)","v":0.31228630513538791},67.34,41.52,5.94,"XD=",{"$f":"IF(B1<7000,H11,H14)","v":0.33358467638366573},32.816826470091833]
[369,43.051426940918283,{"$f":"IF('CIE1931 1-nm'!$J$5>0,IF($B$1<5000,B18/$B$6,I18/$I$6),$B$4)","v":0.31572621342918977},68.069999999999993,41.96,6.02,"YD=",{"$f":"-3*H17^2+2.87*H17-0.275","v":0.34855181226713572},33.17831165754437]
[370,43.301947400237417,{"$f":"IF('CIE1931 1-nm'!$J$5>0,IF($B$1<5000,B19/$B$6,I19/$I$6),$B$4)","v":0.3191661217229918},68.8,42.4,6.1,null,null,33.539796844996921]
[371,43.550989958181887,{"$f":"IF('CIE1931 1-nm'!$J$5>0,IF($B$1<5000,B20/$B$6,I20/$I$6),$B$4)","v":0.31749098358544109},68.260000000000005,42.01,5.79,"M1=",{"$f":"(-1.3515-1.7703*H17+5.9114*H18)/(0.0241+0.2562*H17-0.7341*H18)","v":-0.80914674556608734},33.363763773198905]
[372,43.798540688436148,{"$f":"IF('CIE1931 1-nm'!$J$5>0,IF($B$1<5000,B21/$B$6,I21/$I$6),$B$4)","v":0.31581584544789015},67.72,41.62,5.48,"M2=",{"$f":"(0.03-31.4424*H17+30.0717*H18)/(0.0241+0.2562*H17-0.7341*H18)","v":-0.15612805622966705},33.187730701400866]
[373,44.044586039228356,{"$f":"IF('CIE1931 1-nm'!$J$5>0,IF($B$1<5000,B22/$B$6,I22/$I$6),$B$4)","v":0.31414070731033944},67.180000000000007,41.23,5.17,null,null,33.01169762960285]
[374,44.289112830525411,{"$f":"IF('CIE1931 1-nm'!$J$5>0,IF($B$1<5000,B23/$B$6,I23/$I$6),$B$4)","v":0.3124655691727885},66.64,40.840000000000003,4.8600000000000003,null,null,32.835664557804812]
[375,44.532108251167038,{"$f":"IF('CIE1931 1-nm'!$J$5>0,IF($B$1<5000,B24/$B$6,I24/$I$6),$B$4)","v":0.31079043103523757},66.099999999999994,40.450000000000003,4.55,null,null,32.659631486006774]
[376,44.773559855940597,{"$f":"IF('CIE1931 1-nm'!$J$5>0,IF($B$1<5000,B25/$B$6,I25/$I$6),$B$4)","v":0.3091152928976868},65.56,40.06,4.24,null,null,32.483598414208757]
[377,45.013455562601031,{"$f":"IF('CIE1931 1-nm'!$J$5>0,IF($B$1<5000,B26/$B$6,I26/$I$6),$B$4)","v":0.30744015476013592},65.02,39.67,3.93,null,null,32.307565342410719]
[378,45.25178364883773,{"$f":"IF('CIE1931 1-nm'!$J$5>0,IF($B$1<5000,B27/$B$6,I27/$I$6),$B$4)","v":0.30576501662258515},64.48,39.28,3.62,null,null,32.131532270612702]
[379,45.488532749190639,{"$f":"IF('CIE1931 1-nm'!$J$5>0,IF($B$1<5000,B28/$B$6,I28/$I$6),$B$4)","v":0.30408987848503416},63.94,38.89,3.31,null,null,31.955499198814657]
[380,45.723691851919469,{"$f":"IF('CIE1931 1-nm'!$J$5>0,IF($B$1<5000,B29/$B$6,I29/$I$6),$B$4)","v":0.30241474034748334},63.4,38.5,3,null,null,31.779466127016629]
[381,45.957250295827201,{"$f":"IF('CIE1931 1-nm'!$J$5>0,IF($B$1<5000,B30/$B$6,I30/$I$6),$B$4)","v":0.30766097638114226},63.64,38.15,2.82,null,null,32.330770538086107]
[382,46.189197767041236,{"$f":"IF('CIE1931 1-nm'!$J$5>0,IF($B$1<5000,B31/$B$6,I31/$I$6),$B$4)","v":0.31290721241480118},63.88,37.799999999999997,2.64,null,null,32.88207494915558]
[383,46.41952429575452,{"$f":"IF('CIE1931 1-nm'!$J$5>0,IF($B$1<5000,B32/$B$6,I32/$I$6),$B$4)","v":0.31815344844846005},64.12,37.450000000000003,2.46,null,null,33.433379360225054]
[384,46.648220252928731,{"$f":"IF('CIE1931 1-nm'!$J$5>0,IF($B$1<5000,B33/$B$6,I33/$I$6),$B$4)","v":0.32339968448211892},64.36,37.1,2.2799999999999998,null,null,33.98468377129452]
[385,46.875276346962174,{"$f":"IF('CIE1931 1-nm'!$J$5>0,IF($B$1<5000,B34/$B$6,I34/$I$6),$B$4)","v":0.32864592051577768},64.599999999999994,36.75,2.1,null,null,34.53598818236398]
[386,47.100683620324482,{"$f":"IF('CIE1931 1-nm'!$J$5>0,IF($B$1<5000,B35/$B$6,I35/$I$6),$B$4)","v":0.3338921565494366},64.84,36.4,1.92,null,null,35.08729259343346]
[387,47.324433446160398,{"$f":"IF('CIE1931 1-nm'!$J$5>0,IF($B$1<5000,B36/$B$6,I36/$I$6),$B$4)","v":0.33913839258309553},65.08,36.049999999999997,1.74,null,null,35.638597004502934]
[388,47.546517524864953,{"$f":"IF('CIE1931 1-nm'!$J$5>0,IF($B$1<5000,B37/$B$6,I37/$I$6),$B$4)","v":0.34438462861675428},65.319999999999993,35.700000000000003,1.56,null,null,36.189901415572393]
[389,47.766927880631897,{"$f":"IF('CIE1931 1-nm'!$J$5>0,IF($B$1<5000,B38/$B$6,I38/$I$6),$B$4)","v":0.34963086465041321},65.56,35.35,1.38,null,null,36.741205826641867]
[390,47.985656857977432,{"$f":"IF('CIE1931 1-nm'!$J$5>0,IF($B$1<5000,B39/$B$6,I39/$I$6),$B$4)","v":0.35487710068407208},65.8,35,1.2,null,null,37.29251023771134]
[391,48.202697118242007,{"$f":"IF('CIE1931 1-nm'!$J$5>0,IF($B$1<5000,B40/$B$6,I40/$I$6),$B$4)","v":0.37634744425989158},68.7,35.840000000000003,0.97,null,null,39.548736424368656]
[392,48.418041636071131,{"$f":"IF('CIE1931 1-nm'!$J$5>0,IF($B$1<5000,B41/$B$6,I41/$I$6),$B$4)","v":0.39781778783571092},71.599999999999994,36.68,0.74,null,null,41.804962611025957]
[393,48.631683695877243,{"$f":"IF('CIE1931 1-nm'!$J$5>0,IF($B$1<5000,B42/$B$6,I42/$I$6),$B$4)","v":0.41928813141153043},74.5,37.520000000000003,0.51,null,null,44.061188797683272]
[394,48.843616888285496,{"$f":"IF('CIE1931 1-nm'!$J$5>0,IF($B$1<5000,B43/$B$6,I43/$I$6),$B$4)","v":0.44075847498734988},77.400000000000006,38.36,0.28000000000000003,null,null,46.317414984340587]
[395,49.053835106564463,{"$f":"IF('CIE1931 1-nm'!$J$5>0,IF($B$1<5000,B44/$B$6,I44/$I$6),$B$4)","v":0.46222881856316927},80.3,39.200000000000003,0.05,null,null,48.573641170997888]
[396,49.262332543042888,{"$f":"IF('CIE1931 1-nm'!$J$5>0,IF($B$1<5000,B45/$B$6,I45/$I$6),$B$4)","v":0.48369916213898873},83.2,40.04,-0.18,null,null,50.829867357655203]
[397,49.469103685516245,{"$f":"IF('CIE1931 1-nm'!$J$5>0,IF($B$1<5000,B46/$B$6,I46/$I$6),$B$4)","v":0.50516950571480812},86.1,40.880000000000003,-0.41,null,null,53.086093544312504]
[398,49.67414331364234,{"$f":"IF('CIE1931 1-nm'!$J$5>0,IF($B$1<5000,B47/$B$6,I47/$I$6),$B$4)","v":0.52663984929062757},89,41.72,-0.64,null,null,55.34231973096982]
[399,49.877446495329394,{"$f":"IF('CIE1931 1-nm'!$J$5>0,IF($B$1<5000,B48/$B$6,I48/$I$6),$B$4)","v":0.54811019286644713},91.9,42.56,-0.87,null,null,57.598545917627142]
[400,50.079008583117535,{"$f":"IF('CIE1931 1-nm'!$J$5>0,IF($B$1<5000,B49/$B$6,I49/$I$6),$B$4)","v":0.56958053644226647},94.8,43.4,-1.1000000000000001,null,null,59.854772104284443]
[401,50.278825210554949,{"$f":"IF('CIE1931 1-nm'!$J$5>0,IF($B$1<5000,B50/$B$6,I50/$I$6),$B$4)","v":0.57677447173492413},95.8,43.69,-1.04,null,null,60.610751864696496]
[402,50.476892288570809,{"$f":"IF('CIE1931 1-nm'!$J$5>0,IF($B$1<5000,B51/$B$6,I51/$I$6),$B$4)","v":0.5839684070275819},96.8,43.98,-0.98,null,null,61.366731625108557]
[403,50.673206001845791,{"$f":"IF('CIE1931 1-nm'!$J$5>0,IF($B$1<5000,B52/$B$6,I52/$I$6),$B$4)","v":0.59116234232023945},97.8,44.27,-0.92,null,null,62.122711385520603]
[404,50.867762805182011,{"$f":"IF('CIE1931 1-nm'!$J$5>0,IF($B$1<5000,B53/$B$6,I53/$I$6),$B$4)","v":0.59835627761289711},98.8,44.56,-0.86,null,null,62.878691145932656]
[405,51.06055941987416,{"$f":"IF('CIE1931 1-nm'!$J$5>0,IF($B$1<5000,B54/$B$6,I54/$I$6),$B$4)","v":0.60555021290555477},99.8,44.85,-0.8,null,null,63.634670906344709]
[406,51.251592830081307,{"$f":"IF('CIE1931 1-nm'!$J$5>0,IF($B$1<5000,B55/$B$6,I55/$I$6),$B$4)","v":0.61274414819821243},100.8,45.14,-0.74,null,null,64.390650666756756]
[407,51.440860279203392,{"$f":"IF('CIE1931 1-nm'!$J$5>0,IF($B$1<5000,B56/$B$6,I56/$I$6),$B$4)","v":0.6199380834908701},101.8,45.43,-0.68,null,null,65.146630427168816]
[408,51.628359266261505,{"$f":"IF('CIE1931 1-nm'!$J$5>0,IF($B$1<5000,B57/$B$6,I57/$I$6),$B$4)","v":0.62713201878352787},102.8,45.72,-0.62,null,null,65.902610187580876]
[409,51.814087542283922,{"$f":"IF('CIE1931 1-nm'!$J$5>0,IF($B$1<5000,B58/$B$6,I58/$I$6),$B$4)","v":0.63432595407618564},103.8,46.01,-0.56000000000000005,null,null,66.658589947992937]
[410,51.998043106699001,{"$f":"IF('CIE1931 1-nm'!$J$5>0,IF($B$1<5000,B59/$B$6,I59/$I$6),$B$4)","v":0.64151988936884319},104.8,46.3,-0.5,null,null,67.414569708404983]
[411,52.180224203736195,{"$f":"IF('CIE1931 1-nm'!$J$5>0,IF($B$1<5000,B60/$B$6,I60/$I$6),$B$4)","v":0.64444433832873727},104.91,46.06,-0.52,null,null,67.721887488465427]
[412,52.360629318836111,{"$f":"IF('CIE1931 1-nm'!$J$5>0,IF($B$1<5000,B61/$B$6,I61/$I$6),$B$4)","v":0.64736878728863156},105.02,45.82,-0.54,null,null,68.029205268525885]
[413,52.539257175070503,{"$f":"IF('CIE1931 1-nm'!$J$5>0,IF($B$1<5000,B62/$B$6,I62/$I$6),$B$4)","v":0.65029323624852597},105.13,45.58,-0.56000000000000005,null,null,68.336523048586358]
[414,52.716106729573688,{"$f":"IF('CIE1931 1-nm'!$J$5>0,IF($B$1<5000,B63/$B$6,I63/$I$6),$B$4)","v":0.65321768520841994},105.24,45.34,-0.57999999999999996,null,null,68.643840828646788]
[415,52.891177169985774,{"$f":"IF('CIE1931 1-nm'!$J$5>0,IF($B$1<5000,B64/$B$6,I64/$I$6),$B$4)","v":0.65614213416831435},105.35,45.1,-0.6,null,null,68.95115860870726]
[416,53.064467910909059,{"$f":"IF('CIE1931 1-nm'!$J$5>0,IF($B$1<5000,B65/$B$6,I65/$I$6),$B$4)","v":0.65906658312820843},105.46,44.86,-0.62,null,null,69.258476388767704]
[417,53.235978590378316,{"$f":"IF('CIE1931 1-nm'!$J$5>0,IF($B$1<5000,B66/$B$6,I66/$I$6),$B$4)","v":0.66199103208810273},105.57,44.62,-0.64,null,null,69.565794168828162]
[418,53.405709066346162,{"$f":"IF('CIE1931 1-nm'!$J$5>0,IF($B$1<5000,B67/$B$6,I67/$I$6),$B$4)","v":0.66491548104799714},105.68,44.38,-0.66,null,null,69.873111948888635]
[419,53.573659413183755,{"$f":"IF('CIE1931 1-nm'!$J$5>0,IF($B$1<5000,B68/$B$6,I68/$I$6),$B$4)","v":0.66783993000789121},105.79,44.14,-0.68,null,null,70.180429728949079]
[420,53.739829918198055,{"$f":"IF('CIE1931 1-nm'!$J$5>0,IF($B$1<5000,B69/$B$6,I69/$I$6),$B$4)","v":0.67076437896778551},105.9,43.9,-0.7,null,null,70.487747509009537]
[421,53.904221078166408,{"$f":"IF('CIE1931 1-nm'!$J$5>0,IF($B$1<5000,B70/$B$6,I70/$I$6),$B$4)","v":0.66741498134114186},104.99,43.22,-0.75,null,null,70.135773698805949]
[422,54.066833595889122,{"$f":"IF('CIE1931 1-nm'!$J$5>0,IF($B$1<5000,B71/$B$6,I71/$I$6),$B$4)","v":0.66406558371449831},104.08,42.54,-0.8,null,null,69.783799888602374]
[423,54.227668376760647,{"$f":"IF('CIE1931 1-nm'!$J$5>0,IF($B$1<5000,B72/$B$6,I72/$I$6),$B$4)","v":0.66071618608785476},103.17,41.86,-0.85,null,null,69.431826078398799]
[424,54.386726525360061,{"$f":"IF('CIE1931 1-nm'!$J$5>0,IF($B$1<5000,B73/$B$6,I73/$I$6),$B$4)","v":0.65736678846121122},102.26,41.18,-0.9,null,null,69.079852268195225]
[425,{"$f":"$B$2/((A74*0.000000001)^5)/(EXP($B$3/(A74*0.000000001*$B$1))-1)","v":54.544009342062346},{"$f":"IF('CIE1931 1-nm'!$J$5>0,IF($B$1<5000,B74/$B$6,I74/$I$6),$B$4)","v":0.65401739083456745},101.35,40.5,-0.95,null,null,{"$f":"D74+E74*H$20+F74*H$21","v":68.727878457991636}]
[426,54.699518319668996,{"$f":"IF('CIE1931 1-nm'!$J$5>0,IF($B$1<5000,B75/$B$6,I75/$I$6),$B$4)","v":0.6506679932079239},100.44,39.82,-1,null,null,68.375904647788062]
[427,54.853255140061243,{"$f":"IF('CIE1931 1-nm'!$J$5>0,IF($B$1<5000,B76/$B$6,I76/$I$6),$B$4)","v":0.64731859558128035},99.53,39.14,-1.05,null,null,68.023930837584487]
[428,55.005221670874313,{"$f":"IF('CIE1931 1-nm'!$J$5>0,IF($B$1<5000,B77/$B$6,I77/$I$6),$B$4)","v":0.64396919795463703},98.62,38.46,-1.1000000000000001,null,null,67.671957027380927]
[429,55.155419962194408,{"$f":"IF('CIE1931 1-nm'!$J$5>0,IF($B$1<5000,B78/$B$6,I78/$I$6),$B$4)","v":0.64061980032799337},97.71,37.78,-1.1499999999999999,null,null,67.319983217177338]
[430,55.30385224327857,{"$f":"IF('CIE1931 1-nm'!$J$5>0,IF($B$1<5000,B79/$B$6,I79/$I$6),$B$4)","v":0.63727040270134983},96.8,37.1,-1.2,null,null,66.968009406973763]
[431,55.450520919298164,{"$f":"IF('CIE1931 1-nm'!$J$5>0,IF($B$1<5000,B80/$B$6,I80/$I$6),$B$4)","v":0.65405883078765914},98.51,37.06,-1.34,null,null,68.73223320466856]
[432,55.595428568105632,{"$f":"IF('CIE1931 1-nm'!$J$5>0,IF($B$1<5000,B81/$B$6,I81/$I$6),$B$4)","v":0.67084725887396834},100.22,37.020000000000003,-1.48,null,null,70.496457002363343]
[433,55.738577937026356,{"$f":"IF('CIE1931 1-nm'!$J$5>0,IF($B$1<5000,B82/$B$6,I82/$I$6),$B$4)","v":0.68763568696027799},101.93,36.979999999999997,-1.62,null,null,72.260680800058168]
[434,55.879971939675031,{"$f":"IF('CIE1931 1-nm'!$J$5>0,IF($B$1<5000,B83/$B$6,I83/$I$6),$B$4)","v":0.7044241150465872},103.64,36.94,-1.76,null,null,74.024904597752951]
[435,56.019613652796949,{"$f":"IF('CIE1931 1-nm'!$J$5>0,IF($B$1<5000,B84/$B$6,I84/$I$6),$B$4)","v":0.72121254313289662},105.35,36.9,-1.9,null,null,75.789128395447747]
[436,56.15750631313518,{"$f":"IF('CIE1931 1-nm'!$J$5>0,IF($B$1<5000,B85/$B$6,I85/$I$6),$B$4)","v":0.73800097121920594},107.06,36.86,-2.04,null,null,77.553352193142544]
[437,56.293653314323535,{"$f":"IF('CIE1931 1-nm'!$J$5>0,IF($B$1<5000,B86/$B$6,I86/$I$6),$B$4)","v":0.75478939930551514},108.77,36.82,-2.1800000000000002,null,null,79.317575990837327]
[438,56.42805820380601,{"$f":"IF('CIE1931 1-nm'!$J$5>0,IF($B$1<5000,B87/$B$6,I87/$I$6),$B$4)","v":0.77157782739182468},110.48,36.78,-2.3199999999999998,null,null,81.081799788532138]
[439,56.56072467978214,{"$f":"IF('CIE1931 1-nm'!$J$5>0,IF($B$1<5000,B88/$B$6,I88/$I$6),$B$4)","v":0.78836625547813388},112.19,36.74,-2.46,null,null,82.84602358622692]
[440,56.691656588180166,{"$f":"IF('CIE1931 1-nm'!$J$5>0,IF($B$1<5000,B89/$B$6,I89/$I$6),$B$4)","v":0.80515468356444353},113.9,36.700000000000003,-2.6,null,null,84.610247383921745]
[441,56.820857919656618,{"$f":"IF('CIE1931 1-nm'!$J$5>0,IF($B$1<5000,B90/$B$6,I90/$I$6),$B$4)","v":0.81694901452372115},115.07,36.619999999999997,-2.63,null,null,85.849662965253899]
[442,56.948332806623981,{"$f":"IF('CIE1931 1-nm'!$J$5>0,IF($B$1<5000,B91/$B$6,I91/$I$6),$B$4)","v":0.82874334548299911},116.24,36.54,-2.66,null,null,87.08907854658608]
[443,57.074085520304941,{"$f":"IF('CIE1931 1-nm'!$J$5>0,IF($B$1<5000,B92/$B$6,I92/$I$6),$B$4)","v":0.84053767644227706},117.41,36.46,-2.69,null,null,88.328494127918262]
[444,57.198120467815841,{"$f":"IF('CIE1931 1-nm'!$J$5>0,IF($B$1<5000,B93/$B$6,I93/$I$6),$B$4)","v":0.8523320074015549},118.58,36.380000000000003,-2.72,null,null,89.567909709250429]
[445,57.320442189277315,{"$f":"IF('CIE1931 1-nm'!$J$5>0,IF($B$1<5000,B94/$B$6,I94/$I$6),$B$4)","v":0.86412633836083297},119.75,36.299999999999997,-2.75,null,null,90.807325290582625]
[446,57.441055354953477,{"$f":"IF('CIE1931 1-nm'!$J$5>0,IF($B$1<5000,B95/$B$6,I95/$I$6),$B$4)","v":0.8759206693201107},120.92,36.22,-2.78,null,null,92.046740871914793]
[447,57.559964762419412,{"$f":"IF('CIE1931 1-nm'!$J$5>0,IF($B$1<5000,B96/$B$6,I96/$I$6),$B$4)","v":0.88771500027938866},122.09,36.14,-2.81,null,null,93.286156453246974]
[448,57.677175333757674,{"$f":"IF('CIE1931 1-nm'!$J$5>0,IF($B$1<5000,B97/$B$6,I97/$I$6),$B$4)","v":0.8995093312386665},123.26,36.06,-2.84,null,null,94.525572034579142]
[449,57.792692112783016,{"$f":"IF('CIE1931 1-nm'!$J$5>0,IF($B$1<5000,B98/$B$6,I98/$I$6),$B$4)","v":0.91130366219794456},124.43,35.979999999999997,-2.87,null,null,95.764987615911338]
[450,57.906520262296276,{"$f":"IF('CIE1931 1-nm'!$J$5>0,IF($B$1<5000,B99/$B$6,I99/$I$6),$B$4)","v":0.92309799315722219},125.6,35.9,-2.9,null,null,97.004403197243491]
[451,58.018665061367095,{"$f":"IF('CIE1931 1-nm'!$J$5>0,IF($B$1<5000,B100/$B$6,I100/$I$6),$B$4)","v":0.92552893413054815},125.59,35.57,-2.89,null,null,97.259860342718014]
[452,58.129131902646151,{"$f":"IF('CIE1931 1-nm'!$J$5>0,IF($B$1<5000,B101/$B$6,I101/$I$6),$B$4)","v":0.9279598751038739},125.58,35.24,-2.88,null,null,97.515317488192522]
[453,58.237926289705754,{"$f":"IF('CIE1931 1-nm'!$J$5>0,IF($B$1<5000,B102/$B$6,I102/$I$6),$B$4)","v":0.93039081607719976},125.57,34.909999999999997,-2.87,null,null,97.770774633667045]
[454,58.345053834410265,{"$f":"IF('CIE1931 1-nm'!$J$5>0,IF($B$1<5000,B103/$B$6,I103/$I$6),$B$4)","v":0.9328217570505255},125.56,34.58,-2.86,null,null,98.026231779141554]
[455,58.450520254315883,{"$f":"IF('CIE1931 1-nm'!$J$5>0,IF($B$1<5000,B104/$B$6,I104/$I$6),$B$4)","v":0.93525269802385125},125.55,34.25,-2.85,null,null,98.281688924616063]
[456,58.554331370099142,{"$f":"IF('CIE1931 1-nm'!$J$5>0,IF($B$1<5000,B105/$B$6,I105/$I$6),$B$4)","v":0.9376836389971771},125.54,33.92,-2.84,null,null,98.537146070090571]
[457,58.656493103015258,{"$f":"IF('CIE1931 1-nm'!$J$5>0,IF($B$1<5000,B106/$B$6,I106/$I$6),$B$4)","v":0.94011457997050285},125.53,33.590000000000003,-2.83,null,null,98.79260321556508]
[458,58.757011472386033,{"$f":"IF('CIE1931 1-nm'!$J$5>0,IF($B$1<5000,B107/$B$6,I107/$I$6),$B$4)","v":0.9425455209438286},125.52,33.26,-2.82,null,null,99.048060361039589]
[459,58.855892593116586,{"$f":"IF('CIE1931 1-nm'!$J$5>0,IF($B$1<5000,B108/$B$6,I108/$I$6),$B$4)","v":0.94497646191715445},125.51,32.93,-2.81,null,null,99.303517506514112]
[460,58.953142673241601,{"$f":"IF('CIE1931 1-nm'!$J$5>0,IF($B$1<5000,B109/$B$6,I109/$I$6),$B$4)","v":0.9474074028904802},125.5,32.6,-2.8,null,null,99.558974651988621]
[461,59.048768011501366,{"$f":"IF('CIE1931 1-nm'!$J$5>0,IF($B$1<5000,B110/$B$6,I110/$I$6),$B$4)","v":0.94699989179469568},125.08,32.130000000000003,-2.78,null,null,99.516151061280084]
[462,59.142774994946933,{"$f":"IF('CIE1931 1-nm'!$J$5>0,IF($B$1<5000,B111/$B$6,I111/$I$6),$B$4)","v":0.94659238069891127},124.66,31.66,-2.76,null,null,99.473327470571562]
[463,59.23517009657408,{"$f":"IF('CIE1931 1-nm'!$J$5>0,IF($B$1<5000,B112/$B$6,I112/$I$6),$B$4)","v":0.94618486960312664},124.24,31.19,-2.74,null,null,99.430503879863025]
[464,59.325959872987525,{"$f":"IF('CIE1931 1-nm'!$J$5>0,IF($B$1<5000,B113/$B$6,I113/$I$6),$B$4)","v":0.94577735850734213},123.82,30.72,-2.72,null,null,99.387680289154488]
[465,59.415150962093527,{"$f":"IF('CIE1931 1-nm'!$J$5>0,IF($B$1<5000,B114/$B$6,I114/$I$6),$B$4)","v":0.94536984741155772},123.4,30.25,-2.7,null,null,99.344856698445966]
[466,59.502750080821926,{"$f":"IF('CIE1931 1-nm'!$J$5>0,IF($B$1<5000,B115/$B$6,I115/$I$6),$B$4)","v":0.94496233631577309},122.98,29.78,-2.68,null,null,99.302033107737429]
[467,59.588764022877349,{"$f":"IF('CIE1931 1-nm'!$J$5>0,IF($B$1<5000,B116/$B$6,I116/$I$6),$B$4)","v":0.94455482521998857},122.56,29.31,-2.66,null,null,99.259209517028893]
[468,59.673199656519543,{"$f":"IF('CIE1931 1-nm'!$J$5>0,IF($B$1<5000,B117/$B$6,I117/$I$6),$B$4)","v":0.94414731412420416},122.14,28.84,-2.64,null,null,99.21638592632037]
[469,59.75606392237205,{"$f":"IF('CIE1931 1-nm'!$J$5>0,IF($B$1<5000,B118/$B$6,I118/$I$6),$B$4)","v":0.94373980302841942},121.72,28.37,-2.62,null,null,99.17356233561182]
[470,59.83736383126049,{"$f":"IF('CIE1931 1-nm'!$J$5>0,IF($B$1<5000,B119/$B$6,I119/$I$6),$B$4)","v":0.94333229193263501},121.3,27.9,-2.6,null,null,99.130738744903297]
[471,59.917106462078813,{"$f":"IF('CIE1931 1-nm'!$J$5>0,IF($B$1<5000,B120/$B$6,I120/$I$6),$B$4)","v":0.94610424677651861},121.3,27.54,-2.6,null,null,99.422031573307095]
[472,59.995298959684909,{"$f":"IF('CIE1931 1-nm'!$J$5>0,IF($B$1<5000,B121/$B$6,I121/$I$6),$B$4)","v":0.94887620162040209},121.3,27.18,-2.6,null,null,99.713324401710878]
[473,60.071948532824003,{"$f":"IF('CIE1931 1-nm'!$J$5>0,IF($B$1<5000,B122/$B$6,I122/$I$6),$B$4)","v":0.95164815646428569},121.3,26.82,-2.6,null,null,100.00461723011468]
[474,60.147062452080725,{"$f":"IF('CIE1931 1-nm'!$J$5>0,IF($B$1<5000,B123/$B$6,I123/$I$6),$B$4)","v":0.95442011130816928},121.3,26.46,-2.6,null,null,100.29591005851847]
[475,60.220648047859839,{"$f":"IF('CIE1931 1-nm'!$J$5>0,IF($B$1<5000,B124/$B$6,I124/$I$6),$B$4)","v":0.95719206615205266},121.3,26.1,-2.6,null,null,100.58720288692226]
[476,60.292712708394404,{"$f":"IF('CIE1931 1-nm'!$J$5>0,IF($B$1<5000,B125/$B$6,I125/$I$6),$B$4)","v":0.95996402099593625},121.3,25.74,-2.6,null,null,100.87849571532605]
[477,60.363263877782003,{"$f":"IF('CIE1931 1-nm'!$J$5>0,IF($B$1<5000,B126/$B$6,I126/$I$6),$B$4)","v":0.96273597583981974},121.3,25.38,-2.6,null,null,101.16978854372984]
[478,60.432309054049504,{"$f":"IF('CIE1931 1-nm'!$J$5>0,IF($B$1<5000,B127/$B$6,I127/$I$6),$B$4)","v":0.96550793068370333},121.3,25.02,-2.6,null,null,101.46108137213363]
[479,60.499855787244549,{"$f":"IF('CIE1931 1-nm'!$J$5>0,IF($B$1<5000,B128/$B$6,I128/$I$6),$B$4)","v":0.96827988552758681},121.3,24.66,-2.6,null,null,101.75237420053742]
[480,60.565911677555171,{"$f":"IF('CIE1931 1-nm'!$J$5>0,IF($B$1<5000,B129/$B$6,I129/$I$6),$B$4)","v":0.97105184037147041},121.3,24.3,-2.6,null,null,102.04366702894121]
[481,60.630484373456369,{"$f":"IF('CIE1931 1-nm'!$J$5>0,IF($B$1<5000,B130/$B$6,I130/$I$6),$B$4)","v":0.96674441708984082},120.52,23.88,-2.52,null,null,101.5910184175806]
[482,60.693581569884394,{"$f":"IF('CIE1931 1-nm'!$J$5>0,IF($B$1<5000,B131/$B$6,I131/$I$6),$B$4)","v":0.96243699380821135},119.74,23.46,-2.44,null,null,101.13836980621998]
[483,60.755211006437307,{"$f":"IF('CIE1931 1-nm'!$J$5>0,IF($B$1<5000,B132/$B$6,I132/$I$6),$B$4)","v":0.95812957052658165},118.96,23.04,-2.36,null,null,100.68572119485935]
[484,60.815380465603411,{"$f":"IF('CIE1931 1-nm'!$J$5>0,IF($B$1<5000,B133/$B$6,I133/$I$6),$B$4)","v":0.95382214724495218},118.18,22.62,-2.2799999999999998,null,null,100.23307258349875]
[485,60.874097771014938,{"$f":"IF('CIE1931 1-nm'!$J$5>0,IF($B$1<5000,B134/$B$6,I134/$I$6),$B$4)","v":0.94951472396332259},117.4,22.2,-2.2000000000000002,null,null,99.780423972138138]
[486,60.931370785729527,{"$f":"IF('CIE1931 1-nm'!$J$5>0,IF($B$1<5000,B135/$B$6,I135/$I$6),$B$4)","v":0.94520730068169312},116.62,21.78,-2.12,null,null,99.327775360777522]
[487,60.987207410537472,{"$f":"IF('CIE1931 1-nm'!$J$5>0,IF($B$1<5000,B136/$B$6,I136/$I$6),$B$4)","v":0.94089987740006342},115.84,21.36,-2.04,null,null,98.875126749416893]
[488,61.041615582294696,{"$f":"IF('CIE1931 1-nm'!$J$5>0,IF($B$1<5000,B137/$B$6,I137/$I$6),$B$4)","v":0.93659245411843395},115.06,20.94,-1.96,null,null,98.422478138056292]
[489,{"$f":"$B$2/((A138*0.000000001)^5)/(EXP($B$3/(A138*0.000000001*$B$1))-1)","v":61.09460327228237},{"$f":"IF('CIE1931 1-nm'!$J$5>0,IF($B$1<5000,B138/$B$6,I138/$I$6),$B$4)","v":0.93228503083680425},114.28,20.52,-1.88,null,null,{"$f":"D138+E138*H$20+F138*H$21","v":97.969829526695662}]
[490,61.14617848459158,{"$f":"IF('CIE1931 1-nm'!$J$5>0,IF($B$1<5000,B139/$B$6,I139/$I$6),$B$4)","v":0.92797760755517456},113.5,20.100000000000001,-1.8,null,null,97.517180915335032]
[491,61.196349254533914,{"$f":"IF('CIE1931 1-nm'!$J$5>0,IF($B$1<5000,B140/$B$6,I140/$I$6),$B$4)","v":0.93055534531347539},113.46,19.71,-1.77,null,null,97.788064304418924]
[492,61.245123647077385,{"$f":"IF('CIE1931 1-nm'!$J$5>0,IF($B$1<5000,B141/$B$6,I141/$I$6),$B$4)","v":0.93313308307177611},113.42,19.32,-1.74,null,null,98.058947693502816]
[493,61.292509755306789,{"$f":"IF('CIE1931 1-nm'!$J$5>0,IF($B$1<5000,B142/$B$6,I142/$I$6),$B$4)","v":0.93571082083007673},113.38,18.93,-1.71,null,null,98.329831082586693]
[494,61.338515698910186,{"$f":"IF('CIE1931 1-nm'!$J$5>0,IF($B$1<5000,B143/$B$6,I143/$I$6),$B$4)","v":0.93828855858837756},113.34,18.54,-1.68,null,null,98.600714471670585]
[495,61.383149622688649,{"$f":"IF('CIE1931 1-nm'!$J$5>0,IF($B$1<5000,B144/$B$6,I144/$I$6),$B$4)","v":0.94086629634667818},113.3,18.149999999999999,-1.65,null,null,98.871597860754463]
[496,61.426419695091603,{"$f":"IF('CIE1931 1-nm'!$J$5>0,IF($B$1<5000,B145/$B$6,I145/$I$6),$B$4)","v":0.94344403410497901},113.26,17.760000000000002,-1.62,null,null,99.142481249838355]
[497,61.468334106776105,{"$f":"IF('CIE1931 1-nm'!$J$5>0,IF($B$1<5000,B146/$B$6,I146/$I$6),$B$4)","v":0.94602177186327963},113.22,17.37,-1.59,null,null,99.413364638922232]
[498,61.508901069189477,{"$f":"IF('CIE1931 1-nm'!$J$5>0,IF($B$1<5000,B147/$B$6,I147/$I$6),$B$4)","v":0.94859950962158035},113.18,16.98,-1.56,null,null,99.684248028006124]
[499,61.548128813177058,{"$f":"IF('CIE1931 1-nm'!$J$5>0,IF($B$1<5000,B148/$B$6,I148/$I$6),$B$4)","v":0.95117724737988107},113.14,16.59,-1.53,null,null,99.955131417090001]
[500,61.58602558761249,{"$f":"IF('CIE1931 1-nm'!$J$5>0,IF($B$1<5000,B149/$B$6,I149/$I$6),$B$4)","v":0.95375498513818169},113.1,16.2,-1.5,null,null,100.22601480617388]
[501,61.622599658051776,{"$f":"IF('CIE1931 1-nm'!$J$5>0,IF($B$1<5000,B150/$B$6,I150/$I$6),$B$4)","v":0.95384654338166353},112.87,15.9,-1.48,null,null,100.23563626871912]
[502,61.657859305410646,{"$f":"IF('CIE1931 1-nm'!$J$5>0,IF($B$1<5000,B151/$B$6,I151/$I$6),$B$4)","v":0.95393810162514547},112.64,15.6,-1.46,null,null,100.24525773126436]
[503,61.691812824664623,{"$f":"IF('CIE1931 1-nm'!$J$5>0,IF($B$1<5000,B152/$B$6,I152/$I$6),$B$4)","v":0.95402965986862709},112.41,15.3,-1.44,null,null,100.25487919380957]
[504,61.724468523572014,{"$f":"IF('CIE1931 1-nm'!$J$5>0,IF($B$1<5000,B153/$B$6,I153/$I$6),$B$4)","v":0.95412121811210915},112.18,15,-1.42,null,null,100.26450065635483]
[505,61.755834721419212,{"$f":"IF('CIE1931 1-nm'!$J$5>0,IF($B$1<5000,B154/$B$6,I154/$I$6),$B$4)","v":0.95421277635559087},111.95,14.7,-1.4,null,null,100.27412211890005]
[506,61.785919747788355,{"$f":"IF('CIE1931 1-nm'!$J$5>0,IF($B$1<5000,B155/$B$6,I155/$I$6),$B$4)","v":0.9543043345990726},111.72,14.4,-1.38,null,null,100.28374358144528]
[507,61.814731941347233,{"$f":"IF('CIE1931 1-nm'!$J$5>0,IF($B$1<5000,B156/$B$6,I156/$I$6),$B$4)","v":0.95439589284255455},111.49,14.1,-1.36,null,null,100.29336504399052]
[508,61.842279648660536,{"$f":"IF('CIE1931 1-nm'!$J$5>0,IF($B$1<5000,B157/$B$6,I157/$I$6),$B$4)","v":0.95448745108603639},111.26,13.8,-1.34,null,null,100.30298650653576]
[509,61.868571223023395,{"$f":"IF('CIE1931 1-nm'!$J$5>0,IF($B$1<5000,B158/$B$6,I158/$I$6),$B$4)","v":0.954579009329518},111.03,13.5,-1.32,null,null,100.31260796908097]
[510,61.893615023315327,{"$f":"IF('CIE1931 1-nm'!$J$5>0,IF($B$1<5000,B159/$B$6,I159/$I$6),$B$4)","v":0.95467056757299995},110.8,13.2,-1.3,null,null,100.32222943162621]
[511,61.917419412876583,{"$f":"IF('CIE1931 1-nm'!$J$5>0,IF($B$1<5000,B160/$B$6,I160/$I$6),$B$4)","v":0.95410575452137802},110.37,12.74,-1.29,null,null,100.26287565402433]
[512,61.939992758403996,{"$f":"IF('CIE1931 1-nm'!$J$5>0,IF($B$1<5000,B161/$B$6,I161/$I$6),$B$4)","v":0.95354094146975577},109.94,12.28,-1.28,null,null,100.20352187642241]
[513,61.961343428868908,{"$f":"IF('CIE1931 1-nm'!$J$5>0,IF($B$1<5000,B162/$B$6,I162/$I$6),$B$4)","v":0.95297612841813384},109.51,11.82,-1.27,null,null,100.14416809882053]
[514,61.981479794454387,{"$f":"IF('CIE1931 1-nm'!$J$5>0,IF($B$1<5000,B163/$B$6,I163/$I$6),$B$4)","v":0.9524113153665118},109.08,11.36,-1.26,null,null,100.08481432121863]
[515,62.00041022551347,{"$f":"IF('CIE1931 1-nm'!$J$5>0,IF($B$1<5000,B164/$B$6,I164/$I$6),$B$4)","v":0.95184650231488988},108.65,10.9,-1.25,null,null,100.02546054361675]
[516,62.01814309154696,{"$f":"IF('CIE1931 1-nm'!$J$5>0,IF($B$1<5000,B165/$B$6,I165/$I$6),$B$4)","v":0.95128168926326762},108.22,10.44,-1.24,null,null,99.966106766014832]
[517,62.034686760201225,{"$f":"IF('CIE1931 1-nm'!$J$5>0,IF($B$1<5000,B166/$B$6,I166/$I$6),$B$4)","v":0.95071687621164569},107.79,9.98,-1.23,null,null,99.906752988412947]
[518,62.050049596285497,{"$f":"IF('CIE1931 1-nm'!$J$5>0,IF($B$1<5000,B167/$B$6,I167/$I$6),$B$4)","v":0.95015206316002343},107.36,9.52,-1.22,null,null,99.847399210811034]
[519,62.064239960808401,{"$f":"IF('CIE1931 1-nm'!$J$5>0,IF($B$1<5000,B168/$B$6,I168/$I$6),$B$4)","v":0.9495872501084015},106.93,9.06,-1.21,null,null,99.788045433209149]
[520,62.07726621003382,{"$f":"IF('CIE1931 1-nm'!$J$5>0,IF($B$1<5000,B169/$B$6,I169/$I$6),$B$4)","v":0.94902243705677947},106.5,8.6,-1.2,null,null,99.72869165560725]
[521,62.089136694555386,{"$f":"IF('CIE1931 1-nm'!$J$5>0,IF($B$1<5000,B170/$B$6,I170/$I$6),$B$4)","v":0.95310638097799971},106.73,8.35,-1.18,null,null,100.15785578087419]
[522,62.099859758389563,{"$f":"IF('CIE1931 1-nm'!$J$5>0,IF($B$1<5000,B171/$B$6,I171/$I$6),$B$4)","v":0.95719032489921974},106.96,8.1,-1.1599999999999999,null,null,100.58701990614109]
[523,62.109443738087727,{"$f":"IF('CIE1931 1-nm'!$J$5>0,IF($B$1<5000,B172/$B$6,I172/$I$6),$B$4)","v":0.96127426882043998},107.19,7.85,-1.1399999999999999,null,null,101.01618403140803]
[524,62.11789696186549,{"$f":"IF('CIE1931 1-nm'!$J$5>0,IF($B$1<5000,B173/$B$6,I173/$I$6),$B$4)","v":0.96535821274166034},107.42,7.6,-1.1200000000000001,null,null,101.44534815667497]
[525,62.125227748750966,{"$f":"IF('CIE1931 1-nm'!$J$5>0,IF($B$1<5000,B174/$B$6,I174/$I$6),$B$4)","v":0.96944215666288058},107.65,7.35,-1.1000000000000001,null,null,101.8745122819419]
[526,62.131444407750308,{"$f":"IF('CIE1931 1-nm'!$J$5>0,IF($B$1<5000,B175/$B$6,I175/$I$6),$B$4)","v":0.97352610058410061},107.88,7.1,-1.08,null,null,102.30367640720881]
[527,62.136555237030485,{"$f":"IF('CIE1931 1-nm'!$J$5>0,IF($B$1<5000,B176/$B$6,I176/$I$6),$B$4)","v":0.97761004450532085},108.11,6.85,-1.06,null,null,102.73284053247575]
[528,62.140568523120244,{"$f":"IF('CIE1931 1-nm'!$J$5>0,IF($B$1<5000,B177/$B$6,I177/$I$6),$B$4)","v":0.98169398842654121},108.34,6.6,-1.04,null,null,103.16200465774268]
[529,62.143492540127326,{"$f":"IF('CIE1931 1-nm'!$J$5>0,IF($B$1<5000,B178/$B$6,I178/$I$6),$B$4)","v":0.98577793234776123},108.57,6.35,-1.02,null,null,103.59116878300959]
[530,62.14533554897303,{"$f":"IF('CIE1931 1-nm'!$J$5>0,IF($B$1<5000,B179/$B$6,I179/$I$6),$B$4)","v":0.98986187626898148},108.8,6.1,-1,null,null,104.02033290827653]
[531,62.146105796643155,{"$f":"IF('CIE1931 1-nm'!$J$5>0,IF($B$1<5000,B180/$B$6,I180/$I$6),$B$4)","v":0.98791995161262625},108.45,5.91,-0.95,null,null,103.8162643871226]
[532,62.145811515455783,{"$f":"IF('CIE1931 1-nm'!$J$5>0,IF($B$1<5000,B181/$B$6,I181/$I$6),$B$4)","v":0.9859780269562709},108.1,5.72,-0.9,null,null,103.61219586596867]
[533,62.14446092234482,{"$f":"IF('CIE1931 1-nm'!$J$5>0,IF($B$1<5000,B182/$B$6,I182/$I$6),$B$4)","v":0.98403610229991567},107.75,5.53,-0.85,null,null,103.40812734481474]
[534,62.142062218159865,{"$f":"IF('CIE1931 1-nm'!$J$5>0,IF($B$1<5000,B183/$B$6,I183/$I$6),$B$4)","v":0.98209417764356055},107.4,5.34,-0.8,null,null,103.20405882366083]
[535,62.138623586981893,{"$f":"IF('CIE1931 1-nm'!$J$5>0,IF($B$1<5000,B184/$B$6,I184/$I$6),$B$4)","v":0.98015225298720532},107.05,5.15,-0.75,null,null,102.9999903025069]
[536,62.134153195454161,{"$f":"IF('CIE1931 1-nm'!$J$5>0,IF($B$1<5000,B185/$B$6,I185/$I$6),$B$4)","v":0.97821032833085009},106.7,4.96,-0.7,null,null,102.79592178135297]
[537,62.128659192129298,{"$f":"IF('CIE1931 1-nm'!$J$5>0,IF($B$1<5000,B186/$B$6,I186/$I$6),$B$4)","v":0.97626840367449486},106.35,4.7699999999999996,-0.65,null,null,102.59185326019904]
[538,62.122149706830484,{"$f":"IF('CIE1931 1-nm'!$J$5>0,IF($B$1<5000,B187/$B$6,I187/$I$6),$B$4)","v":0.97432647901813962},106,4.58,-0.6,null,null,102.38778473904512]
[539,62.114632850028414,{"$f":"IF('CIE1931 1-nm'!$J$5>0,IF($B$1<5000,B188/$B$6,I188/$I$6),$B$4)","v":0.9723845543617845},105.65,4.3899999999999997,-0.55000000000000004,null,null,102.1837162178912]
[540,62.106116712232918,{"$f":"IF('CIE1931 1-nm'!$J$5>0,IF($B$1<5000,B189/$B$6,I189/$I$6),$B$4)","v":0.97044262970542916},105.3,4.2,-0.5,null,null,101.97964769673727]
[541,62.096609363398855,{"$f":"IF('CIE1931 1-nm'!$J$5>0,IF($B$1<5000,B190/$B$6,I190/$I$6),$B$4)","v":0.97132744263545767},105.21,3.97,-0.48,null,null,102.07262888709286]
[542,62.086118852346345,{"$f":"IF('CIE1931 1-nm'!$J$5>0,IF($B$1<5000,B191/$B$6,I191/$I$6),$B$4)","v":0.97221225556548629},105.12,3.74,-0.46,null,null,102.16561007744848]
[543,62.074653206195748,{"$f":"IF('CIE1931 1-nm'!$J$5>0,IF($B$1<5000,B192/$B$6,I192/$I$6),$B$4)","v":0.97309706849551503},105.03,3.51,-0.44,null,null,102.25859126780409]
[544,62.062220429815717,{"$f":"IF('CIE1931 1-nm'!$J$5>0,IF($B$1<5000,B193/$B$6,I193/$I$6),$B$4)","v":0.97398188142554365},104.94,3.28,-0.42,null,null,102.35157245815969]
[545,62.048828505285819,{"$f":"IF('CIE1931 1-nm'!$J$5>0,IF($B$1<5000,B194/$B$6,I194/$I$6),$B$4)","v":0.97486669435557216},104.85,3.05,-0.4,null,null,102.4445536485153]
[546,62.034485391372115,{"$f":"IF('CIE1931 1-nm'!$J$5>0,IF($B$1<5000,B195/$B$6,I195/$I$6),$B$4)","v":0.97575150728560089},104.76,2.82,-0.38,null,null,102.53753483887091]
[547,62.019199023016519,{"$f":"IF('CIE1931 1-nm'!$J$5>0,IF($B$1<5000,B196/$B$6,I196/$I$6),$B$4)","v":0.97663632021562941},104.67,2.59,-0.36,null,null,102.63051602922651]
[548,62.002977310839135,{"$f":"IF('CIE1931 1-nm'!$J$5>0,IF($B$1<5000,B197/$B$6,I197/$I$6),$B$4)","v":0.97752113314565814},104.58,2.36,-0.34,null,null,102.72349721958213]
[549,61.985828140653283,{"$f":"IF('CIE1931 1-nm'!$J$5>0,IF($B$1<5000,B198/$B$6,I198/$I$6),$B$4)","v":0.97840594607568654},104.49,2.13,-0.32,null,null,102.81647840993772]
[550,61.967759372994294,{"$f":"IF('CIE1931 1-nm'!$J$5>0,IF($B$1<5000,B199/$B$6,I199/$I$6),$B$4)","v":0.97929075900571527},104.4,1.9,-0.3,null,null,102.90945960029333]
[551,61.948778842659436,{"$f":"IF('CIE1931 1-nm'!$J$5>0,IF($B$1<5000,B200/$B$6,I200/$I$6),$B$4)","v":0.97652210497591641},103.96,1.71,-0.27,null,null,102.618513640264]
[552,61.928894358261807,{"$f":"IF('CIE1931 1-nm'!$J$5>0,IF($B$1<5000,B201/$B$6,I201/$I$6),$B$4)","v":0.97375345094611765},103.52,1.52,-0.24,null,null,102.32756768023467]
[553,{"$f":"$B$2/((A202*0.000000001)^5)/(EXP($B$3/(A202*0.000000001*$B$1))-1)","v":61.908113701795017},{"$f":"IF('CIE1931 1-nm'!$J$5>0,IF($B$1<5000,B202/$B$6,I202/$I$6),$B$4)","v":0.97098479691631878},103.08,1.33,-0.21,null,null,{"$f":"D202+E202*H$20+F202*H$21","v":102.03662172020533}]
[554,61.886444628211223,{"$f":"IF('CIE1931 1-nm'!$J$5>0,IF($B$1<5000,B203/$B$6,I203/$I$6),$B$4)","v":0.96821614288652003},102.64,1.1399999999999999,-0.18,null,null,101.74567576017601]
[555,61.863894865009847,{"$f":"IF('CIE1931 1-nm'!$J$5>0,IF($B$1<5000,B204/$B$6,I204/$I$6),$B$4)","v":0.96544748885672116},102.2,0.95,-0.15,null,null,101.45472980014667]
[556,61.840472111838892,{"$f":"IF('CIE1931 1-nm'!$J$5>0,IF($B$1<5000,B205/$B$6,I205/$I$6),$B$4)","v":0.9626788348269224},101.76,0.76,-0.12,null,null,101.16378384011735]
[557,61.81618404010726,{"$f":"IF('CIE1931 1-nm'!$J$5>0,IF($B$1<5000,B206/$B$6,I206/$I$6),$B$4)","v":0.95991018079712331},101.32,0.56999999999999995,-0.09,null,null,100.87283788008799]
[558,61.791038292608455,{"$f":"IF('CIE1931 1-nm'!$J$5>0,IF($B$1<5000,B207/$B$6,I207/$I$6),$B$4)","v":0.95714152676732467},100.88,0.38,-0.06,null,null,100.58189192005867]
[559,61.765042483155597,{"$f":"IF('CIE1931 1-nm'!$J$5>0,IF($B$1<5000,B208/$B$6,I208/$I$6),$B$4)","v":0.95437287273752569},100.44,0.19,-0.03,null,null,100.29094596002932]
[560,61.738204196227272,{"$f":"IF('CIE1931 1-nm'!$J$5>0,IF($B$1<5000,B209/$B$6,I209/$I$6),$B$4)","v":0.95160421870772693},100,0,0,null,null,100]
[561,61.710530986624171,{"$f":"IF('CIE1931 1-nm'!$J$5>0,IF($B$1<5000,B210/$B$6,I210/$I$6),$B$4)","v":0.94900006734011755},99.6,-0.16,0.02,null,null,99.726340918165974]
[562,61.682030379136549,{"$f":"IF('CIE1931 1-nm'!$J$5>0,IF($B$1<5000,B211/$B$6,I211/$I$6),$B$4)","v":0.94639591597250827},99.2,-0.32,0.04,null,null,99.452681836331962]
[563,61.652709868221706,{"$f":"IF('CIE1931 1-nm'!$J$5>0,IF($B$1<5000,B212/$B$6,I212/$I$6),$B$4)","v":0.94379176460489878},98.8,-0.48,0.06,null,null,99.179022754497936]
[564,61.622576917692385,{"$f":"IF('CIE1931 1-nm'!$J$5>0,IF($B$1<5000,B213/$B$6,I213/$I$6),$B$4)","v":0.9411876132372895},98.4,-0.64,0.08,null,null,98.905363672663924]
[565,61.591638960414883,{"$f":"IF('CIE1931 1-nm'!$J$5>0,IF($B$1<5000,B214/$B$6,I214/$I$6),$B$4)","v":0.93858346186968022},98,-0.8,0.1,null,null,98.631704590829912]
[566,61.559903398017006,{"$f":"IF('CIE1931 1-nm'!$J$5>0,IF($B$1<5000,B215/$B$6,I215/$I$6),$B$4)","v":0.93597931050207073},97.6,-0.96,0.12,null,null,98.358045508995872]
[567,61.527377600606322,{"$f":"IF('CIE1931 1-nm'!$J$5>0,IF($B$1<5000,B216/$B$6,I216/$I$6),$B$4)","v":0.93337515913446156},97.2,-1.1200000000000001,0.14000000000000001,null,null,98.084386427161874]
[568,61.494068906497539,{"$f":"IF('CIE1931 1-nm'!$J$5>0,IF($B$1<5000,B217/$B$6,I217/$I$6),$B$4)","v":0.93077100776685207},96.8,-1.28,0.16,null,null,97.810727345327848]
[569,61.459984621949737,{"$f":"IF('CIE1931 1-nm'!$J$5>0,IF($B$1<5000,B218/$B$6,I218/$I$6),$B$4)","v":0.92816685639924268},96.4,-1.44,0.18,null,null,97.537068263493822]
[570,61.425132020912713,{"$f":"IF('CIE1931 1-nm'!$J$5>0,IF($B$1<5000,B219/$B$6,I219/$I$6),$B$4)","v":0.9255627050316334},96,-1.6,0.2,null,null,97.26340918165981]
[571,61.389518344782537,{"$f":"IF('CIE1931 1-nm'!$J$5>0,IF($B$1<5000,B220/$B$6,I220/$I$6),$B$4)","v":0.92612466576731156},95.91,-1.79,0.23,null,null,97.322463221630471]
[572,61.353150802166283,{"$f":"IF('CIE1931 1-nm'!$J$5>0,IF($B$1<5000,B221/$B$6,I221/$I$6),$B$4)","v":0.92668662650298972},95.82,-1.98,0.26,null,null,97.381517261601132]
[573,61.316036568655313,{"$f":"IF('CIE1931 1-nm'!$J$5>0,IF($B$1<5000,B222/$B$6,I222/$I$6),$B$4)","v":0.92724858723866799},95.73,-2.17,0.28999999999999998,null,null,97.440571301571808]
[574,61.278182786607644,{"$f":"IF('CIE1931 1-nm'!$J$5>0,IF($B$1<5000,B223/$B$6,I223/$I$6),$B$4)","v":0.92781054797434614},95.64,-2.36,0.32,null,null,97.499625341542469]
[575,61.239596564938701,{"$f":"IF('CIE1931 1-nm'!$J$5>0,IF($B$1<5000,B224/$B$6,I224/$I$6),$B$4)","v":0.92837250871002441},95.55,-2.5499999999999998,0.35,null,null,97.558679381513144]
[576,61.200284978920202,{"$f":"IF('CIE1931 1-nm'!$J$5>0,IF($B$1<5000,B225/$B$6,I225/$I$6),$B$4)","v":0.92893446944570268},95.46,-2.74,0.38,null,null,97.617733421483806]
[577,61.160255069987919,{"$f":"IF('CIE1931 1-nm'!$J$5>0,IF($B$1<5000,B226/$B$6,I226/$I$6),$B$4)","v":0.92949643018138095},95.37,-2.93,0.41,null,null,97.676787461454481]
[578,61.119513845557123,{"$f":"IF('CIE1931 1-nm'!$J$5>0,IF($B$1<5000,B227/$B$6,I227/$I$6),$B$4)","v":0.93005839091705911},95.28,-3.12,0.44,null,null,97.735841501425142]
[579,61.078068278846274,{"$f":"IF('CIE1931 1-nm'!$J$5>0,IF($B$1<5000,B228/$B$6,I228/$I$6),$B$4)","v":0.93062035165273727},95.19,-3.31,0.47,null,null,97.794895541395803]
[580,61.03592530870818,{"$f":"IF('CIE1931 1-nm'!$J$5>0,IF($B$1<5000,B229/$B$6,I229/$I$6),$B$4)","v":0.93118231238841542},95.1,-3.5,0.5,null,null,97.853949581366464]
[581,60.993091839469443,{"$f":"IF('CIE1931 1-nm'!$J$5>0,IF($B$1<5000,B230/$B$6,I230/$I$6),$B$4)","v":0.92523497168902225},94.5,-3.5,0.66,null,null,97.228969092369724]
[582,60.949574740776939,{"$f":"IF('CIE1931 1-nm'!$J$5>0,IF($B$1<5000,B231/$B$6,I231/$I$6),$B$4)","v":0.91928763098962907},93.9,-3.5,0.82,null,null,96.603988603372983]
[583,60.905380847451902,{"$f":"IF('CIE1931 1-nm'!$J$5>0,IF($B$1<5000,B232/$B$6,I232/$I$6),$B$4)","v":0.91334029029023578},93.3,-3.5,0.98,null,null,95.979008114376228]
[584,60.86051695935199,{"$f":"IF('CIE1931 1-nm'!$J$5>0,IF($B$1<5000,B233/$B$6,I233/$I$6),$B$4)","v":0.9073929495908426},92.7,-3.5,1.1399999999999999,null,null,95.354027625379487]
[585,60.814989841238827,{"$f":"IF('CIE1931 1-nm'!$J$5>0,IF($B$1<5000,B234/$B$6,I234/$I$6),$B$4)","v":0.90144560889144931},92.1,-3.5,1.3,null,null,94.729047136382732]
[586,60.768806222654739,{"$f":"IF('CIE1931 1-nm'!$J$5>0,IF($B$1<5000,B235/$B$6,I235/$I$6),$B$4)","v":0.89549826819205613},91.5,-3.5,1.46,null,null,94.104066647385991]
[587,60.721972797804739,{"$f":"IF('CIE1931 1-nm'!$J$5>0,IF($B$1<5000,B236/$B$6,I236/$I$6),$B$4)","v":0.88955092749266296},90.9,-3.5,1.62,null,null,93.479086158389251]
[588,60.674496225446063,{"$f":"IF('CIE1931 1-nm'!$J$5>0,IF($B$1<5000,B237/$B$6,I237/$I$6),$B$4)","v":0.88360358679326967},90.3,-3.5,1.78,null,null,92.854105669392496]
[589,60.626383128784319,{"$f":"IF('CIE1931 1-nm'!$J$5>0,IF($B$1<5000,B238/$B$6,I238/$I$6),$B$4)","v":0.87765624609387649},89.7,-3.5,1.94,null,null,92.229125180395755]
[590,60.577640095375791,{"$f":"IF('CIE1931 1-nm'!$J$5>0,IF($B$1<5000,B239/$B$6,I239/$I$6),$B$4)","v":0.8717089053944832},89.1,-3.5,2.1,null,null,91.604144691399]
[591,60.528273677036779,{"$f":"IF('CIE1931 1-nm'!$J$5>0,IF($B$1<5000,B240/$B$6,I240/$I$6),$B$4)","v":0.87464869312226945},89.24,-3.73,2.21,null,null,91.91307435669394]
[592,60.478290389758691,{"$f":"IF('CIE1931 1-nm'!$J$5>0,IF($B$1<5000,B241/$B$6,I241/$I$6),$B$4)","v":0.8775884808500557},89.38,-3.96,2.3199999999999998,null,null,92.222004021988866]
[593,60.427696713629466,{"$f":"IF('CIE1931 1-nm'!$J$5>0,IF($B$1<5000,B242/$B$6,I242/$I$6),$B$4)","v":0.88052826857784194},89.52,-4.1900000000000004,2.4300000000000002,null,null,92.530933687283806]
[594,60.376499092761513,{"$f":"IF('CIE1931 1-nm'!$J$5>0,IF($B$1<5000,B243/$B$6,I243/$I$6),$B$4)","v":0.8834680563056283},89.66,-4.42,2.54,null,null,92.839863352578746]
[595,60.324703935224555,{"$f":"IF('CIE1931 1-nm'!$J$5>0,IF($B$1<5000,B244/$B$6,I244/$I$6),$B$4)","v":0.88640784403341466},89.8,-4.6500000000000004,2.65,null,null,93.148793017873686]
[596,60.272317612985518,{"$f":"IF('CIE1931 1-nm'!$J$5>0,IF($B$1<5000,B245/$B$6,I245/$I$6),$B$4)","v":0.8893476317612008},89.94,-4.88,2.76,null,null,93.457722683168612]
[597,60.219346461853249,{"$f":"IF('CIE1931 1-nm'!$J$5>0,IF($B$1<5000,B246/$B$6,I246/$I$6),$B$4)","v":0.89228741948898704},90.08,-5.1100000000000003,2.87,null,null,93.766652348463552]
[598,60.165796781429258,{"$f":"IF('CIE1931 1-nm'!$J$5>0,IF($B$1<5000,B247/$B$6,I247/$I$6),$B$4)","v":0.8952272072167734},90.22,-5.34,2.98,null,null,94.075582013758492]
[599,60.11167483506388,{"$f":"IF('CIE1931 1-nm'!$J$5>0,IF($B$1<5000,B248/$B$6,I248/$I$6),$B$4)","v":0.89816699494455987},90.36,-5.57,3.09,null,null,94.384511679053446]
[600,60.056986849817584,{"$f":"IF('CIE1931 1-nm'!$J$5>0,IF($B$1<5000,B249/$B$6,I249/$I$6),$B$4)","v":0.90110678267234601},90.5,-5.8,3.2,null,null,94.693441344348372]
[601,60.001739016428296,{"$f":"IF('CIE1931 1-nm'!$J$5>0,IF($B$1<5000,B250/$B$6,I250/$I$6),$B$4)","v":0.90186072936262252},90.48,-5.94,3.29,null,null,94.772670363666961]
[602,59.945937489282628,{"$f":"IF('CIE1931 1-nm'!$J$5>0,IF($B$1<5000,B251/$B$6,I251/$I$6),$B$4)","v":0.9026146760528988},90.46,-6.08,3.38,null,null,94.851899382985536]
[603,59.889588386393541,{"$f":"IF('CIE1931 1-nm'!$J$5>0,IF($B$1<5000,B252/$B$6,I252/$I$6),$B$4)","v":0.9033686227431752},90.44,-6.22,3.47,null,null,94.931128402304125]
[604,59.832697789382209,{"$f":"IF('CIE1931 1-nm'!$J$5>0,IF($B$1<5000,B253/$B$6,I253/$I$6),$B$4)","v":0.90412256943345159},90.42,-6.36,3.56,null,null,95.0103574216227]
[605,59.775271743464678,{"$f":"IF('CIE1931 1-nm'!$J$5>0,IF($B$1<5000,B254/$B$6,I254/$I$6),$B$4)","v":0.90487651612372799},90.4,-6.5,3.65,null,null,95.089586440941289]
[606,59.717316257443869,{"$f":"IF('CIE1931 1-nm'!$J$5>0,IF($B$1<5000,B255/$B$6,I255/$I$6),$B$4)","v":0.90563046281400439},90.38,-6.64,3.74,null,null,95.168815460259864]
[607,59.658837303705475,{"$f":"IF('CIE1931 1-nm'!$J$5>0,IF($B$1<5000,B256/$B$6,I256/$I$6),$B$4)","v":0.90638440950428067},90.36,-6.78,3.83,null,null,95.248044479578439]
[608,59.59984081821942,{"$f":"IF('CIE1931 1-nm'!$J$5>0,IF($B$1<5000,B257/$B$6,I257/$I$6),$B$4)","v":0.90713835619455707},90.34,-6.92,3.92,null,null,95.327273498897029]
[609,59.540332700544703,{"$f":"IF('CIE1931 1-nm'!$J$5>0,IF($B$1<5000,B258/$B$6,I258/$I$6),$B$4)","v":0.90789230288483347},90.32,-7.06,4.01,null,null,95.406502518215603]
[610,59.480318813839347,{"$f":"IF('CIE1931 1-nm'!$J$5>0,IF($B$1<5000,B259/$B$6,I259/$I$6),$B$4)","v":0.90864624957510987},90.3,-7.2,4.0999999999999996,null,null,95.485731537534193]
[611,59.419804984874581,{"$f":"IF('CIE1931 1-nm'!$J$5>0,IF($B$1<5000,B260/$B$6,I260/$I$6),$B$4)","v":0.90782704072867315},90.11,-7.34,4.16,null,null,95.399644398539664]
[612,59.358797004052811,{"$f":"IF('CIE1931 1-nm'!$J$5>0,IF($B$1<5000,B261/$B$6,I261/$I$6),$B$4)","v":0.90700783188223655},89.92,-7.48,4.22,null,null,95.313557259545149]
[613,59.297300625430239,{"$f":"IF('CIE1931 1-nm'!$J$5>0,IF($B$1<5000,B262/$B$6,I262/$I$6),$B$4)","v":0.90618862303579983},89.73,-7.62,4.28,null,null,95.22747012055062]
[614,59.235321566743018,{"$f":"IF('CIE1931 1-nm'!$J$5>0,IF($B$1<5000,B263/$B$6,I263/$I$6),$B$4)","v":0.90536941418936312},89.54,-7.76,4.34,null,null,95.141382981556092]
[615,59.172865509437642,{"$f":"IF('CIE1931 1-nm'!$J$5>0,IF($B$1<5000,B264/$B$6,I264/$I$6),$B$4)","v":0.90455020534292629},89.35,-7.9,4.4000000000000004,null,null,95.055295842561549]
[616,59.109938098705108,{"$f":"IF('CIE1931 1-nm'!$J$5>0,IF($B$1<5000,B265/$B$6,I265/$I$6),$B$4)","v":0.90373099649648958},89.16,-8.0399999999999991,4.46,null,null,94.96920870356702]
[617,{"$f":"$B$2/((A266*0.000000001)^5)/(EXP($B$3/(A266*0.000000001*$B$1))-1)","v":59.046544943518604},{"$f":"IF('CIE1931 1-nm'!$J$5>0,IF($B$1<5000,B266/$B$6,I266/$I$6),$B$4)","v":0.90291178765005287},88.97,-8.18,4.5199999999999996,null,null,{"$f":"D266+E266*H$20+F266*H$21","v":94.883121564572491}]
[618,58.982691616675602,{"$f":"IF('CIE1931 1-nm'!$J$5>0,IF($B$1<5000,B267/$B$6,I267/$I$6),$B$4)","v":0.90209257880361615},88.78,-8.32,4.58,null,null,94.797034425577962]
[619,58.918383654842302,{"$f":"IF('CIE1931 1-nm'!$J$5>0,IF($B$1<5000,B268/$B$6,I268/$I$6),$B$4)","v":0.90127336995717955},88.59,-8.4600000000000009,4.6399999999999997,null,null,94.710947286583448]
[620,58.853626558602905,{"$f":"IF('CIE1931 1-nm'!$J$5>0,IF($B$1<5000,B269/$B$6,I269/$I$6),$B$4)","v":0.90045416111074295},88.4,-8.6,4.7,null,null,94.624860147588933]
[621,58.788425792511525,{"$f":"IF('CIE1931 1-nm'!$J$5>0,IF($B$1<5000,B270/$B$6,I270/$I$6),$B$4)","v":0.89690066241261279},87.96,-8.69,4.74,null,null,94.251438232440663]
[622,58.722786785147399,{"$f":"IF('CIE1931 1-nm'!$J$5>0,IF($B$1<5000,B271/$B$6,I271/$I$6),$B$4)","v":0.89334716371448308},87.52,-8.7799999999999994,4.78,null,null,93.878016317292435]
[623,58.656714929174164,{"$f":"IF('CIE1931 1-nm'!$J$5>0,IF($B$1<5000,B272/$B$6,I272/$I$6),$B$4)","v":0.88979366501635337},87.08,-8.8699999999999992,4.82,null,null,93.504594402144207]
[624,58.590215581401189,{"$f":"IF('CIE1931 1-nm'!$J$5>0,IF($B$1<5000,B273/$B$6,I273/$I$6),$B$4)","v":0.88624016631822333},86.64,-8.9600000000000009,4.8600000000000003,null,null,93.131172486995951]
[625,58.523294062849082,{"$f":"IF('CIE1931 1-nm'!$J$5>0,IF($B$1<5000,B274/$B$6,I274/$I$6),$B$4)","v":0.88268666762009362},86.2,-9.0500000000000007,4.9000000000000004,null,null,92.757750571847723]
[626,58.455955658817587,{"$f":"IF('CIE1931 1-nm'!$J$5>0,IF($B$1<5000,B275/$B$6,I275/$I$6),$B$4)","v":0.87913316892196391},85.76,-9.14,4.9400000000000004,null,null,92.384328656699495]
[627,58.388205618956704,{"$f":"IF('CIE1931 1-nm'!$J$5>0,IF($B$1<5000,B276/$B$6,I276/$I$6),$B$4)","v":0.87557967022383398},85.32,-9.23,4.9800000000000004,null,null,92.010906741551238]
[628,58.320049157340669,{"$f":"IF('CIE1931 1-nm'!$J$5>0,IF($B$1<5000,B277/$B$6,I277/$I$6),$B$4)","v":0.87202617152570405},84.88,-9.32,5.0199999999999996,null,null,91.637484826402996]
[629,58.251491452544713,{"$f":"IF('CIE1931 1-nm'!$J$5>0,IF($B$1<5000,B278/$B$6,I278/$I$6),$B$4)","v":0.86847267282757434},84.44,-9.41,5.0599999999999996,null,null,91.264062911254769]
[630,58.182537647724772,{"$f":"IF('CIE1931 1-nm'!$J$5>0,IF($B$1<5000,B279/$B$6,I279/$I$6),$B$4)","v":0.86491917412944452},84,-9.5,5.0999999999999996,null,null,90.890640996106526]
[631,58.113192850699555,{"$f":"IF('CIE1931 1-nm'!$J$5>0,IF($B$1<5000,B280/$B$6,I280/$I$6),$B$4)","v":0.86680620582216417},84.11,-9.64,5.26,null,null,91.08894105148903]
[632,58.043462134035764,{"$f":"IF('CIE1931 1-nm'!$J$5>0,IF($B$1<5000,B281/$B$6,I281/$I$6),$B$4)","v":0.86869323751488381},84.22,-9.7799999999999994,5.42,null,null,91.287241106871534]
[633,57.97335053513514,{"$f":"IF('CIE1931 1-nm'!$J$5>0,IF($B$1<5000,B282/$B$6,I282/$I$6),$B$4)","v":0.87058026920760345},84.33,-9.92,5.58,null,null,91.485541162254037]
[634,57.902863056324719,{"$f":"IF('CIE1931 1-nm'!$J$5>0,IF($B$1<5000,B283/$B$6,I283/$I$6),$B$4)","v":0.87246730090032332},84.44,-10.06,5.74,null,null,91.683841217636555]
[635,57.832004664949082,{"$f":"IF('CIE1931 1-nm'!$J$5>0,IF($B$1<5000,B284/$B$6,I284/$I$6),$B$4)","v":0.87435433259304296},84.55,-10.199999999999999,5.9,null,null,91.882141273019059]
[636,57.760780293465082,{"$f":"IF('CIE1931 1-nm'!$J$5>0,IF($B$1<5000,B285/$B$6,I285/$I$6),$B$4)","v":0.8762413642857626},84.66,-10.34,6.06,null,null,92.080441328401562]
[637,57.689194839539098,{"$f":"IF('CIE1931 1-nm'!$J$5>0,IF($B$1<5000,B286/$B$6,I286/$I$6),$B$4)","v":0.87812839597848225},84.77,-10.48,6.22,null,null,92.278741383784066]
[638,57.617253166146,{"$f":"IF('CIE1931 1-nm'!$J$5>0,IF($B$1<5000,B287/$B$6,I287/$I$6),$B$4)","v":0.88001542767120189},84.88,-10.62,6.38,null,null,92.47704143916657]
[639,57.544960101670831,{"$f":"IF('CIE1931 1-nm'!$J$5>0,IF($B$1<5000,B288/$B$6,I288/$I$6),$B$4)","v":0.88190245936392164},84.99,-10.76,6.54,null,null,92.675341494549073]
[640,57.472320440012474,{"$f":"IF('CIE1931 1-nm'!$J$5>0,IF($B$1<5000,B289/$B$6,I289/$I$6),$B$4)","v":0.88378949105664129},85.1,-10.9,6.7,null,null,92.873641549931577]
[641,57.399338940689169,{"$f":"IF('CIE1931 1-nm'!$J$5>0,IF($B$1<5000,B290/$B$6,I290/$I$6),$B$4)","v":0.88050121679526971},84.78,-10.88,6.76,null,null,92.528090931646489]
[642,57.32602032894615,{"$f":"IF('CIE1931 1-nm'!$J$5>0,IF($B$1<5000,B291/$B$6,I291/$I$6),$B$4)","v":0.87721294253389792},84.46,-10.86,6.82,null,null,92.182540313361372]
[643,57.252369295865549,{"$f":"IF('CIE1931 1-nm'!$J$5>0,IF($B$1<5000,B292/$B$6,I292/$I$6),$B$4)","v":0.87392466827252635},84.14,-10.84,6.88,null,null,91.836989695076284]
[644,57.178390498477526,{"$f":"IF('CIE1931 1-nm'!$J$5>0,IF($B$1<5000,B293/$B$6,I293/$I$6),$B$4)","v":0.87063639401115456},83.82,-10.82,6.94,null,null,91.491439076791167]
[645,57.10408855987388,{"$f":"IF('CIE1931 1-nm'!$J$5>0,IF($B$1<5000,B294/$B$6,I294/$I$6),$B$4)","v":0.86734811974978288},83.5,-10.8,7,null,null,91.145888458506064]
[646,57.029468069323222,{"$f":"IF('CIE1931 1-nm'!$J$5>0,IF($B$1<5000,B295/$B$6,I295/$I$6),$B$4)","v":0.86405984548841142},83.18,-10.78,7.06,null,null,90.800337840220976]
[647,56.954533582387718,{"$f":"IF('CIE1931 1-nm'!$J$5>0,IF($B$1<5000,B296/$B$6,I296/$I$6),$B$4)","v":0.86077157122703973},82.86,-10.76,7.12,null,null,90.454787221935874]
[648,56.879289621041728,{"$f":"IF('CIE1931 1-nm'!$J$5>0,IF($B$1<5000,B297/$B$6,I297/$I$6),$B$4)","v":0.85748329696566816},82.54,-10.74,7.18,null,null,90.109236603650785]
[649,56.803740673792028,{"$f":"IF('CIE1931 1-nm'!$J$5>0,IF($B$1<5000,B298/$B$6,I298/$I$6),$B$4)","v":0.85419502270429637},82.22,-10.72,7.24,null,null,89.763685985365669]
[650,56.727891195799593,{"$f":"IF('CIE1931 1-nm'!$J$5>0,IF($B$1<5000,B299/$B$6,I299/$I$6),$B$4)","v":0.85090674844292469},81.900000000000006,-10.7,7.3,null,null,89.418135367080566]
[651,56.651745609002766,{"$f":"IF('CIE1931 1-nm'!$J$5>0,IF($B$1<5000,B300/$B$6,I300/$I$6),$B$4)","v":0.85238071133758775},81.97,-10.83,7.43,null,null,89.573027796694291]
[652,56.575308302242291,{"$f":"IF('CIE1931 1-nm'!$J$5>0,IF($B$1<5000,B301/$B$6,I301/$I$6),$B$4)","v":0.85385467423225114},82.04,-10.96,7.56,null,null,89.727920226308044]
[653,56.498583631387312,{"$f":"IF('CIE1931 1-nm'!$J$5>0,IF($B$1<5000,B302/$B$6,I302/$I$6),$B$4)","v":0.85532863712691432},82.11,-11.09,7.69,null,null,89.882812655921768]
[654,56.421575919463237,{"$f":"IF('CIE1931 1-nm'!$J$5>0,IF($B$1<5000,B303/$B$6,I303/$I$6),$B$4)","v":0.8568026000215776},82.18,-11.22,7.82,null,null,90.037705085535521]
[655,56.344289456780636,{"$f":"IF('CIE1931 1-nm'!$J$5>0,IF($B$1<5000,B304/$B$6,I304/$I$6),$B$4)","v":0.85827656291624055},82.25,-11.35,7.95,null,null,90.192597515149231]
[656,56.266728501065224,{"$f":"IF('CIE1931 1-nm'!$J$5>0,IF($B$1<5000,B305/$B$6,I305/$I$6),$B$4)","v":0.85975052581090372},82.32,-11.48,8.08,null,null,90.347489944762955]
[657,56.188897277589852,{"$f":"IF('CIE1931 1-nm'!$J$5>0,IF($B$1<5000,B306/$B$6,I306/$I$6),$B$4)","v":0.86122448870556711},82.39,-11.61,8.2100000000000009,null,null,90.502382374376708]
[658,56.110799979306996,{"$f":"IF('CIE1931 1-nm'!$J$5>0,IF($B$1<5000,B307/$B$6,I307/$I$6),$B$4)","v":0.86269845160023018},82.46,-11.74,8.34,null,null,90.657274803990433]
[659,56.032440766982518,{"$f":"IF('CIE1931 1-nm'!$J$5>0,IF($B$1<5000,B308/$B$6,I308/$I$6),$B$4)","v":0.86417241449489357},82.53,-11.87,8.4700000000000006,null,null,90.812167233604185]
[660,55.953823769331123,{"$f":"IF('CIE1931 1-nm'!$J$5>0,IF($B$1<5000,B309/$B$6,I309/$I$6),$B$4)","v":0.86564637738955663},82.6,-12,8.6,null,null,90.96705966321791]
[661,55.874953083152008,{"$f":"IF('CIE1931 1-nm'!$J$5>0,IF($B$1<5000,B310/$B$6,I310/$I$6),$B$4)","v":0.8691967554654928},82.83,-12.2,8.7200000000000006,null,null,91.340153645583555]
[662,55.795832773466323,{"$f":"IF('CIE1931 1-nm'!$J$5>0,IF($B$1<5000,B311/$B$6,I311/$I$6),$B$4)","v":0.87274713354142919},83.06,-12.4,8.84,null,null,91.713247627949229]
[663,55.716466873655222,{"$f":"IF('CIE1931 1-nm'!$J$5>0,IF($B$1<5000,B312/$B$6,I312/$I$6),$B$4)","v":0.87629751161736547},83.29,-12.6,8.9600000000000009,null,null,92.086341610314889]
[664,55.636859385599038,{"$f":"IF('CIE1931 1-nm'!$J$5>0,IF($B$1<5000,B313/$B$6,I313/$I$6),$B$4)","v":0.87984788969330163},83.52,-12.8,9.08,null,null,92.459435592680535]
[665,55.557014279817416,{"$f":"IF('CIE1931 1-nm'!$J$5>0,IF($B$1<5000,B314/$B$6,I314/$I$6),$B$4)","v":0.88339826776923791},83.75,-13,9.1999999999999993,null,null,92.832529575046195]
[666,55.47693549561,{"$f":"IF('CIE1931 1-nm'!$J$5>0,IF($B$1<5000,B315/$B$6,I315/$I$6),$B$4)","v":0.8869486458451743},83.98,-13.2,9.32,null,null,93.205623557411869]
[667,55.396626941198683,{"$f":"IF('CIE1931 1-nm'!$J$5>0,IF($B$1<5000,B316/$B$6,I316/$I$6),$B$4)","v":0.89049902392111047},84.21,-13.4,9.44,null,null,93.578717539777514]
[668,55.316092493869682,{"$f":"IF('CIE1931 1-nm'!$J$5>0,IF($B$1<5000,B317/$B$6,I317/$I$6),$B$4)","v":0.89404940199704674},84.44,-13.6,9.56,null,null,93.951811522143174]
[669,55.235336000117449,{"$f":"IF('CIE1931 1-nm'!$J$5>0,IF($B$1<5000,B318/$B$6,I318/$I$6),$B$4)","v":0.89759978007298291},84.67,-13.8,9.68,null,null,94.32490550450882]
[670,55.154361275788546,{"$f":"IF('CIE1931 1-nm'!$J$5>0,IF($B$1<5000,B319/$B$6,I319/$I$6),$B$4)","v":0.90115015814891919},84.9,-14,9.8000000000000007,null,null,94.69799948687448]
[671,55.073172106226529,{"$f":"IF('CIE1931 1-nm'!$J$5>0,IF($B$1<5000,B320/$B$6,I320/$I$6),$B$4)","v":0.89735695913213098},84.54,-13.96,9.84,null,null,94.299388494802656]
[672,54.991772246417632,{"$f":"IF('CIE1931 1-nm'!$J$5>0,IF($B$1<5000,B321/$B$6,I321/$I$6),$B$4)","v":0.89356376011534278},84.18,-13.92,9.8800000000000008,null,null,93.900777502730833]
[673,54.91016542113676,{"$f":"IF('CIE1931 1-nm'!$J$5>0,IF($B$1<5000,B322/$B$6,I322/$I$6),$B$4)","v":0.88977056109855446},83.82,-13.88,9.92,null,null,93.502166510658995]
[674,54.828355325094506,{"$f":"IF('CIE1931 1-nm'!$J$5>0,IF($B$1<5000,B323/$B$6,I323/$I$6),$B$4)","v":0.88597736208176614},83.46,-13.84,9.9600000000000009,null,null,93.103555518587157]
[675,54.746345623084316,{"$f":"IF('CIE1931 1-nm'!$J$5>0,IF($B$1<5000,B324/$B$6,I324/$I$6),$B$4)","v":0.88218416306497793},83.1,-13.8,10,null,null,92.704944526515334]
[676,54.664139950130597,{"$f":"IF('CIE1931 1-nm'!$J$5>0,IF($B$1<5000,B325/$B$6,I325/$I$6),$B$4)","v":0.87839096404818962},82.74,-13.76,10.039999999999999,null,null,92.306333534443496]
[677,54.58174191163716,{"$f":"IF('CIE1931 1-nm'!$J$5>0,IF($B$1<5000,B326/$B$6,I326/$I$6),$B$4)","v":0.87459776503140141},82.38,-13.72,10.08,null,null,91.907722542371673]
[678,54.499155083536053,{"$f":"IF('CIE1931 1-nm'!$J$5>0,IF($B$1<5000,B327/$B$6,I327/$I$6),$B$4)","v":0.87080456601461309},82.02,-13.68,10.119999999999999,null,null,91.509111550299835]
[679,54.416383012437102,{"$f":"IF('CIE1931 1-nm'!$J$5>0,IF($B$1<5000,B328/$B$6,I328/$I$6),$B$4)","v":0.86701136699782488},81.66,-13.64,10.16,null,null,91.110500558228011]
[680,54.333429215777677,{"$f":"IF('CIE1931 1-nm'!$J$5>0,IF($B$1<5000,B329/$B$6,I329/$I$6),$B$4)","v":0.86321816798103668},81.3,-13.6,10.199999999999999,null,null,90.711889566156188]
[681,{"$f":"$B$2/((A330*0.000000001)^5)/(EXP($B$3/(A330*0.000000001*$B$1))-1)","v":54.250297181972961},{"$f":"IF('CIE1931 1-nm'!$J$5>0,IF($B$1<5000,B330/$B$6,I330/$I$6),$B$4)","v":0.85332339541680591},80.36,-13.44,10.01,null,null,{"$f":"D330+E330*H$20+F330*H$21","v":89.672090417549242}]
[682,54.166990370566637,{"$f":"IF('CIE1931 1-nm'!$J$5>0,IF($B$1<5000,B331/$B$6,I331/$I$6),$B$4)","v":0.84342862285257536},79.42,-13.28,9.82,null,null,88.632291268942311]
[683,54.083512212381677,{"$f":"IF('CIE1931 1-nm'!$J$5>0,IF($B$1<5000,B332/$B$6,I332/$I$6),$B$4)","v":0.8335338502883447},78.48,-13.12,9.6300000000000008,null,null,87.592492120335365]
[684,53.999866109671956,{"$f":"IF('CIE1931 1-nm'!$J$5>0,IF($B$1<5000,B333/$B$6,I333/$I$6),$B$4)","v":0.82363907772411415},77.540000000000006,-12.96,9.44,null,null,86.552692971728447]
[685,53.916055436273439,{"$f":"IF('CIE1931 1-nm'!$J$5>0,IF($B$1<5000,B334/$B$6,I334/$I$6),$B$4)","v":0.81374430515988339},76.599999999999994,-12.8,9.25,null,null,85.512893823121487]
[686,53.832083537756475,{"$f":"IF('CIE1931 1-nm'!$J$5>0,IF($B$1<5000,B335/$B$6,I335/$I$6),$B$4)","v":0.80384953259565273},75.66,-12.64,9.06,null,null,84.473094674514556]
[687,53.74795373157766,{"$f":"IF('CIE1931 1-nm'!$J$5>0,IF($B$1<5000,B336/$B$6,I336/$I$6),$B$4)","v":0.79395476003142218},74.72,-12.48,8.8699999999999992,null,null,83.433295525907624]
[688,53.663669307232091,{"$f":"IF('CIE1931 1-nm'!$J$5>0,IF($B$1<5000,B337/$B$6,I337/$I$6),$B$4)","v":0.78405998746719152},73.78,-12.32,8.68,null,null,82.393496377300693]
[689,53.579233526406284,{"$f":"IF('CIE1931 1-nm'!$J$5>0,IF($B$1<5000,B338/$B$6,I338/$I$6),$B$4)","v":0.77416521490296086},72.84,-12.16,8.49,null,null,81.353697228693747]
[690,53.494649623130393,{"$f":"IF('CIE1931 1-nm'!$J$5>0,IF($B$1<5000,B339/$B$6,I339/$I$6),$B$4)","v":0.76427044233873043},71.900000000000006,-12,8.3000000000000007,null,null,80.31389808008683]
[691,53.409920803931463,{"$f":"IF('CIE1931 1-nm'!$J$5>0,IF($B$1<5000,B340/$B$6,I340/$I$6),$B$4)","v":0.76736213240519646},72.14,-12.13,8.43,null,null,80.638790509700542]
[692,53.325050247986304,{"$f":"IF('CIE1931 1-nm'!$J$5>0,IF($B$1<5000,B341/$B$6,I341/$I$6),$B$4)","v":0.77045382247166272},72.38,-12.26,8.56,null,null,80.963682939314268]
[693,53.240041107274443,{"$f":"IF('CIE1931 1-nm'!$J$5>0,IF($B$1<5000,B342/$B$6,I342/$I$6),$B$4)","v":0.77354551253812931},72.62,-12.39,8.69,null,null,81.288575368928022]
[694,53.154896506731681,{"$f":"IF('CIE1931 1-nm'!$J$5>0,IF($B$1<5000,B343/$B$6,I343/$I$6),$B$4)","v":0.77663720260459557},72.86,-12.52,8.82,null,null,81.613467798541748]
[695,53.06961954440284,{"$f":"IF('CIE1931 1-nm'!$J$5>0,IF($B$1<5000,B344/$B$6,I344/$I$6),$B$4)","v":0.77972889267106194},73.099999999999994,-12.65,8.9499999999999993,null,null,81.938360228155489]
[696,52.984213291595559,{"$f":"IF('CIE1931 1-nm'!$J$5>0,IF($B$1<5000,B345/$B$6,I345/$I$6),$B$4)","v":0.7828205827375283},73.34,-12.78,9.08,null,null,82.263252657769229]
[697,52.898680793033257,{"$f":"IF('CIE1931 1-nm'!$J$5>0,IF($B$1<5000,B346/$B$6,I346/$I$6),$B$4)","v":0.78591227280399445},73.58,-12.91,9.2100000000000009,null,null,82.588145087382941]
[698,52.813025067008702,{"$f":"IF('CIE1931 1-nm'!$J$5>0,IF($B$1<5000,B347/$B$6,I347/$I$6),$B$4)","v":0.78900396287046082},73.819999999999993,-13.04,9.34,null,null,82.913037516996681]
[699,52.727249105537176,{"$f":"IF('CIE1931 1-nm'!$J$5>0,IF($B$1<5000,B348/$B$6,I348/$I$6),$B$4)","v":0.79209565293692719},74.06,-13.17,9.4700000000000006,null,null,83.237929946610421]
[700,52.641355874509777,{"$f":"IF('CIE1931 1-nm'!$J$5>0,IF($B$1<5000,B349/$B$6,I349/$I$6),$B$4)","v":0.79518734300339355},74.3,-13.3,9.6,null,null,83.562822376224162]
[701,52.555348313846878,{"$f":"IF('CIE1931 1-nm'!$J$5>0,IF($B$1<5000,B350/$B$6,I350/$I$6),$B$4)","v":0.7970411462086896},74.510000000000005,-13.26,9.49,null,null,83.757630592586793]
[702,52.469229337650795,{"$f":"IF('CIE1931 1-nm'!$J$5>0,IF($B$1<5000,B351/$B$6,I351/$I$6),$B$4)","v":0.79889494941398542},74.72,-13.22,9.3800000000000008,null,null,83.952438808949395]
[703,52.383001834359433,{"$f":"IF('CIE1931 1-nm'!$J$5>0,IF($B$1<5000,B352/$B$6,I352/$I$6),$B$4)","v":0.80074875261928147},74.930000000000007,-13.18,9.27,null,null,84.147247025312026]
[704,52.296668666898832,{"$f":"IF('CIE1931 1-nm'!$J$5>0,IF($B$1<5000,B353/$B$6,I353/$I$6),$B$4)","v":0.80260255582457751},75.14,-13.14,9.16,null,null,84.342055241674643]
[705,52.210232672836241,{"$f":"IF('CIE1931 1-nm'!$J$5>0,IF($B$1<5000,B354/$B$6,I354/$I$6),$B$4)","v":0.80445635902987345},75.349999999999994,-13.1,9.0500000000000007,null,null,84.53686345803726]
[706,52.123696664532751,{"$f":"IF('CIE1931 1-nm'!$J$5>0,IF($B$1<5000,B355/$B$6,I355/$I$6),$B$4)","v":0.80631016223516938},75.56,-13.06,8.94,null,null,84.731671674399877]
[707,52.037063429295756,{"$f":"IF('CIE1931 1-nm'!$J$5>0,IF($B$1<5000,B356/$B$6,I356/$I$6),$B$4)","v":0.80816396544046532},75.77,-13.02,8.83,null,null,84.926479890762494]
[708,51.95033572953168,{"$f":"IF('CIE1931 1-nm'!$J$5>0,IF($B$1<5000,B357/$B$6,I357/$I$6),$B$4)","v":0.81001776864576125},75.98,-12.98,8.7200000000000006,null,null,85.12128810712511]
[709,51.86351630289775,{"$f":"IF('CIE1931 1-nm'!$J$5>0,IF($B$1<5000,B358/$B$6,I358/$I$6),$B$4)","v":0.81187157185105718},76.19,-12.94,8.61,null,null,85.316096323487727]
[710,51.776607862454192,{"$f":"IF('CIE1931 1-nm'!$J$5>0,IF($B$1<5000,B359/$B$6,I359/$I$6),$B$4)","v":0.81372537505635323},76.400000000000006,-12.9,8.5,null,null,85.510904539850358]
[711,51.689613096816196,{"$f":"IF('CIE1931 1-nm'!$J$5>0,IF($B$1<5000,B360/$B$6,I360/$I$6),$B$4)","v":0.79971124681647321},75.09,-12.67,8.35,null,null,84.0382199968046]
[712,51.602534670305126,{"$f":"IF('CIE1931 1-nm'!$J$5>0,IF($B$1<5000,B361/$B$6,I361/$I$6),$B$4)","v":0.78569711857659341},73.78,-12.44,8.1999999999999993,null,null,82.565535453758869]
[713,51.515375223100101,{"$f":"IF('CIE1931 1-nm'!$J$5>0,IF($B$1<5000,B362/$B$6,I362/$I$6),$B$4)","v":0.77168299033671339},72.47,-12.21,8.0500000000000007,null,null,81.092850910713111]
[714,51.428137371388992,{"$f":"IF('CIE1931 1-nm'!$J$5>0,IF($B$1<5000,B363/$B$6,I363/$I$6),$B$4)","v":0.75766886209683326},71.16,-11.98,7.9,null,null,79.620166367667352]
[715,51.340823707519121,{"$f":"IF('CIE1931 1-nm'!$J$5>0,IF($B$1<5000,B364/$B$6,I364/$I$6),$B$4)","v":0.74365473385695324},69.849999999999994,-11.75,7.75,null,null,78.147481824621593]
[716,51.253436800147938,{"$f":"IF('CIE1931 1-nm'!$J$5>0,IF($B$1<5000,B365/$B$6,I365/$I$6),$B$4)","v":0.72964060561707356},68.540000000000006,-11.52,7.6,null,null,76.674797281575877]
[717,51.16597919439306,{"$f":"IF('CIE1931 1-nm'!$J$5>0,IF($B$1<5000,B366/$B$6,I366/$I$6),$B$4)","v":0.71562647737719354},67.23,-11.29,7.45,null,null,75.202112738530118]
[718,51.078453411982295,{"$f":"IF('CIE1931 1-nm'!$J$5>0,IF($B$1<5000,B367/$B$6,I367/$I$6),$B$4)","v":0.70161234913731352},65.92,-11.06,7.3,null,null,73.72942819548436]
[719,50.990861951403247,{"$f":"IF('CIE1931 1-nm'!$J$5>0,IF($B$1<5000,B368/$B$6,I368/$I$6),$B$4)","v":0.68759822089743339},64.61,-10.83,7.15,null,null,72.256743652438601]
[720,50.90320728805245,{"$f":"IF('CIE1931 1-nm'!$J$5>0,IF($B$1<5000,B369/$B$6,I369/$I$6),$B$4)","v":0.67358409265755337},63.3,-10.6,7,null,null,70.784059109392842]
[721,50.815491874384357,{"$f":"IF('CIE1931 1-nm'!$J$5>0,IF($B$1<5000,B370/$B$6,I370/$I$6),$B$4)","v":0.68225841228115258},64.14,-10.7,7.06,null,null,71.695606100575674]
[722,50.727718140059984,{"$f":"IF('CIE1931 1-nm'!$J$5>0,IF($B$1<5000,B371/$B$6,I371/$I$6),$B$4)","v":0.69093273190475191},64.98,-10.8,7.12,null,null,72.607153091758519]
[723,50.639888492094968,{"$f":"IF('CIE1931 1-nm'!$J$5>0,IF($B$1<5000,B372/$B$6,I372/$I$6),$B$4)","v":0.6996070515283509},65.819999999999993,-10.9,7.18,null,null,73.518700082941336]
[724,50.552005315007456,{"$f":"IF('CIE1931 1-nm'!$J$5>0,IF($B$1<5000,B373/$B$6,I373/$I$6),$B$4)","v":0.70828137115195011},66.66,-11,7.24,null,null,74.430247074124168]
[725,50.464070970965501,{"$f":"IF('CIE1931 1-nm'!$J$5>0,IF($B$1<5000,B374/$B$6,I374/$I$6),$B$4)","v":0.71695569077554921},67.5,-11.1,7.3,null,null,75.341794065306999]
[726,50.376087799934233,{"$f":"IF('CIE1931 1-nm'!$J$5>0,IF($B$1<5000,B375/$B$6,I375/$I$6),$B$4)","v":0.72563001039914843},68.34,-11.2,7.36,null,null,76.25334105648983]
[727,50.288058119822303,{"$f":"IF('CIE1931 1-nm'!$J$5>0,IF($B$1<5000,B376/$B$6,I376/$I$6),$B$4)","v":0.73430433002274764},69.180000000000007,-11.3,7.42,null,null,77.164888047672662]
[728,50.199984226628231,{"$f":"IF('CIE1931 1-nm'!$J$5>0,IF($B$1<5000,B377/$B$6,I377/$I$6),$B$4)","v":0.74297864964634663},70.02,-11.4,7.48,null,null,78.076435038855479]
[729,50.111868394586324,{"$f":"IF('CIE1931 1-nm'!$J$5>0,IF($B$1<5000,B378/$B$6,I378/$I$6),$B$4)","v":0.75165296926994585},70.86,-11.5,7.54,null,null,78.98798203003831]
[730,50.023712876311642,{"$f":"IF('CIE1931 1-nm'!$J$5>0,IF($B$1<5000,B379/$B$6,I379/$I$6),$B$4)","v":0.76032728889354517},71.7,-11.6,7.6,null,null,79.899529021221156]
[731,49.935519902945359,{"$f":"IF('CIE1931 1-nm'!$J$5>0,IF($B$1<5000,B380/$B$6,I380/$I$6),$B$4)","v":0.76577335487988996},72.23,-11.66,7.64,null,null,80.471832703705928]
[732,49.847291684299186,{"$f":"IF('CIE1931 1-nm'!$J$5>0,IF($B$1<5000,B381/$B$6,I381/$I$6),$B$4)","v":0.77121942086623463},72.760000000000005,-11.72,7.68,null,null,81.044136386190701]
[733,49.759030408998989,{"$f":"IF('CIE1931 1-nm'!$J$5>0,IF($B$1<5000,B382/$B$6,I382/$I$6),$B$4)","v":0.77666548685257963},73.290000000000006,-11.78,7.72,null,null,81.616440068675487]
[734,49.670738244628872,{"$f":"IF('CIE1931 1-nm'!$J$5>0,IF($B$1<5000,B383/$B$6,I383/$I$6),$B$4)","v":0.7821115528389242},73.819999999999993,-11.84,7.76,null,null,82.188743751160246]
[735,49.582417337873963,{"$f":"IF('CIE1931 1-nm'!$J$5>0,IF($B$1<5000,B384/$B$6,I384/$I$6),$B$4)","v":0.78755761882526909},74.349999999999994,-11.9,7.8,null,null,82.761047433645032]
[736,49.49406981466305,{"$f":"IF('CIE1931 1-nm'!$J$5>0,IF($B$1<5000,B385/$B$6,I385/$I$6),$B$4)","v":0.79300368481161398},74.88,-11.96,7.84,null,null,83.333351116129819]
[737,49.405697780310796,{"$f":"IF('CIE1931 1-nm'!$J$5>0,IF($B$1<5000,B386/$B$6,I386/$I$6),$B$4)","v":0.79844975079795877},75.41,-12.02,7.88,null,null,83.905654798614592]
[738,49.317303319659224,{"$f":"IF('CIE1931 1-nm'!$J$5>0,IF($B$1<5000,B387/$B$6,I387/$I$6),$B$4)","v":0.80389581678430355},75.94,-12.08,7.92,null,null,84.477958481099364]
[739,49.228888497218939,{"$f":"IF('CIE1931 1-nm'!$J$5>0,IF($B$1<5000,B388/$B$6,I388/$I$6),$B$4)","v":0.80934188277064845},76.47,-12.14,7.96,null,null,85.050262163584151]
[740,49.140455357309747,{"$f":"IF('CIE1931 1-nm'!$J$5>0,IF($B$1<5000,B389/$B$6,I389/$I$6),$B$4)","v":0.81478794875699323},77,-12.2,8,null,null,85.622565846068923]
[741,49.052005924200692,{"$f":"IF('CIE1931 1-nm'!$J$5>0,IF($B$1<5000,B390/$B$6,I390/$I$6),$B$4)","v":0.80221218781503034},75.819999999999993,-12,7.87,null,null,84.301033144265574]
[742,48.96354220224957,{"$f":"IF('CIE1931 1-nm'!$J$5>0,IF($B$1<5000,B391/$B$6,I391/$I$6),$B$4)","v":0.78963642687306734},74.64,-11.8,7.74,null,null,82.979500442462211]
[743,48.875066176042296,{"$f":"IF('CIE1931 1-nm'!$J$5>0,IF($B$1<5000,B392/$B$6,I392/$I$6),$B$4)","v":0.77706066593110434},73.459999999999994,-11.6,7.61,null,null,81.657967740658847]
[744,48.786579810530938,{"$f":"IF('CIE1931 1-nm'!$J$5>0,IF($B$1<5000,B393/$B$6,I393/$I$6),$B$4)","v":0.76448490498914135},72.28,-11.4,7.48,null,null,80.336435038855484]
[745,{"$f":"$B$2/((A394*0.000000001)^5)/(EXP($B$3/(A394*0.000000001*$B$1))-1)","v":48.698085051172143},{"$f":"IF('CIE1931 1-nm'!$J$5>0,IF($B$1<5000,B394/$B$6,I394/$I$6),$B$4)","v":0.75190914404717835},71.099999999999994,-11.2,7.35,null,null,{"$f":"D394+E394*H$20+F394*H$21","v":79.014902337052121}]
[746,48.609583824064309,{"$f":"IF('CIE1931 1-nm'!$J$5>0,IF($B$1<5000,B395/$B$6,I395/$I$6),$B$4)","v":0.73933338310521535},69.92,-11,7.22,null,null,77.693369635248757]
[747,48.521078036084575,{"$f":"IF('CIE1931 1-nm'!$J$5>0,IF($B$1<5000,B396/$B$6,I396/$I$6),$B$4)","v":0.72675762216325235},68.739999999999995,-10.8,7.09,null,null,76.371836933445394]
[748,48.432569575025106,{"$f":"IF('CIE1931 1-nm'!$J$5>0,IF($B$1<5000,B397/$B$6,I397/$I$6),$B$4)","v":0.71418186122128957},67.56,-10.6,6.96,null,null,75.050304231642059]
[749,48.344060309729031,{"$f":"IF('CIE1931 1-nm'!$J$5>0,IF($B$1<5000,B398/$B$6,I398/$I$6),$B$4)","v":0.70160610027932646},66.38,-10.4,6.83,null,null,73.728771529838681]
[750,48.255552090225393,{"$f":"IF('CIE1931 1-nm'!$J$5>0,IF($B$1<5000,B399/$B$6,I399/$I$6),$B$4)","v":0.68903033933736357},65.2,-10.199999999999999,6.7,null,null,72.407238828035332]
[751,48.167046747864042,{"$f":"IF('CIE1931 1-nm'!$J$5>0,IF($B$1<5000,B400/$B$6,I400/$I$6),$B$4)","v":0.67075215378950614},63.45,-9.9600000000000009,6.55,null,null,70.486462817533919]
[752,48.078546095449518,{"$f":"IF('CIE1931 1-nm'!$J$5>0,IF($B$1<5000,B401/$B$6,I401/$I$6),$B$4)","v":0.65247396824164872},61.7,-9.7200000000000006,6.4,null,null,68.565686807032506]
[753,47.990051927374736,{"$f":"IF('CIE1931 1-nm'!$J$5>0,IF($B$1<5000,B402/$B$6,I402/$I$6),$B$4)","v":0.63419578269379129},59.95,-9.48,6.25,null,null,66.644910796531093]
[754,47.901566019753787,{"$f":"IF('CIE1931 1-nm'!$J$5>0,IF($B$1<5000,B403/$B$6,I403/$I$6),$B$4)","v":0.61591759714593386},58.2,-9.24,6.1,null,null,64.72413478602968]
[755,47.813090130554301,{"$f":"IF('CIE1931 1-nm'!$J$5>0,IF($B$1<5000,B404/$B$6,I404/$I$6),$B$4)","v":0.59763941159807654},56.45,-9,5.95,null,null,62.803358775528274]
[756,47.724625999729305,{"$f":"IF('CIE1931 1-nm'!$J$5>0,IF($B$1<5000,B405/$B$6,I405/$I$6),$B$4)","v":0.57936122605021911},54.7,-8.76,5.8,null,null,60.882582765026861]
[757,47.636175349348115,{"$f":"IF('CIE1931 1-nm'!$J$5>0,IF($B$1<5000,B406/$B$6,I406/$I$6),$B$4)","v":0.56108304050236169},52.95,-8.52,5.65,null,null,58.961806754525448]
[758,47.547739883727253,{"$f":"IF('CIE1931 1-nm'!$J$5>0,IF($B$1<5000,B407/$B$6,I407/$I$6),$B$4)","v":0.54280485495450426},51.2,-8.2799999999999994,5.5,null,null,57.041030744024035]
[759,47.459321289560165,{"$f":"IF('CIE1931 1-nm'!$J$5>0,IF($B$1<5000,B408/$B$6,I408/$I$6),$B$4)","v":0.52452666940664683},49.45,-8.0399999999999991,5.35,null,null,55.120254733522621]
[760,47.370921236046712,{"$f":"IF('CIE1931 1-nm'!$J$5>0,IF($B$1<5000,B409/$B$6,I409/$I$6),$B$4)","v":0.50624848385878951},47.7,-7.8,5.2,null,null,53.199478723021215]
[761,47.282541375021886,{"$f":"IF('CIE1931 1-nm'!$J$5>0,IF($B$1<5000,B410/$B$6,I410/$I$6),$B$4)","v":0.52842811072501061},49.79,-8.14,5.42,null,null,55.530240444143153]
[762,47.194183341083956,{"$f":"IF('CIE1931 1-nm'!$J$5>0,IF($B$1<5000,B411/$B$6,I411/$I$6),$B$4)","v":0.55060773759123194},51.88,-8.48,5.64,null,null,57.861002165265099]
[763,47.105848751722156,{"$f":"IF('CIE1931 1-nm'!$J$5>0,IF($B$1<5000,B412/$B$6,I412/$I$6),$B$4)","v":0.57278736445745315},53.97,-8.82,5.86,null,null,60.191763886387037]
[764,47.017539207443441,{"$f":"IF('CIE1931 1-nm'!$J$5>0,IF($B$1<5000,B413/$B$6,I413/$I$6),$B$4)","v":0.59496699132367437},56.06,-9.16,6.08,null,null,62.522525607508982]
[765,46.929256291898909,{"$f":"IF('CIE1931 1-nm'!$J$5>0,IF($B$1<5000,B414/$B$6,I414/$I$6),$B$4)","v":0.61714661818989558},58.15,-9.5,6.3,null,null,64.853287328630927]
[766,46.841001572009702,{"$f":"IF('CIE1931 1-nm'!$J$5>0,IF($B$1<5000,B415/$B$6,I415/$I$6),$B$4)","v":0.6393262450561169},60.24,-9.84,6.52,null,null,67.184049049752872]
[767,46.752776598091643,{"$f":"IF('CIE1931 1-nm'!$J$5>0,IF($B$1<5000,B416/$B$6,I416/$I$6),$B$4)","v":0.66150587192233801},62.33,-10.18,6.74,null,null,69.514810770874803]
[768,46.664582903980211,{"$f":"IF('CIE1931 1-nm'!$J$5>0,IF($B$1<5000,B417/$B$6,I417/$I$6),$B$4)","v":0.68368549878855933},64.42,-10.52,6.96,null,null,71.845572491996762]
[769,46.5764220071541,{"$f":"IF('CIE1931 1-nm'!$J$5>0,IF($B$1<5000,B418/$B$6,I418/$I$6),$B$4)","v":0.70586512565478066},66.510000000000005,-10.86,7.18,null,null,74.176334213118707]
[770,46.488295408858541,{"$f":"IF('CIE1931 1-nm'!$J$5>0,IF($B$1<5000,B419/$B$6,I419/$I$6),$B$4)","v":0.72804475252100176},68.599999999999994,-11.2,7.4,null,null,76.507095934240638]
[771,46.400204594227944,{"$f":"IF('CIE1931 1-nm'!$J$5>0,IF($B$1<5000,B420/$B$6,I420/$I$6),$B$4)","v":0.72409213063852662},68.239999999999995,-11.12,7.34,null,null,76.091731877969139]
[772,46.312151032407876,{"$f":"IF('CIE1931 1-nm'!$J$5>0,IF($B$1<5000,B421/$B$6,I421/$I$6),$B$4)","v":0.72013950875605137},67.88,-11.04,7.28,null,null,75.676367821697625]
[773,46.224136176676332,{"$f":"IF('CIE1931 1-nm'!$J$5>0,IF($B$1<5000,B422/$B$6,I422/$I$6),$B$4)","v":0.71618688687357612},67.52,-10.96,7.22,null,null,75.261003765426111]
[774,46.13616146456463,{"$f":"IF('CIE1931 1-nm'!$J$5>0,IF($B$1<5000,B423/$B$6,I423/$I$6),$B$4)","v":0.71223426499110098},67.16,-10.88,7.16,null,null,74.845639709154611]
[775,46.048228317977298,{"$f":"IF('CIE1931 1-nm'!$J$5>0,IF($B$1<5000,B424/$B$6,I424/$I$6),$B$4)","v":0.70828164310862574},66.8,-10.8,7.1,null,null,74.430275652883097]
[776,45.960338143311766,{"$f":"IF('CIE1931 1-nm'!$J$5>0,IF($B$1<5000,B425/$B$6,I425/$I$6),$B$4)","v":0.7043290212261506},66.44,-10.72,7.04,null,null,74.014911596611597]
[777,45.872492331577064,{"$f":"IF('CIE1931 1-nm'!$J$5>0,IF($B$1<5000,B426/$B$6,I426/$I$6),$B$4)","v":0.70037639934367546},66.08,-10.64,6.98,null,null,73.599547540340097]
[778,45.784692258512067,{"$f":"IF('CIE1931 1-nm'!$J$5>0,IF($B$1<5000,B427/$B$6,I427/$I$6),$B$4)","v":0.69642377746120021},65.72,-10.56,6.92,null,null,73.184183484068583]
[779,45.696939284702992,{"$f":"IF('CIE1931 1-nm'!$J$5>0,IF($B$1<5000,B428/$B$6,I428/$I$6),$B$4)","v":0.69247115557872507},65.36,-10.48,6.86,null,null,72.768819427797084]
[780,45.609234755700591,{"$f":"IF('CIE1931 1-nm'!$J$5>0,IF($B$1<5000,B429/$B$6,I429/$I$6),$B$4)","v":0.68851853369624993},65,-10.4,6.8,null,null,72.353455371525584]
[781,45.521580002136105,{"$f":"IF('CIE1931 1-nm'!$J$5>0,IF($B$1<5000,B430/$B$6,I430/$I$6),$B$4)","v":0.68959442098289103},65.099999999999994,-10.42,6.82,null,null,72.466515745312293]
[782,45.433976339837109,{"$f":"IF('CIE1931 1-nm'!$J$5>0,IF($B$1<5000,B431/$B$6,I431/$I$6),$B$4)","v":0.69067030826953235},65.2,-10.44,6.84,null,null,72.579576119099031]
[783,45.346425069942754,{"$f":"IF('CIE1931 1-nm'!$J$5>0,IF($B$1<5000,B432/$B$6,I432/$I$6),$B$4)","v":0.69174619555617345},65.3,-10.46,6.86,null,null,72.692636492885754]
[784,45.2589274790177,{"$f":"IF('CIE1931 1-nm'!$J$5>0,IF($B$1<5000,B433/$B$6,I433/$I$6),$B$4)","v":0.69282208284281477},65.400000000000006,-10.48,6.88,null,null,72.805696866672491]
[785,45.171484839166247,{"$f":"IF('CIE1931 1-nm'!$J$5>0,IF($B$1<5000,B434/$B$6,I434/$I$6),$B$4)","v":0.69389797012945587},65.5,-10.5,6.9,null,null,72.9187572404592]
[786,45.084098408145351,{"$f":"IF('CIE1931 1-nm'!$J$5>0,IF($B$1<5000,B435/$B$6,I435/$I$6),$B$4)","v":0.69497385741609718},65.599999999999994,-10.52,6.92,null,null,73.031817614245938]
[787,44.996769429477098,{"$f":"IF('CIE1931 1-nm'!$J$5>0,IF($B$1<5000,B436/$B$6,I436/$I$6),$B$4)","v":0.6960497447027385},65.7,-10.54,6.94,null,null,73.144877988032675]
[788,44.909499132560555,{"$f":"IF('CIE1931 1-nm'!$J$5>0,IF($B$1<5000,B437/$B$6,I437/$I$6),$B$4)","v":0.69712563198937971},65.8,-10.56,6.96,null,null,73.257938361819399]
[789,44.822288732783086,{"$f":"IF('CIE1931 1-nm'!$J$5>0,IF($B$1<5000,B438/$B$6,I438/$I$6),$B$4)","v":0.69820151927602103},65.900000000000006,-10.58,6.98,null,null,73.370998735606136]
[790,44.735139431630792,{"$f":"IF('CIE1931 1-nm'!$J$5>0,IF($B$1<5000,B439/$B$6,I439/$I$6),$B$4)","v":0.69927740656266213},66,-10.6,7,null,null,73.484059109392859]
[791,44.648052416798507,{"$f":"IF('CIE1931 1-nm'!$J$5>0,IF($B$1<5000,B440/$B$6,I440/$I$6),$B$4)","v":0.69391554002833267},65.5,-10.51,6.94,null,null,72.920603585665688]
[792,44.561028862299253,{"$f":"IF('CIE1931 1-nm'!$J$5>0,IF($B$1<5000,B441/$B$6,I441/$I$6),$B$4)","v":0.6885536734940032},65,-10.42,6.88,null,null,72.357148061938517]
[793,44.474069928572682,{"$f":"IF('CIE1931 1-nm'!$J$5>0,IF($B$1<5000,B442/$B$6,I442/$I$6),$B$4)","v":0.68319180695967374},64.5,-10.33,6.82,null,null,71.793692538211346]
[794,44.387176762593263,{"$f":"IF('CIE1931 1-nm'!$J$5>0,IF($B$1<5000,B443/$B$6,I443/$I$6),$B$4)","v":0.67782994042534439},64,-10.24,6.76,null,null,71.230237014484189]
[795,44.300350497977803,{"$f":"IF('CIE1931 1-nm'!$J$5>0,IF($B$1<5000,B444/$B$6,I444/$I$6),$B$4)","v":0.67246807389101493},63.5,-10.15,6.7,null,null,70.666781490757018]
[796,44.213592255091832,{"$f":"IF('CIE1931 1-nm'!$J$5>0,IF($B$1<5000,B445/$B$6,I445/$I$6),$B$4)","v":0.66710620735668558},63,-10.06,6.64,null,null,70.103325967029861]
[797,44.126903141156326,{"$f":"IF('CIE1931 1-nm'!$J$5>0,IF($B$1<5000,B446/$B$6,I446/$I$6),$B$4)","v":0.66174434082235611},62.5,-9.9700000000000006,6.58,null,null,69.539870443302689]
[798,44.040284250352705,{"$f":"IF('CIE1931 1-nm'!$J$5>0,IF($B$1<5000,B447/$B$6,I447/$I$6),$B$4)","v":0.65638247428802654},62,-9.8800000000000008,6.52,null,null,68.976414919575504]
[799,43.953736663928005,{"$f":"IF('CIE1931 1-nm'!$J$5>0,IF($B$1<5000,B448/$B$6,I448/$I$6),$B$4)","v":0.65102060775369719},61.5,-9.7899999999999991,6.46,null,null,68.412959395848347]
[800,43.867261450299104,{"$f":"IF('CIE1931 1-nm'!$J$5>0,IF($B$1<5000,B449/$B$6,I449/$I$6),$B$4)","v":0.64565874121936762},61,-9.6999999999999993,6.4,null,null,67.849503872121176]
[801,43.7808596651562,{"$f":"IF('CIE1931 1-nm'!$J$5>0,IF($B$1<5000,B450/$B$6,I450/$I$6),$B$4)","v":0.63738712120130014},60.23,-9.56,6.31,null,null,66.98027485280258]
[802,43.694532351566046,{"$f":"IF('CIE1931 1-nm'!$J$5>0,IF($B$1<5000,B451/$B$6,I451/$I$6),$B$4)","v":0.62911550118323278},59.46,-9.42,6.22,null,null,66.111045833484013]
[803,43.608280540074084,{"$f":"IF('CIE1931 1-nm'!$J$5>0,IF($B$1<5000,B452/$B$6,I452/$I$6),$B$4)","v":0.62084388116516542},58.69,-9.2799999999999994,6.13,null,null,65.241816814165432]
[804,43.522105248806405,{"$f":"IF('CIE1931 1-nm'!$J$5>0,IF($B$1<5000,B453/$B$6,I453/$I$6),$B$4)","v":0.61257226114709795},57.92,-9.14,6.04,null,null,64.372587794846851]
[805,43.436007483570698,{"$f":"IF('CIE1931 1-nm'!$J$5>0,IF($B$1<5000,B454/$B$6,I454/$I$6),$B$4)","v":0.60430064112903059},57.15,-9,5.95,null,null,63.50335877552827]
[806,43.349988237956921,{"$f":"IF('CIE1931 1-nm'!$J$5>0,IF($B$1<5000,B455/$B$6,I455/$I$6),$B$4)","v":0.59602902111096312},56.38,-8.86,5.86,null,null,62.634129756209688]
[807,43.264048493437002,{"$f":"IF('CIE1931 1-nm'!$J$5>0,IF($B$1<5000,B456/$B$6,I456/$I$6),$B$4)","v":0.58775740109289565},55.61,-8.7200000000000006,5.77,null,null,61.7649007368911]
[808,43.178189219464237,{"$f":"IF('CIE1931 1-nm'!$J$5>0,IF($B$1<5000,B457/$B$6,I457/$I$6),$B$4)","v":0.57948578107482829},54.84,-8.58,5.68,null,null,60.895671717572526]
[809,{"$f":"$B$2/((A458*0.000000001)^5)/(EXP($B$3/(A458*0.000000001*$B$1))-1)","v":43.092411373571963},{"$f":"IF('CIE1931 1-nm'!$J$5>0,IF($B$1<5000,B458/$B$6,I458/$I$6),$B$4)","v":0.57121416105676082},54.07,-8.44,5.59,null,null,{"$f":"D458+E458*H$20+F458*H$21","v":60.026442698253938}]
[810,43.006715901471374,{"$f":"IF('CIE1931 1-nm'!$J$5>0,IF($B$1<5000,B459/$B$6,I459/$I$6),$B$4)","v":0.56294254103869334},53.3,-8.3000000000000007,5.5,null,null,59.157213678935356]
[811,42.921103737149096,{"$f":"IF('CIE1931 1-nm'!$J$5>0,IF($B$1<5000,B460/$B$6,I460/$I$6),$B$4)","v":0.56895236884991096},53.86,-8.4,5.56,null,null,59.788760670118187]
[812,42.835575802964044,{"$f":"IF('CIE1931 1-nm'!$J$5>0,IF($B$1<5000,B461/$B$6,I461/$I$6),$B$4)","v":0.57496219666112847},54.42,-8.5,5.62,null,null,60.420307661301017]
[813,42.750133009743294,{"$f":"IF('CIE1931 1-nm'!$J$5>0,IF($B$1<5000,B462/$B$6,I462/$I$6),$B$4)","v":0.58097202447234586},54.98,-8.6,5.68,null,null,61.05185465248384]
[814,42.664776256878135,{"$f":"IF('CIE1931 1-nm'!$J$5>0,IF($B$1<5000,B463/$B$6,I463/$I$6),$B$4)","v":0.58698185228356348},55.54,-8.6999999999999993,5.74,null,null,61.68340164366667]
[815,42.579506432418526,{"$f":"IF('CIE1931 1-nm'!$J$5>0,IF($B$1<5000,B464/$B$6,I464/$I$6),$B$4)","v":0.59299168009478098},56.1,-8.8000000000000007,5.8,null,null,62.3149486348495]
[816,42.49432441316776,{"$f":"IF('CIE1931 1-nm'!$J$5>0,IF($B$1<5000,B465/$B$6,I465/$I$6),$B$4)","v":0.59900150790599838},56.66,-8.9,5.86,null,null,62.946495626032323]
[817,42.409231064776172,{"$f":"IF('CIE1931 1-nm'!$J$5>0,IF($B$1<5000,B466/$B$6,I466/$I$6),$B$4)","v":0.60501133571721588},57.22,-9,5.92,null,null,63.578042617215146]
[818,42.324227241834116,{"$f":"IF('CIE1931 1-nm'!$J$5>0,IF($B$1<5000,B467/$B$6,I467/$I$6),$B$4)","v":0.61102116352843339},57.78,-9.1,5.98,null,null,64.209589608397977]
[819,42.239313787964718,{"$f":"IF('CIE1931 1-nm'!$J$5>0,IF($B$1<5000,B468/$B$6,I468/$I$6),$B$4)","v":0.61703099133965089},58.34,-9.1999999999999993,6.04,null,null,64.841136599580807]
[820,42.154491535915703,{"$f":"IF('CIE1931 1-nm'!$J$5>0,IF($B$1<5000,B469/$B$6,I469/$I$6),$B$4)","v":0.62304081915086862},58.9,-9.3000000000000007,6.1,null,null,65.472683590763651]
[821,42.069761307650666,{"$f":"IF('CIE1931 1-nm'!$J$5>0,IF($B$1<5000,B470/$B$6,I470/$I$6),$B$4)","v":0.62622119668852216},59.2,-9.35,6.14,null,null,65.806895805792763]
[822,41.985123914439988,{"$f":"IF('CIE1931 1-nm'!$J$5>0,IF($B$1<5000,B471/$B$6,I471/$I$6),$B$4)","v":0.62940157422617571},59.5,-9.4,6.18,null,null,66.141108020821875]
[823,41.900580156950774,{"$f":"IF('CIE1931 1-nm'!$J$5>0,IF($B$1<5000,B472/$B$6,I472/$I$6),$B$4)","v":0.63258195176382948},59.8,-9.4499999999999993,6.22,null,null,66.475320235851001]
[824,41.816130825336607,{"$f":"IF('CIE1931 1-nm'!$J$5>0,IF($B$1<5000,B473/$B$6,I473/$I$6),$B$4)","v":0.63576232930148313},60.1,-9.5,6.26,null,null,66.809532450880127]
[825,41.731776699326339,{"$f":"IF('CIE1931 1-nm'!$J$5>0,IF($B$1<5000,B474/$B$6,I474/$I$6),$B$4)","v":0.63894270683913656},60.4,-9.5500000000000007,6.3,null,null,67.143744665909225]
[826,41.64751854831259,{"$f":"IF('CIE1931 1-nm'!$J$5>0,IF($B$1<5000,B475/$B$6,I475/$I$6),$B$4)","v":0.64212308437679022},60.7,-9.6,6.34,null,null,67.477956880938351]
[827,41.563357131439432,{"$f":"IF('CIE1931 1-nm'!$J$5>0,IF($B$1<5000,B476/$B$6,I476/$I$6),$B$4)","v":0.64530346191444399},61,-9.65,6.38,null,null,67.812169095967477]
[828,41.47929319768965,{"$f":"IF('CIE1931 1-nm'!$J$5>0,IF($B$1<5000,B477/$B$6,I477/$I$6),$B$4)","v":0.64848383945209753},61.3,-9.6999999999999993,6.42,null,null,68.146381310996588]
[829,41.395327485971386,{"$f":"IF('CIE1931 1-nm'!$J$5>0,IF($B$1<5000,B478/$B$6,I478/$I$6),$B$4)","v":0.65166421698975108},61.6,-9.75,6.46,null,null,68.4805935260257]
[830,41.311460725204014,{"$f":"IF('CIE1931 1-nm'!$J$5>0,IF($B$1<5000,B479/$B$6,I479/$I$6),$B$4)","v":0.65484459452740484},61.9,-9.8000000000000007,6.5,null,null,68.814805741054826]

{"sheet":"CCT-Duv computation","index":9,"n_rows":1226,"n_cols":9,"rows_kept":1226,"cut":false,"hidden":true,"merged":[[0,8,0,20]]}
["CCT - output",{"$f":"IF(B19,ROUND(A31,0),0)","v":5454},null,null,null,null,null,null,"Yoshi Ohno. Practical Use and Calculation of CCT and Duv, LEUKOS(10), pp. 47-55, 2014; DOI: 10.1080/15502724.2014.839020"]
["Duv - output",{"$f":"IF(B19,ROUND(A32,4),0)","v":3.2000000000000002E-3}]
["x - input",0.3335894254543012,"u",{"$f":"ROUND(4*B3/(12*B4-2*B3+3),10)","v":0.20484200280000001},null,"INDEX min d^2",{"$f":"MATCH(F7,$F$10:$F$1226,0)","v":681}]
["y - input",0.3484384442898813,"v",{"$f":"ROUND(6*B4/(12*B4-2*B3+3),10)","v":0.32094015879999999},null,null,{"$f":"IF(G3=1,2,IF(G3=1217,1216,G3))","v":681}]
[]
[null,"m-1",{"$f":"INDEX($C$10:$C$1226,G4-1,1)","v":5435.1372575976893},{"$f":"INDEX($D$10:$D$1226,G4-1,1)","v":0.20740959},{"$f":"INDEX($E$10:$E$1226,G4-1,1)","v":0.31893770849999997},{"$f":"INDEX($F$10:$F$1226,G4-1,1)","v":1.0602311233573979E-5},{"$f":"SQRT(F6)","v":3.2561190447485144E-3}]
[null,"m",{"$f":"INDEX($C$10:$C$1226,G4,1)","v":5448.7251007416835},null,{"$f":"INDEX($E$10:$E$1226,G4,1)","v":0.31881399199999999},{"$f":"MIN($F$10:$F$1226)","v":1.0550520769715419E-5},{"$f":"SQRT(F7)","v":3.2481565186603029E-3}]
[null,"m+1",{"$f":"INDEX($C$10:$C$1226,G4+1,1)","v":5462.3469134935376},{"$f":"INDEX($D$10:$D$1226,G4+1,1)","v":0.20718605579999999},{"$f":"INDEX($E$10:$E$1226,G4+1,1)","v":0.3186903653},{"$f":"INDEX($F$10:$F$1226,G4+1,1)","v":1.0556155259451116E-5},{"$f":"SQRT(F8)","v":3.2490237394409904E-3}]
[null,null,"Color Temperature","u","v","d^2","d","CT-entry #"]
[null,null,997.5062344139651,0.44859570700000001,0.35457423199999999,{"$f":"(D10-D$3)^2+(E10-D$4)^2","v":6.0547119191244059E-2}]
["Triangular Solution LEUKOS",null,1000,0.44801089459999999,0.3546249809,6.0265777179148744E-2,null,1,"0.25% increment"]
[{"$f":"(F6+A13^2-F8)/(2*A13)","v":2.3591601173927442E-4}," x in distance",1002.5,0.4474261705,0.35467562609999997,5.9985160172651084E-2,null,2]
[{"$f":"SQRT((D8-D6)^2+(E8-E6)^2)","v":3.3338595824640308E-4},"l",1005.0062499999999,0.44684154059999998,0.35472616610000002,5.9705270584689274E-2,null,3]
[{"$f":"C6+(C8-C6)*A12/A13","v":5454.3917982913381},"Tx solution",1007.5187656249999,0.44625701130000001,0.35477659950000001,5.9426111048299687E-2,null,4]
[{"$f":"E6+(E8-E6)*A12/A13","v":0.31876267946883813},"vTx",1010.0375625390624,0.44567258850000002,0.35482692449999997,5.9147683898211748E-2,null,5]
[{"$f":"IF(D4>A15,1,-1)","v":1},"sign of Duv",1012.56265644541,0.44508827839999998,0.35487713970000001,5.8869991612278107E-2,null,6]
[{"$f":"SQRT(F6-A12^2)*A16","v":3.2475613726270073E-3},"Duv",1015.0940630865234,0.44450408720000001,0.35492724339999998,5.8593036618560281E-2,null,7]
[null,null,1017.6317982442397,0.44392002079999998,0.35497723419999999,5.8316821192593599E-2,null,8]
["Valid?",{"$f":"AND(G3=G4,ABS(A17)<=0.03)","v":true},1020.1758777398502,0.44333608520000001,0.35502711050000002,5.8041347616016127E-2,null,9]
[null,null,1022.7263174341998,0.44275228659999999,0.35507687059999998,5.7766618230312795E-2,null,10]
["Parabolic Solution LEUKOS",null,1025.2831332277854,0.44216863080000002,0.35512651309999999,5.7492635178175516E-2,null,11]
[{"$f":"(C8-C7)*(C6-C8)*(C7-C6)","v":-5036.263916195875},"X",1027.8463410608547,0.44158512379999998,0.35517603619999999,5.7219400642168461E-2,null,12]
[{"$f":"(C6*(G8-G7)+C7*(G6-G8)+C8*(G7-G6))/A22","v":2.3876369734688962E-8},"a",1030.4159569135068,0.44100177169999999,0.35522543849999999,5.6946916851008632E-2,null,13]
[{"$f":"-1*((G8-G7)*C6^2+(G6-G8)*C7^2+(G7-G6)*C8^2)/A22","v":-2.604531254893611E-4},"b",1032.9919968057904,0.44041858020000002,0.35527471840000002,5.6675185802424151E-2,null,14]
[{"$f":"-1*(G6*(C8-C7)*C7*C8+G7*(C6-C8)*C6*C8+G8*(C7-C6)*C6*C7)/A22","v":0.71352952371671474},"c",1035.5744767978049,0.43983555530000001,0.3553238742,5.6404209601278454E-2,null,15]
[{"$f":"-1*A24/(2*A23)","v":5454.2028035141338},"Tx solution",1038.1634129897993,0.43925270280000001,0.35537290449999998,5.6133990250930868E-2,null,16]
[{"$f":"E6+(E8-E6)*A12/A13","v":0.31876267946883813},"vTx",1040.7588215222738,0.43867002859999998,0.35542180750000002,5.586452974659567E-2,null,17]
[{"$f":"IF(D4>A27,1,-1)","v":1},"sign of Duv",1043.3607185760795,0.43808753859999999,0.35547058170000001,5.5595830076281924E-2,null,18]
[{"$f":"A28*(A23*A26^2+A24*A26+A25)","v":3.2474401026688637E-3},"Duv",1045.9691203725197,0.4375052385,0.35551922549999998,5.5327893100236801E-2,null,19]
[null,null,1048.5840431734509,0.43692313399999999,0.35556773730000002,5.5060720651845266E-2,null,20]
[{"$f":"IF(ABS(A17)<0.002,A14,A26)","v":5454.2028035141338},{"$f":"IF(ABS(A17)<0.002,\"Tcp Triangular method selected\",\"Tcp Parabolic method selected\")","v":"Tcp Parabolic method selected"},1051.2055032813846,0.43634123089999999,0.3556161155,5.4794314583956095E-2,null,21]
[{"$f":"IF(ABS(A17)<0.002,A17,A29)","v":3.2474401026688637E-3},{"$f":"IF(ABS(A17)<0.002,\"Duv Triangular method selected\",\"Duv Parabolic method selected\")","v":"Duv Parabolic method selected"},1053.8335170395881,0.43575953509999998,0.3556643585,5.4528676768327011E-2,null,22]
[null,null,1056.468100832187,0.43517805199999998,0.35571246470000001,5.4263808818667991E-2,null,23]
[null,null,1059.1092710842674,0.43459678750000003,0.35576043239999999,5.3999712546122222E-2,null,24]
[null,null,1061.7570442619781,0.43401574710000002,0.35580825999999999,5.3736389557775224E-2,null,25]
[null,null,1064.411436872633,0.43343493649999998,0.35585594599999998,5.3473841533368267E-2,null,26]
[null,null,1067.0724654648145,0.4328543614,0.35590348869999999,5.3212070112031225E-2,null,27]
[null,null,1069.7401466284764,0.43227402720000002,0.35595088650000001,5.2951076776765749E-2,null,28]
[null,null,1072.4144969950476,0.4316939394,0.3559981378,5.2690863030734864E-2,null,29]
[null,null,1075.0955332375352,0.43111410379999998,0.3560452408,5.2431430473180919E-2,null,30]
[null,null,1077.783272070629,0.4305345257,0.35609219409999998,5.2172780478699471E-2,null,31]
[null,null,1080.4777302508055,0.42995521050000002,0.35613899599999999,5.1914914421215444E-2,null,32]
[null,null,1083.1789245764326,0.4293761639,0.35618564479999998,5.1657833784256944E-2,null,33]
[null,null,1085.8868718878737,0.42879739109999998,0.35623213889999999,5.1401539807982559E-2,null,34]
[null,null,1088.6015890675933,0.42821889759999998,0.35627847670000001,5.1146033842491716E-2,null,35]
[null,null,1091.3230930402622,0.4276406888,0.3563246565,5.08913171608079E-2,null,36]
[null,null,1094.0514007728627,0.42706276999999998,0.3563706767,5.0637390973618808E-2,null,37]
[null,null,1096.7865292747949,0.42648514640000001,0.35641653569999998,5.0384256422841077E-2,null,38]
[null,null,1099.5284955979819,0.42590782360000001,0.35646223170000002,5.0131914789090633E-2,null,39]
[null,null,1102.2773168369768,0.4253308066,0.35650776319999999,4.9880367083909791E-2,null,40]
[null,null,1105.0330101290692,0.42475410070000003,0.35655312849999998,4.9629614413632311E-2,null,41]
[null,null,1107.7955926543918,0.42417771119999997,0.35659832590000001,4.9379657860261342E-2,null,42]
[null,null,1110.5650816360278,0.4236016433,0.35664335380000001,4.9130498444897266E-2,null,43]
[null,null,1113.3414943401178,0.42302590200000001,0.3566882106,4.888213707761125E-2,null,44]
[null,null,1116.124848075968,0.42245049270000001,0.35673289450000001,4.8634574805448465E-2,null,45]
[null,null,1118.9151601961578,0.42187542030000003,0.35677740390000001,4.8387812448086792E-2,null,46]
[null,null,1121.7124480966481,0.42130068999999998,0.35682173719999999,4.8141850932822777E-2,null,47]
[null,null,1124.5167292168896,0.42072630680000001,0.35686589270000002,4.7896691069818025E-2,null,48]
[null,null,1127.3280210399319,0.42015227579999997,0.35690986879999997,4.7652333696818615E-2,null,49]
[null,null,1130.1463410925317,0.41957860200000002,0.35695366369999998,4.7408779571163767E-2,null,50]
[null,null,1132.9717069452629,0.4190052903,0.35699727580000001,4.7166029399159343E-2,null,51]
[null,null,1135.804136212626,0.41843234579999999,0.35704070339999999,4.6924083943274235E-2,null,52]
[null,null,1138.6436465531574,0.41785977340000002,0.35708394490000001,4.6682943865036783E-2,null,53]
[null,null,1141.4902556695401,0.41728757799999999,0.35712699869999998,4.6442609804007079E-2,null,54]
[null,null,1144.3439813087139,0.41671576440000002,0.35716986290000002,4.6203082313707206E-2,null,55]
[null,null,1147.2048412619856,0.41614433760000002,0.35721253600000002,4.5964362039670387E-2,null,56]
[null,null,1150.0728533651404,0.4155733023,0.35725501630000001,4.5726449464204004E-2,null,57]
[null,null,1152.9480354985533,0.41500266340000003,0.35729730199999998,4.5489345125493706E-2,null,58]
[null,null,1155.8304055872995,0.4144324257,0.35733939170000001,4.5253049527109283E-2,null,59]
[null,null,1158.7199816012678,0.41386259380000001,0.35738128340000003,4.5017563024102016E-2,null,60]
[null,null,1161.616781555271,0.41329317259999998,0.35742297569999998,4.4782886119947345E-2,null,61]
[null,null,1164.5208235091591,0.41272416670000001,0.35746446669999998,4.4549019135320465E-2,null,62]
[null,null,1167.432125567932,0.41215558079999998,0.35750575489999997,4.4315962441310412E-2,null,63]
[null,null,1170.3507058818518,0.4115874195,0.35754683850000002,{"$f":"(D74-D$3)^2+(E74-D$4)^2","v":4.4083716325115027E-2},null,64]
[null,null,1173.2765826465563,0.41101968760000002,0.35758771589999999,4.3852281150885915E-2,null,65]
[null,null,1176.2097741031728,0.41045238950000001,0.35762838540000003,4.3621657089976493E-2,null,66]
[null,null,1179.1502985384307,0.40988552979999998,0.35766884529999998,4.3391844376615002E-2,null,67]
[null,null,1182.0981742847766,0.40931911319999997,0.3577090939,4.3162843265921791E-2,null,68]
[null,null,1185.0534197204886,0.40875314410000002,0.35774912949999998,4.2934653870262025E-2,null,69]
[null,null,1188.0160532697898,0.408187627,0.35778895049999998,4.2707276331037609E-2,null,70]
[null,null,1190.9860934029643,0.4076225664,0.35782855520000001,4.2480710762897174E-2,null,71]
[null,null,1193.9635586364716,0.40705796659999999,0.35786794189999999,4.2254957180243552E-2,null,72]
[null,null,1196.9484675330627,0.40649383230000002,0.35790710889999999,4.2030015740392973E-2,null,73]
[null,null,1199.9408387018952,0.4059301676,0.3579460545,4.1805886339191238E-2,null,74]
[null,null,1202.9406907986499,0.40536697710000003,0.35798477709999998,4.1582569063008369E-2,null,75]
[null,null,1205.9480425256465,0.404804265,0.35802327499999997,4.1360063811244248E-2,null,76]
[null,null,1208.9629126319605,0.40424203559999999,0.35806154649999999,4.1138370505414787E-2,null,77]
[null,null,1211.9853199135405,0.40368029319999998,0.35809958980000001,4.0917489041438486E-2,null,78]
[null,null,1215.0152832133242,0.4031190422,0.3581374034,4.0697419359061383E-2,null,79]
[null,null,1218.0528214213575,0.40255828669999999,0.3581749856,4.0478161246051386E-2,null,80]
[null,null,1221.0979534749108,0.40199803090000003,0.35821233460000002,4.0259714505034107E-2,null,81]
[null,null,1224.150698358598,0.40143827900000001,0.35824944879999998,4.0042078936010785E-2,null,82]
[null,null,1227.2110751044945,0.40087903520000001,0.35828632659999998,3.9825254321544414E-2,null,83]
[null,null,1230.2791027922556,0.40032030359999998,0.35832296609999997,3.9609240365284203E-2,null,84]
[null,null,1233.3548005492362,0.39976208829999998,0.3583593659,3.9394036791319989E-2,null,85]
[null,null,1236.4381875506092,0.39920439349999998,0.35839552409999997,3.917964330837588E-2,null,86]
[null,null,1239.5292830194855,0.39864722299999999,0.35843143910000003,3.8966059475303655E-2,null,87]
[null,null,1242.6281062270341,0.39809058110000001,0.35846710920000002,3.875328502129529E-2,null,88]
[null,null,1245.7346764926017,0.39753447159999999,0.3585025328,3.8541319472754847E-2,null,89]
[null,null,1248.8490131838332,0.39697889870000003,0.35853770820000003,3.8330162486972887E-2,null,90]
[null,null,1251.9711357167928,0.39642386610000002,0.35857263369999998,3.8119813512599021E-2,null,91]
[null,null,1255.1010635560847,0.39586937789999999,0.35860730769999999,3.7910272143850864E-2,null,92]
[null,null,1258.2388162149748,0.39531543790000001,0.35864172840000003,3.7701537829097562E-2,null,93]
[null,null,1261.3844132555121,0.39476205009999998,0.35867589420000001,3.7493610092613046E-2,null,94]
[null,null,1264.5378742886508,0.39420921819999999,0.35870980349999998,3.7286488329114229E-2,null,95]
[null,null,1267.6992189743723,0.39365694620000002,0.35874345460000001,3.7080172024487511E-2,null,96]
[null,null,1270.8684670218081,0.3931052377,0.35877684570000001,3.6874660490581211E-2,null,97]
[null,null,1274.0456381893625,0.39255409670000002,0.35880997539999998,3.6669953205640059E-2,null,98]
[null,null,1277.2307522848359,0.3920035268,0.35884284179999998,3.6466049444601065E-2,null,99]
[null,null,1280.4238291655479,0.39145353170000002,0.35887544339999999,3.6262948536078539E-2,null,100]
[null,null,1283.6248887384618,0.39090411530000002,0.3589077785,3.6060649853646494E-2,null,101]
[null,null,1286.8339509603079,0.390355281,0.35893984540000001,3.5859152570208809E-2,null,102]
[null,null,1290.0510358377087,0.3898070327,0.35897164250000002,3.565845603833126E-2,null,103]
[null,null,1293.2761634273029,0.38925937389999998,0.35900316809999999,3.5458559440406989E-2,null,104]
[null,null,1296.509353835871,0.38871230820000002,0.35903442060000001,3.5259461989976218E-2,null,105]
[null,null,1299.7506272204607,0.38816583919999997,0.3590653983,3.5061162879346311E-2,null,106]
[null,null,1303.0000037885118,0.38761997050000002,0.3590960997,3.4863661302506545E-2,null,107]
[null,null,1306.257503797983,0.3870747055,0.35912652299999998,3.4666956344161629E-2,null,108]
[null,null,1309.5231475574778,0.3865300478,0.35915666670000002,3.4471047171992786E-2,null,109]
[null,null,1312.7969554263714,0.38598600090000001,0.35918652899999998,3.4275932881128256E-2,null,110]
[null,null,1316.0789478149372,0.38544256830000001,0.35921610840000001,3.4081612576701531E-2,null,111]
[null,null,1319.3691451844745,0.38489975320000003,0.35924540319999998,3.3888085227652437E-2,null,112]
[null,null,1322.6675680474357,0.38435755929999998,0.35927441189999998,3.3695349986239541E-2,null,113]
[null,null,1325.9742369675541,0.38381598979999998,0.35930313270000003,3.3503405789128249E-2,null,114]
[null,null,1329.2891725599729,0.38327504800000001,0.3593315641,3.3312251620254113E-2,null,115]
[null,null,1332.6123954913728,0.38273473740000002,0.35935970449999999,3.3121886515260435E-2,null,116]
[null,null,1335.9439264801013,0.38219506130000003,0.35938755220000002,3.2932309418558792E-2,null,117]
[null,null,1339.2837862963015,0.3816560229,0.35941510560000001,3.2743519235186036E-2,null,118]
[null,null,1342.6319957620422,0.38111762539999999,0.3594423632,3.2555514866677009E-2,null,119]
[null,null,1345.9885757514471,0.3805798722,0.35946932320000002,3.2368295250613688E-2,null,120]
[null,null,1349.3535471908256,0.38004276650000002,0.35949598420000001,3.2181859273338533E-2,null,121]
[null,null,1352.7269310588026,0.37950631130000001,0.35952234459999999,3.1996205724888899E-2,null,122]
[null,null,1356.1087483864496,0.37897050999999998,0.35954840259999998,3.1811333509020684E-2,null,123]
[null,null,1359.4990202574156,0.37843536560000002,0.35957415679999999,3.1627241409676432E-2,null,124]
[null,null,1362.8977678080591,0.37790088129999999,0.35959960559999998,3.1443928254559786E-2,null,125]
[null,null,1366.3050122275793,0.37736706009999998,0.3596247474,3.1261392791519522E-2,null,126]
[null,null,1369.7207747581481,0.37683390509999998,0.35964958060000002,3.1079633792863052E-2,null,127]
[null,null,1373.1450766950434,0.37630141950000001,0.35967410360000002,{"$f":"(D138-D$3)^2+(E138-D$4)^2","v":3.0898650054873692E-2},null,128]
[null,null,1376.5779393867808,0.37576960609999999,0.35969831489999998,3.071844023415413E-2,null,129]
[null,null,1380.0193842352478,0.37523846799999999,0.3597222128,3.0539003065113722E-2,null,130]
[null,null,1383.4694326958358,0.37470800830000001,0.35974579600000001,3.0360337303024055E-2,null,131]
[null,null,1386.9281062775754,0.37417822969999998,0.35976906269999998,3.0182441518803706E-2,null,132]
[null,null,1390.3954265432692,0.3736491354,0.35979201150000001,3.0005314474856479E-2,null,133]
[null,null,1393.8714151096274,0.37312072810000002,0.35981464079999997,2.9828954739361188E-2,null,134]
[null,null,1397.3560936474014,0.37259301080000001,0.35983694910000003,2.9653360980658246E-2,null,135]
[null,null,1400.8494838815197,0.37206598639999999,0.35985893470000002,2.9478531808607489E-2,null,136]
[null,null,1404.3516075912235,0.37153965760000002,0.35988059630000002,2.9304465788511376E-2,null,137]
[null,null,1407.8624866102014,0.37101402729999999,0.3599019323,2.91311615206939E-2,null,138]
[null,null,1411.3821428267267,0.37048909839999999,0.3599229411,2.8958617596564731E-2,null,139]
[null,null,1414.9105981837936,0.36996487350000001,0.35994362130000002,2.8786832515197827E-2,null,140]
[null,null,1418.4478746792529,0.3694413554,0.35996397120000001,2.8615804810569523E-2,null,141]
[null,null,1421.993994365951,0.36891854689999998,0.35998398949999999,2.8445533039529496E-2,null,142]
[null,null,1425.5489793518659,0.36839645059999998,0.3600036747,2.8276015669632469E-2,null,143]
[null,null,1429.1128518002456,0.36787506939999998,0.36002302520000001,2.8107251251040279E-2,null,144]
[null,null,1432.6856339297462,0.3673544057,0.36004203950000002,2.7939238170608963E-2,null,145]
[null,null,1436.2673480145706,0.3668344623,0.36006071620000002,2.7771974946145833E-2,null,146]
[null,null,1439.858016384607,0.36631524170000002,0.36007905379999999,2.7605459982677504E-2,null,147]
[null,null,1443.4576614255684,0.3657967466,0.36009705079999998,2.7439691742823302E-2,null,148]
[null,null,1447.0663055791322,0.3652789796,0.36011470579999999,2.7274668657378945E-2,null,149]
[null,null,1450.68397134308,0.36476194319999999,0.3601320173,2.7110389110223572E-2,null,150]
[null,null,1454.3106812714375,0.36424563989999997,0.36014898379999999,2.694685147858911E-2,null,151]
[null,null,1457.9464579746159,0.36373007229999998,0.36016560390000002,2.678405417272994E-2,null,152]
[null,null,1461.5913241195524,0.3632152428,0.36018187619999997,2.6621995532599061E-2,null,153]
[null,null,1465.2453024298511,0.36270115390000002,0.36019779930000001,2.6460673923639877E-2,null,154]
[null,null,1468.9084156859255,0.362187808,0.3602133716,2.6300087657670432E-2,null,155]
[null,null,1472.5806867251404,0.3616752077,0.36022859190000001,2.614023513465856E-2,null,156]
[null,null,1476.2621384419531,0.36116335519999998,0.36024345860000001,2.5981114591333659E-2,null,157]
[null,null,1479.952793788058,0.36065225299999998,0.36025797040000002,2.5822724376399687E-2,null,158]
[null,null,1483.652675772528,0.36014190340000002,0.36027212590000002,2.5665062762325368E-2,null,159]
[null,null,1487.3618074619592,0.35963230880000002,0.3602859236,2.5508128039270564E-2,null,160]
[null,null,1491.080211980614,0.35912347140000001,0.36029936229999998,2.5351918453527196E-2,null,161]
[null,null,1494.8079125105655,0.35861539370000001,0.3603124405,2.5196432315148357E-2,null,162]
[null,null,1498.5449322918419,0.35810807779999998,0.36032515679999999,2.5041667813365621E-2,null,163]
[null,null,1502.2912946225713,0.35760152610000001,0.36033750990000002,2.4887623232539919E-2,null,164]
[null,null,1506.0470228591275,0.3570957407,0.36034949849999998,2.4734296760111889E-2,null,165]
[null,null,1509.8121404162753,0.35659072390000002,0.36036112110000001,2.4581686624143614E-2,null,166]
[null,null,1513.5866707673158,0.35608647780000002,0.36037237649999998,2.4429791010765822E-2,null,167]
[null,null,1517.370637444234,0.35558300479999999,0.36038326329999998,2.4278608176561918E-2,null,168]
[null,null,1521.1640640378446,0.35508030680000002,0.36039378020000001,2.412813623037096E-2,null,169]
[null,null,1524.9669741979392,0.35457838609999998,0.36040392589999998,2.3978373397487551E-2,null,170]
[null,null,1528.779391633434,0.35407724470000002,0.36041369899999998,2.3829317800872534E-2,null,171]
[null,null,1532.6013401125174,0.35357688479999999,0.36042309830000002,2.3680967635114583E-2,null,172]
[null,null,1536.4328434627987,0.35307730840000001,0.36043212250000001,2.3533321023207512E-2,null,173]
[null,null,1540.2739255714557,0.35257851759999997,0.36044077019999998,2.3386376106224419E-2,null,174]
[null,null,1544.1246103853844,0.3520805145,0.36044904020000001,2.3240131037110302E-2,null,175]
[null,null,1547.9849219113478,0.35158330100000001,0.36045693130000001,2.3094583906238086E-2,null,176]
[null,null,1551.854884216126,0.35108687910000003,0.36046444220000001,2.2949732822285823E-2,null,177]
[null,null,1555.7345214266663,0.35059125079999998,0.36047157159999998,2.2805575890529499E-2,null,178]
[null,null,1559.6238577302329,0.35009641809999997,0.36047831819999998,2.2662111212884674E-2,null,179]
[null,null,1563.5229173745583,0.34960238300000002,0.36048468099999997,2.2519336911674848E-2,null,180]
[null,null,1567.4317246679946,0.34910914720000003,0.36049065850000001,2.2377250979850157E-2,null,181]
[null,null,1571.3503039796644,0.34861671280000001,0.36049624959999998,2.2235851554961945E-2,null,182]
[null,null,1575.2786797396136,0.3481250816,0.36050145319999999,2.209513668501048E-2,null,183]
[null,null,1579.2168764389626,0.34763425549999999,0.36050626790000001,2.1955104420453755E-2,null,184]
[null,null,1583.1649186300599,0.34714423620000001,0.36051069270000002,2.1815752783759128E-2,null,185]
[null,null,1587.1228309266351,0.34665502580000002,0.36051472629999998,2.1677079885210587E-2,null,186]
[null,null,1591.0906380039517,0.34616662580000002,0.36051836749999999,2.1539083669992888E-2,null,187]
[null,null,1595.0683645989614,0.34567903820000001,0.36052161529999999,2.1401762238922244E-2,null,188]
[null,null,1599.0560355104587,0.34519226469999997,0.36052446840000002,2.1265113581907236E-2,null,189]
[null,null,1603.0536755992348,0.34470630699999999,0.36052692559999999,2.1129135695027716E-2,null,190]
[null,null,1607.0613097882328,0.34422116689999999,0.360528986,2.0993826624286185E-2,null,191]
[null,null,1611.0789630627035,0.34373684609999999,0.36053064829999998,{"$f":"(D202-D$3)^2+(E202-D$4)^2","v":2.0859184354181159E-2},null,192]
[null,null,1615.1066604703601,0.34325334629999998,0.36053191140000002,2.0725206883414594E-2,null,193]
[null,null,1619.144427121536,0.34277066909999998,0.36053277430000003,2.0591892189427592E-2,null,194]
[null,null,1623.1922881893397,0.34228881620000001,0.36053323570000001,2.0459238252223736E-2,null,195]
[null,null,1627.250268909813,0.3418077893,0.36053329480000001,2.0327243089878079E-2,null,196]
[null,null,1631.3183945820874,0.34132758990000001,0.36053295019999998,2.01959046168756E-2,null,197]
[null,null,1635.3966905685425,0.34084821970000001,0.3605322011,2.0065220848934837E-2,null,198]
[null,null,1639.4851822949638,0.34036968020000002,0.3605310464,1.993518972239431E-2,null,199]
[null,null,1643.5838952507011,0.33989197310000002,0.36052948489999997,1.9805809219083027E-2,null,200]
[null,null,1647.6928549888278,0.33941509980000001,0.36052751570000002,1.9677077262499391E-2,null,201]
[null,null,1651.8120871262997,0.3389390619,0.36052513780000001,1.9548991821699335E-2,null,202]
[null,null,1655.9416173441155,0.33846386090000002,0.3605223501,1.9421550830206337E-2,null,203]
[null,null,1660.0814713874756,0.33798949830000002,0.36051915159999998,1.9294752228984979E-2,null,204]
[null,null,1664.2316750659443,0.33751597550000001,0.36051554130000002,1.9168593932021655E-2,null,205]
[null,null,1668.3922542536091,0.33704329420000001,0.36051151840000001,1.9043073948420228E-2,null,206]
[null,null,1672.5632348892429,0.33657145550000001,0.36050708170000001,1.8918190096416081E-2,null,207]
[null,null,1676.7446429764659,0.33610046110000003,0.3605022303,1.8793940376663956E-2,null,208]
[null,null,1680.936504583907,0.33563031230000001,0.36049696329999997,1.8670322684119011E-2,null,209]
[null,null,1685.1388458453666,0.33516101050000002,0.3604912797,1.8547334932359081E-2,null,210]
[null,null,1689.35169295998,0.334692557,0.36048517860000001,1.842497501702953E-2,null,211]
[null,null,1693.5750721923798,0.33422495330000002,0.3604786592,1.8303240893966254E-2,null,212]
[null,null,1697.8090098728608,0.3337582006,0.36047172039999997,1.8182130417743317E-2,null,213]
[null,null,1702.0535323975428,0.33329230030000001,0.36046436139999999,1.8061641519004357E-2,null,214]
[null,null,1706.3086662285366,0.33282725369999999,0.36045658130000002,1.7941772095134458E-2,null,215]
[null,null,1710.5744378941079,0.3323630621,0.36044837930000001,1.7822520052070738E-2,null,216]
[null,null,1714.850873988843,0.33189972670000001,0.36043975439999998,1.7703883255212171E-2,null,217]
[null,null,1719.1380011738149,0.33143724879999997,0.36043070579999997,1.7585859612159714E-2,null,218]
[null,null,1723.4358461767495,0.3309756297,0.36042123279999999,1.7468447039141879E-2,null,219]
[null,null,1727.7444357921913,0.3305148705,0.36041133440000001,1.735164337918774E-2,null,220]
[null,null,1732.0637968816718,0.33005497249999999,0.36040100980000001,1.7235446542737315E-2,null,221]
[null,null,1736.3939563738759,0.32959593679999999,0.36039025829999999,1.7119854399036252E-2,null,222]
[null,null,1740.7349412648105,0.3291377647,0.3603790791,1.7004864860731245E-2,null,223]
[null,null,1745.0867786179724,0.3286804572,0.36036747130000002,1.6890475759153537E-2,null,224]
[null,null,1749.4494955645173,0.32822401550000002,0.3603554343,1.6776685000643866E-2,null,225]
[null,null,1753.8231193034285,0.3277684408,0.36034296719999998,1.6663490469174955E-2,null,226]
[null,null,1758.2076771016871,0.32731373409999998,0.3603300693,1.6550890016817404E-2,null,227]
[null,null,1762.6031962944412,0.32685989650000002,0.36031673980000001,1.6438881514234067E-2,null,228]
[null,null,1767.0097042851771,0.32640692919999997,0.36030297820000001,1.6327462881754427E-2,null,229]
[null,null,1771.4272285458899,0.32595483310000001,0.36028878349999999,1.6216631929058048E-2,null,230]
[null,null,1775.8557966172546,0.3255036093,0.36027415530000001,1.6106386563822853E-2,null,231]
[null,null,1780.2954361087975,0.32505325889999998,0.36025909270000001,1.5996724656172349E-2,null,232]
[null,null,1784.7461746990693,0.32460378280000002,0.36024359509999998,1.5887644053756561E-2,null,233]
[null,null,1789.2080401358169,0.32415518209999999,0.36022766179999999,1.5779142646648956E-2,null,234]
[null,null,1793.6810602361563,0.32370745760000003,0.36021129229999999,1.5671218271185672E-2,null,235]
[null,null,1798.1652628867466,0.32326061049999999,0.36019448580000002,1.5563868837829427E-2,null,236]
[null,null,1802.6606760439633,0.32281464160000001,0.36017724169999998,1.5457092179936738E-2,null,237]
[null,null,1807.1673277340731,0.32236955179999999,0.3601595595,1.5350886165214558E-2,null,238]
[null,null,1811.6852460534083,0.32192534220000002,0.36014143850000002,1.5245248695173231E-2,null,239]
[null,null,1816.2144591685417,0.3214820135,0.3601228782,1.514017759567525E-2,null,240]
[null,null,1820.754995316463,0.3210395667,0.36010387789999998,1.5035670750038286E-2,null,241]
[null,null,1825.306882804754,0.32059800259999999,0.3600844372,1.4931726021154303E-2,null,242]
[null,null,1829.8701500117656,0.32015732219999998,0.36006455539999999,1.4828341297638103E-2,null,243]
[null,null,1834.4448253867949,0.31971752609999998,0.36004423209999997,1.4725514402100608E-2,null,244]
[null,null,1839.0309374502619,0.31927861540000002,0.36002346670000002,1.4623243259768687E-2,null,245]
[null,null,1843.6285147938875,0.31884059069999998,0.36000225870000002,1.4521525691791604E-2,null,246]
[null,null,1848.237586080872,0.31840345289999999,0.3599806076,1.442035959132021E-2,null,247]
[null,null,1852.858180046074,0.31796720280000002,0.35995851290000003,1.4319742831712992E-2,null,248]
[null,null,1857.4903254961891,0.31753184099999998,0.35993597430000002,1.4219673260052216E-2,null,249]
[null,null,1862.1340513099294,0.31709736849999998,0.35991299110000002,1.4120148785924656E-2,null,250]
[null,null,1866.7893864382042,0.31666378589999999,0.35988956300000002,1.4021167263198422E-2,null,251]
[null,null,1871.4563599042997,0.31623109379999997,0.35986568959999998,1.3922726541868023E-2,null,252]
[null,null,1876.1350008040604,0.3157992932,0.35984137030000002,1.3824824549077665E-2,null,253]
[null,null,1880.8253383060705,0.3153683846,0.3598166049,1.3727459135165576E-2,null,254]
[null,null,1885.5274016518356,0.31493836860000002,0.35979139290000001,1.3630628153460417E-2,null,255]
[null,null,1890.241220155965,0.31450924609999997,0.359765734,{"$f":"(D266-D$3)^2+(E266-D$4)^2","v":1.3534329542632244E-2},null,256]
[null,null,1894.9668232063548,0.31408101760000001,0.35973962780000002,1.3438561149156585E-2,null,257]
[null,null,1899.7042402643706,0.31365368370000002,0.3597130738,1.3343320837880654E-2,null,258]
[null,null,1904.4535008650314,0.3132272452,0.35968607190000002,1.3248606552059512E-2,null,259]
[null,null,1909.214634617194,0.3128017025,0.35965862170000001,1.3154416128652856E-2,null,260]
[null,null,1913.9876712037369,0.31237705630000001,0.35963072280000002,1.3060747473885963E-2,null,261]
[null,null,1918.7726403817462,0.31195330719999997,0.35960237499999997,1.2967598491764994E-2,null,262]
[null,null,1923.5695719827004,0.31153045569999999,0.359573578,1.2874967061278443E-2,null,263]
[null,null,1928.3784959126569,0.31110850239999999,0.35954433139999997,1.2782851079367386E-2,null,264]
[null,null,1933.1994421524385,0.31068744770000001,0.35951463519999999,1.2691248435613093E-2,null,265]
[null,null,1938.0324407578194,0.31026729240000001,0.35948448890000001,1.2600157070101637E-2,null,266]
[null,null,1942.8775218597139,0.3098480367,0.35945389239999997,1.2509574831219714E-2,null,267]
[null,null,1947.734715664363,0.30942968129999998,0.35942284549999998,1.2419499669669713E-2,null,268]
[null,null,1952.6040524535238,0.3090122267,0.35939134789999999,1.2329929490580089E-2,null,269]
[null,null,1957.4855625846574,0.30859567319999998,0.35935939950000001,1.2240862177436369E-2,null,270]
[null,null,1962.3792764911188,0.3081800213,0.35932700010000002,1.2152295652497728E-2,null,271]
[null,null,1967.2852246823466,0.3077652716,0.35929414949999999,1.206422786309274E-2,null,272]
[null,null,1972.2034377440523,0.30735142430000001,0.35926084749999998,1.1976656678706971E-2,null,273]
[null,null,1977.1339463384122,0.30693848000000001,0.35922709419999999,1.1889580078973894E-2,null,274]
[null,null,1982.0767812042582,0.30652643899999998,0.35919288919999998,1.1802995948366949E-2,null,275]
[null,null,1987.0319731572688,0.30611530170000001,0.35915823250000001,1.1716902227427375E-2,null,276]
[null,null,1991.999553090162,0.30570506850000001,0.35912312410000002,1.1631296861503524E-2,null,277]
[null,null,1996.9795519728873,0.30529573970000001,0.3590875637,1.1546177757778969E-2,null,278]
[null,null,2001.9720008528193,0.30488731569999999,0.35905155150000001,1.146154288679252E-2,null,279]
[null,null,2006.9769308549512,0.30447979679999998,0.35901508720000003,1.1377390165851561E-2,null,280]
[null,null,2011.9943731820886,0.3040731834,0.3589781709,1.1293717567789564E-2,null,281]
[null,null,2017.0243591150436,0.30366747570000002,0.3589408026,1.1210523023123118E-2,null,282]
[null,null,2022.0669200128311,0.30326267400000001,0.35890298209999999,1.1127804472365534E-2,null,283]
[null,null,2027.1220873128632,0.3028587787,0.3588647096,1.10455599112126E-2,null,284]
[null,null,2032.1898925311452,0.30245579,0.35882598510000002,1.0963787285960659E-2,null,285]
[null,null,2037.270367262473,0.30205370809999998,0.35878680839999999,1.0882484533279224E-2,null,286]
[null,null,2042.363543180629,0.30165253330000003,0.35874717979999998,1.0801649652585874E-2,null,287]
[null,null,2047.4694520385804,0.30125226579999997,0.3587070993,1.0721280606459703E-2,null,288]
[null,null,2052.5881256686766,0.30085290580000001,0.35866656689999998,1.0641375363003155E-2,null,289]
[null,null,2057.7195959828482,0.3004544536,0.3586255827,1.0561931922505112E-2,null,290]
[null,null,2062.8638949728052,0.3000569092,0.35858414669999999,1.0482948225776107E-2,null,291]
[null,null,2068.021054710237,0.29966027299999998,0.35854225919999999,1.0404422318211884E-2,null,292]
[null,null,2073.1911073470123,0.2992645451,0.3584999203,1.0326352178332171E-2,null,293]
[null,null,2078.3740851153798,0.29886972560000002,0.35845713000000001,1.0248735782975273E-2,null,294]
[null,null,2083.5700203281681,0.2984758146,0.3584138885,1.0171571129826482E-2,null,295]
[null,null,2088.7789453789883,0.2980828123,0.35837019599999997,1.0094856241008672E-2,null,296]
[null,null,2094.0008927424356,0.29769071889999998,0.35832605270000001,1.0018589144120453E-2,null,297]
[null,null,2099.2358949742916,0.2972995343,0.3582814587,9.9427678092952314E-3,null,298]
[null,null,2104.4839847117273,0.29690925870000001,0.35823641420000002,9.8673902758181185E-3,null,299]
[null,null,2109.7451946735064,0.29651989229999998,0.35819091959999999,9.7924546033530228E-3,null,300]
[null,null,2115.01955766019,0.29613143489999999,0.35814497490000002,9.7179587541753286E-3,null,301]
[null,null,2120.3071065543404,0.29574388680000002,0.35809858049999999,9.6439008179844896E-3,null,302]
[null,null,2125.6078743207263,0.29535724790000001,0.3580517366,9.5702788023185274E-3,null,303]
[null,null,2130.921894006528,0.29497151830000001,0.35800444339999998,9.497090757174538E-3,null,304]
[null,null,2136.2491987415442,0.29458669790000003,0.35795670140000002,9.4243347246495864E-3,null,305]
[null,null,2141.5898217383979,0.29420278690000001,0.35790851060000001,9.3520087697753791E-3,null,306]
[null,null,2146.9437962927436,0.29381978510000001,0.35785987159999999,9.2801109362606778E-3,null,307]
[null,null,2152.3111557834754,0.29343769260000002,0.35781078449999998,9.2086392906473268E-3,null,308]
[null,null,2157.6919336729338,0.2930565094,0.35776124980000001,9.1375919171117256E-3,null,309]
[null,null,2163.086163507116,0.29267623539999998,0.35771126780000001,9.066966873520781E-3,null,310]
[null,null,2168.4938789158837,0.29229687049999997,0.35766083879999999,8.9967622240868968E-3,null,311]
[null,null,2173.9151136131732,0.29191841470000002,0.35760996319999999,8.9269760641127235E-3,null,312]
[null,null,2179.3499013972059,0.2915408679,0.3575586415,8.8576064848781971E-3,null,313]
[null,null,2184.7982761506987,0.29116423000000002,0.35750687399999997,8.7886515692863331E-3,null,314]
[null,null,2190.2602718410753,0.29078850090000002,0.35745466120000002,8.7201094211729162E-3,null,315]
[null,null,2195.7359225206778,0.29041368049999999,0.3574020034,8.6519781360272253E-3,null,316]
[null,null,2201.2252623269792,0.29003976869999998,0.3573489011,8.5842558302190088E-3,null,317]
[null,null,2206.7283254827967,0.28966676540000003,0.35729535489999997,8.5169406336158167E-3,null,318]
[null,null,2212.2451462965037,0.2892946703,0.35724136499999998,8.4500306194404736E-3,null,319]
[null,null,2217.7757591622449,0.28892348350000002,0.35718693219999997,{"$f":"(D330-D$3)^2+(E330-D$4)^2","v":8.3835239786154217E-3},null,320]
[null,null,2223.3201985601504,0.28855320449999999,0.35713205669999998,8.3174187636621058E-3,null,321]
[null,null,2228.8784990565505,0.28818383339999998,0.35707673919999999,8.2517131707647556E-3,null,322]
[null,null,2234.4506953041919,0.28781536990000001,0.3570209802,8.1864053208100616E-3,null,323]
[null,null,2240.0368220424521,0.28744781380000001,0.3569647802,8.1214933579810602E-3,null,324]
[null,null,2245.636914097558,0.28708116480000001,0.35690813970000002,8.0569754164850124E-3,null,325]
[null,null,2251.2510063828017,0.28671542290000002,0.3568510594,7.9928497007741676E-3,null,326]
[null,null,2256.8791338987585,0.28635058769999999,0.3567935397,7.9291143343609913E-3,null,327]
[null,null,2262.5213317335051,0.28598665890000002,0.35673558129999999,7.8657674855407769E-3,null,328]
[null,null,2268.1776350628388,0.28562363639999999,0.35667718479999999,7.8028073544093232E-3,null,329]
[null,null,2273.8480791504958,0.28526151979999997,0.35661835079999998,7.7402320989021483E-3,null,330]
[null,null,2279.5326993483718,0.28490030890000001,0.35655907999999997,7.6780399230531064E-3,null,331]
[null,null,2285.2315310967424,0.28454000340000002,0.3564993729,7.6162290070472417E-3,null,332]
[null,null,2290.9446099244842,0.28418060299999998,0.35643923020000001,7.554797551957735E-3,null,333]
[null,null,2296.6719714492951,0.28382210730000001,0.35637865260000001,7.4937437496435623E-3,null,334]
[null,null,2302.4136513779181,0.28346451610000001,0.35631764069999999,7.4330658231935055E-3,null,335]
[null,null,2308.1696855063628,0.28310782899999998,0.35625619530000002,7.3727619848379371E-3,null,336]
[null,null,2313.9401097201285,0.28275204570000001,0.35619431699999998,7.3128304550704676E-3,null,337]
[null,null,2319.7249599944289,0.28239716580000002,0.3561320066,7.2532694595349358E-3,null,338]
[null,null,2325.5242723944148,0.28204318900000003,0.35606926480000001,7.1940772390463115E-3,null,339]
[null,null,2331.3380830754008,0.2816901148,0.35600609230000002,7.1352520101909686E-3,null,340]
[null,null,2337.1664282830893,0.28133794290000003,0.35594248989999999,7.0767920342168188E-3,null,341]
[null,null,2343.0093443537971,0.28098667300000002,0.35587845839999999,7.0186955788061299E-3,null,342]
[null,null,2348.8668677146816,0.28063630449999999,0.3558139984,6.9609608586371496E-3,null,343]
[null,null,2354.7390348839681,0.28028683710000002,0.3557491109,6.9035861688545534E-3,null,344]
[null,null,2360.6258824711781,0.27993827030000001,0.35568379659999999,6.8465697600091462E-3,null,345]
[null,null,2366.527447177356,0.2795906037,0.35561805629999999,6.7899099115279861E-3,null,346]
[null,null,2372.4437657952994,0.27924383689999999,0.35555189079999999,6.7336049094837442E-3,null,347]
[null,null,2378.3748752097877,0.2788979694,0.35548530109999998,6.6776530455875636E-3,null,348]
[null,null,2384.320812397812,0.27855300080000001,0.35541828780000001,6.6220526054966465E-3,null,349]
[null,null,2390.2816144288063,0.27820893050000001,0.35535085199999999,6.5668018866415542E-3,null,350]
[null,null,2396.2573184648782,0.27786575800000002,0.3552829944,6.5118991805581568E-3,null,351]
[null,null,2402.2479617610402,0.27752348290000001,0.35521471599999999,6.4573428207827677E-3,null,352]
[null,null,2408.2535816654427,0.27718210469999999,0.35514601759999997,6.4031311191479175E-3,null,353]
[null,null,2414.2742156196059,0.27684162289999997,0.35507690009999998,6.3492624011274442E-3,null,354]
[null,null,2420.3099011586546,0.27650203680000002,0.35500736449999998,6.2957349770872695E-3,null,355]
[null,null,2426.360675911551,0.27616334609999998,0.35493741179999999,6.2425472216624612E-3,null,356]
[null,null,2432.4265776013299,0.27582554999999997,0.35486704270000002,6.1896974242587055E-3,null,357]
[null,null,2438.5076440453331,0.27548864820000002,0.35479625840000001,6.1371839863984647E-3,null,358]
[null,null,2444.6039131554462,0.2751526399,0.35472505970000001,6.0850052182307175E-3,null,359]
[null,null,2450.7154229383345,0.27481752469999998,0.3546534476,6.033159506889583E-3,null,360]
[null,null,2456.8422114956802,0.27448330189999998,0.35458142310000001,5.9816452040381135E-3,null,361]
[null,null,2462.9843170244194,0.27414997099999999,0.35450898730000002,5.9304607028746242E-3,null,362]
[null,null,2469.1417778169803,0.27381753130000003,0.35443614109999999,5.8796043620962298E-3,null,363]
[null,null,2475.3146322615225,0.27348598229999999,0.3543628855,5.8290745816593111E-3,null,364]
[null,null,2481.5029188421763,0.27315532329999997,0.35428922159999998,5.7788697473740592E-3,null,365]
[null,null,2487.7066761392816,0.27282555359999999,0.35421515040000001,5.7289882453562509E-3,null,366]
[null,null,2493.9259428296295,0.2724966727,0.35414067300000002,5.6794285024223687E-3,null,367]
[null,null,2500.1607576867036,0.27216867989999999,0.35406579049999998,5.630188924851706E-3,null,368]
[null,null,2506.4111595809204,0.27184157450000002,0.35399050380000002,5.5812679126024702E-3,null,369]
[null,null,2512.6771874798724,0.27151535580000002,0.35391481409999997,5.5326638924164291E-3,null,370]
[null,null,2518.958880448572,0.27119002330000003,0.35383872259999999,5.4843753243710939E-3,null,371]
[null,null,2525.2562776496934,0.27086557610000001,0.35376223020000003,5.4364006022871733E-3,null,372]
[null,null,2531.5694183438177,0.27054201360000002,0.35368533810000002,5.3887381865092695E-3,null,373]
[null,null,2537.8983418896769,0.27021933510000001,0.35360804740000001,5.3413865242466366E-3,null,374]
[null,null,2544.2430877444008,0.26989753979999997,0.35353035939999999,5.2943440695066056E-3,null,375]
[null,null,2550.6036954637616,0.26957662710000002,0.35345227499999998,5.247609283064455E-3,null,376]
[null,null,2556.9802047024209,0.26925659629999998,0.35337379559999998,5.2011806518445537E-3,null,377]
[null,null,2563.372655214177,0.26893744650000001,0.35329492219999997,5.155056617769849E-3,null,378]
[null,null,2569.7810868522124,0.26861917699999999,0.35321565599999999,5.1092356684443504E-3,null,379]
[null,null,2576.2055395693428,0.26830178710000002,0.35313599820000002,5.0637162980731228E-3,null,380]
[null,null,2582.6460534182661,0.26798527589999999,0.35305595000000001,5.0184969821831802E-3,null,381]
[null,null,2589.1026685518118,0.2676696428,0.35297551269999999,4.9735762474678452E-3,null,382]
[null,null,2595.5754252231914,0.26735488699999999,0.35289468740000002,4.9289525890508267E-3,null,383]
[null,null,2602.064363786249,0.26704100749999998,0.35281347530000001,{"$f":"(D394-D$3)^2+(E394-D$4)^2","v":4.8846244903797929E-3},null,384]
[null,null,2608.5695246957143,0.2667280038,0.35273187779999998,4.8405905167469617E-3,null,385]
[null,null,2615.0909485074535,0.26641587480000001,0.35264989600000002,4.7968491463654499E-3,null,386]
[null,null,2621.6286758787219,0.26610461990000001,0.35256753120000001,4.753398938869495E-3,null,387]
[null,null,2628.1827475684186,0.26579423810000002,0.35248478459999999,4.7102384049285944E-3,null,388]
[null,null,2634.7532044373393,0.26548472870000001,0.35240165759999997,4.6673661113249311E-3,null,389]
[null,null,2641.3400874484323,0.26517609079999999,0.3523181514,4.6247805943973978E-3,null,390]
[null,null,2647.9434376670533,0.26486832360000001,0.35223426740000002,4.5824804218531096E-3,null,391]
[null,null,2654.5632962612208,0.2645614261,0.35215000670000002,4.5404641252257179E-3,null,392]
[null,null,2661.1997045018738,0.2642553976,0.3520653708,4.4987303037056113E-3,null,393]
[null,null,2667.8527037631284,0.26395023709999998,0.35198036100000002,4.4572775146805811E-3,null,394]
[null,null,2674.5223355225362,0.2636459438,0.35189497850000001,4.4161043397909902E-3,null,395]
[null,null,2681.2086413613424,0.26334251679999998,0.35180922469999998,4.3752093678027359E-3,null,396]
[null,null,2687.9116629647456,0.26303995520000001,0.35172310099999998,4.3345911940412072E-3,null,397]
[null,null,2694.6314421221573,0.262738258,0.35163660870000002,4.2942484026467385E-3,null,398]
[null,null,2701.3680207274624,0.26243742440000001,0.35154974919999998,4.2541796137375186E-3,null,399]
[null,null,2708.1214407792809,0.2621374534,0.35146252379999998,4.2143834246502641E-3,null,400]
[null,null,2714.8917443812288,0.26183834410000001,0.35137493400000003,4.1748584630606237E-3,null,401]
[null,null,2721.6789737421818,0.26154009560000002,0.35128698110000001,4.1356033508651918E-3,null,402]
[null,null,2728.4831711765373,0.2612427068,0.35119866649999998,4.0966166999265741E-3,null,403]
[null,null,2735.3043791044784,0.260946177,0.35110999170000001,4.0578971798778691E-3,null,404]
[null,null,2742.1426400522396,0.26065050499999998,0.35102095789999999,4.0194433923019619E-3,null,405]
[null,null,2748.9979966523701,0.26035568999999997,0.35093156679999998,3.981254020361904E-3,null,406]
[null,null,2755.870491644001,0.26006173090000001,0.35084181959999999,3.943327690036187E-3,null,407]
[null,null,2762.7601678731107,0.25976862680000001,0.35075171789999998,3.9056630800101697E-3,null,408]
[null,null,2769.6670682927934,0.25947637670000001,0.350661263,3.8682588463122601E-3,null,409]
[null,null,2776.5912359635254,0.25918497950000002,0.35057045640000001,3.8311136524813117E-3,null,410]
[null,null,2783.5327140534341,0.25889443439999998,0.35047929970000002,3.7942262069827312E-3,null,411]
[null,null,2790.4915458385676,0.25860474010000001,0.35038779419999999,3.7575951526401447E-3,null,412]
[null,null,2797.4677747031637,0.25831589589999998,0.35029594139999998,3.7212192153286872E-3,null,413]
[null,null,2804.4614441399217,0.25802790050000002,0.3502037428,3.6850970626799229E-3,null,414]
[null,null,2811.4725977502712,0.25774075299999999,0.3501111999,3.6492274115798888E-3,null,415]
[null,null,2818.5012792446469,0.25745445230000003,0.35001831420000001,3.613608963856603E-3,null,416]
[null,null,2825.5475324427584,0.2571689975,0.34992508729999999,3.57824045448394E-3,null,417]
[null,null,2832.6114012738653,0.25688438730000002,0.34983152049999999,3.5431205653260684E-3,null,418]
[null,null,2839.6929297770498,0.25660062090000002,0.34973761549999999,3.5082480600100241E-3,null,419]
[null,null,2846.7921621014921,0.25631769700000001,0.34964337369999998,3.4736216389674958E-3,null,420]
[null,null,2853.9091425067459,0.25603561460000002,0.34954879680000001,3.4392400573441456E-3,null,421]
[null,null,2861.0439153630127,0.25575437270000001,0.34945388620000001,3.4051020590759387E-3,null,422]
[null,null,2868.1965251514202,0.25547397020000001,0.3493586434,3.3712063897551013E-3,null,423]
[null,null,2875.3670164642986,0.25519440589999998,0.34926307010000002,3.337551802452556E-3,null,424]
[null,null,2882.5554340054591,0.25491567869999998,0.3491671677,3.3041370495789186E-3,null,425]
[null,null,2889.7618225904725,0.2546377876,0.349070938,3.2709609222470637E-3,null,426]
[null,null,2896.9862271469487,0.25436073139999998,0.3489743823,3.2380221694084084E-3,null,427]
[null,null,2904.2286927148161,0.25408450900000001,0.34887750239999998,3.2053195842814998E-3,null,428]
[null,null,2911.4892644466031,0.2538091193,0.34878029970000002,3.172851943656426E-3,null,429]
[null,null,2918.7679876077195,0.2535345611,0.34868277600000003,3.1406180429046364E-3,null,430]
[null,null,2926.0649075767387,0.2532608334,0.34858493270000002,3.1086166806536183E-3,null,431]
[null,null,2933.3800698456803,0.25298793479999998,0.34848677150000001,3.0768466393924243E-3,null,432]
[null,null,2940.7135200202943,0.25271586439999999,0.34838829399999999,3.0453067504534323E-3,null,433]
[null,null,2948.065303820345,0.25244462090000003,0.34828950180000001,3.0139958125061004E-3,null,434]
[null,null,2955.4354670798957,0.2521742032,0.3481903965,2.9829126494122621E-3,null,435]
[null,null,2962.8240557475951,0.25190460999999997,0.34809097979999998,2.9520560774355291E-3,null,436]
[null,null,2970.2311158869638,0.25163584030000002,0.34799125320000002,2.9214249362141207E-3,null,437]
[null,null,2977.6566936766812,0.25136789279999999,0.34789121849999999,2.8910180592450628E-3,null,438]
[null,null,2985.1008354108726,0.25110076640000001,0.34779087720000001,2.8608342883967852E-3,null,439]
[null,null,2992.5635874993995,0.25083445980000002,0.34769023110000002,2.8308724689520798E-3,null,440]
[null,null,3000.0449964681479,0.25056897179999998,0.34758928169999997,2.8011314452662628E-3,null,441]
[null,null,3007.545108959318,0.25030430129999998,0.34748803070000001,2.77161008732191E-3,null,442]
[null,null,3015.0639717317163,0.25004044689999999,0.34738647979999998,2.7423072434958643E-3,null,443]
[null,null,3022.6016316610453,0.2497774076,0.34728463069999999,2.7132218042297523E-3,null,444]
[null,null,3030.1581357401978,0.24951518210000001,0.34718248489999998,2.6843526279086895E-3,null,445]
[null,null,3037.7335310795484,0.24925376909999999,0.3470800443,2.6556985998389257E-3,null,446]
[null,null,3045.3278649072472,0.24899316739999999,0.34697731050000002,2.6272586041851068E-3,null,447]
[null,null,3052.9411845695154,0.24873337570000001,0.34687428510000001,{"$f":"(D458-D$3)^2+(E458-D$4)^2","v":2.599031521991208E-3},null,448]
[null,null,3060.5735375309391,0.24847439290000001,0.3467709699,2.5710162679224622E-3,null,449]
[null,null,3068.2249713747665,0.24821621760000001,0.34666736660000003,2.5432117307009222E-3,null,450]
[null,null,3075.8955338032033,0.2479588486,0.34656347679999999,2.5156168170701017E-3,null,451]
[null,null,3083.5852726377111,0.2477022847,0.34645930229999999,2.4882304495210594E-3,null,452]
[null,null,3091.2942358193054,0.24744652449999999,0.34635484480000001,2.4610515337643662E-3,null,453]
[null,null,3099.0224714088536,0.24719156680000001,0.34625010589999999,2.4340789931948954E-3,null,454]
[null,null,3106.7700275873754,0.2469374104,0.3461450875,2.407311771782222E-3,null,455]
[null,null,3114.5369526563436,0.2466840538,0.3460397912,2.3807487785017308E-3,null,456]
[null,null,3122.3232950379843,0.24643149589999999,0.34593421880000003,2.3543889715985484E-3,null,457]
[null,null,3130.1291032755789,0.24617973539999999,0.34582837189999999,2.3282312878201128E-3,null,458]
[null,null,3137.9544260337675,0.2459287708,0.34572225229999998,2.3022746629285653E-3,null,459]
[null,null,3145.7993120988517,0.245678601,0.34561586179999998,2.2765180710924513E-3,null,460]
[null,null,3153.6638103790988,0.2454292247,0.34550920210000002,2.2509604702371164E-3,null,461]
[null,null,3161.5479699050466,0.24518064040000001,0.34540227499999998,2.2256008124064363E-3,null,462]
[null,null,3169.4518398298092,0.2449328469,0.34529508209999998,2.2004380695993869E-3,null,463]
[null,null,3177.3754694293834,0.24468584290000001,0.34518762530000002,2.175471225582992E-3,null,464]
[null,null,3185.3189081029568,0.2444396271,0.34507990630000002,2.1506992595677079E-3,null,465]
[null,null,3193.2822053732139,0.244194198,0.34497192679999999,2.1261211402647268E-3,null,466]
[null,null,3201.2654108866468,0.24394955430000001,0.3448636886,2.1017358624166411E-3,null,467]
[null,null,3209.2685744138635,0.24370569480000001,0.34475519360000001,2.0775424383960763E-3,null,468]
[null,null,3217.2917458498978,0.2434626181,0.34464644329999999,2.0535398509455341E-3,null,469]
[null,null,3225.3349752145223,0.2432203228,0.3445374397,2.0297271118959051E-3,null,470]
[null,null,3233.3983126525586,0.2429788075,0.34442818450000001,2.0061032240098037E-3,null,471]
[null,null,3241.48180843419,0.24273807089999999,0.34431867939999999,1.9826672028844614E-3,null,472]
[null,null,3249.5855129552751,0.24249811169999999,0.3442089263,1.9594180784577148E-3,null,473]
[null,null,3257.709476737663,0.24225892839999999,0.34409892689999999,1.936354861265512E-3,null,474]
[null,null,3265.8537504295068,0.24202051960000001,0.34398868300000002,1.9134765792458699E-3,null,475]
[null,null,3274.0183848055804,0.24178288410000001,0.3438781964,1.8907822801597046E-3,null,476]
[null,null,3282.203430767594,0.24154602040000001,0.34376746889999998,1.8682709943826717E-3,null,477]
[null,null,3290.4089393445129,0.24130992709999999,0.3436565023,1.8459417647605221E-3,null,478]
[null,null,3298.6349616928742,0.24107460289999999,0.34354529830000002,1.8237936418209807E-3,null,479]
[null,null,3306.881549097106,0.2408400463,0.34343385879999999,1.801825675517892E-3,null,480]
[null,null,3315.1487529698488,0.24060625599999999,0.3433221856,1.7800369306296279E-3,null,481]
[null,null,3323.4366248522733,0.2403732304,0.34321028040000001,1.7584264508417888E-3,null,482]
[null,null,3331.7452164144038,0.24014096830000001,0.34309814509999997,1.7369933222411776E-3,null,483]
[null,null,3340.0745794554396,0.23990946830000001,0.34298578149999998,1.7157366168244455E-3,null,484]
[null,null,3348.424765904078,0.23967872879999999,0.34287319129999999,1.6946553930451314E-3,null,485]
[null,null,3356.795827818838,0.2394487485,0.34276037650000002,1.6737487484198631E-3,null,486]
[null,null,3365.1878173883847,0.23921952599999999,0.34264733870000003,1.6530157605775028E-3,null,487]
[null,null,3373.6007869318555,0.23899105970000001,0.3425340798,1.6324555113136794E-3,null,488]
[null,null,3382.0347888991851,0.23876334839999999,0.34242060159999999,1.6120671101987102E-3,null,489]
[null,null,3390.489875871433,0.23853639060000001,0.34230690600000002,1.5918496551254983E-3,null,490]
[null,null,3398.9661005611115,0.23831018470000001,0.34219299469999997,1.5718022334838162E-3,null,491]
[null,null,3407.4635158125143,0.23808472950000001,0.3420788696,1.5519239727369303E-3,null,492]
[null,null,3415.9821746020452,0.23786002340000001,0.34196453240000002,1.532213969614403E-3,null,493]
[null,null,3424.5221300385501,0.23763606500000001,0.34184998500000002,1.5126713472916769E-3,null,494]
[null,null,3433.0834353636465,0.23741285279999999,0.3417352293,1.4932952268224696E-3,null,495]
[null,null,3441.6661439520553,0.23719038540000001,0.34162026699999998,1.4740847319996899E-3,null,496]
[null,null,3450.2703093119353,0.23696866129999999,0.3415050999,1.4550389888220911E-3,null,497]
[null,null,3458.8959850852148,0.23674767899999999,0.34138972989999999,1.4361571319532009E-3,null,498]
[null,null,3467.5432250479275,0.2365274372,0.34127415890000001,1.4174383131835039E-3,null,499]
[null,null,3476.2120831105472,0.23630793420000001,0.34115838850000002,1.39888165107147E-3,null,500]
[null,null,3484.9026133183233,0.2360891688,0.34104242080000002,1.380486320548201E-3,null,501]
[null,null,3493.614869851619,0.2358711393,0.34092625739999999,1.3622514491845542E-3,null,502]
[null,null,3502.3489070262481,0.23565384419999999,0.34080990020000002,1.3441761937616281E-3,null,503]
[null,null,3511.1047792938134,0.23543728219999999,0.34069335099999998,1.3262597236542036E-3,null,504]
[null,null,3519.8825412420479,0.23522145180000001,0.34057661169999998,1.3085012040375192E-3,null,505]
[null,null,3528.6822475951526,0.2350063513,0.34045968409999999,1.2908997883667923E-3,null,506]
[null,null,3537.5039532141404,0.23479197939999999,0.34034257000000001,1.2734546587144331E-3,null,507]
[null,null,3546.3477130971755,0.23457833459999999,0.34022527130000002,1.2561649930573481E-3,null,508]
[null,null,3555.2135823799181,0.23436541529999999,0.3401077897,1.2390299599637905E-3,null,509]
[null,null,3564.1016163358677,0.2341532201,0.33999012709999998,1.2220487518388239E-3,null,510]
[null,null,3573.0118703767071,0.23394174740000001,0.33987228539999997,1.2052205533836565E-3,null,511]
[null,null,3581.9444000526487,0.23373099580000001,0.3397542663,{"$f":"(D522-D$3)^2+(E522-D$4)^2","v":1.1885445575756058E-3},null,512]
[null,null,3590.8992610527803,0.2335209637,0.33963607179999999,1.1720199612072978E-3,null,513]
[null,null,3599.8765092054118,0.23331164970000001,0.33951770349999999,1.1556459616911784E-3,null,514]
[null,null,3608.8762004784253,0.23310305219999999,0.33939916339999998,1.1394217640120607E-3,null,515]
[null,null,3617.8983909796211,0.23289516969999999,0.3392804532,1.1233465717979264E-3,null,516]
[null,null,3626.9431369570698,0.2326880006,0.33916157489999998,1.1074195981669436E-3,null,517]
[null,null,3636.0104947994623,0.23248154360000001,0.33904253020000003,1.0916400659384041E-3,null,518]
[null,null,3645.1005210364606,0.2322757969,0.33892332089999999,1.0760071778360709E-3,null,519]
[null,null,3654.2132723390514,0.2320707592,0.33880394889999998,1.0605201718273988E-3,null,520]
[null,null,3663.3488055198986,0.2318664289,0.33868441599999999,1.0451782696141131E-3,null,521]
[null,null,3672.5071775336983,0.23166280440000001,0.33856472409999999,1.0299807004805269E-3,null,522]
[null,null,3681.6884454775322,0.2314598843,0.33844487490000003,1.0149267012896427E-3,null,523]
[null,null,3690.8926665912259,0.23125766689999999,0.33832487030000002,1.0000155037822617E-3,null,524]
[null,null,3700.1198982577039,0.2310561508,0.33820471200000002,9.8524635256153504E-4,null,525]
[null,null,3709.3701980033479,0.2308553344,0.33808440200000001,9.7061849583230525E-4,null,526]
[null,null,3718.6436234983562,0.23065521620000001,0.33796394210000003,9.5613118387930017E-4,null,527]
[null,null,3727.9402325571018,0.23045579460000001,0.337843334,9.4178366221564296E-4,null,528]
[null,null,3737.2600831384943,0.23025706809999999,0.33772257960000002,9.2757519211153689E-4,null,529]
[null,null,3746.6032333463404,0.2300590351,0.33760168070000002,9.1350503004342391E-4,null,530]
[null,null,3755.9697414297061,0.22986169410000001,0.33748063900000003,8.9957243799388949E-4,null,531]
[null,null,3765.35966578328,0.2296650435,0.3373594566,8.857766898389413E-4,null,532]
[null,null,3774.773064947738,0.2294690818,0.33723813499999999,8.7211704828800743E-4,null,533]
[null,null,3784.2099976101072,0.2292738074,0.33711667620000002,8.5859279120508477E-4,null,534]
[null,null,3793.6705226041322,0.22907921880000001,0.336995082,8.4520319838855503E-4,null,535]
[null,null,3803.1546989106423,0.22888531440000001,0.33687335419999997,8.3194754834927558E-4,null,536]
[null,null,3812.6625856579185,0.22869209260000001,0.33675149450000003,8.1882512008615979E-4,null,537]
[null,null,3822.1942421220633,0.22849955189999999,0.33662950479999998,8.0583520732662567E-4,null,538]
[null,null,3831.7497277273683,0.22830769079999999,0.33650738689999998,7.9297710403077287E-4,null,539]
[null,null,3841.3291020466863,0.22811650750000001,0.33638514260000002,7.8025009361258569E-4,null,540]
[null,null,3850.9324248018029,0.22792600069999999,0.33626277370000002,7.6765348642090679E-4,null,541]
[null,null,3860.5597558638074,0.22773616860000001,0.33614028200000001,7.5518657297306887E-4,null,542]
[null,null,3870.2111552534666,0.22754700980000001,0.33601766929999999,7.428486657476592E-4,null,543]
[null,null,3879.8866831415999,0.22735852270000001,0.33589493729999997,7.3063906839115813E-4,null,544]
[null,null,3889.5863998494538,0.22717070559999999,0.33577208800000002,7.1855709252454107E-4,null,545]
[null,null,3899.3103658490772,0.22698355710000001,0.33564912299999999,7.066020546567305E-4,null,546]
[null,null,3909.0586417636996,0.22679707539999999,0.33552604419999998,6.9477326577320323E-4,null,547]
[null,null,3918.8312883681087,0.2266112592,0.33540285330000003,6.8307005640927203E-4,null,548]
[null,null,3928.6283665890287,0.22642610669999999,0.33527955209999999,6.7149174137807956E-4,null,549]
[null,null,3938.4499375055011,0.22624161640000001,0.33515614249999998,6.6003765478797063E-4,null,550]
[null,null,3948.2960623492645,0.22605778679999999,0.33503262610000001,6.4870712533622544E-4,null,551]
[null,null,3958.1668025051376,0.22587461610000001,0.33490900480000002,6.3749948079905392E-4,null,552]
[null,null,3968.0622195114001,0.2256921029,0.3347852804,6.2641406629880645E-4,null,553]
[null,null,3977.9823750601786,0.22551024559999999,0.33466145460000002,6.1545021887084985E-4,null,554]
[null,null,3987.9273309978289,0.22532904249999999,0.33453752920000002,6.0460727746417258E-4,null,555]
[null,null,3997.8971493253234,0.22514849209999999,0.33441350590000002,5.9388458976809301E-4,null,556]
[null,null,4007.8918921986365,0.22496859280000001,0.33428938660000002,5.8328150788439367E-4,null,557]
[null,null,4017.9116219291327,0.224789343,0.33416517289999997,5.7279737899973437E-4,null,558]
[null,null,4027.9564009839555,0.22461074110000001,0.33404086669999999,5.6243156145500972E-4,null,559]
[null,null,4038.0262919864153,0.22443278550000001,0.3339164697,5.5218341137207847E-4,null,560]
[null,null,4048.1213577163812,0.2242554746,0.33379198360000001,5.4205228801929082E-4,null,561]
[null,null,4058.2416611106719,0.22407880690000001,0.33366741030000002,5.3203756272603023E-4,null,562]
[null,null,4068.3872652634482,0.22390278059999999,0.3335427514,5.2213859058254739E-4,null,563]
[null,null,4078.5582334266064,0.2237273944,0.33341800869999999,5.1235475401228048E-4,null,564]
[null,null,4088.7546290101727,0.2235526464,0.33329318390000001,5.0268541304745139E-4,null,565]
[null,null,4098.9765155826981,0.22337853520000001,0.3331682789,4.9312995459627413E-4,null,566]
[null,null,4109.223956871655,0.22320505909999999,0.33304329519999998,4.8368774739397392E-4,null,567]
[null,null,4119.4970167638339,0.22303221649999999,0.33291823469999998,4.7435817671782784E-4,null,568]
[null,null,4129.7957593057436,0.22286000589999999,0.33279309909999999,4.6514062946697324E-4,null,569]
[null,null,4140.1202487040073,0.22268842559999999,0.33266789009999997,4.560344882013587E-4,null,570]
[null,null,4150.470549325767,0.2225174741,0.33254260949999997,4.4703914792305378E-4,null,571]
[null,null,4160.8467256990816,0.22234714959999999,0.3324172588,4.3815398889954997E-4,null,572]
[null,null,4171.2488425133288,0.2221774507,0.33229184,4.2937841996004808E-4,null,573]
[null,null,4181.6769646196117,0.22200837579999999,0.3321663547,4.207118363603056E-4,null,574]
[null,null,4192.1311570311609,0.2218399231,0.33204080450000001,4.12153629482081E-4,null,575]
[null,null,4202.6114849237383,0.2216720911,0.33191519130000002,{"$f":"(D586-D$3)^2+(E586-D$4)^2","v":4.0370321056185359E-4},null,576]
[null,null,4213.1180136360472,0.22150487830000001,0.3317895166,3.953599846009217E-4,null,577]
[null,null,4223.6508086701369,0.22133828289999999,0.33166378229999999,3.8712335810740773E-4,null,578]
[null,null,4234.2099356918125,0.2211723035,0.3315379899,3.7899274497654777E-4,null,579]
[null,null,4244.7954605310415,0.22100693830000001,0.33141214130000002,3.7096755719946738E-4,null,580]
[null,null,4255.4074491823685,0.22084218589999999,0.33128623800000001,3.6304721404619816E-4,null,581]
[null,null,4266.0459678053239,0.2206780444,0.33116028180000001,3.5523112769205974E-4,null,582]
[null,null,4276.7110827248371,0.22051451250000001,0.33103427429999999,3.4751872802393449E-4,null,583]
[null,null,4287.4028604316491,0.22035158839999999,0.33090821729999997,3.3990943574314892E-4,null,584]
[null,null,4298.1213675827275,0.22018927059999999,0.33078211239999999,3.3240267958946937E-4,null,585]
[null,null,4308.8666710016842,0.22002755739999999,0.33065596120000001,3.2499788478542699E-4,null,586]
[null,null,4319.6388376791883,0.21986644729999999,0.33052976550000002,3.1769448919426521E-4,null,587]
[null,null,4330.4379347733857,0.2197059385,0.33040352680000001,3.1049191839715892E-4,null,588]
[null,null,4341.2640296103191,0.2195460296,0.33027724689999999,3.033896183222796E-4,null,589]
[null,null,4352.1171896843443,0.2193867189,0.33015092750000002,2.9638702647449941E-4,null,590]
[null,null,4362.9974826585549,0.21922800479999999,0.33002457000000002,2.8948358039468944E-4,null,591]
[null,null,4373.904976365201,0.21906988569999999,0.32989817630000001,2.8267872934641878E-4,null,592]
[null,null,4384.8397388061139,0.21891236,0.32977174790000002,2.7597191776683114E-4,null,593]
[null,null,4395.8018381531292,0.218755426,0.32964528650000002,2.6936259341560608E-4,null,594]
[null,null,4406.7913427485119,0.21859908219999999,0.32951879369999998,2.6285021036540177E-4,null,595]
[null,null,4417.8083211053827,0.21844332699999999,0.32939227110000002,2.5643422232531716E-4,null,596]
[null,null,4428.8528419081458,0.21828815870000001,0.32926572040000002,2.5011408444250004E-4,null,597]
[null,null,4439.9249740129162,0.21813357580000001,0.32913914319999998,2.4388925800577235E-4,null,598]
[null,null,4451.0247864479479,0.21797957649999999,0.3290125411,2.377591987202849E-4,null,599]
[null,null,4462.152348414068,0.2178261594,0.32888591569999998,2.3172337532722078E-4,null,600]
[null,null,4473.3077292851031,0.21767332289999999,0.32875926859999999,2.2578125357311974E-4,null,601]
[null,null,4484.4909986083157,0.2175210652,0.3286326014,2.1993229649738865E-4,null,602]
[null,null,4495.702226104836,0.21736938480000001,0.32850591579999999,2.1417597875697319E-4,null,603]
[null,null,4506.9414816700983,0.21721828009999999,0.32837921320000002,2.0851177017265486E-4,null,604]
[null,null,4518.2088353742729,0.2170677496,0.3282524953,2.0293914990694253E-4,null,605]
[null,null,4529.504357462708,0.2169177914,0.32812576380000003,1.9745758952791547E-4,null,606]
[null,null,4540.8281183563649,0.21676840419999999,0.32799901999999997,1.9206657179478677E-4,null,607]
[null,null,4552.1801886522553,0.21661958619999999,0.3278722657,1.8676557681698302E-4,null,608]
[null,null,4563.5606391238853,0.21647133590000001,0.3277455024,1.8155408986481676E-4,null,609]
[null,null,4574.969540721695,0.21632365170000001,0.3276187317,1.7643159744348583E-4,null,610]
[null,null,4586.406964573499,0.2161765319,0.32749195510000001,1.713975846754406E-4,null,611]
[null,null,4597.8729819849323,0.21602997500000001,0.3273651742,1.664515448382103E-4,null,612]
[null,null,4609.3676644398947,0.2158839793,0.32723839049999998,1.6159296757343691E-4,null,613]
[null,null,4620.8910836009945,0.21573854319999999,0.32711160560000002,1.5682134829406259E-4,null,614]
[null,null,4632.4433113099967,0.21559366520000001,0.32698482099999998,1.5213618547568254E-4,null,615]
[null,null,4644.0244195882715,0.21544934369999999,0.32685803819999998,1.4753697756175673E-4,null,616]
[null,null,4655.6344806372417,0.215305577,0.32673125879999998,1.430232242489054E-4,null,617]
[null,null,4667.273566838835,0.21516236350000001,0.32660448440000001,1.3859442948092014E-4,null,618]
[null,null,4678.9417507559319,0.2150197016,0.32647771640000001,1.3425009703683935E-4,null,619]
[null,null,4690.6391051328219,0.2148775899,0.32635095629999999,1.2998973802769262E-4,null,620]
[null,null,4702.3657028956541,0.21473602650000001,0.32622420559999998,1.2581285556075199E-4,null,621]
[null,null,4714.1216171528931,0.21459501,0.326097466,1.2171896699842379E-4,null,622]
[null,null,4725.9069211957749,0.21445453880000001,0.32597073879999999,1.1770758348769616E-4,null,623]
[null,null,4737.7216884987638,0.2143146112,0.32584402550000002,1.137782185111198E-4,null,624]
[null,null,4749.5659927200104,0.2141752257,0.3257173277,1.0993039240021166E-4,null,625]
[null,null,4761.4399077018106,0.21403638059999999,0.32559064679999999,1.0616362176727667E-4,null,626]
[null,null,4773.3435074710651,0.2138980744,0.32546398430000001,1.0247742997877688E-4,null,627]
[null,null,4785.276866239743,0.2137603055,0.3253373417,9.8871340504879713E-5,null,628]
[null,null,4797.2400584053421,0.21362307229999999,0.32521072049999999,9.5344878797337012E-5,null,629]
[null,null,4809.2331585513548,0.2134863732,0.32508412209999998,9.1897571444142851E-5,null,630]
[null,null,4821.2562414477334,0.21335020660000001,0.32495754789999998,8.8528947083133222E-5,null,631]
[null,null,4833.3093820513523,0.21321457090000001,0.3248309995,8.5238537941914253E-5,null,632]
[null,null,4845.39265550648,0.21307946459999999,0.32470447819999998,8.2025877451675298E-5,null,633]
[null,null,4857.5061371452457,0.212944886,0.32457798560000001,7.8890499979640533E-5,null,634]
[null,null,4869.6499024881086,0.21281083349999999,0.32445152290000001,7.5831940568031229E-5,null,635]
[null,null,4881.824027244329,0.21267730570000001,0.32432509180000002,7.2849742949237755E-5,null,636]
[null,null,4894.0285873124394,0.2125443008,0.32419869359999998,6.994344352361492E-5,null,637]
[null,null,4906.2636587807201,0.21241181740000001,0.32407232969999999,6.7112587625180059E-5,null,638]
[null,null,4918.5293179276714,0.2122798538,0.32394600159999998,6.435671843651272E-5,null,639]
[null,null,4930.82564122249,0.21214840839999999,0.32381971059999998,{"$f":"(D650-D$3)^2+(E650-D$4)^2","v":6.1675381360594289E-5},null,640]
[null,null,4943.1527053255459,0.21201747979999999,0.3236934581,5.9068127212909353E-5,null,641]
[null,null,4955.5105870888592,0.2118870662,0.3235672456,5.6534503364753801E-5,null,642]
[null,null,4967.8993635565812,0.2117571661,0.32344107439999997,5.4074062303990171E-5,null,643]
[null,null,4980.3191119654721,0.21162777799999999,0.32331494599999999,5.168635931021867E-5,null,644]
[null,null,4992.7699097453897,0.21149890029999999,0.3231888617,4.9370949057974451E-5,null,645]
[null,null,5005.2518345197486,0.21137053140000001,0.32306282279999998,4.7127388137913938E-5,null,646]
[null,null,5017.764964106048,0.2112426697,0.32293683080000002,4.495523584033962E-5,null,647]
[null,null,5030.309376516313,0.21111531359999999,0.32281088699999999,4.2854052391671737E-5,null,648]
[null,null,5042.885149957604,0.21098846169999999,0.32268499280000001,4.0823402696945124E-5,null,649]
[null,null,5055.4923628324977,0.21086211229999999,0.32255914949999998,3.886284927867648E-5,null,650]
[null,null,5068.1310937395783,0.21073626379999999,0.32243335849999999,3.6971958080200911E-5,null,651]
[null,null,5080.8014214739269,0.21061091470000001,0.3223076211,3.5150297651883007E-5,null,652]
[null,null,5093.5034250276112,0.21048606349999999,0.3221819386,3.3397438256972338E-5,null,653]
[null,null,5106.2371835901804,0.2103617086,0.32205631239999999,3.171295097734657E-5,null,654]
[null,null,5119.0027765491559,0.2102378483,0.32193074379999997,3.0096407302095186E-5,null,655]
[null,null,5131.8002834905283,0.21011448129999999,0.3218052341,2.854738480763219E-5,null,656]
[null,null,5144.6297841992546,0.20999160580000001,0.32167978460000002,2.7065457381634715E-5,null,657]
[null,null,5157.4913586597522,0.20986922029999999,0.32155439660000001,2.5650203867254987E-5,null,658]
[null,null,5170.3850870564011,0.20974732339999999,0.3214290715,2.4301205817005511E-5,null,659]
[null,null,5183.3110497740417,0.2096259134,0.32130381050000001,2.3018043187705235E-5,null,660]
[null,null,5196.2693273984769,0.20950498880000001,0.32117861489999999,2.1800299747823284E-5,null,661]
[null,null,5209.2600007169731,0.209384548,0.32105348589999999,2.0647559925637432E-5,null,662]
[null,null,5222.2831507187657,0.20926458949999999,0.32092842500000002,1.9559410801079159E-5,null,663]
[null,null,5235.3388585955627,0.20914511180000001,0.32080343319999999,1.8535440955576355E-5,null,664]
[null,null,5248.4272057420512,0.2090261132,0.32067851200000003,1.7575238887338347E-5,null,665]
[null,null,5261.5482737564062,0.20890759240000001,0.3205536625,1.667839818554186E-5,null,666]
[null,null,5274.7021444407965,0.20878954759999999,0.32042888600000002,1.5844509824026684E-5,null,667]
[null,null,5287.8888998018983,0.20867197749999999,0.32030418370000002,1.5073170530459965E-5,null,668]
[null,null,5301.1086220514026,0.2085548803,0.3201795569,1.4363974580289765E-5,null,669]
[null,null,5314.3613936065312,0.20843825469999999,0.32005500679999999,1.371652179135751E-5,null,670]
[null,null,5327.647297090547,0.20832209909999999,0.31993053469999999,1.3130411080574388E-5,null,671]
[null,null,5340.9664153332733,0.2082064119,0.31980614169999999,1.2605243375255164E-5,null,672]
[null,null,5354.3188313716064,0.20809119170000001,0.31968182909999998,1.2140622141785345E-5,null,673]
[null,null,5367.7046284500348,0.2079764368,0.31955759810000001,1.1736150589540381E-5,null,674]
[null,null,5381.1238900211592,0.20786214580000001,0.3194334499,1.1391435449788186E-5,null,675]
[null,null,5394.5766997462115,0.2077483172,0.3193093856,1.1106084621485561E-5,null,676]
[null,null,5408.0631414955769,0.20763494930000001,0.31918540649999999,1.0879705786217548E-5,null,677]
[null,null,5421.5832993493159,0.2075220408,0.31906151370000002,1.0711911093197854E-5,null,678]
[null,null,5435.1372575976893,0.20740959,0.31893770849999997,1.0602311233573979E-5,null,679]
[null,null,5448.7251007416835,0.20729759549999999,0.31881399199999999,1.0550520769715419E-5,null,680]
[null,null,5462.3469134935376,0.20718605579999999,0.3186903653,1.0556155259451116E-5,null,681]
[null,null,5476.0027807772713,0.20707496929999999,0.3185668297,1.0618830407028953E-5,null,682]
[null,null,5489.6927877292137,0.20696433450000001,0.31844338620000001,1.0738165260935556E-5,null,683]
[null,null,5503.417019698536,0.20685414990000001,0.31832003599999997,1.091377943911832E-5,null,684]
[null,null,5517.1755622477822,0.2067444141,0.31819678029999998,1.1145294348629925E-5,null,685]
[null,null,5530.9685011534011,0.20663512540000001,0.31807362020000002,1.1432332203920546E-5,null,686]
[null,null,5544.7959224062843,0.20652628249999999,0.31795055680000001,1.1774518226235924E-5,null,687]
[null,null,5558.6579122122994,0.20641788380000001,0.31782759119999998,1.2171477990730793E-5,null,688]
[null,null,5572.5545569928299,0.20630992770000001,0.31770472459999999,1.2622837974569639E-5,null,689]
[null,null,5586.4859433853117,0.20620241289999999,0.317581958,1.3128228253302537E-5,null,690]
[null,null,5600.4521582437746,0.20609533790000001,0.31745929249999999,1.368727907136768E-5,null,691]
[null,null,5614.4532886393836,0.205988701,0.31733672940000002,1.4299620202667353E-5,null,692]
[null,null,5628.4894218609816,0.20588250089999999,0.31721426949999998,1.4964887371958114E-5,null,693]
[null,null,5642.5606454156341,0.20577673599999999,0.31709191409999998,1.5682713426260319E-5,null,694]
[null,null,5656.6670470291729,0.20567140489999999,0.3169696642,1.6452735212113433E-5,null,695]
[null,null,5670.8087146467451,0.20556650609999999,0.3168475208,1.7274590830754717E-5,null,696]
[null,null,5684.985736433362,0.20546203809999999,0.31672548509999998,1.8147918170717802E-5,null,697]
[null,null,5699.1982007744455,0.20535799939999999,0.31660355800000001,1.9072358989772001E-5,null,698]
[null,null,5713.4461962763817,0.2052543886,0.31648174070000001,2.0047554002449001E-5,null,699]
[null,null,5727.7298117670725,0.20515120419999999,0.31636003419999997,2.1073146857287232E-5,null,700]
[null,null,5742.0491362964904,0.20504844459999999,0.31623843940000002,2.214878353312332E-5,null,701]
[null,null,5756.4042591372308,0.2049461085,0.31611695760000003,2.3274107812453546E-5,null,702]
[null,null,5770.7952697850733,0.20484419440000001,0.31599558950000001,2.4448770365612844E-5,null,703]
[null,null,5785.2222579595355,0.20474270080000001,0.31587433640000001,{"$f":"(D714-D$3)^2+(E714-D$4)^2","v":2.5672417475545508E-5},null,704]
[null,null,5799.6853136044338,0.20464162620000001,0.3157531992,2.6944700673859565E-5,null,705]
[null,null,5814.1845268884445,0.20454096920000001,0.3156321789,2.8265271847132774E-5,null,706]
[null,null,5828.7199882056657,0.20444072830000001,0.31551127639999998,2.9633785337380019E-5,null,707]
[null,null,5843.2917881761796,0.2043409021,0.31539049289999999,3.1049893513163307E-5,null,708]
[null,null,5857.9000176466197,0.20424148910000001,0.31526982930000003,3.2513253342457485E-5,null,709]
[null,null,5872.5447676907361,0.2041424879,0.31514928650000001,3.4023523090228979E-5,null,710]
[null,null,5887.2261296099623,0.204043897,0.31502886549999998,3.5580361346618644E-5,null,711]
[null,null,5901.9441949339871,0.203945715,0.3149085673,3.7183427843300969E-5,null,712]
[null,null,5916.6990554213216,0.20384794040000001,0.31478839289999999,3.8832383743496496E-5,null,713]
[null,null,5931.4908030598745,0.2037505718,0.31466834319999998,4.0526892548164465E-5,null,714]
[null,null,5946.3195300675234,0.2036536078,0.31454841919999998,4.2266617790233201E-5,null,715]
[null,null,5961.1853288926923,0.20355704690000001,0.31442862179999997,4.4051225767313951E-5,null,716]
[null,null,5976.088292214924,0.20346088770000001,0.31430895190000002,4.5880383870055129E-5,null,717]
[null,null,5991.0285129454605,0.20336512879999999,0.31418941039999998,4.7753760771978693E-5,null,718]
[null,null,6006.0060842278235,0.20326976860000001,0.31406999839999999,4.9671024301377668E-5,null,719]
[null,null,6021.0210994383924,0.20317480590000001,0.31395071660000001,5.1631847770510078E-5,null,720]
[null,null,6036.0736521869885,0.20308023920000001,0.31383156600000001,5.3635902578496491E-5,null,721]
[null,null,6051.1638363174552,0.2029860671,0.3137125476,5.5682860980899714E-5,null,722]
[null,null,6066.2917459082482,0.202892288,0.3135936621,5.7772401564449683E-5,null,723]
[null,null,6081.4574752730186,0.20279890079999999,0.31347491049999998,5.990419796305704E-5,null,724]
[null,null,6096.6611189612013,0.2027059038,0.31335629370000001,6.2077928792798648E-5,null,725]
[null,null,6111.9027717586041,0.20261329580000001,0.3132378126,6.4293271876503233E-5,null,726]
[null,null,6127.1825286880003,0.20252107529999999,0.3131194679,6.6549910613598851E-5,null,727]
[null,null,6142.5004850097203,0.20242924079999999,0.31300126070000001,6.8847523510827353E-5,null,728]
[null,null,6157.8567362222439,0.2023377911,0.31288319170000001,7.1185795088898993E-5,null,729]
[null,null,6173.2513780627987,0.20224672469999999,0.31276526170000002,7.3564411011927566E-5,null,730]
[null,null,6188.6845065079551,0.2021560402,0.31264747170000001,7.5983054427104771E-5,null,731]
[null,null,6204.1562177742244,0.20206573620000001,0.3125298225,7.8441412913372998E-5,null,732]
[null,null,6219.6666083186592,0.2019758113,0.31241231489999999,8.0939175297439466E-5,null,733]
[null,null,6235.2157748394557,0.2018862642,0.31229494969999999,8.3476031054252728E-5,null,734]
[null,null,6250.8038142765536,0.20179709339999999,0.31217772770000002,8.605167203645511E-5,null,735]
[null,null,6266.4308238122449,0.2017082976,0.31206064979999998,8.8665788361588202E-5,null,736]
[null,null,6282.0969008717748,0.20161987540000001,0.31194371669999998,9.1318075440483174E-5,null,737]
[null,null,6297.802143123954,0.2015318254,0.3118269293,9.4008226339140774E-5,null,738]
[null,null,6313.5466484817634,0.20144414620000001,0.31171028830000003,9.6735938920933042E-5,null,739]
[null,null,6329.3305151029672,0.2013568365,0.31159379459999997,9.9500907897697634E-5,null,740]
[null,null,6345.1538413907247,0.2012698949,0.3114774488,1.023028353933422E-4,null,741]
[null,null,6361.0167259942009,0.20118332010000001,0.31136125190000002,1.0514141649814615E-4,null,742]
[null,null,6376.9192678091858,0.20109711059999999,0.31124520449999998,1.0801635646870951E-4,null,743]
[null,null,6392.8615659787083,0.2010112651,0.3111293074,1.1092735651908302E-4,null,744]
[null,null,6408.8437198936545,0.20092578229999999,0.31101356140000003,1.1387411894630628E-4,null,745]
[null,null,6424.865829193388,0.20084066079999999,0.31089796720000001,1.1685634993207416E-4,null,746]
[null,null,6440.9279937663714,0.20075589930000001,0.31078252550000002,1.1987375606998045E-4,null,747]
[null,null,6457.0303137507872,0.2006714963,0.3106672372,1.2292604266628853E-4,null,748]
[null,null,6473.1728895351634,0.2005874507,0.31055210280000001,1.2601292103074998E-4,null,749]
[null,null,6489.3558217590007,0.20050376089999999,0.3104371232,1.2913409959778281E-4,null,750]
[null,null,6505.5792113133975,0.20042042569999999,0.31032229900000002,1.3228929078369981E-4,null,751]
[null,null,6521.8431593416808,0.20033744379999999,0.31020763099999998,1.3547820476225405E-4,null,752]
[null,null,6538.1477672400342,0.20025481379999999,0.31009311979999998,1.3870055798924225E-4,null,753]
[null,null,6554.4931366581341,0.20017253430000001,0.30997876619999998,1.4195606380382715E-4,null,754]
[null,null,6570.8793694997794,0.20009060419999999,0.30986457090000002,1.4524443598670764E-4,null,755]
[null,null,6587.3065679235287,0.2000090219,0.30975053450000001,1.4856539635491487E-4,null,756]
[null,null,6603.7748343433368,0.19992778620000001,0.30963665769999998,1.5191866190941673E-4,null,757]
[null,null,6620.2842714291946,0.19984689589999999,0.30952294120000001,1.5530395066817694E-4,null,758]
[null,null,6636.8349821077672,0.1997663495,0.30940938559999998,1.5872098701163949E-4,null,759]
[null,null,6653.4270695630366,0.19968614579999999,0.30929599159999999,1.6216949118600497E-4,null,760]
[null,null,6670.0606372369439,0.1996062834,0.30918275989999999,1.6564918652925745E-4,null,761]
[null,null,6686.7357888300357,0.19952676110000001,0.30906969109999999,1.6915979774616212E-4,null,762]
[null,null,6703.4526283021105,0.1994475775,0.30895678589999997,1.7270105037773482E-4,null,763]
[null,null,6720.2112598728654,0.19936873129999999,0.30884404479999999,1.7627267481370822E-4,null,764]
[null,null,6737.0117880225471,0.19929022129999999,0.30873146849999999,1.7987439666505633E-4,null,765]
[null,null,6753.8543174926035,0.19921204619999999,0.30861905760000002,1.8350594609852422E-4,null,766]
[null,null,6770.7389532863344,0.1991342046,0.30850681279999997,1.8716705304763957E-4,null,767]
[null,null,6787.6658006695498,0.1990566953,0.3083947346,{"$f":"(D778-D$3)^2+(E778-D$4)^2","v":1.9085745122750163E-4},null,768]
[null,null,6804.6349651712235,0.19897951689999999,0.30828282369999999,1.9457687276139103E-4,null,769]
[null,null,6821.6465525841513,0.1989026683,0.30817108059999998,1.9832505238060569E-4,null,770]
[null,null,6838.7006689656109,0.19882614809999999,0.30805950599999998,2.0210172432566021E-4,null,771]
[null,null,6855.797420638025,0.19874995509999999,0.30794810039999998,2.0590662664808626E-4,null,772]
[null,null,6872.9369141896195,0.19867408789999999,0.30783686430000001,2.0973950096737177E-4,null,773]
[null,null,6890.1192564750936,0.19859854530000001,0.30772579849999998,2.136000796925224E-4,null,774]
[null,null,6907.3445546162811,0.19852332610000001,0.30761490339999997,2.1748810671435239E-4,null,775]
[null,null,6924.6129160028213,0.19844842900000001,0.30750417959999998,2.2140332299887912E-4,null,776]
[null,null,6941.9244482928279,0.19837385260000001,0.3073936276,2.2534547456233312E-4,null,777]
[null,null,6959.2792594135599,0.19829959589999999,0.30728324800000001,2.2931430064432388E-4,null,778]
[null,null,6976.677457562093,0.1982256574,0.30717304140000001,2.3330954795748319E-4,null,779]
[null,null,6994.1191512059977,0.198152036,0.30706300819999999,2.373309645601826E-4,null,780]
[null,null,7011.6044490840122,0.19807873040000001,0.30695314899999998,2.4137829670189785E-4,null,781]
[null,null,7029.1334602067218,0.19800573939999999,0.30684346439999999,2.4545129028117105E-4,null,782]
[null,null,7046.7062938572381,0.1979330618,0.30673395479999999,2.49549697831097E-4,null,783]
[null,null,7064.3230595918803,0.19786069619999999,0.30662462080000003,2.5367327007264664E-4,null,784]
[null,null,7081.9838672408596,0.19778864139999999,0.30651546280000003,2.5782176173142499E-4,null,785]
[null,null,7099.6888269089613,0.1977168963,0.30640648129999998,2.6199492431034884E-4,null,786]
[null,null,7117.4380489762334,0.19764545959999999,0.30629767699999999,2.6619250729279756E-4,null,787]
[null,null,7135.2316440986733,0.19757432999999999,0.30618905010000003,2.7041427580707452E-4,null,788]
[null,null,7153.0697232089196,0.1975035064,0.30608060129999998,2.7465997850861952E-4,null,789]
[null,null,7170.9523975169413,0.19743298749999999,0.30597233099999999,2.7892937676608716E-4,null,790]
[null,null,7188.8797785107336,0.19736277220000001,0.30586423959999998,2.8322223009290525E-4,null,791]
[null,null,7206.8519779570097,0.1972928591,0.3057563277,2.8753829747657673E-4,null,792]
[null,null,7224.8691079019018,0.19722324720000001,0.30564859560000002,2.9187734199212463E-4,null,793]
[null,null,7242.9312806716562,0.19715393510000001,0.30554104389999998,2.9623912466318554E-4,null,794]
[null,null,7261.0386088733349,0.1970849217,0.30543367300000002,3.0062340905757804E-4,null,795]
[null,null,7279.1912053955175,0.19701620580000001,0.30532648330000001,3.050299613045085E-4,null,796]
[null,null,7297.3891834090055,0.1969477862,0.30521947519999998,3.0945854857902479E-4,null,797]
[null,null,7315.6326563675275,0.19687966170000001,0.30511264929999998,3.1390893276533942E-4,null,798]
[null,null,7333.9217380084456,0.1968118311,0.30500600579999998,3.1838088935889019E-4,null,799]
[null,null,7352.2565423534661,0.1967442932,0.30489954530000002,3.2287418222231337E-4,null,800]
[null,null,7370.6371837093493,0.19667704690000001,0.30479326810000001,3.2738858412669023E-4,null,801]
[null,null,7389.0637766686223,0.19661009099999999,0.30468717470000001,3.3192386403783165E-4,null,802]
[null,null,7407.5364361102938,0.19654342420000001,0.30458126540000002,3.3647980005294023E-4,null,803]
[null,null,7426.0552772005694,0.19647704539999999,0.30447554059999998,3.4105616477558631E-4,null,804]
[null,null,7444.6204153935705,0.19641095350000001,0.30437000079999998,3.4565272844399442E-4,null,805]
[null,null,7463.2319664320539,0.19634514729999999,0.3042646463,3.5026927052553633E-4,null,806]
[null,null,7481.8900463481341,0.19627962560000001,0.30415947739999999,3.5490557156338568E-4,null,807]
[null,null,7500.5947714640042,0.19621438720000001,0.30405449470000001,3.5956140303939135E-4,null,808]
[null,null,7519.3462583926639,0.19614943100000001,0.30394969830000002,3.642365525002144E-4,null,809]
[null,null,7538.1446240386449,0.19608475589999999,0.3038450888,3.6893079157245955E-4,null,810]
[null,null,7556.9899855987414,0.19602036070000001,0.30374066640000003,3.7364390815814878E-4,null,811]
[null,null,7575.8824605627378,0.1959562443,0.30363643150000003,3.783756825930863E-4,null,812]
[null,null,7594.8221667141443,0.1958924054,0.30353238440000002,3.8312590318338101E-4,null,813]
[null,null,7613.8092221309289,0.195828843,0.30342852549999999,3.8789435041400484E-4,null,814]
[null,null,7632.8437451862555,0.19576555600000001,0.30332485510000001,3.9268081095646297E-4,null,815]
[null,null,7651.9258545492212,0.19570254309999999,0.3032213735,3.9748507611541995E-4,null,816]
[null,null,7671.0556691855936,0.19563980340000001,0.30311808109999999,4.0230692734219745E-4,null,817]
[null,null,7690.2333083585572,0.1955773355,0.30301497820000001,4.0714615972230493E-4,null,818]
[null,null,7709.4588916294533,0.19551513849999999,0.30291206500000001,4.120025637322124E-4,null,819]
[null,null,7728.7325388585268,0.1954532112,0.30280934199999998,4.1687592554339299E-4,null,820]
[null,null,7748.054370205673,0.19539155250000001,0.30270680929999999,4.2176604486192013E-4,null,821]
[null,null,7767.4245061311867,0.1953301613,0.30260446740000002,4.2667270783715506E-4,null,822]
[null,null,7786.843067396514,0.19526903640000001,0.30250231640000003,4.3159571806276512E-4,null,823]
[null,null,7806.3101750650048,0.19520817679999999,0.30240035659999998,4.3653486901340147E-4,null,824]
[null,null,7825.8259505026672,0.19514758139999999,0.30229858850000002,4.4148994953061905E-4,null,825]
[null,null,7845.3905153789237,0.19508724899999999,0.3021970121,4.4646076991633531E-4,null,826]
[null,null,7865.0039916673704,0.19502717850000001,0.30209562779999999,4.5144712464983137E-4,null,827]
[null,null,7884.6665016465386,0.19496736889999999,0.30199443590000002,4.5644881086261244E-4,null,828]
[null,null,7904.3781679006543,0.1949078192,0.30189343660000001,4.6146563036248106E-4,null,829]
[null,null,7924.1391133204052,0.1948485281,0.30179263010000001,4.664973918968628E-4,null,830]
[null,null,7943.9494611037062,0.1947894946,0.30169201670000001,4.7154389541285882E-4,null,831]
[null,null,7963.8093347564654,0.19473071759999999,0.30159159670000002,{"$f":"(D842-D$3)^2+(E842-D$4)^2","v":4.7660494373329447E-4},null,832]
[null,null,7983.7188580933562,0.1946721961,0.30149137030000001,4.8168034243309654E-4,null,833]
[null,null,8003.6781552385892,0.19461392899999999,0.30139133769999998,4.8676990005805203E-4,null,834]
[null,null,8023.6873506266857,0.19455591520000001,0.30129149919999998,4.9187342219154603E-4,null,835]
[null,null,8043.7465690032523,0.19449815370000001,0.3011918549,4.9699072113032537E-4,null,836]
[null,null,8063.8559354257595,0.19444064329999999,0.30109240520000002,5.0212160241455196E-4,null,837]
[null,null,8084.0155752643232,0.1943833831,0.3009931501,5.0726588210710352E-4,null,838]
[null,null,8104.2256142024835,0.19432637189999999,0.30089409,5.1242336755936795E-4,null,839]
[null,null,8124.4861782379894,0.19426960879999999,0.30079522489999999,5.1759387672660527E-4,null,840]
[null,null,8144.7973936835842,0.1942130926,0.30069655519999999,5.2277721875359693E-4,null,841]
[null,null,8165.1593871677924,0.19415682240000001,0.30059808100000002,5.2797320940179554E-4,null,842]
[null,null,8185.5722856357115,0.1941007971,0.30049980250000002,5.3318166556066081E-4,null,843]
[null,null,8206.0362163498012,0.1940450155,0.30040171980000002,5.3840241131308092E-4,null,844]
[null,null,8226.5513068906748,0.1939894768,0.30030383319999998,5.4363525484989162E-4,null,845]
[null,null,8247.1176851579003,0.1939341799,0.30020614289999997,5.4888001575921779E-4,null,846]
[null,null,8267.7354793707946,0.1938791238,0.3001086489,5.5413652068243878E-4,null,847]
[null,null,8288.4048180692207,0.1938243073,0.30001135150000002,5.5940458913125214E-4,null,848]
[null,null,8309.1258301143935,0.1937697296,0.2999142508,5.646840410399017E-4,null,849]
[null,null,8329.8986446896797,0.1937153895,0.29981734700000001,5.6997470186595511E-4,null,850]
[null,null,8350.7233913014043,0.1936612861,0.2997206402,5.7527639554140453E-4,null,851]
[null,null,8371.6001997796575,0.19360741840000001,0.29962413059999998,5.8058894486391871E-4,null,852]
[null,null,8392.5292002791066,0.1935537853,0.29952781830000003,5.8591218001524485E-4,null,853]
[null,null,8413.5105232798032,0.19350038589999999,0.29943170340000003,5.9124592760015338E-4,null,854]
[null,null,8434.5442995880021,0.19344721910000001,0.2993357861,5.9659001533029013E-4,null,855]
[null,null,8455.6306603369721,0.19339428389999999,0.29924006660000002,6.0194426950191686E-4,null,856]
[null,null,8476.7697369878133,0.19334157939999999,0.29914454480000002,6.0730852801626231E-4,null,857]
[null,null,8497.9616613302824,0.19328910460000001,0.29904922099999998,6.1268261458303239E-4,null,858]
[null,null,8519.2065654836078,0.19323685839999999,0.29895409519999999,6.180663691680965E-4,null,859]
[null,null,8540.5045818973158,0.19318484,0.29885916759999998,6.2345961692018197E-4,null,860]
[null,null,8561.8558433520593,0.19313304819999999,0.29876443829999999,6.2886219751898153E-4,null,861]
[null,null,8583.2604829604388,0.19308148210000001,0.29866990729999998,6.3427394900838086E-4,null,862]
[null,null,8604.7186341678389,0.1930301408,0.29857557480000002,6.396947014000986E-4,null,863]
[null,null,8626.2304307532577,0.1929790233,0.29848144090000001,6.4512429232920008E-4,null,864]
[null,null,8647.79600683014,0.1929281286,0.29838750559999999,6.5056256481289582E-4,null,865]
[null,null,8669.4154968472139,0.19287745570000001,0.29829376899999999,6.5600935828166241E-4,null,866]
[null,null,8691.0890355893316,0.19282700380000001,0.2982002312,6.614645082232422E-4,null,867]
[null,null,8712.8167581783036,0.19277677169999999,0.29810689219999997,6.6692786512308384E-4,null,868]
[null,null,8734.5988000737489,0.19272675859999999,0.29801375219999998,6.723992616141577E-4,null,869]
[null,null,8756.4352970739328,0.1926769636,0.29792081129999998,6.7787853806329339E-4,null,870]
[null,null,8778.3263853166172,0.19262738560000001,0.2978280693,6.8336555439854553E-4,null,871]
[null,null,8800.2722012799077,0.1925780238,0.29773552650000001,6.888601410906432E-4,null,872]
[null,null,8822.2728817831066,0.1925288771,0.29764318290000003,6.9436215058917971E-4,null,873]
[null,null,8844.328563987563,0.19247994469999999,0.29755103849999998,6.9987142887564867E-4,null,874]
[null,null,8866.4393853975307,0.19243122560000001,0.29745909329999998,7.0538782772333055E-4,null,875]
[null,null,8888.6054838610235,0.1923827189,0.29736734749999999,7.1091118788620686E-4,null,876]
[null,null,8910.8269975706753,0.1923344236,0.2972758009,7.1644137226356476E-4,null,877]
[null,null,8933.1040650646009,0.19228633889999999,0.29718445380000003,7.2197821601678667E-4,null,878]
[null,null,8955.4368252272616,0.19223846380000001,0.297093306,7.275215837893881E-4,null,879]
[null,null,8977.8254172903289,0.1921907974,0.2970023577,7.330713195761499E-4,null,880]
[null,null,9000.2699808335547,0.19214333880000001,0.2969116088,7.3862728248739508E-4,null,881]
[null,null,9022.7706557856382,0.192096087,0.29682105930000002,7.4418933027158832E-4,null,882]
[null,null,9045.3275824251014,0.19204904119999999,0.29673070930000001,7.4975731159212416E-4,null,883]
[null,null,9067.9409013811637,0.19200220039999999,0.29664055880000001,7.55331085831045E-4,null,884]
[null,null,9090.6107536346153,0.19195556380000001,0.29655060779999998,7.6091050808232248E-4,null,885]
[null,null,9113.3372805187009,0.1919091305,0.29646085620000001,7.6649544171047306E-4,null,886]
[null,null,9136.1206237199967,0.19186289949999999,0.29637130410000001,7.7208574374178218E-4,null,887]
[null,null,9158.9609252792961,0.19181687,0.29628195149999997,7.7768127170740984E-4,null,888]
[null,null,9181.8583275924939,0.191771041,0.2961927983,7.8328189409401859E-4,null,889]
[null,null,9204.8129734114755,0.1917254118,0.29610384449999999,7.8888746746966546E-4,null,890]
[null,null,9227.825005845003,0.1916799813,0.2960150902,7.9449785468116798E-4,null,891]
[null,null,9250.8945683596157,0.1916347488,0.29592653520000001,8.0011292382299202E-4,null,892]
[null,null,9274.0218047805138,0.1915897134,0.29583817959999997,8.0573253409858586E-4,null,893]
[null,null,9297.2068592924643,0.19154487410000001,0.2957500233,8.1135655817272327E-4,null,894]
[null,null,9320.4498764406944,0.1915002301,0.29566206639999998,8.1698485416140359E-4,null,895]
[null,null,9343.7510011317954,0.19145578069999999,0.29557430870000001,{"$f":"(D906-D$3)^2+(E906-D$4)^2","v":8.2261729340619744E-4},null,896]
[null,null,9367.1103786346248,0.1914115247,0.29548675019999998,8.2825375135313394E-4,null,897]
[null,null,9390.5281545812104,0.19136746160000001,0.2953993909,8.3389408547216684E-4,null,898]
[null,null,9414.0044749676636,0.19132359030000001,0.29531223070000001,8.3953817521892436E-4,null,899]
[null,null,9437.5394861550831,0.19127991,0.2952252695,8.4518589282706589E-4,null,900]
[null,null,9461.1333348704702,0.19123641990000001,0.29513850740000003,8.5083710101589206E-4,null,901]
[null,null,9484.7861682076455,0.1911931191,0.29505194420000003,8.5649168143177681E-4,null,902]
[null,null,9508.4981336281635,0.19115000679999999,0.29496558,8.6214949830142485E-4,null,903]
[null,null,9532.2693789622335,0.1911070822,0.29487941449999999,8.6781043735828663E-4,null,904]
[null,null,9556.100052409638,0.19106434429999999,0.2947934478,8.734743698601429E-4,null,905]
[null,null,9579.990302540662,0.1910217924,0.29470767980000001,8.7914116998570797E-4,null,906]
[null,null,9603.9402782970137,0.19097942570000001,0.29462211040000003,8.848107154381848E-4,null,907]
[null,null,9627.9501289927557,0.1909372433,0.29453673959999999,8.9048288220376897E-4,null,908]
[null,null,9652.0200043152363,0.1908952444,0.29445156709999998,8.961575601172801E-4,null,909]
[null,null,9676.1500543260245,0.1908534281,0.29436659310000002,9.0183461614969497E-4,null,910]
[null,null,9700.3404294618394,0.19081179370000001,0.29428181720000002,9.0751394425201163E-4,null,911]
[null,null,9724.5912805354928,0.19077034039999999,0.29419723959999999,9.1319541003730251E-4,null,912]
[null,null,9748.9027587368309,0.19072906719999999,0.29411286009999998,9.1887890678876954E-4,null,913]
[null,null,9773.2750156336733,0.1906879735,0.29402867849999997,9.2456431736254749E-4,null,914]
[null,null,9797.7082031727568,0.19064705840000001,0.29394469480000002,9.3025152309438551E-4,null,915]
[null,null,9822.2024736806889,0.19060632120000001,0.29386090879999999,9.3594041117907832E-4,null,916]
[null,null,9846.7579798648894,0.19056576089999999,0.29377732049999999,9.4163086729926241E-4,null,917]
[null,null,9871.3748748145517,0.19052537689999999,0.29369392979999998,9.4732277188099294E-4,null,918]
[null,null,9896.053312001588,0.19048516830000001,0.29361073650000002,9.530160201121254E-4,null,919]
[null,null,9920.7934452815916,0.19044513430000001,0.29352774050000002,9.587104996604649E-4,null,920]
[null,null,9945.595428894796,0.1904052742,0.29344494170000002,9.644060960461887E-4,null,921]
[null,null,9970.4594174670328,0.19036558719999999,0.29336234,9.701026983895565E-4,null,922]
[null,null,9995.3855660107001,0.19032607239999999,0.29327993520000001,9.7580020497964033E-4,null,923]
[null,null,10020.374029925726,0.1902867292,0.29319772719999998,9.8149850065153599E-4,null,924]
[null,null,10045.42496500054,0.19024755669999999,0.29311571590000002,9.8719747966116451E-4,null,925]
[null,null,10070.53852741304,0.19020855410000001,0.2930339012,9.9289703409308856E-4,null,926]
[null,null,10095.714873731573,0.1901697208,0.29295228280000002,9.9859706207889838E-4,null,927]
[null,null,10120.954160915901,0.19013105590000001,0.29287086070000001,1.0042974545212814E-3,null,928]
[null,null,10146.256546318189,0.1900925587,0.29278963470000002,1.0099981083637039E-3,null,929]
[null,null,10171.622187683985,0.1900542284,0.29270860469999999,1.0156989186065224E-3,null,930]
[null,null,10197.051243153193,0.19001606430000001,0.2926277705,1.0213997836557584E-3,null,931]
[null,null,10222.543871261076,0.1899780656,0.29254713199999999,1.0271005999510623E-3,null,932]
[null,null,10248.100230939228,0.18994023160000001,0.292466689,1.0328012673486604E-3,null,933]
[null,null,10273.720481516575,0.1899025614,0.29238644130000002,1.0385016924138383E-3,null,934]
[null,null,10299.404782720367,0.18986505449999999,0.29230638879999998,1.0442017647937735E-3,null,935]
[null,null,10325.153294677168,0.1898277099,0.29222653129999998,1.049901395495747E-3,null,936]
[null,null,10350.966177913861,0.18979052709999999,0.29214686870000001,1.0556004755304476E-3,null,937]
[null,null,10376.843593358644,0.18975350520000001,0.29206740079999999,1.0612989143517697E-3,null,938]
[null,null,10402.78570234204,0.18971664360000001,0.29198812740000002,1.0669966131156086E-3,null,939]
[null,null,10428.792666597894,0.1896799415,0.29190904829999997,1.0726934797281686E-3,null,940]
[null,null,10454.864648264389,0.1896433981,0.29183016340000001,1.0783894170148822E-3,null,941]
[null,null,10481.001809885049,0.1896070128,0.2917514725,1.0840843282199071E-3,null,942]
[null,null,10507.204314409761,0.18957078490000001,0.29167297539999998,1.0897781203185162E-3,null,943]
[null,null,10533.472325195784,0.18953471350000001,0.29159467189999999,1.0954707071119656E-3,null,944]
[null,null,10559.806006008774,0.1894987981,0.29151656180000002,1.1011619908845092E-3,null,945]
[null,null,10586.205521023796,0.18946303789999999,0.291438645,1.1068518778870223E-3,null,946]
[null,null,10612.671034826355,0.18942743209999999,0.29136092120000001,1.1125402868625513E-3,null,947]
[null,null,10639.20271241342,0.1893919802,0.29128339019999999,1.1182271221344565E-3,null,948]
[null,null,10665.800719194453,0.1893566813,0.29120605199999999,1.1239122891521683E-3,null,949]
[null,null,10692.465220992439,0.1893215348,0.29112890609999997,1.1295957144822823E-3,null,950]
[null,null,10719.196384044919,0.18928654010000001,0.2910519526,1.1352772896648089E-3,null,951]
[null,null,10745.99437500503,0.18925169629999999,0.29097519109999997,1.1409569460259865E-3,null,952]
[null,null,10772.859360942542,0.18921700280000001,0.2908986214,1.1466345943555978E-3,null,953]
[null,null,10799.791509344899,0.18918245889999999,0.29082224340000001,1.1523101431975833E-3,null,954]
[null,null,10826.79098811826,0.189148064,0.29074605679999999,1.1579835106445494E-3,null,955]
[null,null,10853.857965588555,0.18911381739999999,0.29067006140000001,1.1636546125822587E-3,null,956]
[null,null,10880.992610502526,0.1890797183,0.29059425700000002,1.1693233687141813E-3,null,957]
[null,null,10908.195092028782,0.18904576610000001,0.29051864329999999,1.1749896991991666E-3,null,958]
[null,null,10935.465579758853,0.18901196009999999,0.29044322030000003,1.1806535097566035E-3,null,959]
[null,null,10962.804243708249,0.1889782998,0.29036798749999998,{"$f":"(D970-D$3)^2+(E970-D$4)^2","v":1.1863147308687533E-3},null,960]
[null,null,10990.211254317519,0.1889447843,0.29029294490000002,1.1919732758690939E-3,null,961]
[null,null,11017.686782453313,0.188911413,0.2902180922,1.1976290675506989E-3,null,962]
[null,null,11045.230999409445,0.1888781853,0.29014342910000002,1.2032820293881666E-3,null,963]
[null,null,11072.844076907968,0.1888451005,0.2900689555,1.2089320763856754E-3,null,964]
[null,null,11100.526187100237,0.18881215800000001,0.28999467109999999,1.2145791333029381E-3,null,965]
[null,null,11128.277502567988,0.18877935709999999,0.28992057560000001,1.2202231287854498E-3,null,966]
[null,null,11156.098196324407,0.1887466971,0.28984666889999999,1.2258639797378544E-3,null,967]
[null,null,11183.988441815218,0.1887141775,0.28977295060000002,1.2315016158894654E-3,null,968]
[null,null,11211.948412919755,0.1886817975,0.28969942059999998,1.2371359586190881E-3,null,969]
[null,null,11239.978283952054,0.18864955650000001,0.2896260786,1.2427669359504146E-3,null,970]
[null,null,11268.078229661933,0.18861745390000001,0.28955292430000001,1.2483944765664795E-3,null,971]
[null,null,11296.248425236086,0.188585489,0.2894799576,1.2540185004740712E-3,null,972]
[null,null,11324.489046299175,0.18855366130000001,0.2894071781,1.259638940647194E-3,null,973]
[null,null,11352.800268914923,0.18852197000000001,0.28933458569999998,1.2652557215725197E-3,null,974]
[null,null,11381.182269587211,0.18849041459999999,0.28926217999999998,1.2708687775156297E-3,null,975]
[null,null,11409.635225261178,0.1884589945,0.28918996079999998,1.2764780339970733E-3,null,976]
[null,null,11438.15931332433,0.18842770889999999,0.28911792790000002,1.2820834236884906E-3,null,977]
[null,null,11466.75471160764,0.18839655729999999,0.28904608100000001,1.2876848764059221E-3,null,978]
[null,null,11495.421598386658,0.18836553910000001,0.2889744199,1.2932823194803898E-3,null,979]
[null,null,11524.160152382625,0.18833465360000001,0.28890294420000001,1.2988756969371921E-3,null,980]
[null,null,11552.970552763582,0.18830390029999999,0.28883165370000002,1.3044649340572304E-3,null,981]
[null,null,11581.852979145489,0.18827327860000001,0.28876054820000002,1.3100499599832955E-3,null,982]
[null,null,11610.807611593353,0.1882427877,0.28868962739999998,1.3156307175184545E-3,null,983]
[null,null,11639.834630622336,0.1882124272,0.28861889099999999,1.3212071368354321E-3,null,984]
[null,null,11668.93421719889,0.1881821964,0.28854833880000003,1.3267791521978786E-3,null,985]
[null,null,11698.106552741887,0.18815209469999999,0.28847797050000001,1.3323467016111009E-3,null,986]
[null,null,11727.351819123742,0.1881221216,0.28840778569999997,1.337909726859718E-3,null,987]
[null,null,11756.670198671551,0.1880922763,0.28833778430000001,1.343468160863051E-3,null,988]
[null,null,11786.061874168228,0.1880625585,0.28826796599999999,1.3490219333771743E-3,null,989]
[null,null,11815.527028853649,0.1880329674,0.28819833039999998,1.3545709980535003E-3,null,990]
[null,null,11845.065846425781,0.18800350239999999,0.28812887739999998,1.3601152828307866E-3,null,991]
[null,null,11874.678511041846,0.18797416310000001,0.28805960660000002,1.3656547291218187E-3,null,992]
[null,null,11904.36520731945,0.18794494880000001,0.2879905177,1.3711892824977239E-3,null,993]
[null,null,11934.126120337747,0.18791585890000001,0.28792161049999998,1.3767188791629402E-3,null,994]
[null,null,11963.96143563859,0.18788689280000001,0.28785288469999998,1.3822434624806311E-3,null,995]
[null,null,11993.871339227686,0.18785805010000001,0.28778434000000003,1.3877629696142681E-3,null,996]
[null,null,12023.856017575754,0.18782932999999999,0.28771597609999999,1.3932773518828393E-3,null,997]
[null,null,12053.915657619693,0.18780073219999999,0.28764779270000002,1.3987865441988522E-3,null,998]
[null,null,12084.050446763742,0.18777225580000001,0.28757978950000002,1.4042905024763894E-3,null,999]
[null,null,12114.26057288065,0.18774390060000001,0.28751196629999998,1.4097891526587015E-3,null,1000]
[null,null,12144.546224312851,0.18771566570000001,0.28744432279999999,1.4152824518017327E-3,null,1001]
[null,null,12174.907589873634,0.18768755079999999,0.2873768585,1.4207703504482837E-3,null,1002]
[null,null,12205.344858848317,0.18765955519999999,0.28730957340000002,1.4262527798734373E-3,null,1003]
[null,null,12235.858220995437,0.18763167850000001,0.287242467,1.4317296951589565E-3,null,1004]
[null,null,12266.447866547924,0.18760392000000001,0.28717553909999999,1.4372010421052838E-3,null,1005]
[null,null,12297.113986214294,0.18757627909999999,0.2871087893,1.4426667771302714E-3,null,1006]
[null,null,12327.85677117983,0.1875487555,0.28704221740000002,1.448126833336789E-3,null,1007]
[null,null,12358.676413107778,0.18752134840000001,0.28697582310000003,1.4535811683865309E-3,null,1008]
[null,null,12389.573104140547,0.1874940574,0.28690960599999998,1.4590297334749695E-3,null,1009]
[null,null,12420.547036900898,0.187466882,0.28684356589999999,1.4644724702029231E-3,null,1010]
[null,null,12451.59840449315,0.18743982149999999,0.28677770250000001,1.4699093344474783E-3,null,1011]
[null,null,12482.727400504382,0.1874128756,0.28671201540000002,1.4753402755647413E-3,null,1012]
[null,null,12513.934219005641,0.18738604349999999,0.28664650429999999,1.480765254048627E-3,null,1013]
[null,null,12545.219054553154,0.18735932490000001,0.28658116900000002,1.4861842066316495E-3,null,1014]
[null,null,12576.582102189535,0.1873327192,0.28651600910000002,1.4915970947532368E-3,null,1015]
[null,null,12608.023557445009,0.1873062258,0.28645102430000002,1.4970038735528167E-3,null,1016]
[null,null,12639.54361633862,0.1872798443,0.2863862143,1.502404491688202E-3,null,1017]
[null,null,12671.142475379465,0.18725357400000001,0.28632157889999998,1.5077989019453536E-3,null,1018]
[null,null,12702.820331567913,0.1872274146,0.2862571176,1.5131870643364759E-3,null,1019]
[null,null,12734.577382396832,0.18720136549999999,0.28619283010000002,1.5185689361359932E-3,null,1020]
[null,null,12766.413825852824,0.18717542619999999,0.28612871620000002,1.5239444646567603E-3,null,1021]
[null,null,12798.329860417454,0.18714959610000001,0.28606477559999999,1.5293136081850468E-3,null,1022]
[null,null,12830.325685068497,0.18712387489999999,0.28600100779999998,1.53467632888156E-3,null,1023]
[null,null,12862.401499281168,0.1870982618,0.2859374127,{"$f":"(D1034-D$3)^2+(E1034-D$4)^2","v":1.5400325792161453E-3},null,1024]
[null,null,12894.557503029369,0.1870727566,0.28587398980000001,1.5453823188527744E-3,null,1025]
[null,null,12926.793896786941,0.18704735859999999,0.28581073890000003,1.5507255047151074E-3,null,1026]
[null,null,12959.110881528908,0.18702206730000001,0.28574765959999998,1.5560621011661612E-3,null,1027]
[null,null,12991.50865873273,0.18699688240000001,0.28568475160000001,1.5613920589283062E-3,null,1028]
[null,null,13023.98743037956,0.18697180320000001,0.28562201469999998,1.5667153364122052E-3,null,1029]
[null,null,13056.547398955508,0.18694682930000001,0.28555944840000003,1.5720319030037675E-3,null,1030]
[null,null,13089.188767452897,0.18692196019999999,0.28549705240000001,1.577341718067535E-3,null,1031]
[null,null,13121.911739371528,0.18689719539999999,0.28543482650000002,1.5826447343565164E-3,null,1032]
[null,null,13154.716518719955,0.18687253440000001,0.28537277020000001,1.5879409264020062E-3,null,1033]
[null,null,13187.603310016755,0.18684797680000001,0.28531088339999999,1.5932302372177205E-3,null,1034]
[null,null,13220.572318291795,0.1868235221,0.28524916550000001,1.5985126494769157E-3,null,1035]
[null,null,13253.623749087525,0.18679916969999999,0.28518761640000001,1.6037881143382523E-3,null,1036]
[null,null,13286.757808460243,0.18677491930000001,0.28512623570000001,1.6090565940086842E-3,null,1037]
[null,null,13319.974702981393,0.18675077030000001,0.28506502299999997,1.6143180620374988E-3,null,1038]
[null,null,13353.274639738846,0.18672672230000001,0.28500397799999999,1.6195724780839684E-3,null,1039]
[null,null,13386.657826338193,0.1867027748,0.28494310039999998,1.6248198058889951E-3,null,1040]
[null,null,13420.124470904037,0.18667892729999999,0.28488238989999998,1.6300600096645088E-3,null,1041]
[null,null,13453.674782081296,0.18665517940000001,0.2848218461,1.6352930576777678E-3,null,1042]
[null,null,13487.3089690365,0.18663153069999999,0.28476146879999997,1.6405189042209799E-3,null,1043]
[null,null,13521.027241459091,0.1866079806,0.28470125740000002,1.6457375402690127E-3,null,1044]
[null,null,13554.829809562738,0.18658452859999999,0.28464121180000002,1.6509489174724729E-3,null,1045]
[null,null,13588.716884086643,0.1865611744,0.28458133159999999,1.6561530023497064E-3,null,1046]
[null,null,13622.688676296859,0.18653791759999999,0.28452161640000001,1.6613497655494555E-3,null,1047]
[null,null,13656.745397987601,0.18651475749999999,0.28446206600000001,1.6665391746117826E-3,null,1048]
[null,null,13690.887261482569,0.1864916938,0.28440267990000001,1.6717212047634249E-3,null,1049]
[null,null,13725.114479636275,0.18646872610000001,0.28434345789999999,1.6768958134588236E-3,null,1050]
[null,null,13759.427265835366,0.18644585390000001,0.28428439960000002,1.6820629768793535E-3,null,1051]
[null,null,13793.825833999954,0.1864230767,0.28422550470000002,1.6872226643599058E-3,null,1052]
[null,null,13828.310398584954,0.18640039420000001,0.28416677280000002,1.6923748456605869E-3,null,1053]
[null,null,13862.881174581416,0.18637780579999999,0.2841082036,1.6975194947096159E-3,null,1054]
[null,null,13897.538377517869,0.18635531120000001,0.28404979670000002,1.702656582182624E-3,null,1055]
[null,null,13932.282223461663,0.18633290990000001,0.28399155180000002,1.7077860792212769E-3,null,1056]
[null,null,13967.112929020317,0.1863106014,0.28393346870000002,1.7129079500053574E-3,null,1057]
[null,null,14002.030711342868,0.18628838540000001,0.28387554679999999,1.7180221813361265E-3,null,1058]
[null,null,14037.035788121224,0.18626626139999999,0.28381778590000001,1.723128738286327E-3,null,1059]
[null,null,14072.128377591527,0.18624422900000001,0.2837601857,1.7282275900326887E-3,null,1060]
[null,null,14107.308698535506,0.1862222878,0.28370274579999999,1.7333187136137941E-3,null,1061]
[null,null,14142.576970281843,0.18620043729999999,0.2836454658,1.7384020902550391E-3,null,1062]
[null,null,14177.933412707547,0.1861786771,0.28358834550000001,1.7434776829823363E-3,null,1063]
[null,null,14213.378246239316,0.1861570069,0.28353138439999997,1.7485454738931131E-3,null,1064]
[null,null,14248.911691854913,0.1861354261,0.28347458219999999,1.7536054418034503E-3,null,1065]
[null,null,14284.533971084549,0.18611393439999999,0.28341793869999998,1.7586575472279234E-3,null,1066]
[null,null,14320.245306012261,0.18609253140000001,0.28336145340000002,1.7637017773194045E-3,null,1067]
[null,null,14356.045919277291,0.18607121660000001,0.28330512590000001,1.768738115950191E-3,null,1068]
[null,null,14391.936034075483,0.1860499897,0.283248956,1.7737665248612987E-3,null,1069]
[null,null,14427.915874160672,0.18602885020000001,0.28319294340000001,1.778786981204882E-3,null,1070]
[null,null,14463.985663846073,0.1860077977,0.2831370875,1.7837994814617489E-3,null,1071]
[null,null,14500.145628005688,0.18598683190000001,0.28308138820000001,1.7888039810116294E-3,null,1072]
[null,null,14536.395992075702,0.18596595229999999,0.28302584510000001,1.7938004658205569E-3,null,1073]
[null,null,14572.736982055891,0.18594515850000001,0.28297045770000001,1.7987889261217814E-3,null,1074]
[null,null,14609.168824511029,0.1859244501,0.28291522590000001,1.803769322206778E-3,null,1075]
[null,null,14645.691746572305,0.1859038268,0.28286014910000001,1.8087416489590679E-3,null,1076]
[null,null,14682.305975938736,0.1858832882,0.2828052271,1.8137058750479175E-3,null,1077]
[null,null,14719.011740878583,0.18586283379999999,0.2827504596,1.8186619809170408E-3,null,1078]
[null,null,14755.809270230779,0.18584246330000001,0.28269584609999998,1.8236099551074418E-3,null,1079]
[null,null,14792.698793406355,0.18582217619999999,0.28264138640000003,1.8285497712410667E-3,null,1080]
[null,null,14829.680540389869,0.18580197230000001,0.28258707999999999,1.8334814148799393E-3,null,1081]
[null,null,14866.754741740842,0.185781851,0.28253292670000002,1.8384048642223114E-3,null,1082]
[null,null,14903.921628595193,0.18576181210000001,0.28247892610000003,1.8433200979519127E-3,null,1083]
[null,null,14941.181432666681,0.18574185509999999,0.28242507779999998,1.8482271065983773E-3,null,1084]
[null,null,14978.534386248346,0.18572197970000001,0.28237138150000002,1.8531258657615262E-3,null,1085]
[null,null,15015.980722213966,0.18570218550000001,0.2823178368,1.8580163629490622E-3,null,1086]
[null,null,15053.520674019501,0.1856824721,0.28226444340000001,1.8628985783460384E-3,null,1087]
[null,null,15091.154475704549,0.18566283920000001,0.28221120100000002,{"$f":"(D1098-D$3)^2+(E1098-D$4)^2","v":1.8677724886697429E-3},null,1088]
[null,null,15128.88236189381,0.18564328629999999,0.28215810920000001,1.8726380864242313E-3,null,1089]
[null,null,15166.704567798542,0.18562381319999999,0.28210516749999998,1.8774953607726252E-3,null,1090]
[null,null,15204.621329218038,0.1856044194,0.28205237579999998,1.8823442817270455E-3,null,1091]
[null,null,15242.632882541082,0.18558510449999999,0.28199973360000002,1.8871848468933357E-3,null,1092]
[null,null,15280.739464747434,0.18556586829999999,0.28194724069999999,1.8920170232153981E-3,null,1093]
[null,null,15318.941313409301,0.1855467103,0.28189489649999999,1.8968408207363575E-3,null,1094]
[null,null,15357.238666692823,0.18552763019999999,0.28184270090000002,1.9016562031739011E-3,null,1095]
[null,null,15395.631763359554,0.1855086276,0.28179065339999998,1.9064631696886047E-3,null,1096]
[null,null,15434.120842767952,0.1854897022,0.2817387536,1.9112617081673464E-3,null,1097]
[null,null,15472.706144874872,0.18547085360000001,0.28168700140000003,1.9160517871978321E-3,null,1098]
[null,null,15511.387910237057,0.1854520815,0.2816353962,1.9208334110625517E-3,null,1099]
[null,null,15550.16638001265,0.18543338540000001,0.28158393770000001,1.925606568651666E-3,null,1100]
[null,null,15589.041795962681,0.1854147652,0.28153262569999998,1.9303712257944499E-3,null,1101]
[null,null,15628.014400452586,0.1853962203,0.28148145969999999,1.9351273917016468E-3,null,1102]
[null,null,15667.084436453717,0.18537775049999999,0.28143043940000001,1.9398750446647903E-3,null,1103]
[null,null,15706.25214754485,0.18535935549999999,0.2813795644,1.944614175097508E-3,null,1104]
[null,null,15745.517777913712,0.1853410348,0.28132883440000001,1.9493447736590582E-3,null,1105]
[null,null,15784.881572358496,0.1853227881,0.28127824909999999,1.9540668235556503E-3,null,1106]
[null,null,15824.343776289392,0.18530461519999999,0.28122780809999998,1.9587803123524254E-3,null,1107]
[null,null,15863.904635730114,0.18528651560000001,0.28117751099999999,1.9634852396962083E-3,null,1108]
[null,null,15903.564397319438,0.18526848900000001,0.28112735750000001,1.9681815898320702E-3,null,1109]
[null,null,15943.323308312736,0.1852505351,0.28107734719999999,1.9728693552972373E-3,null,1110]
[null,null,15983.181616583517,0.18523265350000001,0.28102747989999999,1.9775485169439156E-3,null,1111]
[null,null,16023.139570624975,0.18521484399999999,0.280977755,1.9822190800346719E-3,null,1112]
[null,null,16063.197419551536,0.18519710610000001,0.28092817240000001,1.9868810220274539E-3,null,1113]
[null,null,16103.355413100413,0.1851794397,0.2808787317,1.9915343289500951E-3,null,1114]
[null,null,16143.613801633162,0.18516184420000001,0.28082943240000002,1.9961790148568079E-3,null,1115]
[null,null,16183.972836137244,0.18514431949999999,0.28078027430000002,2.000815050440437E-3,null,1116]
[null,null,16224.432768227585,0.18512686510000001,0.28073125700000001,2.0054424384920023E-3,null,1117]
[null,null,16264.993850148154,0.1851094808,0.28068238010000002,2.0100611703386551E-3,null,1118]
[null,null,16305.656334773523,0.18509216619999999,0.28063364340000002,2.0146712294171346E-3,null,1119]
[null,null,16346.420475610455,0.18507492110000001,0.28058504639999998,2.0192726157511089E-3,null,1120]
[null,null,16387.286526799482,0.185057745,0.28053658879999999,2.0238653254417613E-3,null,1121]
[null,null,16428.254743116478,0.18504063779999999,0.28048827030000001,2.0284493390796562E-3,null,1122]
[null,null,16469.325379974271,0.18502359900000001,0.28044009050000002,2.0330246614845165E-3,null,1123]
[null,null,16510.498693424204,0.18500662840000001,0.28039204909999998,2.0375912778314094E-3,null,1124]
[null,null,16551.774940157764,0.18498972559999999,0.28034414559999998,2.0421491977602149E-3,null,1125]
[null,null,16593.154377508159,0.1849728903,0.2802963799,2.0466983948097405E-3,null,1126]
[null,null,16634.637263451928,0.1849561223,0.2802487515,2.0512388713147724E-3,null,1127]
[null,null,16676.223856610559,0.18493942120000001,0.28020126010000002,2.0557706216335178E-3,null,1128]
[null,null,16717.914416252086,0.18492278679999999,0.28015390530000001,2.0602936406209174E-3,null,1129]
[null,null,16759.709202292714,0.18490621860000001,0.2801066867,2.0648079354104471E-3,null,1130]
[null,null,16801.608475298446,0.1848897165,0.28005960419999998,2.0693134730007498E-3,null,1131]
[null,null,16843.61249648669,0.18487328,0.28001265720000001,2.0738102774812404E-3,null,1132]
[null,null,16885.721527727907,0.18485690900000001,0.27996584549999998,2.0782983246013559E-3,null,1133]
[null,null,16927.935831547224,0.18484060299999999,0.2799191687,2.0827776227437377E-3,null,1134]
[null,null,16970.255671126091,0.18482436190000001,0.27987262639999999,2.0872481646264018E-3,null,1135]
[null,null,17012.681310303906,0.18480818530000001,0.27982621839999999,2.0917099388380574E-3,null,1136]
[null,null,17055.213013579665,0.184792073,0.27977994420000002,2.0961629509029787E-3,null,1137]
[null,null,17097.851046113614,0.1847760245,0.2797338036,2.1006071940046374E-3,null,1138]
[null,null,17140.595673728898,0.18476003969999999,0.27968779620000001,2.1050426620316393E-3,null,1139]
[null,null,17183.44716291322,0.18474411830000001,0.27964192160000001,2.1094693572028022E-3,null,1140]
[null,null,17226.405780820503,0.1847282599,0.27959617949999999,2.1138872778061293E-3,null,1141]
[null,null,17269.471795272555,0.18471246429999999,0.27955056950000001,2.118296422645655E-3,null,1142]
[null,null,17312.645474760735,0.18469673119999999,0.27950509140000002,2.1226967782803077E-3,null,1143]
[null,null,17355.927088447635,0.18468106030000001,0.27945974480000002,2.1270883480996993E-3,null,1144]
[null,null,17399.316906168755,0.18466545130000001,0.27941452919999998,2.1314711441085487E-3,null,1145]
[null,null,17442.815198434175,0.184649904,0.27936944450000001,2.135845141361184E-3,null,1146]
[null,null,17486.422236430259,0.18463441799999999,0.2793244902,2.1402103564742165E-3,null,1147]
[null,null,17530.138292021333,0.18461899309999999,0.27927966599999998,2.1445667816651472E-3,null,1148]
[null,null,17573.963637751385,0.18460362899999999,0.27923497159999999,2.1489144134555702E-3,null,1149]
[null,null,17617.898546845761,0.18458832550000001,0.2791904067,2.153253244583988E-3,null,1150]
[null,null,17661.943293212873,0.18457308219999999,0.27914597079999998,2.1575832928684498E-3,null,1151]
[null,null,17706.098151445905,0.18455789889999999,0.27910166359999999,{"$f":"(D1162-D$3)^2+(E1162-D$4)^2","v":2.1619045516264182E-3},null,1152]
[null,null,17750.363396824519,0.18454277529999999,0.27905748489999999,2.1662170101104982E-3,null,1153]
[null,null,17794.73930531658,0.1845277112,0.27901343429999997,2.1705206705087323E-3,null,1154]
[null,null,17839.226153579872,0.18451270619999999,0.27896951129999997,2.1748155518200299E-3,null,1155]
[null,null,17883.824218963819,0.1844977602,0.27892571579999997,2.1791016275679049E-3,null,1156]
[null,null,17928.533779511228,0.18448287269999999,0.2788820474,2.1833789129635352E-3,null,1157]
[null,null,17973.355113960006,0.1844680437,0.27883850560000001,2.1876474115815414E-3,null,1158]
[null,null,18018.288501744904,0.18445327280000001,0.27879509029999999,2.1919071098825916E-3,null,1159]
[null,null,18063.334222999267,0.1844385597,0.27875180100000002,2.1961580241957558E-3,null,1160]
[null,null,18108.492558556765,0.18442390419999999,0.27870863740000001,2.2004001501979781E-3,null,1161]
[null,null,18153.763789953155,0.184409306,0.2786655992,2.2046334878946814E-3,null,1162]
[null,null,18199.148199428037,0.18439476490000001,0.27862268600000001,2.2088580419179341E-3,null,1163]
[null,null,18244.646069926606,0.18438028070000001,0.27857989760000001,2.2130738002298514E-3,null,1164]
[null,null,18290.25768510142,0.18436585289999999,0.27853723349999998,2.2172807887246514E-3,null,1165]
[null,null,18335.983329314171,0.1843514815,0.2784946935,2.2214789876792568E-3,null,1166]
[null,null,18381.823287637457,0.18433716610000001,0.27845227719999999,2.2256684109492855E-3,null,1167]
[null,null,18427.777845856548,0.1843229066,0.27840998420000002,2.2298490603713372E-3,null,1168]
[null,null,18473.847290471189,0.1843087025,0.27836781430000002,2.2340209374366576E-3,null,1169]
[null,null,18520.031908697365,0.18429455380000001,0.27832576720000002,2.2381840318457485E-3,null,1170]
[null,null,18566.331988469108,0.18428046009999999,0.27828384239999998,2.2423383670208334E-3,null,1171]
[null,null,18612.747818440279,0.1842664212,0.27824203959999999,2.2464839413956668E-3,null,1172]
[null,null,18659.279687986378,0.1842524368,0.27820035859999998,2.2506207492042772E-3,null,1173]
[null,null,18705.927887206344,0.18423850680000001,0.27815879900000001,2.2547487937590698E-3,null,1174]
[null,null,18752.692706924357,0.18422463080000001,0.27811736040000001,2.258868090993424E-3,null,1175]
[null,null,18799.574438691667,0.18421080870000001,0.27807604260000002,2.2629786275989747E-3,null,1176]
[null,null,18846.573374788393,0.18419704009999999,0.27803484509999998,2.2670804285798E-3,null,1177]
[null,null,18893.689808225365,0.1841833249,0.27799376780000001,2.2711734725008271E-3,null,1178]
[null,null,18940.924032745927,0.18416966269999999,0.27795281020000001,2.2752577848679885E-3,null,1179]
[null,null,18988.27634282779,0.1841560535,0.27791197200000001,2.2793333577378633E-3,null,1180]
[null,null,19035.74703368486,0.1841424968,0.27787125289999998,2.2834002040670919E-3,null,1181]
[null,null,19083.336401269073,0.1841289925,0.27783065260000001,2.2874583204957428E-3,null,1182]
[null,null,19131.044742272243,0.1841155404,0.27779017080000001,2.2915077080187555E-3,null,1183]
[null,null,19178.872354127921,0.18410214029999999,0.27774980700000002,2.2955483851266677E-3,null,1184]
[null,null,19226.819535013241,0.18408879180000001,0.2777095611,2.2995803443097646E-3,null,1185]
[null,null,19274.886583850774,0.18407549470000001,0.27766943259999999,2.3036036045427318E-3,null,1186]
[null,null,19323.073800310398,0.1840622489,0.27762942130000001,2.3076181549384692E-3,null,1187]
[null,null,19371.381484811172,0.1840490541,0.27758952679999999,2.3116240104402558E-3,null,1188]
[null,null,19419.809938523198,0.18403591010000001,0.2775497488,2.3156211734090926E-3,null,1189]
[null,null,19468.359463369507,0.1840228166,0.27751008700000002,2.3196096505834233E-3,null,1190]
[null,null,19517.03036202793,0.1840097735,0.27747054110000002,2.3235894405919284E-3,null,1191]
[null,null,19565.822937933001,0.1839967804,0.27743111069999998,2.3275605634735757E-3,null,1192]
[null,null,19614.737495277834,0.1839838372,0.27739179549999998,2.3315230183058111E-3,null,1193]
[null,null,19663.774339016029,0.1839709437,0.2773525953,2.3354767998222236E-3,null,1194]
[null,null,19712.933774863566,0.1839580995,0.27731350960000001,2.3394219374636097E-3,null,1195]
[null,null,19762.216109300723,0.1839453046,0.27727453810000002,2.3433584267781487E-3,null,1196]
[null,null,19811.621649573975,0.1839325587,0.27723568059999998,2.3472862673053008E-3,null,1197]
[null,null,19861.150703697909,0.18391986160000001,0.27719693680000002,2.3512054633340186E-3,null,1198]
[null,null,19910.803580457152,0.18390721300000001,0.27715830629999999,2.3551160323019397E-3,null,1199]
[null,null,19960.580589408295,0.1838946128,0.27711978869999998,2.3590179835130749E-3,null,1200]
[null,null,20010.482040881816,0.18388206069999999,0.27708138380000003,2.3629113173359749E-3]
[null,null,20060.50824598402,0.1838695565,0.27704309129999999,2.3667960389059397E-3]
[null,null,20110.659516598978,0.1838571,0.27700491090000001,2.3706721535599004E-3]
[null,null,20160.936165390474,0.183844691,0.27696684220000001,2.3745396756302533E-3]
[null,null,20211.338505803949,0.18383232930000001,0.27692888490000001,2.3783986108774214E-3]
[null,null,20261.866852068459,0.1838200146,0.27689103869999998,2.382248969465164E-3]
[null,null,20312.521519198628,0.1838077468,0.27685330330000002,2.3860907533514134E-3]
[null,null,20363.302822996622,0.18379552569999999,0.27681567839999999,2.3899239688908091E-3]
[null,null,20414.211080054112,0.18378335100000001,0.27677816370000002,2.3937486268460636E-3]
[null,null,20465.246607754245,0.1837712225,0.27674075889999999,2.3975647339709878E-3]
[null,null,20516.409724273628,0.1837591401,0.27670346359999998,2.4013723018447555E-3]
[null,null,20567.70074858431,0.18374710359999999,0.2766662775,2.4051713376246494E-3]
[null,null,20619.120000455769,0.1837351126,0.2766292004,2.4089618482413858E-3]
[null,null,20670.667800456908,0.1837231671,0.27659223189999999,2.4127438416513382E-3]
[null,null,20722.34446995805,0.18371126679999999,0.2765553717,2.416517329814022E-3]
[null,null,20774.150331132943,0.1836994116,0.27651861960000002,{"$f":"(D1226-D$3)^2+(E1226-D$4)^2","v":2.4202823075474516E-3}]